{"text_format":"3","workbook":"xlsx","n_sheets":26,"sheets":["メニュー","基礎データ","部員名簿","補助データ","陸連データ書出シート","陸連データ取込シート","標準記録","入力シート(記録会)","秋季記録会","送信データ(記録会)","入力シート(新人)","新人","送信データ(新人)","入力シート(総体)","総体","送信データ(総体)","入力シート(地区別)","送信データ(地区別)","地区別(男)","地区別(女)","入力シート(市総体)","市総体","送信データ(市総体)","入力シート(スポーツ祭)","スポーツ祭","送信データ(スポーツ祭)"],"not_rendered":{"macros":1,"defined_names":103,"comments":1},"read":"whole","date_system":"1900"}

{"sheet":"メニュー","index":0,"n_rows":91,"n_cols":3,"rows_kept":91,"merged":[[2,2,3,7]]}
[]
[]
[null,null,"学校別　情報入力シート"]
{"$rows_empty":86}
[1]
[1]

{"sheet":"基礎データ","index":1,"n_rows":24,"n_cols":16,"rows_kept":24,"hidden":true,"merged":[[2,1,2,11],[2,15,6,17],[4,1,5,1],[4,2,4,9],[4,10,5,12],[5,3,5,8],[6,3,6,8],[6,10,6,11],[8,1,8,11],[9,2,9,4],[10,2,10,11],[11,6,11,7],[12,6,12,7],[14,2,14,3],[14,4,14,5],[14,6,14,11],[15,2,15,3],[15,4,15,5],[16,2,16,3],[16,4,16,5],[16,6,16,7],[17,2,17,3],[17,4,17,5],[18,2,18,3],[18,4,18,5],[19,2,19,3],[19,4,19,5],[21,1,21,11],[22,2,22,3],[22,4,22,11],[23,2,23,3],[23,4,23,9],[23,10,23,11]]}
[]
[]
[null,"学校基礎データ",{"$nulls":13},"学校番号と、学校名、住所、電話番号\nＦＡＸ番号を入力してください。\nこのデータは、申し込み一覧表などに使用されます。\n当日、審判をお願いできる先生は、□にチェックを入れてください。"]
[]
[null,"学校番号","学校名",{"$nulls":7},"略称"]
[null,null,"フリガナ",{"$nulls":6},"ﾁｭｳｶﾞｯｺｳ"]
[null,null,"漢字",{"$nulls":6},"中学校",null,null,"中"]
[]
[null,"学校情報"]
[null,"郵便番号"]
[null,"住所"]
[null,"電話",null,"－",null,"－",{"$nulls":7},{"$f":"CONCATENATE(C12,D12,E12,F12,G12)","v":"－－"}]
[null,"FAX",null,"－",null,"－",{"$nulls":7},{"$f":"CONCATENATE(C13,D13,E13,F13,G13)","v":"－－"}]
[]
[null,"顧問","姓",null,"名",null,"連絡先",{"$nulls":5},"審判",{"$f":"CONCATENATE(G17,I17,J17,K17,L17)","v":"－－"}]
[null,"学校長氏名",{"$nulls":11},{"$f":"C16&\"　\"&E16","v":"　"}]
[null,"申込責任者",{"$nulls":6},"－",null,"－",null,null,{"$f":"C17&\"　\"&E17","v":"　"}]
[null,"顧問",{"$nulls":11},{"$f":"C18&\"　\"&E18","v":"　"}]
[null,"顧問",{"$nulls":11},{"$f":"C19&\"　\"&E19","v":"　"}]
[null,"顧問",{"$nulls":11},{"$f":"C20&\"　\"&E20","v":"　"}]
[{"$nulls":13},false]
[null,"申し込み料　振込情報",{"$nulls":11},false]
[null,"月","日",null,"郵便局名",{"$nulls":8},false]
[{"$nulls":10},"郵便局",null,null,false]

{"sheet":"部員名簿","index":2,"n_rows":404,"n_cols":19,"rows_kept":404,"hidden":true,"merged":[[1,13,1,14],[1,15,1,16],[1,17,1,18],[2,13,3,13],[2,14,3,14],[2,15,3,15],[2,16,3,16],[2,17,3,17],[2,18,3,18]]}
[]
[{"$nulls":6},"登録部員数",{"$f":"COUNTIF(H6:H65538,\">=0\")","v":0},"名",{"$nulls":4},"１年",null,"２年","２年","３年","３年"]
[{"$nulls":13},"男子","女子","男子","女子","男子","女子"]
[]
[null,"年","姓","名","フリガナ(姓)","フリガナ(名)","生年月日","個人番号","性別","性別","学年","備考",null,{"$f":"SUM(IF(学年=1,IF(性別=\"男\",1,0)))","v":0},{"$f":"SUM(IF(学年=1,IF(性別=\"女\",1,0)))","v":0},{"$f":"SUM(IF(学年=2,IF(性別=\"男\",1,0)))","v":0},{"$f":"SUM(IF(学年=2,IF(性別=\"女\",1,0)))","v":0},{"$f":"SUM(IF(学年=3,IF(性別=\"男\",1,0)))","v":0},{"$f":"SUM(IF(学年=3,IF(性別=\"女\",1,0)))","v":0}]
[{"$f":"IF((H6=\"\"),\"\",I6&DBCS(TEXT(H6,\"００\")))","v":""},{"$nulls":8},"男",3]
["",{"$nulls":8},"男",3]
["",{"$nulls":8},"男",3]
["",{"$nulls":8},"男",3]
["",{"$nulls":8},"男",3]
["",{"$nulls":8},"男",3]
["",{"$nulls":8},"男",3]
["",{"$nulls":8},"男",3]
["",{"$nulls":8},"男",3]
["",{"$nulls":8},"男",3]
["",{"$nulls":8},"男",2]
["",{"$nulls":8},"男",2]
["",{"$nulls":8},"男",2]
["",{"$nulls":8},"男",2]
["",{"$nulls":8},"男",2]
["",{"$nulls":8},"男",2]
["",{"$nulls":8},"男",2]
["",{"$nulls":8},"男",2]
["",{"$nulls":8},"男",2]
["",{"$nulls":8},"男",2]
["",{"$nulls":8},"男",2]
["",{"$nulls":8},"男",2]
["",{"$nulls":8},"男",1]
["",{"$nulls":8},"男",1]
["",{"$nulls":8},"男",1]
["",{"$nulls":8},"男",1]
["",{"$nulls":8},"男",1]
["",{"$nulls":8},"女",3]
["",{"$nulls":8},"女",3]
["",{"$nulls":8},"女",3]
["",{"$nulls":8},"女",3]
["",{"$nulls":8},"女",3]
[{"$f":"IF((H38=\"\"),\"\",I38&DBCS(TEXT(H38,\"００\")))","v":""},{"$nulls":8},"女",2]
["",{"$nulls":8},"女",3]
["",{"$nulls":8},"女",1]
["",{"$nulls":8},"女",1]
["",{"$nulls":8},"女",1]
["",{"$nulls":8},"女",1]
["",{"$nulls":8},{"$f":"IF(A44=\"\",\"\",C44&\"　\"&D44)","v":""},{"$f":"IF(A44=\"\",\"\",E44&\"　\"&F44)","v":""}]
["",{"$nulls":8},"",""]
["",{"$nulls":8},"",""]
["",{"$nulls":8},"",""]
["",{"$nulls":8},"",""]
["",{"$nulls":8},"",""]
["",{"$nulls":8},"",""]
["",{"$nulls":8},"",""]
["",{"$nulls":8},"",""]
["",{"$nulls":8},"",""]
["",{"$nulls":8},"",""]
["",{"$nulls":8},"",""]
["",{"$nulls":8},"",""]
["",{"$nulls":8},"",""]
["",{"$nulls":8},"",""]
["",{"$nulls":8},"",""]
["",{"$nulls":8},"",""]
["",{"$nulls":8},"",""]
["",{"$nulls":8},"",""]
["",{"$nulls":8},"",""]
["",{"$nulls":8},"",""]
["",{"$nulls":8},"",""]
["",{"$nulls":8},"",""]
["",{"$nulls":8},"",""]
["",{"$nulls":8},"",""]
["",{"$nulls":8},"",""]
[{"$f":"IF((H70=\"\"),\"\",I70&DBCS(TEXT(H70,\"００\")))","v":""},{"$nulls":8},{"$f":"IF(A70=\"\",\"\",C70&\"　\"&D70)","v":""},{"$f":"IF(A70=\"\",\"\",E70&\"　\"&F70)","v":""}]
["",{"$nulls":8},"",""]
["",{"$nulls":8},"",""]
["",{"$nulls":8},"",""]
["",{"$nulls":8},"",""]
["",{"$nulls":8},"",""]
["",{"$nulls":8},"",""]
["",{"$nulls":8},"",""]
["",{"$nulls":8},"",""]
["",{"$nulls":8},"",""]
["",{"$nulls":8},"",""]
["",{"$nulls":8},"",""]
["",{"$nulls":8},"",""]
["",{"$nulls":8},"",""]
["",{"$nulls":8},"",""]
["",{"$nulls":8},"",""]
["",{"$nulls":8},"",""]
["",{"$nulls":8},"",""]
["",{"$nulls":8},"",""]
["",{"$nulls":8},"",""]
["",{"$nulls":8},"",""]
["",{"$nulls":8},"",""]
["",{"$nulls":8},"",""]
["",{"$nulls":8},"",""]
["",{"$nulls":8},"",""]
["",{"$nulls":8},"",""]
["",{"$nulls":8},"",""]
["",{"$nulls":8},"",""]
["",{"$nulls":8},"",""]
["",{"$nulls":8},"",""]
["",{"$nulls":8},"",""]
["",{"$nulls":8},"",""]
[{"$f":"IF((H102=\"\"),\"\",I102&DBCS(TEXT(H102,\"００\")))","v":""},{"$nulls":8},{"$f":"IF(A102=\"\",\"\",C102&\"　\"&D102)","v":""},{"$f":"IF(A102=\"\",\"\",E102&\"　\"&F102)","v":""}]
["",{"$nulls":8},"",""]
["",{"$nulls":8},"",""]
["",{"$nulls":8},"",""]
["",{"$nulls":8},"",""]
["",{"$nulls":8},"",""]
["",{"$nulls":8},"",""]
["",{"$nulls":8},"",""]
["",{"$nulls":8},"",""]
["",{"$nulls":8},"",""]
["",{"$nulls":8},"",""]
["",{"$nulls":8},"",""]
["",{"$nulls":8},"",""]
["",{"$nulls":8},"",""]
["",{"$nulls":8},"",""]
["",{"$nulls":8},"",""]
["",{"$nulls":8},"",""]
["",{"$nulls":8},"",""]
["",{"$nulls":8},"",""]
["",{"$nulls":8},"",""]
["",{"$nulls":8},"",""]
["",{"$nulls":8},"",""]
["",{"$nulls":8},"",""]
["",{"$nulls":8},"",""]
["",{"$nulls":8},"",""]
["",{"$nulls":8},"",""]
["",{"$nulls":8},"",""]
["",{"$nulls":8},"",""]
["",{"$nulls":8},"",""]
["",{"$nulls":8},"",""]
["",{"$nulls":8},"",""]
["",{"$nulls":8},"",""]
[{"$f":"IF((H134=\"\"),\"\",I134&DBCS(TEXT(H134,\"００\")))","v":""},{"$nulls":8},{"$f":"IF(A134=\"\",\"\",C134&\"　\"&D134)","v":""},{"$f":"IF(A134=\"\",\"\",E134&\"　\"&F134)","v":""}]
["",{"$nulls":8},"",""]
["",{"$nulls":8},"",""]
["",{"$nulls":8},"",""]
["",{"$nulls":8},"",""]
["",{"$nulls":8},"",""]
["",{"$nulls":8},"",""]
["",{"$nulls":8},"",""]
["",{"$nulls":8},"",""]
["",{"$nulls":8},"",""]
["",{"$nulls":8},"",""]
["",{"$nulls":8},"",""]
["",{"$nulls":8},"",""]
["",{"$nulls":8},"",""]
["",{"$nulls":8},"",""]
["",{"$nulls":8},"",""]
["",{"$nulls":8},"",""]
["",{"$nulls":8},"",""]
["",{"$nulls":8},"",""]
["",{"$nulls":8},"",""]
["",{"$nulls":8},"",""]
["",{"$nulls":8},"",""]
["",{"$nulls":8},"",""]
["",{"$nulls":8},"",""]
["",{"$nulls":8},"",""]
["",{"$nulls":8},"",""]
["",{"$nulls":8},"",""]
["",{"$nulls":8},"",""]
["",{"$nulls":8},"",""]
["",{"$nulls":8},"",""]
["",{"$nulls":8},"",""]
["",{"$nulls":8},"",""]
[{"$f":"IF((H166=\"\"),\"\",I166&DBCS(TEXT(H166,\"００\")))","v":""},{"$nulls":8},{"$f":"IF(A166=\"\",\"\",C166&\"　\"&D166)","v":""},{"$f":"IF(A166=\"\",\"\",E166&\"　\"&F166)","v":""}]
["",{"$nulls":8},"",""]
["",{"$nulls":8},"",""]
["",{"$nulls":8},"",""]
["",{"$nulls":8},"",""]
["",{"$nulls":8},"",""]
["",{"$nulls":8},"",""]
["",{"$nulls":8},"",""]
["",{"$nulls":8},"",""]
["",{"$nulls":8},"",""]
["",{"$nulls":8},"",""]
["",{"$nulls":8},"",""]
["",{"$nulls":8},"",""]
["",{"$nulls":8},"",""]
["",{"$nulls":8},"",""]
["",{"$nulls":8},"",""]
["",{"$nulls":8},"",""]
["",{"$nulls":8},"",""]
["",{"$nulls":8},"",""]
["",{"$nulls":8},"",""]
["",{"$nulls":8},"",""]
["",{"$nulls":8},"",""]
["",{"$nulls":8},"",""]
["",{"$nulls":8},"",""]
["",{"$nulls":8},"",""]
["",{"$nulls":8},"",""]
["",{"$nulls":8},"",""]
["",{"$nulls":8},"",""]
["",{"$nulls":8},"",""]
["",{"$nulls":8},"",""]
["",{"$nulls":8},"",""]
["",{"$nulls":8},"",""]
[{"$f":"IF((H198=\"\"),\"\",I198&DBCS(TEXT(H198,\"００\")))","v":""},{"$nulls":8},{"$f":"IF(A198=\"\",\"\",C198&\"　\"&D198)","v":""},{"$f":"IF(A198=\"\",\"\",E198&\"　\"&F198)","v":""}]
["",{"$nulls":8},{"$f":"IF(A199=\"\",\"\",C199&\"　\"&D199)","v":""},{"$f":"IF(A199=\"\",\"\",E199&\"　\"&F199)","v":""}]
["",{"$nulls":8},{"$f":"IF(A200=\"\",\"\",C200&\"　\"&D200)","v":""},{"$f":"IF(A200=\"\",\"\",E200&\"　\"&F200)","v":""}]
["",{"$nulls":8},{"$f":"IF(A201=\"\",\"\",C201&\"　\"&D201)","v":""},{"$f":"IF(A201=\"\",\"\",E201&\"　\"&F201)","v":""}]
["",{"$nulls":8},{"$f":"IF(A202=\"\",\"\",C202&\"　\"&D202)","v":""},{"$f":"IF(A202=\"\",\"\",E202&\"　\"&F202)","v":""}]
["",{"$nulls":8},"個人番号","性別"]
["",{"$nulls":8},9,"男"]
[{"$nulls":9},10,"男"]
[{"$nulls":9},10,"男"]
[{"$nulls":9},11,"男"]
[{"$nulls":9},12,"男"]
[{"$nulls":9},13,"男"]
[{"$nulls":9},14,"男"]
[{"$nulls":9},15,"男"]
[{"$nulls":9},16,"男"]
[{"$nulls":9},17,"男"]
[{"$nulls":9},19,"男"]
[{"$nulls":9},20,"男"]
[{"$nulls":9},21,"男"]
[{"$nulls":9},22,"男"]
[{"$nulls":9},23,"男"]
[{"$nulls":9},24,"男"]
[{"$nulls":9},25,"男"]
[{"$nulls":9},26,"男"]
[{"$nulls":9},27,"男"]
[{"$nulls":9},28,"男"]
[{"$nulls":9},29,"男"]
[{"$nulls":9},30,"男"]
[{"$nulls":9},31,"男"]
[{"$nulls":9},40,"男"]
[{"$nulls":9},41,"男"]
[{"$nulls":9},42,"男"]
[{"$nulls":9},43,"男"]
[{"$nulls":9},44,"男"]
[{"$nulls":9},75,"女"]
[{"$nulls":9},76,"女"]
[{"$nulls":9},77,"女"]
[{"$nulls":9},78,"女"]
[{"$nulls":9},79,"女"]
[{"$nulls":9},80,"女"]
[{"$nulls":9},81,"女"]
[{"$nulls":9},90,"女"]
[{"$nulls":9},91,"女"]
[{"$nulls":9},92,"女"]
[{"$nulls":9},93,"女"]
[{"$nulls":9},"",""]
[{"$nulls":9},"",""]
[{"$nulls":9},"",""]
[{"$nulls":9},"",""]
[{"$nulls":9},"",""]
[{"$nulls":9},"",""]
[{"$nulls":9},"",""]
[{"$nulls":9},"",""]
[{"$nulls":9},"",""]
[{"$nulls":9},"",""]
[{"$nulls":9},"",""]
[{"$nulls":9},"",""]
[{"$nulls":9},"",""]
[{"$nulls":9},"",""]
[{"$nulls":9},"",""]
[{"$nulls":9},"",""]
[{"$nulls":9},"",""]
[{"$nulls":9},"",""]
[{"$nulls":9},"",""]
[{"$nulls":9},"",""]
[{"$nulls":9},"",""]
[{"$nulls":9},"",""]
[{"$nulls":9},"",""]
[{"$nulls":9},"",""]
[{"$nulls":9},"",""]
[{"$nulls":9},"",""]
[{"$nulls":9},"",""]
[{"$nulls":9},"",""]
[{"$nulls":9},"",""]
[{"$nulls":9},"",""]
[{"$nulls":9},"",""]
[{"$nulls":9},"",""]
[{"$nulls":9},"",""]
[{"$nulls":9},"",""]
[{"$nulls":9},"",""]
[{"$nulls":9},"",""]
[{"$nulls":9},"",""]
[{"$nulls":9},"",""]
[{"$nulls":9},"",""]
[{"$nulls":9},"",""]
[{"$nulls":9},"",""]
[{"$nulls":9},"",""]
[{"$nulls":9},"",""]
[{"$nulls":9},"",""]
[{"$nulls":9},"",""]
[{"$nulls":9},"",""]
[{"$nulls":9},"",""]
[{"$nulls":9},"",""]
[{"$nulls":9},"",""]
[{"$nulls":9},"",""]
[{"$nulls":9},"",""]
[{"$nulls":9},"",""]
[{"$nulls":9},"",""]
[{"$nulls":9},"",""]
[{"$nulls":9},"",""]
[{"$nulls":9},"",""]
[{"$nulls":9},"",""]
[{"$nulls":9},"",""]
[{"$nulls":9},"",""]
[{"$nulls":9},"",""]
[{"$nulls":9},"",""]
[{"$nulls":9},"",""]
[{"$nulls":9},"",""]
[{"$nulls":9},"",""]
[{"$nulls":9},"",""]
[{"$nulls":9},"",""]
[{"$nulls":9},"",""]
[{"$nulls":9},"",""]
[{"$nulls":9},"",""]
[{"$nulls":9},"",""]
[{"$nulls":9},"",""]
[{"$nulls":9},"",""]
[{"$nulls":9},"",""]
[{"$nulls":9},"",""]
[{"$nulls":9},"",""]
[{"$nulls":9},"",""]
[{"$nulls":9},"",""]
[{"$nulls":9},"",""]
[{"$nulls":9},"",""]
[{"$nulls":9},"",""]
[{"$nulls":9},"",""]
[{"$nulls":9},"",""]
[{"$nulls":9},"",""]
[{"$nulls":9},"",""]
[{"$nulls":9},"",""]
[{"$nulls":9},"",""]
[{"$nulls":9},"",""]
[{"$nulls":9},"",""]
[{"$nulls":9},"",""]
[{"$nulls":9},"",""]
[{"$nulls":9},"",""]
[{"$nulls":9},"",""]
[{"$nulls":9},"",""]
[{"$nulls":9},"",""]
[{"$nulls":9},"",""]
[{"$nulls":9},"",""]
[{"$nulls":9},"",""]
[{"$nulls":9},"",""]
[{"$nulls":9},"",""]
[{"$nulls":9},"",""]
[{"$nulls":9},"",""]
[{"$nulls":9},"",""]
[{"$nulls":9},"",""]
[{"$nulls":9},"",""]
[{"$nulls":9},"",""]
[{"$nulls":9},"",""]
[{"$nulls":9},"",""]
[{"$nulls":9},"",""]
[{"$nulls":9},"",""]
[{"$nulls":9},"",""]
[{"$nulls":9},"",""]
[{"$nulls":9},"",""]
[{"$nulls":9},"",""]
[{"$nulls":9},"",""]
[{"$nulls":9},"",""]
[{"$nulls":9},"",""]
[{"$nulls":9},"",""]
[{"$nulls":9},"",""]
[{"$nulls":9},"",""]
[{"$nulls":9},"",""]
[{"$nulls":9},"",""]
[{"$nulls":9},"",""]
[{"$nulls":9},"",""]
[{"$nulls":9},"",""]
[{"$nulls":9},"",""]
[{"$nulls":9},"",""]
[{"$nulls":9},"",""]
[{"$nulls":9},"",""]
[{"$nulls":9},"",""]
[{"$nulls":9},"",""]
[{"$nulls":9},"",""]
[{"$nulls":9},"",""]
[{"$nulls":9},"",""]
[{"$nulls":9},"",""]
[{"$nulls":9},"",""]
[{"$nulls":9},"",""]
[{"$nulls":9},"",""]
[{"$nulls":9},"",""]
[{"$nulls":9},"",""]
[{"$nulls":9},"",""]
[{"$nulls":9},"",""]
[{"$nulls":9},"",""]
[{"$nulls":9},"",""]
[{"$nulls":9},"",""]
[{"$nulls":9},"",""]
[{"$nulls":9},"",""]
[{"$nulls":9},"",""]
[{"$nulls":9},"",""]
[{"$nulls":9},"",""]
[{"$nulls":9},"",""]
[{"$nulls":9},"",""]
[{"$nulls":9},"",""]
[{"$nulls":9},"",""]
[{"$nulls":9},"",""]
[{"$nulls":9},"",""]
[{"$nulls":9},"",""]
[{"$nulls":9},"",""]
[{"$nulls":9},"",""]
[{"$nulls":9},"",""]
[{"$nulls":9},"",""]
[{"$nulls":9},"",""]
[{"$nulls":9},"",""]

{"sheet":"補助データ","index":3,"n_rows":65,"n_cols":14,"rows_kept":65,"hidden":true,"merged":[[1,1,1,2],[54,1,54,2],[58,1,58,2],[62,1,62,2]]}
[]
[null,"入力補助データ",null,null,"大会コード","4000003",null,"taikai","スポーツ祭"]
[]
[null,"出場種ID","出場種別",{"$nulls":7},"メニュー","数式バー","Otoko",{"$f":"INDIRECT(\"D_参加\" &taikai)","v":false}]
[null,0,"共通","<=3",{"$nulls":7},false,"Onna",{"$f":"INDIRECT(\"J_参加\" &taikai)","v":false}]
[null,1,"１年",1,1]
[null,2,"２年",2,2]
[null,3,"３年",{"$f":"3","v":3},2]
[null,4,"１．２年","<3"]
[null,5,"２．３年",">1"]
[null,6,"低学年","<3"]
[null,7,"その他","<=3"]
[]
[null,"種目コード","種目名","種目種別","男上","男下","女下","女上"]
[null,"001","１００ｍ",1,{"v":10,"d":"10.00"},{"v":25,"d":"25.00"},{"v":11,"d":"11.00"},{"v":28,"d":"28.00"}]
[null,"002","２００ｍ",1,{"v":20.5,"d":"20.50"},{"v":48,"d":"48.00"},{"v":22,"d":"22.00"},{"v":55,"d":"55.00"}]
[null,"004","４００ｍ",1,{"v":42,"d":"42.00"},{"v":120,"d":"120.00"},{"v":48,"d":"48.00"},{"v":140,"d":"140.00"}]
[null,"008","８００ｍ",1,{"v":150,"d":"150.00"},{"v":400,"d":"400.00"},{"v":200,"d":"200.00"},{"v":450,"d":"450.00"}]
[null,"015","１５００ｍ",1,{"v":340,"d":"340.00"},{"v":800,"d":"800.00"},{"v":400,"d":"400.00"},{"v":900,"d":"900.00"}]
[null,"030","３０００ｍ",1,{"v":800,"d":"800.00"},{"v":2000,"d":"2000.00"},{"v":900,"d":"900.00"},{"v":2000,"d":"2000.00"}]
[null,"110","１００ｍＨ",1,null,null,{"v":12,"d":"12.00"},{"v":40,"d":"40.00"}]
[null,"111","１１０ｍＨ",1,{"v":12,"d":"12.00"},{"v":40,"d":"40.00"}]
[null,"410","４×１００ｍＲ",1,38,null,41]
[null,"420","４×２００ｍＲ",1]
[null,"510","走高跳",2,{"v":2.4,"d":"2.40"},{"v":1,"d":"1.00"},{"v":1.9,"d":"1.90"},{"v":1,"d":"1.00"}]
[null,"520","棒高跳",2,{"v":5.5,"d":"5.50"},{"v":1,"d":"1.00"}]
[null,"530","走幅跳",2,{"v":8,"d":"8.00"},{"v":2,"d":"2.00"},{"v":7,"d":"7.00"},{"v":2,"d":"2.00"}]
[null,"540","三段跳",2,{"v":17,"d":"17.00"},{"v":4,"d":"4.00"}]
[null,"550","円盤投",2,{"v":60,"d":"60.00"},null,{"v":45,"d":"45.00"},{"v":1,"d":"1.00"}]
[null,"551","円盤投(1.5㎏)",2,{"v":70,"d":"70.00"},{"v":1,"d":"1.00"}]
[null,"560","砲丸投",2,null,null,{"v":18,"d":"18.00"},{"v":1,"d":"1.00"}]
[null,"561","砲丸投(2.7㎏)",2,{"v":20,"d":"20.00"},{"v":2,"d":"2.00"}]
[null,"562","砲丸投(5.0㎏)",2,{"v":20,"d":"20.00"},{"v":2,"d":"2.00"}]
[null,"563","砲丸投(4.0㎏)",2,{"v":30,"d":"30.00"},{"v":2,"d":"2.00"},{"v":25,"d":"25.00"},{"v":1,"d":"1.00"}]
[null,"570","ｼﾞｬﾍﾞﾘｯｸｽﾛｰ",2]
[null,"710","男子四種競技",3,3800]
[null,"760","女子四種競技",3,null,null,4000]
[]
[null,"種目種別ID","種目種別"]
[null,1,"トラック"]
[null,2,"フィールド"]
[null,3,"混成"]
[]
[null,"種目詳細","種目１","種目２","種目３","種目４"]
[null,"女子四種競技","１００ｍＨ","走高跳","砲丸投","２００ｍ"]
[null,"男子四種競技","１１０ｍＨ","砲丸投","走高跳","４００ｍ"]
[]
[null,"性別ID","性別"]
[null,0,"男"]
[null,1,"女"]
[]
[]
[]
[]
[null,"読み込みデータフォルダ指定"]
[null,"中体連データ","F:\\地区マスタ\\akasi01\\2014"]
[]
[]
[null,"読み込み試合データ"]
[null,"3010012","第２回明石市中学記録会"]
[]
[]
[null,"計測区分"]
[null,0,"電気"]
[null,1,"手動"]

{"sheet":"陸連データ書出シート","index":4,"n_rows":309,"n_cols":11,"rows_kept":309,"hidden":true}
["生年月日（西暦）","生年月日（月）","生年月日（日）","登録番号","姓","名","姓（カナ）","名（カナ）","性別","学年","備考"]
[{"$f":"IF(部員名簿!A6=\"\",\"\",YEAR(部員名簿!G6))","v":""},{"$f":"IF(部員名簿!A6=\"\",\"\",MONTH(部員名簿!G6))","v":""},{"$f":"IF(部員名簿!A6=\"\",\"\",DAY(部員名簿!G6))","v":""},{"$f":"IF(部員名簿!A6=\"\",\"\",学校番号*100+部員名簿!H6)","v":""},{"$f":"IF(部員名簿!A6=\"\",\"\",部員名簿!C6)","v":""},{"$f":"IF(部員名簿!A6=\"\",\"\",部員名簿!D6)","v":""},{"$f":"IF(部員名簿!A6=\"\",\"\",部員名簿!E6)","v":""},{"$f":"IF(部員名簿!A6=\"\",\"\",部員名簿!F6)","v":""},{"$f":"IF(部員名簿!A6=\"\",\"\",部員名簿!I6)","v":""},{"$f":"IF(部員名簿!A6=\"\",\"\",部員名簿!B6)","v":""}]
[{"$f":"IF(部員名簿!A7=\"\",\"\",YEAR(部員名簿!G7))","v":""},{"$f":"IF(部員名簿!A7=\"\",\"\",MONTH(部員名簿!G7))","v":""},{"$f":"IF(部員名簿!A7=\"\",\"\",DAY(部員名簿!G7))","v":""},{"$f":"IF(部員名簿!A7=\"\",\"\",学校番号*100+部員名簿!H7)","v":""},{"$f":"IF(部員名簿!A7=\"\",\"\",部員名簿!C7)","v":""},{"$f":"IF(部員名簿!A7=\"\",\"\",部員名簿!D7)","v":""},{"$f":"IF(部員名簿!A7=\"\",\"\",部員名簿!E7)","v":""},{"$f":"IF(部員名簿!A7=\"\",\"\",部員名簿!F7)","v":""},{"$f":"IF(部員名簿!A7=\"\",\"\",部員名簿!I7)","v":""},{"$f":"IF(部員名簿!A7=\"\",\"\",部員名簿!B7)","v":""}]
[{"$f":"IF(部員名簿!A8=\"\",\"\",YEAR(部員名簿!G8))","v":""},{"$f":"IF(部員名簿!A8=\"\",\"\",MONTH(部員名簿!G8))","v":""},{"$f":"IF(部員名簿!A8=\"\",\"\",DAY(部員名簿!G8))","v":""},{"$f":"IF(部員名簿!A8=\"\",\"\",学校番号*100+部員名簿!H8)","v":""},{"$f":"IF(部員名簿!A8=\"\",\"\",部員名簿!C8)","v":""},{"$f":"IF(部員名簿!A8=\"\",\"\",部員名簿!D8)","v":""},{"$f":"IF(部員名簿!A8=\"\",\"\",部員名簿!E8)","v":""},{"$f":"IF(部員名簿!A8=\"\",\"\",部員名簿!F8)","v":""},{"$f":"IF(部員名簿!A8=\"\",\"\",部員名簿!I8)","v":""},{"$f":"IF(部員名簿!A8=\"\",\"\",部員名簿!B8)","v":""}]
[{"$f":"IF(部員名簿!A9=\"\",\"\",YEAR(部員名簿!G9))","v":""},{"$f":"IF(部員名簿!A9=\"\",\"\",MONTH(部員名簿!G9))","v":""},{"$f":"IF(部員名簿!A9=\"\",\"\",DAY(部員名簿!G9))","v":""},{"$f":"IF(部員名簿!A9=\"\",\"\",学校番号*100+部員名簿!H9)","v":""},{"$f":"IF(部員名簿!A9=\"\",\"\",部員名簿!C9)","v":""},{"$f":"IF(部員名簿!A9=\"\",\"\",部員名簿!D9)","v":""},{"$f":"IF(部員名簿!A9=\"\",\"\",部員名簿!E9)","v":""},{"$f":"IF(部員名簿!A9=\"\",\"\",部員名簿!F9)","v":""},{"$f":"IF(部員名簿!A9=\"\",\"\",部員名簿!I9)","v":""},{"$f":"IF(部員名簿!A9=\"\",\"\",部員名簿!B9)","v":""}]
[{"$f":"IF(部員名簿!A10=\"\",\"\",YEAR(部員名簿!G10))","v":""},{"$f":"IF(部員名簿!A10=\"\",\"\",MONTH(部員名簿!G10))","v":""},{"$f":"IF(部員名簿!A10=\"\",\"\",DAY(部員名簿!G10))","v":""},{"$f":"IF(部員名簿!A10=\"\",\"\",学校番号*100+部員名簿!H10)","v":""},{"$f":"IF(部員名簿!A10=\"\",\"\",部員名簿!C10)","v":""},{"$f":"IF(部員名簿!A10=\"\",\"\",部員名簿!D10)","v":""},{"$f":"IF(部員名簿!A10=\"\",\"\",部員名簿!E10)","v":""},{"$f":"IF(部員名簿!A10=\"\",\"\",部員名簿!F10)","v":""},{"$f":"IF(部員名簿!A10=\"\",\"\",部員名簿!I10)","v":""},{"$f":"IF(部員名簿!A10=\"\",\"\",部員名簿!B10)","v":""}]
[{"$f":"IF(部員名簿!A11=\"\",\"\",YEAR(部員名簿!G11))","v":""},{"$f":"IF(部員名簿!A11=\"\",\"\",MONTH(部員名簿!G11))","v":""},{"$f":"IF(部員名簿!A11=\"\",\"\",DAY(部員名簿!G11))","v":""},{"$f":"IF(部員名簿!A11=\"\",\"\",学校番号*100+部員名簿!H11)","v":""},{"$f":"IF(部員名簿!A11=\"\",\"\",部員名簿!C11)","v":""},{"$f":"IF(部員名簿!A11=\"\",\"\",部員名簿!D11)","v":""},{"$f":"IF(部員名簿!A11=\"\",\"\",部員名簿!E11)","v":""},{"$f":"IF(部員名簿!A11=\"\",\"\",部員名簿!F11)","v":""},{"$f":"IF(部員名簿!A11=\"\",\"\",部員名簿!I11)","v":""},{"$f":"IF(部員名簿!A11=\"\",\"\",部員名簿!B11)","v":""}]
[{"$f":"IF(部員名簿!A12=\"\",\"\",YEAR(部員名簿!G12))","v":""},{"$f":"IF(部員名簿!A12=\"\",\"\",MONTH(部員名簿!G12))","v":""},{"$f":"IF(部員名簿!A12=\"\",\"\",DAY(部員名簿!G12))","v":""},{"$f":"IF(部員名簿!A12=\"\",\"\",学校番号*100+部員名簿!H12)","v":""},{"$f":"IF(部員名簿!A12=\"\",\"\",部員名簿!C12)","v":""},{"$f":"IF(部員名簿!A12=\"\",\"\",部員名簿!D12)","v":""},{"$f":"IF(部員名簿!A12=\"\",\"\",部員名簿!E12)","v":""},{"$f":"IF(部員名簿!A12=\"\",\"\",部員名簿!F12)","v":""},{"$f":"IF(部員名簿!A12=\"\",\"\",部員名簿!I12)","v":""},{"$f":"IF(部員名簿!A12=\"\",\"\",部員名簿!B12)","v":""}]
[{"$f":"IF(部員名簿!A13=\"\",\"\",YEAR(部員名簿!G13))","v":""},{"$f":"IF(部員名簿!A13=\"\",\"\",MONTH(部員名簿!G13))","v":""},{"$f":"IF(部員名簿!A13=\"\",\"\",DAY(部員名簿!G13))","v":""},{"$f":"IF(部員名簿!A13=\"\",\"\",学校番号*100+部員名簿!H13)","v":""},{"$f":"IF(部員名簿!A13=\"\",\"\",部員名簿!C13)","v":""},{"$f":"IF(部員名簿!A13=\"\",\"\",部員名簿!D13)","v":""},{"$f":"IF(部員名簿!A13=\"\",\"\",部員名簿!E13)","v":""},{"$f":"IF(部員名簿!A13=\"\",\"\",部員名簿!F13)","v":""},{"$f":"IF(部員名簿!A13=\"\",\"\",部員名簿!I13)","v":""},{"$f":"IF(部員名簿!A13=\"\",\"\",部員名簿!B13)","v":""}]
[{"$f":"IF(部員名簿!A14=\"\",\"\",YEAR(部員名簿!G14))","v":""},{"$f":"IF(部員名簿!A14=\"\",\"\",MONTH(部員名簿!G14))","v":""},{"$f":"IF(部員名簿!A14=\"\",\"\",DAY(部員名簿!G14))","v":""},{"$f":"IF(部員名簿!A14=\"\",\"\",学校番号*100+部員名簿!H14)","v":""},{"$f":"IF(部員名簿!A14=\"\",\"\",部員名簿!C14)","v":""},{"$f":"IF(部員名簿!A14=\"\",\"\",部員名簿!D14)","v":""},{"$f":"IF(部員名簿!A14=\"\",\"\",部員名簿!E14)","v":""},{"$f":"IF(部員名簿!A14=\"\",\"\",部員名簿!F14)","v":""},{"$f":"IF(部員名簿!A14=\"\",\"\",部員名簿!I14)","v":""},{"$f":"IF(部員名簿!A14=\"\",\"\",部員名簿!B14)","v":""}]
[{"$f":"IF(部員名簿!A15=\"\",\"\",YEAR(部員名簿!G15))","v":""},{"$f":"IF(部員名簿!A15=\"\",\"\",MONTH(部員名簿!G15))","v":""},{"$f":"IF(部員名簿!A15=\"\",\"\",DAY(部員名簿!G15))","v":""},{"$f":"IF(部員名簿!A15=\"\",\"\",学校番号*100+部員名簿!H15)","v":""},{"$f":"IF(部員名簿!A15=\"\",\"\",部員名簿!C15)","v":""},{"$f":"IF(部員名簿!A15=\"\",\"\",部員名簿!D15)","v":""},{"$f":"IF(部員名簿!A15=\"\",\"\",部員名簿!E15)","v":""},{"$f":"IF(部員名簿!A15=\"\",\"\",部員名簿!F15)","v":""},{"$f":"IF(部員名簿!A15=\"\",\"\",部員名簿!I15)","v":""},{"$f":"IF(部員名簿!A15=\"\",\"\",部員名簿!B15)","v":""}]
[{"$f":"IF(部員名簿!A16=\"\",\"\",YEAR(部員名簿!G16))","v":""},{"$f":"IF(部員名簿!A16=\"\",\"\",MONTH(部員名簿!G16))","v":""},{"$f":"IF(部員名簿!A16=\"\",\"\",DAY(部員名簿!G16))","v":""},{"$f":"IF(部員名簿!A16=\"\",\"\",学校番号*100+部員名簿!H16)","v":""},{"$f":"IF(部員名簿!A16=\"\",\"\",部員名簿!C16)","v":""},{"$f":"IF(部員名簿!A16=\"\",\"\",部員名簿!D16)","v":""},{"$f":"IF(部員名簿!A16=\"\",\"\",部員名簿!E16)","v":""},{"$f":"IF(部員名簿!A16=\"\",\"\",部員名簿!F16)","v":""},{"$f":"IF(部員名簿!A16=\"\",\"\",部員名簿!I16)","v":""},{"$f":"IF(部員名簿!A16=\"\",\"\",部員名簿!B16)","v":""}]
[{"$f":"IF(部員名簿!A17=\"\",\"\",YEAR(部員名簿!G17))","v":""},{"$f":"IF(部員名簿!A17=\"\",\"\",MONTH(部員名簿!G17))","v":""},{"$f":"IF(部員名簿!A17=\"\",\"\",DAY(部員名簿!G17))","v":""},{"$f":"IF(部員名簿!A17=\"\",\"\",学校番号*100+部員名簿!H17)","v":""},{"$f":"IF(部員名簿!A17=\"\",\"\",部員名簿!C17)","v":""},{"$f":"IF(部員名簿!A17=\"\",\"\",部員名簿!D17)","v":""},{"$f":"IF(部員名簿!A17=\"\",\"\",部員名簿!E17)","v":""},{"$f":"IF(部員名簿!A17=\"\",\"\",部員名簿!F17)","v":""},{"$f":"IF(部員名簿!A17=\"\",\"\",部員名簿!I17)","v":""},{"$f":"IF(部員名簿!A17=\"\",\"\",部員名簿!B17)","v":""}]
[{"$f":"IF(部員名簿!A18=\"\",\"\",YEAR(部員名簿!G18))","v":""},{"$f":"IF(部員名簿!A18=\"\",\"\",MONTH(部員名簿!G18))","v":""},{"$f":"IF(部員名簿!A18=\"\",\"\",DAY(部員名簿!G18))","v":""},{"$f":"IF(部員名簿!A18=\"\",\"\",学校番号*100+部員名簿!H18)","v":""},{"$f":"IF(部員名簿!A18=\"\",\"\",部員名簿!C18)","v":""},{"$f":"IF(部員名簿!A18=\"\",\"\",部員名簿!D18)","v":""},{"$f":"IF(部員名簿!A18=\"\",\"\",部員名簿!E18)","v":""},{"$f":"IF(部員名簿!A18=\"\",\"\",部員名簿!F18)","v":""},{"$f":"IF(部員名簿!A18=\"\",\"\",部員名簿!I18)","v":""},{"$f":"IF(部員名簿!A18=\"\",\"\",部員名簿!B18)","v":""}]
[{"$f":"IF(部員名簿!A19=\"\",\"\",YEAR(部員名簿!G19))","v":""},{"$f":"IF(部員名簿!A19=\"\",\"\",MONTH(部員名簿!G19))","v":""},{"$f":"IF(部員名簿!A19=\"\",\"\",DAY(部員名簿!G19))","v":""},{"$f":"IF(部員名簿!A19=\"\",\"\",学校番号*100+部員名簿!H19)","v":""},{"$f":"IF(部員名簿!A19=\"\",\"\",部員名簿!C19)","v":""},{"$f":"IF(部員名簿!A19=\"\",\"\",部員名簿!D19)","v":""},{"$f":"IF(部員名簿!A19=\"\",\"\",部員名簿!E19)","v":""},{"$f":"IF(部員名簿!A19=\"\",\"\",部員名簿!F19)","v":""},{"$f":"IF(部員名簿!A19=\"\",\"\",部員名簿!I19)","v":""},{"$f":"IF(部員名簿!A19=\"\",\"\",部員名簿!B19)","v":""}]
[{"$f":"IF(部員名簿!A20=\"\",\"\",YEAR(部員名簿!G20))","v":""},{"$f":"IF(部員名簿!A20=\"\",\"\",MONTH(部員名簿!G20))","v":""},{"$f":"IF(部員名簿!A20=\"\",\"\",DAY(部員名簿!G20))","v":""},{"$f":"IF(部員名簿!A20=\"\",\"\",学校番号*100+部員名簿!H20)","v":""},{"$f":"IF(部員名簿!A20=\"\",\"\",部員名簿!C20)","v":""},{"$f":"IF(部員名簿!A20=\"\",\"\",部員名簿!D20)","v":""},{"$f":"IF(部員名簿!A20=\"\",\"\",部員名簿!E20)","v":""},{"$f":"IF(部員名簿!A20=\"\",\"\",部員名簿!F20)","v":""},{"$f":"IF(部員名簿!A20=\"\",\"\",部員名簿!I20)","v":""},{"$f":"IF(部員名簿!A20=\"\",\"\",部員名簿!B20)","v":""}]
[{"$f":"IF(部員名簿!A21=\"\",\"\",YEAR(部員名簿!G21))","v":""},{"$f":"IF(部員名簿!A21=\"\",\"\",MONTH(部員名簿!G21))","v":""},{"$f":"IF(部員名簿!A21=\"\",\"\",DAY(部員名簿!G21))","v":""},{"$f":"IF(部員名簿!A21=\"\",\"\",学校番号*100+部員名簿!H21)","v":""},{"$f":"IF(部員名簿!A21=\"\",\"\",部員名簿!C21)","v":""},{"$f":"IF(部員名簿!A21=\"\",\"\",部員名簿!D21)","v":""},{"$f":"IF(部員名簿!A21=\"\",\"\",部員名簿!E21)","v":""},{"$f":"IF(部員名簿!A21=\"\",\"\",部員名簿!F21)","v":""},{"$f":"IF(部員名簿!A21=\"\",\"\",部員名簿!I21)","v":""},{"$f":"IF(部員名簿!A21=\"\",\"\",部員名簿!B21)","v":""}]
[{"$f":"IF(部員名簿!A22=\"\",\"\",YEAR(部員名簿!G22))","v":""},{"$f":"IF(部員名簿!A22=\"\",\"\",MONTH(部員名簿!G22))","v":""},{"$f":"IF(部員名簿!A22=\"\",\"\",DAY(部員名簿!G22))","v":""},{"$f":"IF(部員名簿!A22=\"\",\"\",学校番号*100+部員名簿!H22)","v":""},{"$f":"IF(部員名簿!A22=\"\",\"\",部員名簿!C22)","v":""},{"$f":"IF(部員名簿!A22=\"\",\"\",部員名簿!D22)","v":""},{"$f":"IF(部員名簿!A22=\"\",\"\",部員名簿!E22)","v":""},{"$f":"IF(部員名簿!A22=\"\",\"\",部員名簿!F22)","v":""},{"$f":"IF(部員名簿!A22=\"\",\"\",部員名簿!I22)","v":""},{"$f":"IF(部員名簿!A22=\"\",\"\",部員名簿!B22)","v":""}]
[{"$f":"IF(部員名簿!A23=\"\",\"\",YEAR(部員名簿!G23))","v":""},{"$f":"IF(部員名簿!A23=\"\",\"\",MONTH(部員名簿!G23))","v":""},{"$f":"IF(部員名簿!A23=\"\",\"\",DAY(部員名簿!G23))","v":""},{"$f":"IF(部員名簿!A23=\"\",\"\",学校番号*100+部員名簿!H23)","v":""},{"$f":"IF(部員名簿!A23=\"\",\"\",部員名簿!C23)","v":""},{"$f":"IF(部員名簿!A23=\"\",\"\",部員名簿!D23)","v":""},{"$f":"IF(部員名簿!A23=\"\",\"\",部員名簿!E23)","v":""},{"$f":"IF(部員名簿!A23=\"\",\"\",部員名簿!F23)","v":""},{"$f":"IF(部員名簿!A23=\"\",\"\",部員名簿!I23)","v":""},{"$f":"IF(部員名簿!A23=\"\",\"\",部員名簿!B23)","v":""}]
[{"$f":"IF(部員名簿!A24=\"\",\"\",YEAR(部員名簿!G24))","v":""},{"$f":"IF(部員名簿!A24=\"\",\"\",MONTH(部員名簿!G24))","v":""},{"$f":"IF(部員名簿!A24=\"\",\"\",DAY(部員名簿!G24))","v":""},{"$f":"IF(部員名簿!A24=\"\",\"\",学校番号*100+部員名簿!H24)","v":""},{"$f":"IF(部員名簿!A24=\"\",\"\",部員名簿!C24)","v":""},{"$f":"IF(部員名簿!A24=\"\",\"\",部員名簿!D24)","v":""},{"$f":"IF(部員名簿!A24=\"\",\"\",部員名簿!E24)","v":""},{"$f":"IF(部員名簿!A24=\"\",\"\",部員名簿!F24)","v":""},{"$f":"IF(部員名簿!A24=\"\",\"\",部員名簿!I24)","v":""},{"$f":"IF(部員名簿!A24=\"\",\"\",部員名簿!B24)","v":""}]
[{"$f":"IF(部員名簿!A25=\"\",\"\",YEAR(部員名簿!G25))","v":""},{"$f":"IF(部員名簿!A25=\"\",\"\",MONTH(部員名簿!G25))","v":""},{"$f":"IF(部員名簿!A25=\"\",\"\",DAY(部員名簿!G25))","v":""},{"$f":"IF(部員名簿!A25=\"\",\"\",学校番号*100+部員名簿!H25)","v":""},{"$f":"IF(部員名簿!A25=\"\",\"\",部員名簿!C25)","v":""},{"$f":"IF(部員名簿!A25=\"\",\"\",部員名簿!D25)","v":""},{"$f":"IF(部員名簿!A25=\"\",\"\",部員名簿!E25)","v":""},{"$f":"IF(部員名簿!A25=\"\",\"\",部員名簿!F25)","v":""},{"$f":"IF(部員名簿!A25=\"\",\"\",部員名簿!I25)","v":""},{"$f":"IF(部員名簿!A25=\"\",\"\",部員名簿!B25)","v":""}]
[{"$f":"IF(部員名簿!A26=\"\",\"\",YEAR(部員名簿!G26))","v":""},{"$f":"IF(部員名簿!A26=\"\",\"\",MONTH(部員名簿!G26))","v":""},{"$f":"IF(部員名簿!A26=\"\",\"\",DAY(部員名簿!G26))","v":""},{"$f":"IF(部員名簿!A26=\"\",\"\",学校番号*100+部員名簿!H26)","v":""},{"$f":"IF(部員名簿!A26=\"\",\"\",部員名簿!C26)","v":""},{"$f":"IF(部員名簿!A26=\"\",\"\",部員名簿!D26)","v":""},{"$f":"IF(部員名簿!A26=\"\",\"\",部員名簿!E26)","v":""},{"$f":"IF(部員名簿!A26=\"\",\"\",部員名簿!F26)","v":""},{"$f":"IF(部員名簿!A26=\"\",\"\",部員名簿!I26)","v":""},{"$f":"IF(部員名簿!A26=\"\",\"\",部員名簿!B26)","v":""}]
[{"$f":"IF(部員名簿!A27=\"\",\"\",YEAR(部員名簿!G27))","v":""},{"$f":"IF(部員名簿!A27=\"\",\"\",MONTH(部員名簿!G27))","v":""},{"$f":"IF(部員名簿!A27=\"\",\"\",DAY(部員名簿!G27))","v":""},{"$f":"IF(部員名簿!A27=\"\",\"\",学校番号*100+部員名簿!H27)","v":""},{"$f":"IF(部員名簿!A27=\"\",\"\",部員名簿!C27)","v":""},{"$f":"IF(部員名簿!A27=\"\",\"\",部員名簿!D27)","v":""},{"$f":"IF(部員名簿!A27=\"\",\"\",部員名簿!E27)","v":""},{"$f":"IF(部員名簿!A27=\"\",\"\",部員名簿!F27)","v":""},{"$f":"IF(部員名簿!A27=\"\",\"\",部員名簿!I27)","v":""},{"$f":"IF(部員名簿!A27=\"\",\"\",部員名簿!B27)","v":""}]
[{"$f":"IF(部員名簿!A28=\"\",\"\",YEAR(部員名簿!G28))","v":""},{"$f":"IF(部員名簿!A28=\"\",\"\",MONTH(部員名簿!G28))","v":""},{"$f":"IF(部員名簿!A28=\"\",\"\",DAY(部員名簿!G28))","v":""},{"$f":"IF(部員名簿!A28=\"\",\"\",学校番号*100+部員名簿!H28)","v":""},{"$f":"IF(部員名簿!A28=\"\",\"\",部員名簿!C28)","v":""},{"$f":"IF(部員名簿!A28=\"\",\"\",部員名簿!D28)","v":""},{"$f":"IF(部員名簿!A28=\"\",\"\",部員名簿!E28)","v":""},{"$f":"IF(部員名簿!A28=\"\",\"\",部員名簿!F28)","v":""},{"$f":"IF(部員名簿!A28=\"\",\"\",部員名簿!I28)","v":""},{"$f":"IF(部員名簿!A28=\"\",\"\",部員名簿!B28)","v":""}]
[{"$f":"IF(部員名簿!A29=\"\",\"\",YEAR(部員名簿!G29))","v":""},{"$f":"IF(部員名簿!A29=\"\",\"\",MONTH(部員名簿!G29))","v":""},{"$f":"IF(部員名簿!A29=\"\",\"\",DAY(部員名簿!G29))","v":""},{"$f":"IF(部員名簿!A29=\"\",\"\",学校番号*100+部員名簿!H29)","v":""},{"$f":"IF(部員名簿!A29=\"\",\"\",部員名簿!C29)","v":""},{"$f":"IF(部員名簿!A29=\"\",\"\",部員名簿!D29)","v":""},{"$f":"IF(部員名簿!A29=\"\",\"\",部員名簿!E29)","v":""},{"$f":"IF(部員名簿!A29=\"\",\"\",部員名簿!F29)","v":""},{"$f":"IF(部員名簿!A29=\"\",\"\",部員名簿!I29)","v":""},{"$f":"IF(部員名簿!A29=\"\",\"\",部員名簿!B29)","v":""}]
[{"$f":"IF(部員名簿!A30=\"\",\"\",YEAR(部員名簿!G30))","v":""},{"$f":"IF(部員名簿!A30=\"\",\"\",MONTH(部員名簿!G30))","v":""},{"$f":"IF(部員名簿!A30=\"\",\"\",DAY(部員名簿!G30))","v":""},{"$f":"IF(部員名簿!A30=\"\",\"\",学校番号*100+部員名簿!H30)","v":""},{"$f":"IF(部員名簿!A30=\"\",\"\",部員名簿!C30)","v":""},{"$f":"IF(部員名簿!A30=\"\",\"\",部員名簿!D30)","v":""},{"$f":"IF(部員名簿!A30=\"\",\"\",部員名簿!E30)","v":""},{"$f":"IF(部員名簿!A30=\"\",\"\",部員名簿!F30)","v":""},{"$f":"IF(部員名簿!A30=\"\",\"\",部員名簿!I30)","v":""},{"$f":"IF(部員名簿!A30=\"\",\"\",部員名簿!B30)","v":""}]
[{"$f":"IF(部員名簿!A31=\"\",\"\",YEAR(部員名簿!G31))","v":""},{"$f":"IF(部員名簿!A31=\"\",\"\",MONTH(部員名簿!G31))","v":""},{"$f":"IF(部員名簿!A31=\"\",\"\",DAY(部員名簿!G31))","v":""},{"$f":"IF(部員名簿!A31=\"\",\"\",学校番号*100+部員名簿!H31)","v":""},{"$f":"IF(部員名簿!A31=\"\",\"\",部員名簿!C31)","v":""},{"$f":"IF(部員名簿!A31=\"\",\"\",部員名簿!D31)","v":""},{"$f":"IF(部員名簿!A31=\"\",\"\",部員名簿!E31)","v":""},{"$f":"IF(部員名簿!A31=\"\",\"\",部員名簿!F31)","v":""},{"$f":"IF(部員名簿!A31=\"\",\"\",部員名簿!I31)","v":""},{"$f":"IF(部員名簿!A31=\"\",\"\",部員名簿!B31)","v":""}]
[{"$f":"IF(部員名簿!A32=\"\",\"\",YEAR(部員名簿!G32))","v":""},{"$f":"IF(部員名簿!A32=\"\",\"\",MONTH(部員名簿!G32))","v":""},{"$f":"IF(部員名簿!A32=\"\",\"\",DAY(部員名簿!G32))","v":""},{"$f":"IF(部員名簿!A32=\"\",\"\",学校番号*100+部員名簿!H32)","v":""},{"$f":"IF(部員名簿!A32=\"\",\"\",部員名簿!C32)","v":""},{"$f":"IF(部員名簿!A32=\"\",\"\",部員名簿!D32)","v":""},{"$f":"IF(部員名簿!A32=\"\",\"\",部員名簿!E32)","v":""},{"$f":"IF(部員名簿!A32=\"\",\"\",部員名簿!F32)","v":""},{"$f":"IF(部員名簿!A32=\"\",\"\",部員名簿!I32)","v":""},{"$f":"IF(部員名簿!A32=\"\",\"\",部員名簿!B32)","v":""}]
[{"$f":"IF(部員名簿!A33=\"\",\"\",YEAR(部員名簿!G33))","v":""},{"$f":"IF(部員名簿!A33=\"\",\"\",MONTH(部員名簿!G33))","v":""},{"$f":"IF(部員名簿!A33=\"\",\"\",DAY(部員名簿!G33))","v":""},{"$f":"IF(部員名簿!A33=\"\",\"\",学校番号*100+部員名簿!H33)","v":""},{"$f":"IF(部員名簿!A33=\"\",\"\",部員名簿!C33)","v":""},{"$f":"IF(部員名簿!A33=\"\",\"\",部員名簿!D33)","v":""},{"$f":"IF(部員名簿!A33=\"\",\"\",部員名簿!E33)","v":""},{"$f":"IF(部員名簿!A33=\"\",\"\",部員名簿!F33)","v":""},{"$f":"IF(部員名簿!A33=\"\",\"\",部員名簿!I33)","v":""},{"$f":"IF(部員名簿!A33=\"\",\"\",部員名簿!B33)","v":""}]
[{"$f":"IF(部員名簿!A34=\"\",\"\",YEAR(部員名簿!G34))","v":""},{"$f":"IF(部員名簿!A34=\"\",\"\",MONTH(部員名簿!G34))","v":""},{"$f":"IF(部員名簿!A34=\"\",\"\",DAY(部員名簿!G34))","v":""},{"$f":"IF(部員名簿!A34=\"\",\"\",学校番号*100+部員名簿!H34)","v":""},{"$f":"IF(部員名簿!A34=\"\",\"\",部員名簿!C34)","v":""},{"$f":"IF(部員名簿!A34=\"\",\"\",部員名簿!D34)","v":""},{"$f":"IF(部員名簿!A34=\"\",\"\",部員名簿!E34)","v":""},{"$f":"IF(部員名簿!A34=\"\",\"\",部員名簿!F34)","v":""},{"$f":"IF(部員名簿!A34=\"\",\"\",部員名簿!I34)","v":""},{"$f":"IF(部員名簿!A34=\"\",\"\",部員名簿!B34)","v":""}]
[{"$f":"IF(部員名簿!A35=\"\",\"\",YEAR(部員名簿!G35))","v":""},{"$f":"IF(部員名簿!A35=\"\",\"\",MONTH(部員名簿!G35))","v":""},{"$f":"IF(部員名簿!A35=\"\",\"\",DAY(部員名簿!G35))","v":""},{"$f":"IF(部員名簿!A35=\"\",\"\",学校番号*100+部員名簿!H35)","v":""},{"$f":"IF(部員名簿!A35=\"\",\"\",部員名簿!C35)","v":""},{"$f":"IF(部員名簿!A35=\"\",\"\",部員名簿!D35)","v":""},{"$f":"IF(部員名簿!A35=\"\",\"\",部員名簿!E35)","v":""},{"$f":"IF(部員名簿!A35=\"\",\"\",部員名簿!F35)","v":""},{"$f":"IF(部員名簿!A35=\"\",\"\",部員名簿!I35)","v":""},{"$f":"IF(部員名簿!A35=\"\",\"\",部員名簿!B35)","v":""}]
[{"$f":"IF(部員名簿!A36=\"\",\"\",YEAR(部員名簿!G36))","v":""},{"$f":"IF(部員名簿!A36=\"\",\"\",MONTH(部員名簿!G36))","v":""},{"$f":"IF(部員名簿!A36=\"\",\"\",DAY(部員名簿!G36))","v":""},{"$f":"IF(部員名簿!A36=\"\",\"\",学校番号*100+部員名簿!H36)","v":""},{"$f":"IF(部員名簿!A36=\"\",\"\",部員名簿!C36)","v":""},{"$f":"IF(部員名簿!A36=\"\",\"\",部員名簿!D36)","v":""},{"$f":"IF(部員名簿!A36=\"\",\"\",部員名簿!E36)","v":""},{"$f":"IF(部員名簿!A36=\"\",\"\",部員名簿!F36)","v":""},{"$f":"IF(部員名簿!A36=\"\",\"\",部員名簿!I36)","v":""},{"$f":"IF(部員名簿!A36=\"\",\"\",部員名簿!B36)","v":""}]
[{"$f":"IF(部員名簿!A37=\"\",\"\",YEAR(部員名簿!G37))","v":""},{"$f":"IF(部員名簿!A37=\"\",\"\",MONTH(部員名簿!G37))","v":""},{"$f":"IF(部員名簿!A37=\"\",\"\",DAY(部員名簿!G37))","v":""},{"$f":"IF(部員名簿!A37=\"\",\"\",学校番号*100+部員名簿!H37)","v":""},{"$f":"IF(部員名簿!A37=\"\",\"\",部員名簿!C37)","v":""},{"$f":"IF(部員名簿!A37=\"\",\"\",部員名簿!D37)","v":""},{"$f":"IF(部員名簿!A37=\"\",\"\",部員名簿!E37)","v":""},{"$f":"IF(部員名簿!A37=\"\",\"\",部員名簿!F37)","v":""},{"$f":"IF(部員名簿!A37=\"\",\"\",部員名簿!I37)","v":""},{"$f":"IF(部員名簿!A37=\"\",\"\",部員名簿!B37)","v":""}]
[{"$f":"IF(部員名簿!A38=\"\",\"\",YEAR(部員名簿!G38))","v":""},{"$f":"IF(部員名簿!A38=\"\",\"\",MONTH(部員名簿!G38))","v":""},{"$f":"IF(部員名簿!A38=\"\",\"\",DAY(部員名簿!G38))","v":""},{"$f":"IF(部員名簿!A38=\"\",\"\",学校番号*100+部員名簿!H38)","v":""},{"$f":"IF(部員名簿!A38=\"\",\"\",部員名簿!C38)","v":""},{"$f":"IF(部員名簿!A38=\"\",\"\",部員名簿!D38)","v":""},{"$f":"IF(部員名簿!A38=\"\",\"\",部員名簿!E38)","v":""},{"$f":"IF(部員名簿!A38=\"\",\"\",部員名簿!F38)","v":""},{"$f":"IF(部員名簿!A38=\"\",\"\",部員名簿!I38)","v":""},{"$f":"IF(部員名簿!A38=\"\",\"\",部員名簿!B38)","v":""}]
[{"$f":"IF(部員名簿!A39=\"\",\"\",YEAR(部員名簿!G39))","v":""},{"$f":"IF(部員名簿!A39=\"\",\"\",MONTH(部員名簿!G39))","v":""},{"$f":"IF(部員名簿!A39=\"\",\"\",DAY(部員名簿!G39))","v":""},{"$f":"IF(部員名簿!A39=\"\",\"\",学校番号*100+部員名簿!H39)","v":""},{"$f":"IF(部員名簿!A39=\"\",\"\",部員名簿!C39)","v":""},{"$f":"IF(部員名簿!A39=\"\",\"\",部員名簿!D39)","v":""},{"$f":"IF(部員名簿!A39=\"\",\"\",部員名簿!E39)","v":""},{"$f":"IF(部員名簿!A39=\"\",\"\",部員名簿!F39)","v":""},{"$f":"IF(部員名簿!A39=\"\",\"\",部員名簿!I39)","v":""},{"$f":"IF(部員名簿!A39=\"\",\"\",部員名簿!B39)","v":""}]
[{"$f":"IF(部員名簿!A40=\"\",\"\",YEAR(部員名簿!G40))","v":""},{"$f":"IF(部員名簿!A40=\"\",\"\",MONTH(部員名簿!G40))","v":""},{"$f":"IF(部員名簿!A40=\"\",\"\",DAY(部員名簿!G40))","v":""},{"$f":"IF(部員名簿!A40=\"\",\"\",学校番号*100+部員名簿!H40)","v":""},{"$f":"IF(部員名簿!A40=\"\",\"\",部員名簿!C40)","v":""},{"$f":"IF(部員名簿!A40=\"\",\"\",部員名簿!D40)","v":""},{"$f":"IF(部員名簿!A40=\"\",\"\",部員名簿!E40)","v":""},{"$f":"IF(部員名簿!A40=\"\",\"\",部員名簿!F40)","v":""},{"$f":"IF(部員名簿!A40=\"\",\"\",部員名簿!I40)","v":""},{"$f":"IF(部員名簿!A40=\"\",\"\",部員名簿!B40)","v":""}]
[{"$f":"IF(部員名簿!A41=\"\",\"\",YEAR(部員名簿!G41))","v":""},{"$f":"IF(部員名簿!A41=\"\",\"\",MONTH(部員名簿!G41))","v":""},{"$f":"IF(部員名簿!A41=\"\",\"\",DAY(部員名簿!G41))","v":""},{"$f":"IF(部員名簿!A41=\"\",\"\",学校番号*100+部員名簿!H41)","v":""},{"$f":"IF(部員名簿!A41=\"\",\"\",部員名簿!C41)","v":""},{"$f":"IF(部員名簿!A41=\"\",\"\",部員名簿!D41)","v":""},{"$f":"IF(部員名簿!A41=\"\",\"\",部員名簿!E41)","v":""},{"$f":"IF(部員名簿!A41=\"\",\"\",部員名簿!F41)","v":""},{"$f":"IF(部員名簿!A41=\"\",\"\",部員名簿!I41)","v":""},{"$f":"IF(部員名簿!A41=\"\",\"\",部員名簿!B41)","v":""}]
[{"$f":"IF(部員名簿!A42=\"\",\"\",YEAR(部員名簿!G42))","v":""},{"$f":"IF(部員名簿!A42=\"\",\"\",MONTH(部員名簿!G42))","v":""},{"$f":"IF(部員名簿!A42=\"\",\"\",DAY(部員名簿!G42))","v":""},{"$f":"IF(部員名簿!A42=\"\",\"\",学校番号*100+部員名簿!H42)","v":""},{"$f":"IF(部員名簿!A42=\"\",\"\",部員名簿!C42)","v":""},{"$f":"IF(部員名簿!A42=\"\",\"\",部員名簿!D42)","v":""},{"$f":"IF(部員名簿!A42=\"\",\"\",部員名簿!E42)","v":""},{"$f":"IF(部員名簿!A42=\"\",\"\",部員名簿!F42)","v":""},{"$f":"IF(部員名簿!A42=\"\",\"\",部員名簿!I42)","v":""},{"$f":"IF(部員名簿!A42=\"\",\"\",部員名簿!B42)","v":""}]
[{"$f":"IF(部員名簿!A43=\"\",\"\",YEAR(部員名簿!G43))","v":""},{"$f":"IF(部員名簿!A43=\"\",\"\",MONTH(部員名簿!G43))","v":""},{"$f":"IF(部員名簿!A43=\"\",\"\",DAY(部員名簿!G43))","v":""},{"$f":"IF(部員名簿!A43=\"\",\"\",学校番号*100+部員名簿!H43)","v":""},{"$f":"IF(部員名簿!A43=\"\",\"\",部員名簿!C43)","v":""},{"$f":"IF(部員名簿!A43=\"\",\"\",部員名簿!D43)","v":""},{"$f":"IF(部員名簿!A43=\"\",\"\",部員名簿!E43)","v":""},{"$f":"IF(部員名簿!A43=\"\",\"\",部員名簿!F43)","v":""},{"$f":"IF(部員名簿!A43=\"\",\"\",部員名簿!I43)","v":""},{"$f":"IF(部員名簿!A43=\"\",\"\",部員名簿!B43)","v":""}]
[{"$f":"IF(部員名簿!A44=\"\",\"\",YEAR(部員名簿!G44))","v":""},{"$f":"IF(部員名簿!A44=\"\",\"\",MONTH(部員名簿!G44))","v":""},{"$f":"IF(部員名簿!A44=\"\",\"\",DAY(部員名簿!G44))","v":""},{"$f":"IF(部員名簿!A44=\"\",\"\",学校番号*100+部員名簿!H44)","v":""},{"$f":"IF(部員名簿!A44=\"\",\"\",部員名簿!C44)","v":""},{"$f":"IF(部員名簿!A44=\"\",\"\",部員名簿!D44)","v":""},{"$f":"IF(部員名簿!A44=\"\",\"\",部員名簿!E44)","v":""},{"$f":"IF(部員名簿!A44=\"\",\"\",部員名簿!F44)","v":""},{"$f":"IF(部員名簿!A44=\"\",\"\",部員名簿!I44)","v":""},{"$f":"IF(部員名簿!A44=\"\",\"\",部員名簿!B44)","v":""}]
[{"$f":"IF(部員名簿!A45=\"\",\"\",YEAR(部員名簿!G45))","v":""},{"$f":"IF(部員名簿!A45=\"\",\"\",MONTH(部員名簿!G45))","v":""},{"$f":"IF(部員名簿!A45=\"\",\"\",DAY(部員名簿!G45))","v":""},{"$f":"IF(部員名簿!A45=\"\",\"\",学校番号*100+部員名簿!H45)","v":""},{"$f":"IF(部員名簿!A45=\"\",\"\",部員名簿!C45)","v":""},{"$f":"IF(部員名簿!A45=\"\",\"\",部員名簿!D45)","v":""},{"$f":"IF(部員名簿!A45=\"\",\"\",部員名簿!E45)","v":""},{"$f":"IF(部員名簿!A45=\"\",\"\",部員名簿!F45)","v":""},{"$f":"IF(部員名簿!A45=\"\",\"\",部員名簿!I45)","v":""},{"$f":"IF(部員名簿!A45=\"\",\"\",部員名簿!B45)","v":""}]
[{"$f":"IF(部員名簿!A46=\"\",\"\",YEAR(部員名簿!G46))","v":""},{"$f":"IF(部員名簿!A46=\"\",\"\",MONTH(部員名簿!G46))","v":""},{"$f":"IF(部員名簿!A46=\"\",\"\",DAY(部員名簿!G46))","v":""},{"$f":"IF(部員名簿!A46=\"\",\"\",学校番号*100+部員名簿!H46)","v":""},{"$f":"IF(部員名簿!A46=\"\",\"\",部員名簿!C46)","v":""},{"$f":"IF(部員名簿!A46=\"\",\"\",部員名簿!D46)","v":""},{"$f":"IF(部員名簿!A46=\"\",\"\",部員名簿!E46)","v":""},{"$f":"IF(部員名簿!A46=\"\",\"\",部員名簿!F46)","v":""},{"$f":"IF(部員名簿!A46=\"\",\"\",部員名簿!I46)","v":""},{"$f":"IF(部員名簿!A46=\"\",\"\",部員名簿!B46)","v":""}]
[{"$f":"IF(部員名簿!A47=\"\",\"\",YEAR(部員名簿!G47))","v":""},{"$f":"IF(部員名簿!A47=\"\",\"\",MONTH(部員名簿!G47))","v":""},{"$f":"IF(部員名簿!A47=\"\",\"\",DAY(部員名簿!G47))","v":""},{"$f":"IF(部員名簿!A47=\"\",\"\",学校番号*100+部員名簿!H47)","v":""},{"$f":"IF(部員名簿!A47=\"\",\"\",部員名簿!C47)","v":""},{"$f":"IF(部員名簿!A47=\"\",\"\",部員名簿!D47)","v":""},{"$f":"IF(部員名簿!A47=\"\",\"\",部員名簿!E47)","v":""},{"$f":"IF(部員名簿!A47=\"\",\"\",部員名簿!F47)","v":""},{"$f":"IF(部員名簿!A47=\"\",\"\",部員名簿!I47)","v":""},{"$f":"IF(部員名簿!A47=\"\",\"\",部員名簿!B47)","v":""}]
[{"$f":"IF(部員名簿!A48=\"\",\"\",YEAR(部員名簿!G48))","v":""},{"$f":"IF(部員名簿!A48=\"\",\"\",MONTH(部員名簿!G48))","v":""},{"$f":"IF(部員名簿!A48=\"\",\"\",DAY(部員名簿!G48))","v":""},{"$f":"IF(部員名簿!A48=\"\",\"\",学校番号*100+部員名簿!H48)","v":""},{"$f":"IF(部員名簿!A48=\"\",\"\",部員名簿!C48)","v":""},{"$f":"IF(部員名簿!A48=\"\",\"\",部員名簿!D48)","v":""},{"$f":"IF(部員名簿!A48=\"\",\"\",部員名簿!E48)","v":""},{"$f":"IF(部員名簿!A48=\"\",\"\",部員名簿!F48)","v":""},{"$f":"IF(部員名簿!A48=\"\",\"\",部員名簿!I48)","v":""},{"$f":"IF(部員名簿!A48=\"\",\"\",部員名簿!B48)","v":""}]
[{"$f":"IF(部員名簿!A49=\"\",\"\",YEAR(部員名簿!G49))","v":""},{"$f":"IF(部員名簿!A49=\"\",\"\",MONTH(部員名簿!G49))","v":""},{"$f":"IF(部員名簿!A49=\"\",\"\",DAY(部員名簿!G49))","v":""},{"$f":"IF(部員名簿!A49=\"\",\"\",学校番号*100+部員名簿!H49)","v":""},{"$f":"IF(部員名簿!A49=\"\",\"\",部員名簿!C49)","v":""},{"$f":"IF(部員名簿!A49=\"\",\"\",部員名簿!D49)","v":""},{"$f":"IF(部員名簿!A49=\"\",\"\",部員名簿!E49)","v":""},{"$f":"IF(部員名簿!A49=\"\",\"\",部員名簿!F49)","v":""},{"$f":"IF(部員名簿!A49=\"\",\"\",部員名簿!I49)","v":""},{"$f":"IF(部員名簿!A49=\"\",\"\",部員名簿!B49)","v":""}]
[{"$f":"IF(部員名簿!A50=\"\",\"\",YEAR(部員名簿!G50))","v":""},{"$f":"IF(部員名簿!A50=\"\",\"\",MONTH(部員名簿!G50))","v":""},{"$f":"IF(部員名簿!A50=\"\",\"\",DAY(部員名簿!G50))","v":""},{"$f":"IF(部員名簿!A50=\"\",\"\",学校番号*100+部員名簿!H50)","v":""},{"$f":"IF(部員名簿!A50=\"\",\"\",部員名簿!C50)","v":""},{"$f":"IF(部員名簿!A50=\"\",\"\",部員名簿!D50)","v":""},{"$f":"IF(部員名簿!A50=\"\",\"\",部員名簿!E50)","v":""},{"$f":"IF(部員名簿!A50=\"\",\"\",部員名簿!F50)","v":""},{"$f":"IF(部員名簿!A50=\"\",\"\",部員名簿!I50)","v":""},{"$f":"IF(部員名簿!A50=\"\",\"\",部員名簿!B50)","v":""}]
[{"$f":"IF(部員名簿!A51=\"\",\"\",YEAR(部員名簿!G51))","v":""},{"$f":"IF(部員名簿!A51=\"\",\"\",MONTH(部員名簿!G51))","v":""},{"$f":"IF(部員名簿!A51=\"\",\"\",DAY(部員名簿!G51))","v":""},{"$f":"IF(部員名簿!A51=\"\",\"\",学校番号*100+部員名簿!H51)","v":""},{"$f":"IF(部員名簿!A51=\"\",\"\",部員名簿!C51)","v":""},{"$f":"IF(部員名簿!A51=\"\",\"\",部員名簿!D51)","v":""},{"$f":"IF(部員名簿!A51=\"\",\"\",部員名簿!E51)","v":""},{"$f":"IF(部員名簿!A51=\"\",\"\",部員名簿!F51)","v":""},{"$f":"IF(部員名簿!A51=\"\",\"\",部員名簿!I51)","v":""},{"$f":"IF(部員名簿!A51=\"\",\"\",部員名簿!B51)","v":""}]
[{"$f":"IF(部員名簿!A52=\"\",\"\",YEAR(部員名簿!G52))","v":""},{"$f":"IF(部員名簿!A52=\"\",\"\",MONTH(部員名簿!G52))","v":""},{"$f":"IF(部員名簿!A52=\"\",\"\",DAY(部員名簿!G52))","v":""},{"$f":"IF(部員名簿!A52=\"\",\"\",学校番号*100+部員名簿!H52)","v":""},{"$f":"IF(部員名簿!A52=\"\",\"\",部員名簿!C52)","v":""},{"$f":"IF(部員名簿!A52=\"\",\"\",部員名簿!D52)","v":""},{"$f":"IF(部員名簿!A52=\"\",\"\",部員名簿!E52)","v":""},{"$f":"IF(部員名簿!A52=\"\",\"\",部員名簿!F52)","v":""},{"$f":"IF(部員名簿!A52=\"\",\"\",部員名簿!I52)","v":""},{"$f":"IF(部員名簿!A52=\"\",\"\",部員名簿!B52)","v":""}]
[{"$f":"IF(部員名簿!A53=\"\",\"\",YEAR(部員名簿!G53))","v":""},{"$f":"IF(部員名簿!A53=\"\",\"\",MONTH(部員名簿!G53))","v":""},{"$f":"IF(部員名簿!A53=\"\",\"\",DAY(部員名簿!G53))","v":""},{"$f":"IF(部員名簿!A53=\"\",\"\",学校番号*100+部員名簿!H53)","v":""},{"$f":"IF(部員名簿!A53=\"\",\"\",部員名簿!C53)","v":""},{"$f":"IF(部員名簿!A53=\"\",\"\",部員名簿!D53)","v":""},{"$f":"IF(部員名簿!A53=\"\",\"\",部員名簿!E53)","v":""},{"$f":"IF(部員名簿!A53=\"\",\"\",部員名簿!F53)","v":""},{"$f":"IF(部員名簿!A53=\"\",\"\",部員名簿!I53)","v":""},{"$f":"IF(部員名簿!A53=\"\",\"\",部員名簿!B53)","v":""}]
[{"$f":"IF(部員名簿!A54=\"\",\"\",YEAR(部員名簿!G54))","v":""},{"$f":"IF(部員名簿!A54=\"\",\"\",MONTH(部員名簿!G54))","v":""},{"$f":"IF(部員名簿!A54=\"\",\"\",DAY(部員名簿!G54))","v":""},{"$f":"IF(部員名簿!A54=\"\",\"\",学校番号*100+部員名簿!H54)","v":""},{"$f":"IF(部員名簿!A54=\"\",\"\",部員名簿!C54)","v":""},{"$f":"IF(部員名簿!A54=\"\",\"\",部員名簿!D54)","v":""},{"$f":"IF(部員名簿!A54=\"\",\"\",部員名簿!E54)","v":""},{"$f":"IF(部員名簿!A54=\"\",\"\",部員名簿!F54)","v":""},{"$f":"IF(部員名簿!A54=\"\",\"\",部員名簿!I54)","v":""},{"$f":"IF(部員名簿!A54=\"\",\"\",部員名簿!B54)","v":""}]
[{"$f":"IF(部員名簿!A55=\"\",\"\",YEAR(部員名簿!G55))","v":""},{"$f":"IF(部員名簿!A55=\"\",\"\",MONTH(部員名簿!G55))","v":""},{"$f":"IF(部員名簿!A55=\"\",\"\",DAY(部員名簿!G55))","v":""},{"$f":"IF(部員名簿!A55=\"\",\"\",学校番号*100+部員名簿!H55)","v":""},{"$f":"IF(部員名簿!A55=\"\",\"\",部員名簿!C55)","v":""},{"$f":"IF(部員名簿!A55=\"\",\"\",部員名簿!D55)","v":""},{"$f":"IF(部員名簿!A55=\"\",\"\",部員名簿!E55)","v":""},{"$f":"IF(部員名簿!A55=\"\",\"\",部員名簿!F55)","v":""},{"$f":"IF(部員名簿!A55=\"\",\"\",部員名簿!I55)","v":""},{"$f":"IF(部員名簿!A55=\"\",\"\",部員名簿!B55)","v":""}]
[{"$f":"IF(部員名簿!A56=\"\",\"\",YEAR(部員名簿!G56))","v":""},{"$f":"IF(部員名簿!A56=\"\",\"\",MONTH(部員名簿!G56))","v":""},{"$f":"IF(部員名簿!A56=\"\",\"\",DAY(部員名簿!G56))","v":""},{"$f":"IF(部員名簿!A56=\"\",\"\",学校番号*100+部員名簿!H56)","v":""},{"$f":"IF(部員名簿!A56=\"\",\"\",部員名簿!C56)","v":""},{"$f":"IF(部員名簿!A56=\"\",\"\",部員名簿!D56)","v":""},{"$f":"IF(部員名簿!A56=\"\",\"\",部員名簿!E56)","v":""},{"$f":"IF(部員名簿!A56=\"\",\"\",部員名簿!F56)","v":""},{"$f":"IF(部員名簿!A56=\"\",\"\",部員名簿!I56)","v":""},{"$f":"IF(部員名簿!A56=\"\",\"\",部員名簿!B56)","v":""}]
[{"$f":"IF(部員名簿!A57=\"\",\"\",YEAR(部員名簿!G57))","v":""},{"$f":"IF(部員名簿!A57=\"\",\"\",MONTH(部員名簿!G57))","v":""},{"$f":"IF(部員名簿!A57=\"\",\"\",DAY(部員名簿!G57))","v":""},{"$f":"IF(部員名簿!A57=\"\",\"\",学校番号*100+部員名簿!H57)","v":""},{"$f":"IF(部員名簿!A57=\"\",\"\",部員名簿!C57)","v":""},{"$f":"IF(部員名簿!A57=\"\",\"\",部員名簿!D57)","v":""},{"$f":"IF(部員名簿!A57=\"\",\"\",部員名簿!E57)","v":""},{"$f":"IF(部員名簿!A57=\"\",\"\",部員名簿!F57)","v":""},{"$f":"IF(部員名簿!A57=\"\",\"\",部員名簿!I57)","v":""},{"$f":"IF(部員名簿!A57=\"\",\"\",部員名簿!B57)","v":""}]
[{"$f":"IF(部員名簿!A58=\"\",\"\",YEAR(部員名簿!G58))","v":""},{"$f":"IF(部員名簿!A58=\"\",\"\",MONTH(部員名簿!G58))","v":""},{"$f":"IF(部員名簿!A58=\"\",\"\",DAY(部員名簿!G58))","v":""},{"$f":"IF(部員名簿!A58=\"\",\"\",学校番号*100+部員名簿!H58)","v":""},{"$f":"IF(部員名簿!A58=\"\",\"\",部員名簿!C58)","v":""},{"$f":"IF(部員名簿!A58=\"\",\"\",部員名簿!D58)","v":""},{"$f":"IF(部員名簿!A58=\"\",\"\",部員名簿!E58)","v":""},{"$f":"IF(部員名簿!A58=\"\",\"\",部員名簿!F58)","v":""},{"$f":"IF(部員名簿!A58=\"\",\"\",部員名簿!I58)","v":""},{"$f":"IF(部員名簿!A58=\"\",\"\",部員名簿!B58)","v":""}]
[{"$f":"IF(部員名簿!A59=\"\",\"\",YEAR(部員名簿!G59))","v":""},{"$f":"IF(部員名簿!A59=\"\",\"\",MONTH(部員名簿!G59))","v":""},{"$f":"IF(部員名簿!A59=\"\",\"\",DAY(部員名簿!G59))","v":""},{"$f":"IF(部員名簿!A59=\"\",\"\",学校番号*100+部員名簿!H59)","v":""},{"$f":"IF(部員名簿!A59=\"\",\"\",部員名簿!C59)","v":""},{"$f":"IF(部員名簿!A59=\"\",\"\",部員名簿!D59)","v":""},{"$f":"IF(部員名簿!A59=\"\",\"\",部員名簿!E59)","v":""},{"$f":"IF(部員名簿!A59=\"\",\"\",部員名簿!F59)","v":""},{"$f":"IF(部員名簿!A59=\"\",\"\",部員名簿!I59)","v":""},{"$f":"IF(部員名簿!A59=\"\",\"\",部員名簿!B59)","v":""}]
[{"$f":"IF(部員名簿!A60=\"\",\"\",YEAR(部員名簿!G60))","v":""},{"$f":"IF(部員名簿!A60=\"\",\"\",MONTH(部員名簿!G60))","v":""},{"$f":"IF(部員名簿!A60=\"\",\"\",DAY(部員名簿!G60))","v":""},{"$f":"IF(部員名簿!A60=\"\",\"\",学校番号*100+部員名簿!H60)","v":""},{"$f":"IF(部員名簿!A60=\"\",\"\",部員名簿!C60)","v":""},{"$f":"IF(部員名簿!A60=\"\",\"\",部員名簿!D60)","v":""},{"$f":"IF(部員名簿!A60=\"\",\"\",部員名簿!E60)","v":""},{"$f":"IF(部員名簿!A60=\"\",\"\",部員名簿!F60)","v":""},{"$f":"IF(部員名簿!A60=\"\",\"\",部員名簿!I60)","v":""},{"$f":"IF(部員名簿!A60=\"\",\"\",部員名簿!B60)","v":""}]
[{"$f":"IF(部員名簿!A61=\"\",\"\",YEAR(部員名簿!G61))","v":""},{"$f":"IF(部員名簿!A61=\"\",\"\",MONTH(部員名簿!G61))","v":""},{"$f":"IF(部員名簿!A61=\"\",\"\",DAY(部員名簿!G61))","v":""},{"$f":"IF(部員名簿!A61=\"\",\"\",学校番号*100+部員名簿!H61)","v":""},{"$f":"IF(部員名簿!A61=\"\",\"\",部員名簿!C61)","v":""},{"$f":"IF(部員名簿!A61=\"\",\"\",部員名簿!D61)","v":""},{"$f":"IF(部員名簿!A61=\"\",\"\",部員名簿!E61)","v":""},{"$f":"IF(部員名簿!A61=\"\",\"\",部員名簿!F61)","v":""},{"$f":"IF(部員名簿!A61=\"\",\"\",部員名簿!I61)","v":""},{"$f":"IF(部員名簿!A61=\"\",\"\",部員名簿!B61)","v":""}]
[{"$f":"IF(部員名簿!A62=\"\",\"\",YEAR(部員名簿!G62))","v":""},{"$f":"IF(部員名簿!A62=\"\",\"\",MONTH(部員名簿!G62))","v":""},{"$f":"IF(部員名簿!A62=\"\",\"\",DAY(部員名簿!G62))","v":""},{"$f":"IF(部員名簿!A62=\"\",\"\",学校番号*100+部員名簿!H62)","v":""},{"$f":"IF(部員名簿!A62=\"\",\"\",部員名簿!C62)","v":""},{"$f":"IF(部員名簿!A62=\"\",\"\",部員名簿!D62)","v":""},{"$f":"IF(部員名簿!A62=\"\",\"\",部員名簿!E62)","v":""},{"$f":"IF(部員名簿!A62=\"\",\"\",部員名簿!F62)","v":""},{"$f":"IF(部員名簿!A62=\"\",\"\",部員名簿!I62)","v":""},{"$f":"IF(部員名簿!A62=\"\",\"\",部員名簿!B62)","v":""}]
[{"$f":"IF(部員名簿!A63=\"\",\"\",YEAR(部員名簿!G63))","v":""},{"$f":"IF(部員名簿!A63=\"\",\"\",MONTH(部員名簿!G63))","v":""},{"$f":"IF(部員名簿!A63=\"\",\"\",DAY(部員名簿!G63))","v":""},{"$f":"IF(部員名簿!A63=\"\",\"\",学校番号*100+部員名簿!H63)","v":""},{"$f":"IF(部員名簿!A63=\"\",\"\",部員名簿!C63)","v":""},{"$f":"IF(部員名簿!A63=\"\",\"\",部員名簿!D63)","v":""},{"$f":"IF(部員名簿!A63=\"\",\"\",部員名簿!E63)","v":""},{"$f":"IF(部員名簿!A63=\"\",\"\",部員名簿!F63)","v":""},{"$f":"IF(部員名簿!A63=\"\",\"\",部員名簿!I63)","v":""},{"$f":"IF(部員名簿!A63=\"\",\"\",部員名簿!B63)","v":""}]
[{"$f":"IF(部員名簿!A64=\"\",\"\",YEAR(部員名簿!G64))","v":""},{"$f":"IF(部員名簿!A64=\"\",\"\",MONTH(部員名簿!G64))","v":""},{"$f":"IF(部員名簿!A64=\"\",\"\",DAY(部員名簿!G64))","v":""},{"$f":"IF(部員名簿!A64=\"\",\"\",学校番号*100+部員名簿!H64)","v":""},{"$f":"IF(部員名簿!A64=\"\",\"\",部員名簿!C64)","v":""},{"$f":"IF(部員名簿!A64=\"\",\"\",部員名簿!D64)","v":""},{"$f":"IF(部員名簿!A64=\"\",\"\",部員名簿!E64)","v":""},{"$f":"IF(部員名簿!A64=\"\",\"\",部員名簿!F64)","v":""},{"$f":"IF(部員名簿!A64=\"\",\"\",部員名簿!I64)","v":""},{"$f":"IF(部員名簿!A64=\"\",\"\",部員名簿!B64)","v":""}]
[{"$f":"IF(部員名簿!A65=\"\",\"\",YEAR(部員名簿!G65))","v":""},{"$f":"IF(部員名簿!A65=\"\",\"\",MONTH(部員名簿!G65))","v":""},{"$f":"IF(部員名簿!A65=\"\",\"\",DAY(部員名簿!G65))","v":""},{"$f":"IF(部員名簿!A65=\"\",\"\",学校番号*100+部員名簿!H65)","v":""},{"$f":"IF(部員名簿!A65=\"\",\"\",部員名簿!C65)","v":""},{"$f":"IF(部員名簿!A65=\"\",\"\",部員名簿!D65)","v":""},{"$f":"IF(部員名簿!A65=\"\",\"\",部員名簿!E65)","v":""},{"$f":"IF(部員名簿!A65=\"\",\"\",部員名簿!F65)","v":""},{"$f":"IF(部員名簿!A65=\"\",\"\",部員名簿!I65)","v":""},{"$f":"IF(部員名簿!A65=\"\",\"\",部員名簿!B65)","v":""}]
[{"$f":"IF(部員名簿!A66=\"\",\"\",YEAR(部員名簿!G66))","v":""},{"$f":"IF(部員名簿!A66=\"\",\"\",MONTH(部員名簿!G66))","v":""},{"$f":"IF(部員名簿!A66=\"\",\"\",DAY(部員名簿!G66))","v":""},{"$f":"IF(部員名簿!A66=\"\",\"\",学校番号*100+部員名簿!H66)","v":""},{"$f":"IF(部員名簿!A66=\"\",\"\",部員名簿!C66)","v":""},{"$f":"IF(部員名簿!A66=\"\",\"\",部員名簿!D66)","v":""},{"$f":"IF(部員名簿!A66=\"\",\"\",部員名簿!E66)","v":""},{"$f":"IF(部員名簿!A66=\"\",\"\",部員名簿!F66)","v":""},{"$f":"IF(部員名簿!A66=\"\",\"\",部員名簿!I66)","v":""},{"$f":"IF(部員名簿!A66=\"\",\"\",部員名簿!B66)","v":""}]
[{"$f":"IF(部員名簿!A67=\"\",\"\",YEAR(部員名簿!G67))","v":""},{"$f":"IF(部員名簿!A67=\"\",\"\",MONTH(部員名簿!G67))","v":""},{"$f":"IF(部員名簿!A67=\"\",\"\",DAY(部員名簿!G67))","v":""},{"$f":"IF(部員名簿!A67=\"\",\"\",学校番号*100+部員名簿!H67)","v":""},{"$f":"IF(部員名簿!A67=\"\",\"\",部員名簿!C67)","v":""},{"$f":"IF(部員名簿!A67=\"\",\"\",部員名簿!D67)","v":""},{"$f":"IF(部員名簿!A67=\"\",\"\",部員名簿!E67)","v":""},{"$f":"IF(部員名簿!A67=\"\",\"\",部員名簿!F67)","v":""},{"$f":"IF(部員名簿!A67=\"\",\"\",部員名簿!I67)","v":""},{"$f":"IF(部員名簿!A67=\"\",\"\",部員名簿!B67)","v":""}]
[{"$f":"IF(部員名簿!A68=\"\",\"\",YEAR(部員名簿!G68))","v":""},{"$f":"IF(部員名簿!A68=\"\",\"\",MONTH(部員名簿!G68))","v":""},{"$f":"IF(部員名簿!A68=\"\",\"\",DAY(部員名簿!G68))","v":""},{"$f":"IF(部員名簿!A68=\"\",\"\",学校番号*100+部員名簿!H68)","v":""},{"$f":"IF(部員名簿!A68=\"\",\"\",部員名簿!C68)","v":""},{"$f":"IF(部員名簿!A68=\"\",\"\",部員名簿!D68)","v":""},{"$f":"IF(部員名簿!A68=\"\",\"\",部員名簿!E68)","v":""},{"$f":"IF(部員名簿!A68=\"\",\"\",部員名簿!F68)","v":""},{"$f":"IF(部員名簿!A68=\"\",\"\",部員名簿!I68)","v":""},{"$f":"IF(部員名簿!A68=\"\",\"\",部員名簿!B68)","v":""}]
[{"$f":"IF(部員名簿!A69=\"\",\"\",YEAR(部員名簿!G69))","v":""},{"$f":"IF(部員名簿!A69=\"\",\"\",MONTH(部員名簿!G69))","v":""},{"$f":"IF(部員名簿!A69=\"\",\"\",DAY(部員名簿!G69))","v":""},{"$f":"IF(部員名簿!A69=\"\",\"\",学校番号*100+部員名簿!H69)","v":""},{"$f":"IF(部員名簿!A69=\"\",\"\",部員名簿!C69)","v":""},{"$f":"IF(部員名簿!A69=\"\",\"\",部員名簿!D69)","v":""},{"$f":"IF(部員名簿!A69=\"\",\"\",部員名簿!E69)","v":""},{"$f":"IF(部員名簿!A69=\"\",\"\",部員名簿!F69)","v":""},{"$f":"IF(部員名簿!A69=\"\",\"\",部員名簿!I69)","v":""},{"$f":"IF(部員名簿!A69=\"\",\"\",部員名簿!B69)","v":""}]
[{"$f":"IF(部員名簿!A70=\"\",\"\",YEAR(部員名簿!G70))","v":""},{"$f":"IF(部員名簿!A70=\"\",\"\",MONTH(部員名簿!G70))","v":""},{"$f":"IF(部員名簿!A70=\"\",\"\",DAY(部員名簿!G70))","v":""},{"$f":"IF(部員名簿!A70=\"\",\"\",学校番号*100+部員名簿!H70)","v":""},{"$f":"IF(部員名簿!A70=\"\",\"\",部員名簿!C70)","v":""},{"$f":"IF(部員名簿!A70=\"\",\"\",部員名簿!D70)","v":""},{"$f":"IF(部員名簿!A70=\"\",\"\",部員名簿!E70)","v":""},{"$f":"IF(部員名簿!A70=\"\",\"\",部員名簿!F70)","v":""},{"$f":"IF(部員名簿!A70=\"\",\"\",部員名簿!I70)","v":""},{"$f":"IF(部員名簿!A70=\"\",\"\",部員名簿!B70)","v":""}]
[{"$f":"IF(部員名簿!A71=\"\",\"\",YEAR(部員名簿!G71))","v":""},{"$f":"IF(部員名簿!A71=\"\",\"\",MONTH(部員名簿!G71))","v":""},{"$f":"IF(部員名簿!A71=\"\",\"\",DAY(部員名簿!G71))","v":""},{"$f":"IF(部員名簿!A71=\"\",\"\",学校番号*100+部員名簿!H71)","v":""},{"$f":"IF(部員名簿!A71=\"\",\"\",部員名簿!C71)","v":""},{"$f":"IF(部員名簿!A71=\"\",\"\",部員名簿!D71)","v":""},{"$f":"IF(部員名簿!A71=\"\",\"\",部員名簿!E71)","v":""},{"$f":"IF(部員名簿!A71=\"\",\"\",部員名簿!F71)","v":""},{"$f":"IF(部員名簿!A71=\"\",\"\",部員名簿!I71)","v":""},{"$f":"IF(部員名簿!A71=\"\",\"\",部員名簿!B71)","v":""}]
[{"$f":"IF(部員名簿!A72=\"\",\"\",YEAR(部員名簿!G72))","v":""},{"$f":"IF(部員名簿!A72=\"\",\"\",MONTH(部員名簿!G72))","v":""},{"$f":"IF(部員名簿!A72=\"\",\"\",DAY(部員名簿!G72))","v":""},{"$f":"IF(部員名簿!A72=\"\",\"\",学校番号*100+部員名簿!H72)","v":""},{"$f":"IF(部員名簿!A72=\"\",\"\",部員名簿!C72)","v":""},{"$f":"IF(部員名簿!A72=\"\",\"\",部員名簿!D72)","v":""},{"$f":"IF(部員名簿!A72=\"\",\"\",部員名簿!E72)","v":""},{"$f":"IF(部員名簿!A72=\"\",\"\",部員名簿!F72)","v":""},{"$f":"IF(部員名簿!A72=\"\",\"\",部員名簿!I72)","v":""},{"$f":"IF(部員名簿!A72=\"\",\"\",部員名簿!B72)","v":""}]
[{"$f":"IF(部員名簿!A73=\"\",\"\",YEAR(部員名簿!G73))","v":""},{"$f":"IF(部員名簿!A73=\"\",\"\",MONTH(部員名簿!G73))","v":""},{"$f":"IF(部員名簿!A73=\"\",\"\",DAY(部員名簿!G73))","v":""},{"$f":"IF(部員名簿!A73=\"\",\"\",学校番号*100+部員名簿!H73)","v":""},{"$f":"IF(部員名簿!A73=\"\",\"\",部員名簿!C73)","v":""},{"$f":"IF(部員名簿!A73=\"\",\"\",部員名簿!D73)","v":""},{"$f":"IF(部員名簿!A73=\"\",\"\",部員名簿!E73)","v":""},{"$f":"IF(部員名簿!A73=\"\",\"\",部員名簿!F73)","v":""},{"$f":"IF(部員名簿!A73=\"\",\"\",部員名簿!I73)","v":""},{"$f":"IF(部員名簿!A73=\"\",\"\",部員名簿!B73)","v":""}]
[{"$f":"IF(部員名簿!A74=\"\",\"\",YEAR(部員名簿!G74))","v":""},{"$f":"IF(部員名簿!A74=\"\",\"\",MONTH(部員名簿!G74))","v":""},{"$f":"IF(部員名簿!A74=\"\",\"\",DAY(部員名簿!G74))","v":""},{"$f":"IF(部員名簿!A74=\"\",\"\",学校番号*100+部員名簿!H74)","v":""},{"$f":"IF(部員名簿!A74=\"\",\"\",部員名簿!C74)","v":""},{"$f":"IF(部員名簿!A74=\"\",\"\",部員名簿!D74)","v":""},{"$f":"IF(部員名簿!A74=\"\",\"\",部員名簿!E74)","v":""},{"$f":"IF(部員名簿!A74=\"\",\"\",部員名簿!F74)","v":""},{"$f":"IF(部員名簿!A74=\"\",\"\",部員名簿!I74)","v":""},{"$f":"IF(部員名簿!A74=\"\",\"\",部員名簿!B74)","v":""}]
[{"$f":"IF(部員名簿!A75=\"\",\"\",YEAR(部員名簿!G75))","v":""},{"$f":"IF(部員名簿!A75=\"\",\"\",MONTH(部員名簿!G75))","v":""},{"$f":"IF(部員名簿!A75=\"\",\"\",DAY(部員名簿!G75))","v":""},{"$f":"IF(部員名簿!A75=\"\",\"\",学校番号*100+部員名簿!H75)","v":""},{"$f":"IF(部員名簿!A75=\"\",\"\",部員名簿!C75)","v":""},{"$f":"IF(部員名簿!A75=\"\",\"\",部員名簿!D75)","v":""},{"$f":"IF(部員名簿!A75=\"\",\"\",部員名簿!E75)","v":""},{"$f":"IF(部員名簿!A75=\"\",\"\",部員名簿!F75)","v":""},{"$f":"IF(部員名簿!A75=\"\",\"\",部員名簿!I75)","v":""},{"$f":"IF(部員名簿!A75=\"\",\"\",部員名簿!B75)","v":""}]
[{"$f":"IF(部員名簿!A76=\"\",\"\",YEAR(部員名簿!G76))","v":""},{"$f":"IF(部員名簿!A76=\"\",\"\",MONTH(部員名簿!G76))","v":""},{"$f":"IF(部員名簿!A76=\"\",\"\",DAY(部員名簿!G76))","v":""},{"$f":"IF(部員名簿!A76=\"\",\"\",学校番号*100+部員名簿!H76)","v":""},{"$f":"IF(部員名簿!A76=\"\",\"\",部員名簿!C76)","v":""},{"$f":"IF(部員名簿!A76=\"\",\"\",部員名簿!D76)","v":""},{"$f":"IF(部員名簿!A76=\"\",\"\",部員名簿!E76)","v":""},{"$f":"IF(部員名簿!A76=\"\",\"\",部員名簿!F76)","v":""},{"$f":"IF(部員名簿!A76=\"\",\"\",部員名簿!I76)","v":""},{"$f":"IF(部員名簿!A76=\"\",\"\",部員名簿!B76)","v":""}]
[{"$f":"IF(部員名簿!A77=\"\",\"\",YEAR(部員名簿!G77))","v":""},{"$f":"IF(部員名簿!A77=\"\",\"\",MONTH(部員名簿!G77))","v":""},{"$f":"IF(部員名簿!A77=\"\",\"\",DAY(部員名簿!G77))","v":""},{"$f":"IF(部員名簿!A77=\"\",\"\",学校番号*100+部員名簿!H77)","v":""},{"$f":"IF(部員名簿!A77=\"\",\"\",部員名簿!C77)","v":""},{"$f":"IF(部員名簿!A77=\"\",\"\",部員名簿!D77)","v":""},{"$f":"IF(部員名簿!A77=\"\",\"\",部員名簿!E77)","v":""},{"$f":"IF(部員名簿!A77=\"\",\"\",部員名簿!F77)","v":""},{"$f":"IF(部員名簿!A77=\"\",\"\",部員名簿!I77)","v":""},{"$f":"IF(部員名簿!A77=\"\",\"\",部員名簿!B77)","v":""}]
[{"$f":"IF(部員名簿!A78=\"\",\"\",YEAR(部員名簿!G78))","v":""},{"$f":"IF(部員名簿!A78=\"\",\"\",MONTH(部員名簿!G78))","v":""},{"$f":"IF(部員名簿!A78=\"\",\"\",DAY(部員名簿!G78))","v":""},{"$f":"IF(部員名簿!A78=\"\",\"\",学校番号*100+部員名簿!H78)","v":""},{"$f":"IF(部員名簿!A78=\"\",\"\",部員名簿!C78)","v":""},{"$f":"IF(部員名簿!A78=\"\",\"\",部員名簿!D78)","v":""},{"$f":"IF(部員名簿!A78=\"\",\"\",部員名簿!E78)","v":""},{"$f":"IF(部員名簿!A78=\"\",\"\",部員名簿!F78)","v":""},{"$f":"IF(部員名簿!A78=\"\",\"\",部員名簿!I78)","v":""},{"$f":"IF(部員名簿!A78=\"\",\"\",部員名簿!B78)","v":""}]
[{"$f":"IF(部員名簿!A79=\"\",\"\",YEAR(部員名簿!G79))","v":""},{"$f":"IF(部員名簿!A79=\"\",\"\",MONTH(部員名簿!G79))","v":""},{"$f":"IF(部員名簿!A79=\"\",\"\",DAY(部員名簿!G79))","v":""},{"$f":"IF(部員名簿!A79=\"\",\"\",学校番号*100+部員名簿!H79)","v":""},{"$f":"IF(部員名簿!A79=\"\",\"\",部員名簿!C79)","v":""},{"$f":"IF(部員名簿!A79=\"\",\"\",部員名簿!D79)","v":""},{"$f":"IF(部員名簿!A79=\"\",\"\",部員名簿!E79)","v":""},{"$f":"IF(部員名簿!A79=\"\",\"\",部員名簿!F79)","v":""},{"$f":"IF(部員名簿!A79=\"\",\"\",部員名簿!I79)","v":""},{"$f":"IF(部員名簿!A79=\"\",\"\",部員名簿!B79)","v":""}]
[{"$f":"IF(部員名簿!A80=\"\",\"\",YEAR(部員名簿!G80))","v":""},{"$f":"IF(部員名簿!A80=\"\",\"\",MONTH(部員名簿!G80))","v":""},{"$f":"IF(部員名簿!A80=\"\",\"\",DAY(部員名簿!G80))","v":""},{"$f":"IF(部員名簿!A80=\"\",\"\",学校番号*100+部員名簿!H80)","v":""},{"$f":"IF(部員名簿!A80=\"\",\"\",部員名簿!C80)","v":""},{"$f":"IF(部員名簿!A80=\"\",\"\",部員名簿!D80)","v":""},{"$f":"IF(部員名簿!A80=\"\",\"\",部員名簿!E80)","v":""},{"$f":"IF(部員名簿!A80=\"\",\"\",部員名簿!F80)","v":""},{"$f":"IF(部員名簿!A80=\"\",\"\",部員名簿!I80)","v":""},{"$f":"IF(部員名簿!A80=\"\",\"\",部員名簿!B80)","v":""}]
[{"$f":"IF(部員名簿!A81=\"\",\"\",YEAR(部員名簿!G81))","v":""},{"$f":"IF(部員名簿!A81=\"\",\"\",MONTH(部員名簿!G81))","v":""},{"$f":"IF(部員名簿!A81=\"\",\"\",DAY(部員名簿!G81))","v":""},{"$f":"IF(部員名簿!A81=\"\",\"\",学校番号*100+部員名簿!H81)","v":""},{"$f":"IF(部員名簿!A81=\"\",\"\",部員名簿!C81)","v":""},{"$f":"IF(部員名簿!A81=\"\",\"\",部員名簿!D81)","v":""},{"$f":"IF(部員名簿!A81=\"\",\"\",部員名簿!E81)","v":""},{"$f":"IF(部員名簿!A81=\"\",\"\",部員名簿!F81)","v":""},{"$f":"IF(部員名簿!A81=\"\",\"\",部員名簿!I81)","v":""},{"$f":"IF(部員名簿!A81=\"\",\"\",部員名簿!B81)","v":""}]
[{"$f":"IF(部員名簿!A82=\"\",\"\",YEAR(部員名簿!G82))","v":""},{"$f":"IF(部員名簿!A82=\"\",\"\",MONTH(部員名簿!G82))","v":""},{"$f":"IF(部員名簿!A82=\"\",\"\",DAY(部員名簿!G82))","v":""},{"$f":"IF(部員名簿!A82=\"\",\"\",学校番号*100+部員名簿!H82)","v":""},{"$f":"IF(部員名簿!A82=\"\",\"\",部員名簿!C82)","v":""},{"$f":"IF(部員名簿!A82=\"\",\"\",部員名簿!D82)","v":""},{"$f":"IF(部員名簿!A82=\"\",\"\",部員名簿!E82)","v":""},{"$f":"IF(部員名簿!A82=\"\",\"\",部員名簿!F82)","v":""},{"$f":"IF(部員名簿!A82=\"\",\"\",部員名簿!I82)","v":""},{"$f":"IF(部員名簿!A82=\"\",\"\",部員名簿!B82)","v":""}]
[{"$f":"IF(部員名簿!A83=\"\",\"\",YEAR(部員名簿!G83))","v":""},{"$f":"IF(部員名簿!A83=\"\",\"\",MONTH(部員名簿!G83))","v":""},{"$f":"IF(部員名簿!A83=\"\",\"\",DAY(部員名簿!G83))","v":""},{"$f":"IF(部員名簿!A83=\"\",\"\",学校番号*100+部員名簿!H83)","v":""},{"$f":"IF(部員名簿!A83=\"\",\"\",部員名簿!C83)","v":""},{"$f":"IF(部員名簿!A83=\"\",\"\",部員名簿!D83)","v":""},{"$f":"IF(部員名簿!A83=\"\",\"\",部員名簿!E83)","v":""},{"$f":"IF(部員名簿!A83=\"\",\"\",部員名簿!F83)","v":""},{"$f":"IF(部員名簿!A83=\"\",\"\",部員名簿!I83)","v":""},{"$f":"IF(部員名簿!A83=\"\",\"\",部員名簿!B83)","v":""}]
[{"$f":"IF(部員名簿!A84=\"\",\"\",YEAR(部員名簿!G84))","v":""},{"$f":"IF(部員名簿!A84=\"\",\"\",MONTH(部員名簿!G84))","v":""},{"$f":"IF(部員名簿!A84=\"\",\"\",DAY(部員名簿!G84))","v":""},{"$f":"IF(部員名簿!A84=\"\",\"\",学校番号*100+部員名簿!H84)","v":""},{"$f":"IF(部員名簿!A84=\"\",\"\",部員名簿!C84)","v":""},{"$f":"IF(部員名簿!A84=\"\",\"\",部員名簿!D84)","v":""},{"$f":"IF(部員名簿!A84=\"\",\"\",部員名簿!E84)","v":""},{"$f":"IF(部員名簿!A84=\"\",\"\",部員名簿!F84)","v":""},{"$f":"IF(部員名簿!A84=\"\",\"\",部員名簿!I84)","v":""},{"$f":"IF(部員名簿!A84=\"\",\"\",部員名簿!B84)","v":""}]
[{"$f":"IF(部員名簿!A85=\"\",\"\",YEAR(部員名簿!G85))","v":""},{"$f":"IF(部員名簿!A85=\"\",\"\",MONTH(部員名簿!G85))","v":""},{"$f":"IF(部員名簿!A85=\"\",\"\",DAY(部員名簿!G85))","v":""},{"$f":"IF(部員名簿!A85=\"\",\"\",学校番号*100+部員名簿!H85)","v":""},{"$f":"IF(部員名簿!A85=\"\",\"\",部員名簿!C85)","v":""},{"$f":"IF(部員名簿!A85=\"\",\"\",部員名簿!D85)","v":""},{"$f":"IF(部員名簿!A85=\"\",\"\",部員名簿!E85)","v":""},{"$f":"IF(部員名簿!A85=\"\",\"\",部員名簿!F85)","v":""},{"$f":"IF(部員名簿!A85=\"\",\"\",部員名簿!I85)","v":""},{"$f":"IF(部員名簿!A85=\"\",\"\",部員名簿!B85)","v":""}]
[{"$f":"IF(部員名簿!A86=\"\",\"\",YEAR(部員名簿!G86))","v":""},{"$f":"IF(部員名簿!A86=\"\",\"\",MONTH(部員名簿!G86))","v":""},{"$f":"IF(部員名簿!A86=\"\",\"\",DAY(部員名簿!G86))","v":""},{"$f":"IF(部員名簿!A86=\"\",\"\",学校番号*100+部員名簿!H86)","v":""},{"$f":"IF(部員名簿!A86=\"\",\"\",部員名簿!C86)","v":""},{"$f":"IF(部員名簿!A86=\"\",\"\",部員名簿!D86)","v":""},{"$f":"IF(部員名簿!A86=\"\",\"\",部員名簿!E86)","v":""},{"$f":"IF(部員名簿!A86=\"\",\"\",部員名簿!F86)","v":""},{"$f":"IF(部員名簿!A86=\"\",\"\",部員名簿!I86)","v":""},{"$f":"IF(部員名簿!A86=\"\",\"\",部員名簿!B86)","v":""}]
[{"$f":"IF(部員名簿!A87=\"\",\"\",YEAR(部員名簿!G87))","v":""},{"$f":"IF(部員名簿!A87=\"\",\"\",MONTH(部員名簿!G87))","v":""},{"$f":"IF(部員名簿!A87=\"\",\"\",DAY(部員名簿!G87))","v":""},{"$f":"IF(部員名簿!A87=\"\",\"\",学校番号*100+部員名簿!H87)","v":""},{"$f":"IF(部員名簿!A87=\"\",\"\",部員名簿!C87)","v":""},{"$f":"IF(部員名簿!A87=\"\",\"\",部員名簿!D87)","v":""},{"$f":"IF(部員名簿!A87=\"\",\"\",部員名簿!E87)","v":""},{"$f":"IF(部員名簿!A87=\"\",\"\",部員名簿!F87)","v":""},{"$f":"IF(部員名簿!A87=\"\",\"\",部員名簿!I87)","v":""},{"$f":"IF(部員名簿!A87=\"\",\"\",部員名簿!B87)","v":""}]
[{"$f":"IF(部員名簿!A88=\"\",\"\",YEAR(部員名簿!G88))","v":""},{"$f":"IF(部員名簿!A88=\"\",\"\",MONTH(部員名簿!G88))","v":""},{"$f":"IF(部員名簿!A88=\"\",\"\",DAY(部員名簿!G88))","v":""},{"$f":"IF(部員名簿!A88=\"\",\"\",学校番号*100+部員名簿!H88)","v":""},{"$f":"IF(部員名簿!A88=\"\",\"\",部員名簿!C88)","v":""},{"$f":"IF(部員名簿!A88=\"\",\"\",部員名簿!D88)","v":""},{"$f":"IF(部員名簿!A88=\"\",\"\",部員名簿!E88)","v":""},{"$f":"IF(部員名簿!A88=\"\",\"\",部員名簿!F88)","v":""},{"$f":"IF(部員名簿!A88=\"\",\"\",部員名簿!I88)","v":""},{"$f":"IF(部員名簿!A88=\"\",\"\",部員名簿!B88)","v":""}]
[{"$f":"IF(部員名簿!A89=\"\",\"\",YEAR(部員名簿!G89))","v":""},{"$f":"IF(部員名簿!A89=\"\",\"\",MONTH(部員名簿!G89))","v":""},{"$f":"IF(部員名簿!A89=\"\",\"\",DAY(部員名簿!G89))","v":""},{"$f":"IF(部員名簿!A89=\"\",\"\",学校番号*100+部員名簿!H89)","v":""},{"$f":"IF(部員名簿!A89=\"\",\"\",部員名簿!C89)","v":""},{"$f":"IF(部員名簿!A89=\"\",\"\",部員名簿!D89)","v":""},{"$f":"IF(部員名簿!A89=\"\",\"\",部員名簿!E89)","v":""},{"$f":"IF(部員名簿!A89=\"\",\"\",部員名簿!F89)","v":""},{"$f":"IF(部員名簿!A89=\"\",\"\",部員名簿!I89)","v":""},{"$f":"IF(部員名簿!A89=\"\",\"\",部員名簿!B89)","v":""}]
[{"$f":"IF(部員名簿!A90=\"\",\"\",YEAR(部員名簿!G90))","v":""},{"$f":"IF(部員名簿!A90=\"\",\"\",MONTH(部員名簿!G90))","v":""},{"$f":"IF(部員名簿!A90=\"\",\"\",DAY(部員名簿!G90))","v":""},{"$f":"IF(部員名簿!A90=\"\",\"\",学校番号*100+部員名簿!H90)","v":""},{"$f":"IF(部員名簿!A90=\"\",\"\",部員名簿!C90)","v":""},{"$f":"IF(部員名簿!A90=\"\",\"\",部員名簿!D90)","v":""},{"$f":"IF(部員名簿!A90=\"\",\"\",部員名簿!E90)","v":""},{"$f":"IF(部員名簿!A90=\"\",\"\",部員名簿!F90)","v":""},{"$f":"IF(部員名簿!A90=\"\",\"\",部員名簿!I90)","v":""},{"$f":"IF(部員名簿!A90=\"\",\"\",部員名簿!B90)","v":""}]
[{"$f":"IF(部員名簿!A91=\"\",\"\",YEAR(部員名簿!G91))","v":""},{"$f":"IF(部員名簿!A91=\"\",\"\",MONTH(部員名簿!G91))","v":""},{"$f":"IF(部員名簿!A91=\"\",\"\",DAY(部員名簿!G91))","v":""},{"$f":"IF(部員名簿!A91=\"\",\"\",学校番号*100+部員名簿!H91)","v":""},{"$f":"IF(部員名簿!A91=\"\",\"\",部員名簿!C91)","v":""},{"$f":"IF(部員名簿!A91=\"\",\"\",部員名簿!D91)","v":""},{"$f":"IF(部員名簿!A91=\"\",\"\",部員名簿!E91)","v":""},{"$f":"IF(部員名簿!A91=\"\",\"\",部員名簿!F91)","v":""},{"$f":"IF(部員名簿!A91=\"\",\"\",部員名簿!I91)","v":""},{"$f":"IF(部員名簿!A91=\"\",\"\",部員名簿!B91)","v":""}]
[{"$f":"IF(部員名簿!A92=\"\",\"\",YEAR(部員名簿!G92))","v":""},{"$f":"IF(部員名簿!A92=\"\",\"\",MONTH(部員名簿!G92))","v":""},{"$f":"IF(部員名簿!A92=\"\",\"\",DAY(部員名簿!G92))","v":""},{"$f":"IF(部員名簿!A92=\"\",\"\",学校番号*100+部員名簿!H92)","v":""},{"$f":"IF(部員名簿!A92=\"\",\"\",部員名簿!C92)","v":""},{"$f":"IF(部員名簿!A92=\"\",\"\",部員名簿!D92)","v":""},{"$f":"IF(部員名簿!A92=\"\",\"\",部員名簿!E92)","v":""},{"$f":"IF(部員名簿!A92=\"\",\"\",部員名簿!F92)","v":""},{"$f":"IF(部員名簿!A92=\"\",\"\",部員名簿!I92)","v":""},{"$f":"IF(部員名簿!A92=\"\",\"\",部員名簿!B92)","v":""}]
[{"$f":"IF(部員名簿!A93=\"\",\"\",YEAR(部員名簿!G93))","v":""},{"$f":"IF(部員名簿!A93=\"\",\"\",MONTH(部員名簿!G93))","v":""},{"$f":"IF(部員名簿!A93=\"\",\"\",DAY(部員名簿!G93))","v":""},{"$f":"IF(部員名簿!A93=\"\",\"\",学校番号*100+部員名簿!H93)","v":""},{"$f":"IF(部員名簿!A93=\"\",\"\",部員名簿!C93)","v":""},{"$f":"IF(部員名簿!A93=\"\",\"\",部員名簿!D93)","v":""},{"$f":"IF(部員名簿!A93=\"\",\"\",部員名簿!E93)","v":""},{"$f":"IF(部員名簿!A93=\"\",\"\",部員名簿!F93)","v":""},{"$f":"IF(部員名簿!A93=\"\",\"\",部員名簿!I93)","v":""},{"$f":"IF(部員名簿!A93=\"\",\"\",部員名簿!B93)","v":""}]
[{"$f":"IF(部員名簿!A94=\"\",\"\",YEAR(部員名簿!G94))","v":""},{"$f":"IF(部員名簿!A94=\"\",\"\",MONTH(部員名簿!G94))","v":""},{"$f":"IF(部員名簿!A94=\"\",\"\",DAY(部員名簿!G94))","v":""},{"$f":"IF(部員名簿!A94=\"\",\"\",学校番号*100+部員名簿!H94)","v":""},{"$f":"IF(部員名簿!A94=\"\",\"\",部員名簿!C94)","v":""},{"$f":"IF(部員名簿!A94=\"\",\"\",部員名簿!D94)","v":""},{"$f":"IF(部員名簿!A94=\"\",\"\",部員名簿!E94)","v":""},{"$f":"IF(部員名簿!A94=\"\",\"\",部員名簿!F94)","v":""},{"$f":"IF(部員名簿!A94=\"\",\"\",部員名簿!I94)","v":""},{"$f":"IF(部員名簿!A94=\"\",\"\",部員名簿!B94)","v":""}]
[{"$f":"IF(部員名簿!A95=\"\",\"\",YEAR(部員名簿!G95))","v":""},{"$f":"IF(部員名簿!A95=\"\",\"\",MONTH(部員名簿!G95))","v":""},{"$f":"IF(部員名簿!A95=\"\",\"\",DAY(部員名簿!G95))","v":""},{"$f":"IF(部員名簿!A95=\"\",\"\",学校番号*100+部員名簿!H95)","v":""},{"$f":"IF(部員名簿!A95=\"\",\"\",部員名簿!C95)","v":""},{"$f":"IF(部員名簿!A95=\"\",\"\",部員名簿!D95)","v":""},{"$f":"IF(部員名簿!A95=\"\",\"\",部員名簿!E95)","v":""},{"$f":"IF(部員名簿!A95=\"\",\"\",部員名簿!F95)","v":""},{"$f":"IF(部員名簿!A95=\"\",\"\",部員名簿!I95)","v":""},{"$f":"IF(部員名簿!A95=\"\",\"\",部員名簿!B95)","v":""}]
[{"$f":"IF(部員名簿!A96=\"\",\"\",YEAR(部員名簿!G96))","v":""},{"$f":"IF(部員名簿!A96=\"\",\"\",MONTH(部員名簿!G96))","v":""},{"$f":"IF(部員名簿!A96=\"\",\"\",DAY(部員名簿!G96))","v":""},{"$f":"IF(部員名簿!A96=\"\",\"\",学校番号*100+部員名簿!H96)","v":""},{"$f":"IF(部員名簿!A96=\"\",\"\",部員名簿!C96)","v":""},{"$f":"IF(部員名簿!A96=\"\",\"\",部員名簿!D96)","v":""},{"$f":"IF(部員名簿!A96=\"\",\"\",部員名簿!E96)","v":""},{"$f":"IF(部員名簿!A96=\"\",\"\",部員名簿!F96)","v":""},{"$f":"IF(部員名簿!A96=\"\",\"\",部員名簿!I96)","v":""},{"$f":"IF(部員名簿!A96=\"\",\"\",部員名簿!B96)","v":""}]
[{"$f":"IF(部員名簿!A97=\"\",\"\",YEAR(部員名簿!G97))","v":""},{"$f":"IF(部員名簿!A97=\"\",\"\",MONTH(部員名簿!G97))","v":""},{"$f":"IF(部員名簿!A97=\"\",\"\",DAY(部員名簿!G97))","v":""},{"$f":"IF(部員名簿!A97=\"\",\"\",学校番号*100+部員名簿!H97)","v":""},{"$f":"IF(部員名簿!A97=\"\",\"\",部員名簿!C97)","v":""},{"$f":"IF(部員名簿!A97=\"\",\"\",部員名簿!D97)","v":""},{"$f":"IF(部員名簿!A97=\"\",\"\",部員名簿!E97)","v":""},{"$f":"IF(部員名簿!A97=\"\",\"\",部員名簿!F97)","v":""},{"$f":"IF(部員名簿!A97=\"\",\"\",部員名簿!I97)","v":""},{"$f":"IF(部員名簿!A97=\"\",\"\",部員名簿!B97)","v":""}]
[{"$f":"IF(部員名簿!A98=\"\",\"\",YEAR(部員名簿!G98))","v":""},{"$f":"IF(部員名簿!A98=\"\",\"\",MONTH(部員名簿!G98))","v":""},{"$f":"IF(部員名簿!A98=\"\",\"\",DAY(部員名簿!G98))","v":""},{"$f":"IF(部員名簿!A98=\"\",\"\",学校番号*100+部員名簿!H98)","v":""},{"$f":"IF(部員名簿!A98=\"\",\"\",部員名簿!C98)","v":""},{"$f":"IF(部員名簿!A98=\"\",\"\",部員名簿!D98)","v":""},{"$f":"IF(部員名簿!A98=\"\",\"\",部員名簿!E98)","v":""},{"$f":"IF(部員名簿!A98=\"\",\"\",部員名簿!F98)","v":""},{"$f":"IF(部員名簿!A98=\"\",\"\",部員名簿!I98)","v":""},{"$f":"IF(部員名簿!A98=\"\",\"\",部員名簿!B98)","v":""}]
[{"$f":"IF(部員名簿!A99=\"\",\"\",YEAR(部員名簿!G99))","v":""},{"$f":"IF(部員名簿!A99=\"\",\"\",MONTH(部員名簿!G99))","v":""},{"$f":"IF(部員名簿!A99=\"\",\"\",DAY(部員名簿!G99))","v":""},{"$f":"IF(部員名簿!A99=\"\",\"\",学校番号*100+部員名簿!H99)","v":""},{"$f":"IF(部員名簿!A99=\"\",\"\",部員名簿!C99)","v":""},{"$f":"IF(部員名簿!A99=\"\",\"\",部員名簿!D99)","v":""},{"$f":"IF(部員名簿!A99=\"\",\"\",部員名簿!E99)","v":""},{"$f":"IF(部員名簿!A99=\"\",\"\",部員名簿!F99)","v":""},{"$f":"IF(部員名簿!A99=\"\",\"\",部員名簿!I99)","v":""},{"$f":"IF(部員名簿!A99=\"\",\"\",部員名簿!B99)","v":""}]
[{"$f":"IF(部員名簿!A100=\"\",\"\",YEAR(部員名簿!G100))","v":""},{"$f":"IF(部員名簿!A100=\"\",\"\",MONTH(部員名簿!G100))","v":""},{"$f":"IF(部員名簿!A100=\"\",\"\",DAY(部員名簿!G100))","v":""},{"$f":"IF(部員名簿!A100=\"\",\"\",学校番号*100+部員名簿!H100)","v":""},{"$f":"IF(部員名簿!A100=\"\",\"\",部員名簿!C100)","v":""},{"$f":"IF(部員名簿!A100=\"\",\"\",部員名簿!D100)","v":""},{"$f":"IF(部員名簿!A100=\"\",\"\",部員名簿!E100)","v":""},{"$f":"IF(部員名簿!A100=\"\",\"\",部員名簿!F100)","v":""},{"$f":"IF(部員名簿!A100=\"\",\"\",部員名簿!I100)","v":""},{"$f":"IF(部員名簿!A100=\"\",\"\",部員名簿!B100)","v":""}]
[{"$f":"IF(部員名簿!A101=\"\",\"\",YEAR(部員名簿!G101))","v":""},{"$f":"IF(部員名簿!A101=\"\",\"\",MONTH(部員名簿!G101))","v":""},{"$f":"IF(部員名簿!A101=\"\",\"\",DAY(部員名簿!G101))","v":""},{"$f":"IF(部員名簿!A101=\"\",\"\",学校番号*100+部員名簿!H101)","v":""},{"$f":"IF(部員名簿!A101=\"\",\"\",部員名簿!C101)","v":""},{"$f":"IF(部員名簿!A101=\"\",\"\",部員名簿!D101)","v":""},{"$f":"IF(部員名簿!A101=\"\",\"\",部員名簿!E101)","v":""},{"$f":"IF(部員名簿!A101=\"\",\"\",部員名簿!F101)","v":""},{"$f":"IF(部員名簿!A101=\"\",\"\",部員名簿!I101)","v":""},{"$f":"IF(部員名簿!A101=\"\",\"\",部員名簿!B101)","v":""}]
[{"$f":"IF(部員名簿!A102=\"\",\"\",YEAR(部員名簿!G102))","v":""},{"$f":"IF(部員名簿!A102=\"\",\"\",MONTH(部員名簿!G102))","v":""},{"$f":"IF(部員名簿!A102=\"\",\"\",DAY(部員名簿!G102))","v":""},{"$f":"IF(部員名簿!A102=\"\",\"\",学校番号*100+部員名簿!H102)","v":""},{"$f":"IF(部員名簿!A102=\"\",\"\",部員名簿!C102)","v":""},{"$f":"IF(部員名簿!A102=\"\",\"\",部員名簿!D102)","v":""},{"$f":"IF(部員名簿!A102=\"\",\"\",部員名簿!E102)","v":""},{"$f":"IF(部員名簿!A102=\"\",\"\",部員名簿!F102)","v":""},{"$f":"IF(部員名簿!A102=\"\",\"\",部員名簿!I102)","v":""},{"$f":"IF(部員名簿!A102=\"\",\"\",部員名簿!B102)","v":""}]
[{"$f":"IF(部員名簿!A103=\"\",\"\",YEAR(部員名簿!G103))","v":""},{"$f":"IF(部員名簿!A103=\"\",\"\",MONTH(部員名簿!G103))","v":""},{"$f":"IF(部員名簿!A103=\"\",\"\",DAY(部員名簿!G103))","v":""},{"$f":"IF(部員名簿!A103=\"\",\"\",学校番号*100+部員名簿!H103)","v":""},{"$f":"IF(部員名簿!A103=\"\",\"\",部員名簿!C103)","v":""},{"$f":"IF(部員名簿!A103=\"\",\"\",部員名簿!D103)","v":""},{"$f":"IF(部員名簿!A103=\"\",\"\",部員名簿!E103)","v":""},{"$f":"IF(部員名簿!A103=\"\",\"\",部員名簿!F103)","v":""},{"$f":"IF(部員名簿!A103=\"\",\"\",部員名簿!I103)","v":""},{"$f":"IF(部員名簿!A103=\"\",\"\",部員名簿!B103)","v":""}]
[{"$f":"IF(部員名簿!A104=\"\",\"\",YEAR(部員名簿!G104))","v":""},{"$f":"IF(部員名簿!A104=\"\",\"\",MONTH(部員名簿!G104))","v":""},{"$f":"IF(部員名簿!A104=\"\",\"\",DAY(部員名簿!G104))","v":""},{"$f":"IF(部員名簿!A104=\"\",\"\",学校番号*100+部員名簿!H104)","v":""},{"$f":"IF(部員名簿!A104=\"\",\"\",部員名簿!C104)","v":""},{"$f":"IF(部員名簿!A104=\"\",\"\",部員名簿!D104)","v":""},{"$f":"IF(部員名簿!A104=\"\",\"\",部員名簿!E104)","v":""},{"$f":"IF(部員名簿!A104=\"\",\"\",部員名簿!F104)","v":""},{"$f":"IF(部員名簿!A104=\"\",\"\",部員名簿!I104)","v":""},{"$f":"IF(部員名簿!A104=\"\",\"\",部員名簿!B104)","v":""}]
[{"$f":"IF(部員名簿!A105=\"\",\"\",YEAR(部員名簿!G105))","v":""},{"$f":"IF(部員名簿!A105=\"\",\"\",MONTH(部員名簿!G105))","v":""},{"$f":"IF(部員名簿!A105=\"\",\"\",DAY(部員名簿!G105))","v":""},{"$f":"IF(部員名簿!A105=\"\",\"\",学校番号*100+部員名簿!H105)","v":""},{"$f":"IF(部員名簿!A105=\"\",\"\",部員名簿!C105)","v":""},{"$f":"IF(部員名簿!A105=\"\",\"\",部員名簿!D105)","v":""},{"$f":"IF(部員名簿!A105=\"\",\"\",部員名簿!E105)","v":""},{"$f":"IF(部員名簿!A105=\"\",\"\",部員名簿!F105)","v":""},{"$f":"IF(部員名簿!A105=\"\",\"\",部員名簿!I105)","v":""},{"$f":"IF(部員名簿!A105=\"\",\"\",部員名簿!B105)","v":""}]
[{"$f":"IF(部員名簿!A106=\"\",\"\",YEAR(部員名簿!G106))","v":""},{"$f":"IF(部員名簿!A106=\"\",\"\",MONTH(部員名簿!G106))","v":""},{"$f":"IF(部員名簿!A106=\"\",\"\",DAY(部員名簿!G106))","v":""},{"$f":"IF(部員名簿!A106=\"\",\"\",学校番号*100+部員名簿!H106)","v":""},{"$f":"IF(部員名簿!A106=\"\",\"\",部員名簿!C106)","v":""},{"$f":"IF(部員名簿!A106=\"\",\"\",部員名簿!D106)","v":""},{"$f":"IF(部員名簿!A106=\"\",\"\",部員名簿!E106)","v":""},{"$f":"IF(部員名簿!A106=\"\",\"\",部員名簿!F106)","v":""},{"$f":"IF(部員名簿!A106=\"\",\"\",部員名簿!I106)","v":""},{"$f":"IF(部員名簿!A106=\"\",\"\",部員名簿!B106)","v":""}]
[{"$f":"IF(部員名簿!A107=\"\",\"\",YEAR(部員名簿!G107))","v":""},{"$f":"IF(部員名簿!A107=\"\",\"\",MONTH(部員名簿!G107))","v":""},{"$f":"IF(部員名簿!A107=\"\",\"\",DAY(部員名簿!G107))","v":""},{"$f":"IF(部員名簿!A107=\"\",\"\",学校番号*100+部員名簿!H107)","v":""},{"$f":"IF(部員名簿!A107=\"\",\"\",部員名簿!C107)","v":""},{"$f":"IF(部員名簿!A107=\"\",\"\",部員名簿!D107)","v":""},{"$f":"IF(部員名簿!A107=\"\",\"\",部員名簿!E107)","v":""},{"$f":"IF(部員名簿!A107=\"\",\"\",部員名簿!F107)","v":""},{"$f":"IF(部員名簿!A107=\"\",\"\",部員名簿!I107)","v":""},{"$f":"IF(部員名簿!A107=\"\",\"\",部員名簿!B107)","v":""}]
[{"$f":"IF(部員名簿!A108=\"\",\"\",YEAR(部員名簿!G108))","v":""},{"$f":"IF(部員名簿!A108=\"\",\"\",MONTH(部員名簿!G108))","v":""},{"$f":"IF(部員名簿!A108=\"\",\"\",DAY(部員名簿!G108))","v":""},{"$f":"IF(部員名簿!A108=\"\",\"\",学校番号*100+部員名簿!H108)","v":""},{"$f":"IF(部員名簿!A108=\"\",\"\",部員名簿!C108)","v":""},{"$f":"IF(部員名簿!A108=\"\",\"\",部員名簿!D108)","v":""},{"$f":"IF(部員名簿!A108=\"\",\"\",部員名簿!E108)","v":""},{"$f":"IF(部員名簿!A108=\"\",\"\",部員名簿!F108)","v":""},{"$f":"IF(部員名簿!A108=\"\",\"\",部員名簿!I108)","v":""},{"$f":"IF(部員名簿!A108=\"\",\"\",部員名簿!B108)","v":""}]
[{"$f":"IF(部員名簿!A109=\"\",\"\",YEAR(部員名簿!G109))","v":""},{"$f":"IF(部員名簿!A109=\"\",\"\",MONTH(部員名簿!G109))","v":""},{"$f":"IF(部員名簿!A109=\"\",\"\",DAY(部員名簿!G109))","v":""},{"$f":"IF(部員名簿!A109=\"\",\"\",学校番号*100+部員名簿!H109)","v":""},{"$f":"IF(部員名簿!A109=\"\",\"\",部員名簿!C109)","v":""},{"$f":"IF(部員名簿!A109=\"\",\"\",部員名簿!D109)","v":""},{"$f":"IF(部員名簿!A109=\"\",\"\",部員名簿!E109)","v":""},{"$f":"IF(部員名簿!A109=\"\",\"\",部員名簿!F109)","v":""},{"$f":"IF(部員名簿!A109=\"\",\"\",部員名簿!I109)","v":""},{"$f":"IF(部員名簿!A109=\"\",\"\",部員名簿!B109)","v":""}]
[{"$f":"IF(部員名簿!A110=\"\",\"\",YEAR(部員名簿!G110))","v":""},{"$f":"IF(部員名簿!A110=\"\",\"\",MONTH(部員名簿!G110))","v":""},{"$f":"IF(部員名簿!A110=\"\",\"\",DAY(部員名簿!G110))","v":""},{"$f":"IF(部員名簿!A110=\"\",\"\",学校番号*100+部員名簿!H110)","v":""},{"$f":"IF(部員名簿!A110=\"\",\"\",部員名簿!C110)","v":""},{"$f":"IF(部員名簿!A110=\"\",\"\",部員名簿!D110)","v":""},{"$f":"IF(部員名簿!A110=\"\",\"\",部員名簿!E110)","v":""},{"$f":"IF(部員名簿!A110=\"\",\"\",部員名簿!F110)","v":""},{"$f":"IF(部員名簿!A110=\"\",\"\",部員名簿!I110)","v":""},{"$f":"IF(部員名簿!A110=\"\",\"\",部員名簿!B110)","v":""}]
[{"$f":"IF(部員名簿!A111=\"\",\"\",YEAR(部員名簿!G111))","v":""},{"$f":"IF(部員名簿!A111=\"\",\"\",MONTH(部員名簿!G111))","v":""},{"$f":"IF(部員名簿!A111=\"\",\"\",DAY(部員名簿!G111))","v":""},{"$f":"IF(部員名簿!A111=\"\",\"\",学校番号*100+部員名簿!H111)","v":""},{"$f":"IF(部員名簿!A111=\"\",\"\",部員名簿!C111)","v":""},{"$f":"IF(部員名簿!A111=\"\",\"\",部員名簿!D111)","v":""},{"$f":"IF(部員名簿!A111=\"\",\"\",部員名簿!E111)","v":""},{"$f":"IF(部員名簿!A111=\"\",\"\",部員名簿!F111)","v":""},{"$f":"IF(部員名簿!A111=\"\",\"\",部員名簿!I111)","v":""},{"$f":"IF(部員名簿!A111=\"\",\"\",部員名簿!B111)","v":""}]
[{"$f":"IF(部員名簿!A112=\"\",\"\",YEAR(部員名簿!G112))","v":""},{"$f":"IF(部員名簿!A112=\"\",\"\",MONTH(部員名簿!G112))","v":""},{"$f":"IF(部員名簿!A112=\"\",\"\",DAY(部員名簿!G112))","v":""},{"$f":"IF(部員名簿!A112=\"\",\"\",学校番号*100+部員名簿!H112)","v":""},{"$f":"IF(部員名簿!A112=\"\",\"\",部員名簿!C112)","v":""},{"$f":"IF(部員名簿!A112=\"\",\"\",部員名簿!D112)","v":""},{"$f":"IF(部員名簿!A112=\"\",\"\",部員名簿!E112)","v":""},{"$f":"IF(部員名簿!A112=\"\",\"\",部員名簿!F112)","v":""},{"$f":"IF(部員名簿!A112=\"\",\"\",部員名簿!I112)","v":""},{"$f":"IF(部員名簿!A112=\"\",\"\",部員名簿!B112)","v":""}]
[{"$f":"IF(部員名簿!A113=\"\",\"\",YEAR(部員名簿!G113))","v":""},{"$f":"IF(部員名簿!A113=\"\",\"\",MONTH(部員名簿!G113))","v":""},{"$f":"IF(部員名簿!A113=\"\",\"\",DAY(部員名簿!G113))","v":""},{"$f":"IF(部員名簿!A113=\"\",\"\",学校番号*100+部員名簿!H113)","v":""},{"$f":"IF(部員名簿!A113=\"\",\"\",部員名簿!C113)","v":""},{"$f":"IF(部員名簿!A113=\"\",\"\",部員名簿!D113)","v":""},{"$f":"IF(部員名簿!A113=\"\",\"\",部員名簿!E113)","v":""},{"$f":"IF(部員名簿!A113=\"\",\"\",部員名簿!F113)","v":""},{"$f":"IF(部員名簿!A113=\"\",\"\",部員名簿!I113)","v":""},{"$f":"IF(部員名簿!A113=\"\",\"\",部員名簿!B113)","v":""}]
[{"$f":"IF(部員名簿!A114=\"\",\"\",YEAR(部員名簿!G114))","v":""},{"$f":"IF(部員名簿!A114=\"\",\"\",MONTH(部員名簿!G114))","v":""},{"$f":"IF(部員名簿!A114=\"\",\"\",DAY(部員名簿!G114))","v":""},{"$f":"IF(部員名簿!A114=\"\",\"\",学校番号*100+部員名簿!H114)","v":""},{"$f":"IF(部員名簿!A114=\"\",\"\",部員名簿!C114)","v":""},{"$f":"IF(部員名簿!A114=\"\",\"\",部員名簿!D114)","v":""},{"$f":"IF(部員名簿!A114=\"\",\"\",部員名簿!E114)","v":""},{"$f":"IF(部員名簿!A114=\"\",\"\",部員名簿!F114)","v":""},{"$f":"IF(部員名簿!A114=\"\",\"\",部員名簿!I114)","v":""},{"$f":"IF(部員名簿!A114=\"\",\"\",部員名簿!B114)","v":""}]
[{"$f":"IF(部員名簿!A115=\"\",\"\",YEAR(部員名簿!G115))","v":""},{"$f":"IF(部員名簿!A115=\"\",\"\",MONTH(部員名簿!G115))","v":""},{"$f":"IF(部員名簿!A115=\"\",\"\",DAY(部員名簿!G115))","v":""},{"$f":"IF(部員名簿!A115=\"\",\"\",学校番号*100+部員名簿!H115)","v":""},{"$f":"IF(部員名簿!A115=\"\",\"\",部員名簿!C115)","v":""},{"$f":"IF(部員名簿!A115=\"\",\"\",部員名簿!D115)","v":""},{"$f":"IF(部員名簿!A115=\"\",\"\",部員名簿!E115)","v":""},{"$f":"IF(部員名簿!A115=\"\",\"\",部員名簿!F115)","v":""},{"$f":"IF(部員名簿!A115=\"\",\"\",部員名簿!I115)","v":""},{"$f":"IF(部員名簿!A115=\"\",\"\",部員名簿!B115)","v":""}]
[{"$f":"IF(部員名簿!A116=\"\",\"\",YEAR(部員名簿!G116))","v":""},{"$f":"IF(部員名簿!A116=\"\",\"\",MONTH(部員名簿!G116))","v":""},{"$f":"IF(部員名簿!A116=\"\",\"\",DAY(部員名簿!G116))","v":""},{"$f":"IF(部員名簿!A116=\"\",\"\",学校番号*100+部員名簿!H116)","v":""},{"$f":"IF(部員名簿!A116=\"\",\"\",部員名簿!C116)","v":""},{"$f":"IF(部員名簿!A116=\"\",\"\",部員名簿!D116)","v":""},{"$f":"IF(部員名簿!A116=\"\",\"\",部員名簿!E116)","v":""},{"$f":"IF(部員名簿!A116=\"\",\"\",部員名簿!F116)","v":""},{"$f":"IF(部員名簿!A116=\"\",\"\",部員名簿!I116)","v":""},{"$f":"IF(部員名簿!A116=\"\",\"\",部員名簿!B116)","v":""}]
[{"$f":"IF(部員名簿!A117=\"\",\"\",YEAR(部員名簿!G117))","v":""},{"$f":"IF(部員名簿!A117=\"\",\"\",MONTH(部員名簿!G117))","v":""},{"$f":"IF(部員名簿!A117=\"\",\"\",DAY(部員名簿!G117))","v":""},{"$f":"IF(部員名簿!A117=\"\",\"\",学校番号*100+部員名簿!H117)","v":""},{"$f":"IF(部員名簿!A117=\"\",\"\",部員名簿!C117)","v":""},{"$f":"IF(部員名簿!A117=\"\",\"\",部員名簿!D117)","v":""},{"$f":"IF(部員名簿!A117=\"\",\"\",部員名簿!E117)","v":""},{"$f":"IF(部員名簿!A117=\"\",\"\",部員名簿!F117)","v":""},{"$f":"IF(部員名簿!A117=\"\",\"\",部員名簿!I117)","v":""},{"$f":"IF(部員名簿!A117=\"\",\"\",部員名簿!B117)","v":""}]
[{"$f":"IF(部員名簿!A118=\"\",\"\",YEAR(部員名簿!G118))","v":""},{"$f":"IF(部員名簿!A118=\"\",\"\",MONTH(部員名簿!G118))","v":""},{"$f":"IF(部員名簿!A118=\"\",\"\",DAY(部員名簿!G118))","v":""},{"$f":"IF(部員名簿!A118=\"\",\"\",学校番号*100+部員名簿!H118)","v":""},{"$f":"IF(部員名簿!A118=\"\",\"\",部員名簿!C118)","v":""},{"$f":"IF(部員名簿!A118=\"\",\"\",部員名簿!D118)","v":""},{"$f":"IF(部員名簿!A118=\"\",\"\",部員名簿!E118)","v":""},{"$f":"IF(部員名簿!A118=\"\",\"\",部員名簿!F118)","v":""},{"$f":"IF(部員名簿!A118=\"\",\"\",部員名簿!I118)","v":""},{"$f":"IF(部員名簿!A118=\"\",\"\",部員名簿!B118)","v":""}]
[{"$f":"IF(部員名簿!A119=\"\",\"\",YEAR(部員名簿!G119))","v":""},{"$f":"IF(部員名簿!A119=\"\",\"\",MONTH(部員名簿!G119))","v":""},{"$f":"IF(部員名簿!A119=\"\",\"\",DAY(部員名簿!G119))","v":""},{"$f":"IF(部員名簿!A119=\"\",\"\",学校番号*100+部員名簿!H119)","v":""},{"$f":"IF(部員名簿!A119=\"\",\"\",部員名簿!C119)","v":""},{"$f":"IF(部員名簿!A119=\"\",\"\",部員名簿!D119)","v":""},{"$f":"IF(部員名簿!A119=\"\",\"\",部員名簿!E119)","v":""},{"$f":"IF(部員名簿!A119=\"\",\"\",部員名簿!F119)","v":""},{"$f":"IF(部員名簿!A119=\"\",\"\",部員名簿!I119)","v":""},{"$f":"IF(部員名簿!A119=\"\",\"\",部員名簿!B119)","v":""}]
[{"$f":"IF(部員名簿!A120=\"\",\"\",YEAR(部員名簿!G120))","v":""},{"$f":"IF(部員名簿!A120=\"\",\"\",MONTH(部員名簿!G120))","v":""},{"$f":"IF(部員名簿!A120=\"\",\"\",DAY(部員名簿!G120))","v":""},{"$f":"IF(部員名簿!A120=\"\",\"\",学校番号*100+部員名簿!H120)","v":""},{"$f":"IF(部員名簿!A120=\"\",\"\",部員名簿!C120)","v":""},{"$f":"IF(部員名簿!A120=\"\",\"\",部員名簿!D120)","v":""},{"$f":"IF(部員名簿!A120=\"\",\"\",部員名簿!E120)","v":""},{"$f":"IF(部員名簿!A120=\"\",\"\",部員名簿!F120)","v":""},{"$f":"IF(部員名簿!A120=\"\",\"\",部員名簿!I120)","v":""},{"$f":"IF(部員名簿!A120=\"\",\"\",部員名簿!B120)","v":""}]
[{"$f":"IF(部員名簿!A121=\"\",\"\",YEAR(部員名簿!G121))","v":""},{"$f":"IF(部員名簿!A121=\"\",\"\",MONTH(部員名簿!G121))","v":""},{"$f":"IF(部員名簿!A121=\"\",\"\",DAY(部員名簿!G121))","v":""},{"$f":"IF(部員名簿!A121=\"\",\"\",学校番号*100+部員名簿!H121)","v":""},{"$f":"IF(部員名簿!A121=\"\",\"\",部員名簿!C121)","v":""},{"$f":"IF(部員名簿!A121=\"\",\"\",部員名簿!D121)","v":""},{"$f":"IF(部員名簿!A121=\"\",\"\",部員名簿!E121)","v":""},{"$f":"IF(部員名簿!A121=\"\",\"\",部員名簿!F121)","v":""},{"$f":"IF(部員名簿!A121=\"\",\"\",部員名簿!I121)","v":""},{"$f":"IF(部員名簿!A121=\"\",\"\",部員名簿!B121)","v":""}]
[{"$f":"IF(部員名簿!A122=\"\",\"\",YEAR(部員名簿!G122))","v":""},{"$f":"IF(部員名簿!A122=\"\",\"\",MONTH(部員名簿!G122))","v":""},{"$f":"IF(部員名簿!A122=\"\",\"\",DAY(部員名簿!G122))","v":""},{"$f":"IF(部員名簿!A122=\"\",\"\",学校番号*100+部員名簿!H122)","v":""},{"$f":"IF(部員名簿!A122=\"\",\"\",部員名簿!C122)","v":""},{"$f":"IF(部員名簿!A122=\"\",\"\",部員名簿!D122)","v":""},{"$f":"IF(部員名簿!A122=\"\",\"\",部員名簿!E122)","v":""},{"$f":"IF(部員名簿!A122=\"\",\"\",部員名簿!F122)","v":""},{"$f":"IF(部員名簿!A122=\"\",\"\",部員名簿!I122)","v":""},{"$f":"IF(部員名簿!A122=\"\",\"\",部員名簿!B122)","v":""}]
[{"$f":"IF(部員名簿!A123=\"\",\"\",YEAR(部員名簿!G123))","v":""},{"$f":"IF(部員名簿!A123=\"\",\"\",MONTH(部員名簿!G123))","v":""},{"$f":"IF(部員名簿!A123=\"\",\"\",DAY(部員名簿!G123))","v":""},{"$f":"IF(部員名簿!A123=\"\",\"\",学校番号*100+部員名簿!H123)","v":""},{"$f":"IF(部員名簿!A123=\"\",\"\",部員名簿!C123)","v":""},{"$f":"IF(部員名簿!A123=\"\",\"\",部員名簿!D123)","v":""},{"$f":"IF(部員名簿!A123=\"\",\"\",部員名簿!E123)","v":""},{"$f":"IF(部員名簿!A123=\"\",\"\",部員名簿!F123)","v":""},{"$f":"IF(部員名簿!A123=\"\",\"\",部員名簿!I123)","v":""},{"$f":"IF(部員名簿!A123=\"\",\"\",部員名簿!B123)","v":""}]
[{"$f":"IF(部員名簿!A124=\"\",\"\",YEAR(部員名簿!G124))","v":""},{"$f":"IF(部員名簿!A124=\"\",\"\",MONTH(部員名簿!G124))","v":""},{"$f":"IF(部員名簿!A124=\"\",\"\",DAY(部員名簿!G124))","v":""},{"$f":"IF(部員名簿!A124=\"\",\"\",学校番号*100+部員名簿!H124)","v":""},{"$f":"IF(部員名簿!A124=\"\",\"\",部員名簿!C124)","v":""},{"$f":"IF(部員名簿!A124=\"\",\"\",部員名簿!D124)","v":""},{"$f":"IF(部員名簿!A124=\"\",\"\",部員名簿!E124)","v":""},{"$f":"IF(部員名簿!A124=\"\",\"\",部員名簿!F124)","v":""},{"$f":"IF(部員名簿!A124=\"\",\"\",部員名簿!I124)","v":""},{"$f":"IF(部員名簿!A124=\"\",\"\",部員名簿!B124)","v":""}]
[{"$f":"IF(部員名簿!A125=\"\",\"\",YEAR(部員名簿!G125))","v":""},{"$f":"IF(部員名簿!A125=\"\",\"\",MONTH(部員名簿!G125))","v":""},{"$f":"IF(部員名簿!A125=\"\",\"\",DAY(部員名簿!G125))","v":""},{"$f":"IF(部員名簿!A125=\"\",\"\",学校番号*100+部員名簿!H125)","v":""},{"$f":"IF(部員名簿!A125=\"\",\"\",部員名簿!C125)","v":""},{"$f":"IF(部員名簿!A125=\"\",\"\",部員名簿!D125)","v":""},{"$f":"IF(部員名簿!A125=\"\",\"\",部員名簿!E125)","v":""},{"$f":"IF(部員名簿!A125=\"\",\"\",部員名簿!F125)","v":""},{"$f":"IF(部員名簿!A125=\"\",\"\",部員名簿!I125)","v":""},{"$f":"IF(部員名簿!A125=\"\",\"\",部員名簿!B125)","v":""}]
[{"$f":"IF(部員名簿!A126=\"\",\"\",YEAR(部員名簿!G126))","v":""},{"$f":"IF(部員名簿!A126=\"\",\"\",MONTH(部員名簿!G126))","v":""},{"$f":"IF(部員名簿!A126=\"\",\"\",DAY(部員名簿!G126))","v":""},{"$f":"IF(部員名簿!A126=\"\",\"\",学校番号*100+部員名簿!H126)","v":""},{"$f":"IF(部員名簿!A126=\"\",\"\",部員名簿!C126)","v":""},{"$f":"IF(部員名簿!A126=\"\",\"\",部員名簿!D126)","v":""},{"$f":"IF(部員名簿!A126=\"\",\"\",部員名簿!E126)","v":""},{"$f":"IF(部員名簿!A126=\"\",\"\",部員名簿!F126)","v":""},{"$f":"IF(部員名簿!A126=\"\",\"\",部員名簿!I126)","v":""},{"$f":"IF(部員名簿!A126=\"\",\"\",部員名簿!B126)","v":""}]
[{"$f":"IF(部員名簿!A127=\"\",\"\",YEAR(部員名簿!G127))","v":""},{"$f":"IF(部員名簿!A127=\"\",\"\",MONTH(部員名簿!G127))","v":""},{"$f":"IF(部員名簿!A127=\"\",\"\",DAY(部員名簿!G127))","v":""},{"$f":"IF(部員名簿!A127=\"\",\"\",学校番号*100+部員名簿!H127)","v":""},{"$f":"IF(部員名簿!A127=\"\",\"\",部員名簿!C127)","v":""},{"$f":"IF(部員名簿!A127=\"\",\"\",部員名簿!D127)","v":""},{"$f":"IF(部員名簿!A127=\"\",\"\",部員名簿!E127)","v":""},{"$f":"IF(部員名簿!A127=\"\",\"\",部員名簿!F127)","v":""},{"$f":"IF(部員名簿!A127=\"\",\"\",部員名簿!I127)","v":""},{"$f":"IF(部員名簿!A127=\"\",\"\",部員名簿!B127)","v":""}]
[{"$f":"IF(部員名簿!A128=\"\",\"\",YEAR(部員名簿!G128))","v":""},{"$f":"IF(部員名簿!A128=\"\",\"\",MONTH(部員名簿!G128))","v":""},{"$f":"IF(部員名簿!A128=\"\",\"\",DAY(部員名簿!G128))","v":""},{"$f":"IF(部員名簿!A128=\"\",\"\",学校番号*100+部員名簿!H128)","v":""},{"$f":"IF(部員名簿!A128=\"\",\"\",部員名簿!C128)","v":""},{"$f":"IF(部員名簿!A128=\"\",\"\",部員名簿!D128)","v":""},{"$f":"IF(部員名簿!A128=\"\",\"\",部員名簿!E128)","v":""},{"$f":"IF(部員名簿!A128=\"\",\"\",部員名簿!F128)","v":""},{"$f":"IF(部員名簿!A128=\"\",\"\",部員名簿!I128)","v":""},{"$f":"IF(部員名簿!A128=\"\",\"\",部員名簿!B128)","v":""}]
[{"$f":"IF(部員名簿!A129=\"\",\"\",YEAR(部員名簿!G129))","v":""},{"$f":"IF(部員名簿!A129=\"\",\"\",MONTH(部員名簿!G129))","v":""},{"$f":"IF(部員名簿!A129=\"\",\"\",DAY(部員名簿!G129))","v":""},{"$f":"IF(部員名簿!A129=\"\",\"\",学校番号*100+部員名簿!H129)","v":""},{"$f":"IF(部員名簿!A129=\"\",\"\",部員名簿!C129)","v":""},{"$f":"IF(部員名簿!A129=\"\",\"\",部員名簿!D129)","v":""},{"$f":"IF(部員名簿!A129=\"\",\"\",部員名簿!E129)","v":""},{"$f":"IF(部員名簿!A129=\"\",\"\",部員名簿!F129)","v":""},{"$f":"IF(部員名簿!A129=\"\",\"\",部員名簿!I129)","v":""},{"$f":"IF(部員名簿!A129=\"\",\"\",部員名簿!B129)","v":""}]
[{"$f":"IF(部員名簿!A130=\"\",\"\",YEAR(部員名簿!G130))","v":""},{"$f":"IF(部員名簿!A130=\"\",\"\",MONTH(部員名簿!G130))","v":""},{"$f":"IF(部員名簿!A130=\"\",\"\",DAY(部員名簿!G130))","v":""},{"$f":"IF(部員名簿!A130=\"\",\"\",学校番号*100+部員名簿!H130)","v":""},{"$f":"IF(部員名簿!A130=\"\",\"\",部員名簿!C130)","v":""},{"$f":"IF(部員名簿!A130=\"\",\"\",部員名簿!D130)","v":""},{"$f":"IF(部員名簿!A130=\"\",\"\",部員名簿!E130)","v":""},{"$f":"IF(部員名簿!A130=\"\",\"\",部員名簿!F130)","v":""},{"$f":"IF(部員名簿!A130=\"\",\"\",部員名簿!I130)","v":""},{"$f":"IF(部員名簿!A130=\"\",\"\",部員名簿!B130)","v":""}]
[{"$f":"IF(部員名簿!A131=\"\",\"\",YEAR(部員名簿!G131))","v":""},{"$f":"IF(部員名簿!A131=\"\",\"\",MONTH(部員名簿!G131))","v":""},{"$f":"IF(部員名簿!A131=\"\",\"\",DAY(部員名簿!G131))","v":""},{"$f":"IF(部員名簿!A131=\"\",\"\",学校番号*100+部員名簿!H131)","v":""},{"$f":"IF(部員名簿!A131=\"\",\"\",部員名簿!C131)","v":""},{"$f":"IF(部員名簿!A131=\"\",\"\",部員名簿!D131)","v":""},{"$f":"IF(部員名簿!A131=\"\",\"\",部員名簿!E131)","v":""},{"$f":"IF(部員名簿!A131=\"\",\"\",部員名簿!F131)","v":""},{"$f":"IF(部員名簿!A131=\"\",\"\",部員名簿!I131)","v":""},{"$f":"IF(部員名簿!A131=\"\",\"\",部員名簿!B131)","v":""}]
[{"$f":"IF(部員名簿!A132=\"\",\"\",YEAR(部員名簿!G132))","v":""},{"$f":"IF(部員名簿!A132=\"\",\"\",MONTH(部員名簿!G132))","v":""},{"$f":"IF(部員名簿!A132=\"\",\"\",DAY(部員名簿!G132))","v":""},{"$f":"IF(部員名簿!A132=\"\",\"\",学校番号*100+部員名簿!H132)","v":""},{"$f":"IF(部員名簿!A132=\"\",\"\",部員名簿!C132)","v":""},{"$f":"IF(部員名簿!A132=\"\",\"\",部員名簿!D132)","v":""},{"$f":"IF(部員名簿!A132=\"\",\"\",部員名簿!E132)","v":""},{"$f":"IF(部員名簿!A132=\"\",\"\",部員名簿!F132)","v":""},{"$f":"IF(部員名簿!A132=\"\",\"\",部員名簿!I132)","v":""},{"$f":"IF(部員名簿!A132=\"\",\"\",部員名簿!B132)","v":""}]
[{"$f":"IF(部員名簿!A133=\"\",\"\",YEAR(部員名簿!G133))","v":""},{"$f":"IF(部員名簿!A133=\"\",\"\",MONTH(部員名簿!G133))","v":""},{"$f":"IF(部員名簿!A133=\"\",\"\",DAY(部員名簿!G133))","v":""},{"$f":"IF(部員名簿!A133=\"\",\"\",学校番号*100+部員名簿!H133)","v":""},{"$f":"IF(部員名簿!A133=\"\",\"\",部員名簿!C133)","v":""},{"$f":"IF(部員名簿!A133=\"\",\"\",部員名簿!D133)","v":""},{"$f":"IF(部員名簿!A133=\"\",\"\",部員名簿!E133)","v":""},{"$f":"IF(部員名簿!A133=\"\",\"\",部員名簿!F133)","v":""},{"$f":"IF(部員名簿!A133=\"\",\"\",部員名簿!I133)","v":""},{"$f":"IF(部員名簿!A133=\"\",\"\",部員名簿!B133)","v":""}]
[{"$f":"IF(部員名簿!A134=\"\",\"\",YEAR(部員名簿!G134))","v":""},{"$f":"IF(部員名簿!A134=\"\",\"\",MONTH(部員名簿!G134))","v":""},{"$f":"IF(部員名簿!A134=\"\",\"\",DAY(部員名簿!G134))","v":""},{"$f":"IF(部員名簿!A134=\"\",\"\",学校番号*100+部員名簿!H134)","v":""},{"$f":"IF(部員名簿!A134=\"\",\"\",部員名簿!C134)","v":""},{"$f":"IF(部員名簿!A134=\"\",\"\",部員名簿!D134)","v":""},{"$f":"IF(部員名簿!A134=\"\",\"\",部員名簿!E134)","v":""},{"$f":"IF(部員名簿!A134=\"\",\"\",部員名簿!F134)","v":""},{"$f":"IF(部員名簿!A134=\"\",\"\",部員名簿!I134)","v":""},{"$f":"IF(部員名簿!A134=\"\",\"\",部員名簿!B134)","v":""}]
[{"$f":"IF(部員名簿!A135=\"\",\"\",YEAR(部員名簿!G135))","v":""},{"$f":"IF(部員名簿!A135=\"\",\"\",MONTH(部員名簿!G135))","v":""},{"$f":"IF(部員名簿!A135=\"\",\"\",DAY(部員名簿!G135))","v":""},{"$f":"IF(部員名簿!A135=\"\",\"\",学校番号*100+部員名簿!H135)","v":""},{"$f":"IF(部員名簿!A135=\"\",\"\",部員名簿!C135)","v":""},{"$f":"IF(部員名簿!A135=\"\",\"\",部員名簿!D135)","v":""},{"$f":"IF(部員名簿!A135=\"\",\"\",部員名簿!E135)","v":""},{"$f":"IF(部員名簿!A135=\"\",\"\",部員名簿!F135)","v":""},{"$f":"IF(部員名簿!A135=\"\",\"\",部員名簿!I135)","v":""},{"$f":"IF(部員名簿!A135=\"\",\"\",部員名簿!B135)","v":""}]
[{"$f":"IF(部員名簿!A136=\"\",\"\",YEAR(部員名簿!G136))","v":""},{"$f":"IF(部員名簿!A136=\"\",\"\",MONTH(部員名簿!G136))","v":""},{"$f":"IF(部員名簿!A136=\"\",\"\",DAY(部員名簿!G136))","v":""},{"$f":"IF(部員名簿!A136=\"\",\"\",学校番号*100+部員名簿!H136)","v":""},{"$f":"IF(部員名簿!A136=\"\",\"\",部員名簿!C136)","v":""},{"$f":"IF(部員名簿!A136=\"\",\"\",部員名簿!D136)","v":""},{"$f":"IF(部員名簿!A136=\"\",\"\",部員名簿!E136)","v":""},{"$f":"IF(部員名簿!A136=\"\",\"\",部員名簿!F136)","v":""},{"$f":"IF(部員名簿!A136=\"\",\"\",部員名簿!I136)","v":""},{"$f":"IF(部員名簿!A136=\"\",\"\",部員名簿!B136)","v":""}]
[{"$f":"IF(部員名簿!A137=\"\",\"\",YEAR(部員名簿!G137))","v":""},{"$f":"IF(部員名簿!A137=\"\",\"\",MONTH(部員名簿!G137))","v":""},{"$f":"IF(部員名簿!A137=\"\",\"\",DAY(部員名簿!G137))","v":""},{"$f":"IF(部員名簿!A137=\"\",\"\",学校番号*100+部員名簿!H137)","v":""},{"$f":"IF(部員名簿!A137=\"\",\"\",部員名簿!C137)","v":""},{"$f":"IF(部員名簿!A137=\"\",\"\",部員名簿!D137)","v":""},{"$f":"IF(部員名簿!A137=\"\",\"\",部員名簿!E137)","v":""},{"$f":"IF(部員名簿!A137=\"\",\"\",部員名簿!F137)","v":""},{"$f":"IF(部員名簿!A137=\"\",\"\",部員名簿!I137)","v":""},{"$f":"IF(部員名簿!A137=\"\",\"\",部員名簿!B137)","v":""}]
[{"$f":"IF(部員名簿!A138=\"\",\"\",YEAR(部員名簿!G138))","v":""},{"$f":"IF(部員名簿!A138=\"\",\"\",MONTH(部員名簿!G138))","v":""},{"$f":"IF(部員名簿!A138=\"\",\"\",DAY(部員名簿!G138))","v":""},{"$f":"IF(部員名簿!A138=\"\",\"\",学校番号*100+部員名簿!H138)","v":""},{"$f":"IF(部員名簿!A138=\"\",\"\",部員名簿!C138)","v":""},{"$f":"IF(部員名簿!A138=\"\",\"\",部員名簿!D138)","v":""},{"$f":"IF(部員名簿!A138=\"\",\"\",部員名簿!E138)","v":""},{"$f":"IF(部員名簿!A138=\"\",\"\",部員名簿!F138)","v":""},{"$f":"IF(部員名簿!A138=\"\",\"\",部員名簿!I138)","v":""},{"$f":"IF(部員名簿!A138=\"\",\"\",部員名簿!B138)","v":""}]
[{"$f":"IF(部員名簿!A139=\"\",\"\",YEAR(部員名簿!G139))","v":""},{"$f":"IF(部員名簿!A139=\"\",\"\",MONTH(部員名簿!G139))","v":""},{"$f":"IF(部員名簿!A139=\"\",\"\",DAY(部員名簿!G139))","v":""},{"$f":"IF(部員名簿!A139=\"\",\"\",学校番号*100+部員名簿!H139)","v":""},{"$f":"IF(部員名簿!A139=\"\",\"\",部員名簿!C139)","v":""},{"$f":"IF(部員名簿!A139=\"\",\"\",部員名簿!D139)","v":""},{"$f":"IF(部員名簿!A139=\"\",\"\",部員名簿!E139)","v":""},{"$f":"IF(部員名簿!A139=\"\",\"\",部員名簿!F139)","v":""},{"$f":"IF(部員名簿!A139=\"\",\"\",部員名簿!I139)","v":""},{"$f":"IF(部員名簿!A139=\"\",\"\",部員名簿!B139)","v":""}]
[{"$f":"IF(部員名簿!A140=\"\",\"\",YEAR(部員名簿!G140))","v":""},{"$f":"IF(部員名簿!A140=\"\",\"\",MONTH(部員名簿!G140))","v":""},{"$f":"IF(部員名簿!A140=\"\",\"\",DAY(部員名簿!G140))","v":""},{"$f":"IF(部員名簿!A140=\"\",\"\",学校番号*100+部員名簿!H140)","v":""},{"$f":"IF(部員名簿!A140=\"\",\"\",部員名簿!C140)","v":""},{"$f":"IF(部員名簿!A140=\"\",\"\",部員名簿!D140)","v":""},{"$f":"IF(部員名簿!A140=\"\",\"\",部員名簿!E140)","v":""},{"$f":"IF(部員名簿!A140=\"\",\"\",部員名簿!F140)","v":""},{"$f":"IF(部員名簿!A140=\"\",\"\",部員名簿!I140)","v":""},{"$f":"IF(部員名簿!A140=\"\",\"\",部員名簿!B140)","v":""}]
[{"$f":"IF(部員名簿!A141=\"\",\"\",YEAR(部員名簿!G141))","v":""},{"$f":"IF(部員名簿!A141=\"\",\"\",MONTH(部員名簿!G141))","v":""},{"$f":"IF(部員名簿!A141=\"\",\"\",DAY(部員名簿!G141))","v":""},{"$f":"IF(部員名簿!A141=\"\",\"\",学校番号*100+部員名簿!H141)","v":""},{"$f":"IF(部員名簿!A141=\"\",\"\",部員名簿!C141)","v":""},{"$f":"IF(部員名簿!A141=\"\",\"\",部員名簿!D141)","v":""},{"$f":"IF(部員名簿!A141=\"\",\"\",部員名簿!E141)","v":""},{"$f":"IF(部員名簿!A141=\"\",\"\",部員名簿!F141)","v":""},{"$f":"IF(部員名簿!A141=\"\",\"\",部員名簿!I141)","v":""},{"$f":"IF(部員名簿!A141=\"\",\"\",部員名簿!B141)","v":""}]
[{"$f":"IF(部員名簿!A142=\"\",\"\",YEAR(部員名簿!G142))","v":""},{"$f":"IF(部員名簿!A142=\"\",\"\",MONTH(部員名簿!G142))","v":""},{"$f":"IF(部員名簿!A142=\"\",\"\",DAY(部員名簿!G142))","v":""},{"$f":"IF(部員名簿!A142=\"\",\"\",学校番号*100+部員名簿!H142)","v":""},{"$f":"IF(部員名簿!A142=\"\",\"\",部員名簿!C142)","v":""},{"$f":"IF(部員名簿!A142=\"\",\"\",部員名簿!D142)","v":""},{"$f":"IF(部員名簿!A142=\"\",\"\",部員名簿!E142)","v":""},{"$f":"IF(部員名簿!A142=\"\",\"\",部員名簿!F142)","v":""},{"$f":"IF(部員名簿!A142=\"\",\"\",部員名簿!I142)","v":""},{"$f":"IF(部員名簿!A142=\"\",\"\",部員名簿!B142)","v":""}]
[{"$f":"IF(部員名簿!A143=\"\",\"\",YEAR(部員名簿!G143))","v":""},{"$f":"IF(部員名簿!A143=\"\",\"\",MONTH(部員名簿!G143))","v":""},{"$f":"IF(部員名簿!A143=\"\",\"\",DAY(部員名簿!G143))","v":""},{"$f":"IF(部員名簿!A143=\"\",\"\",学校番号*100+部員名簿!H143)","v":""},{"$f":"IF(部員名簿!A143=\"\",\"\",部員名簿!C143)","v":""},{"$f":"IF(部員名簿!A143=\"\",\"\",部員名簿!D143)","v":""},{"$f":"IF(部員名簿!A143=\"\",\"\",部員名簿!E143)","v":""},{"$f":"IF(部員名簿!A143=\"\",\"\",部員名簿!F143)","v":""},{"$f":"IF(部員名簿!A143=\"\",\"\",部員名簿!I143)","v":""},{"$f":"IF(部員名簿!A143=\"\",\"\",部員名簿!B143)","v":""}]
[{"$f":"IF(部員名簿!A144=\"\",\"\",YEAR(部員名簿!G144))","v":""},{"$f":"IF(部員名簿!A144=\"\",\"\",MONTH(部員名簿!G144))","v":""},{"$f":"IF(部員名簿!A144=\"\",\"\",DAY(部員名簿!G144))","v":""},{"$f":"IF(部員名簿!A144=\"\",\"\",学校番号*100+部員名簿!H144)","v":""},{"$f":"IF(部員名簿!A144=\"\",\"\",部員名簿!C144)","v":""},{"$f":"IF(部員名簿!A144=\"\",\"\",部員名簿!D144)","v":""},{"$f":"IF(部員名簿!A144=\"\",\"\",部員名簿!E144)","v":""},{"$f":"IF(部員名簿!A144=\"\",\"\",部員名簿!F144)","v":""},{"$f":"IF(部員名簿!A144=\"\",\"\",部員名簿!I144)","v":""},{"$f":"IF(部員名簿!A144=\"\",\"\",部員名簿!B144)","v":""}]
[{"$f":"IF(部員名簿!A145=\"\",\"\",YEAR(部員名簿!G145))","v":""},{"$f":"IF(部員名簿!A145=\"\",\"\",MONTH(部員名簿!G145))","v":""},{"$f":"IF(部員名簿!A145=\"\",\"\",DAY(部員名簿!G145))","v":""},{"$f":"IF(部員名簿!A145=\"\",\"\",学校番号*100+部員名簿!H145)","v":""},{"$f":"IF(部員名簿!A145=\"\",\"\",部員名簿!C145)","v":""},{"$f":"IF(部員名簿!A145=\"\",\"\",部員名簿!D145)","v":""},{"$f":"IF(部員名簿!A145=\"\",\"\",部員名簿!E145)","v":""},{"$f":"IF(部員名簿!A145=\"\",\"\",部員名簿!F145)","v":""},{"$f":"IF(部員名簿!A145=\"\",\"\",部員名簿!I145)","v":""},{"$f":"IF(部員名簿!A145=\"\",\"\",部員名簿!B145)","v":""}]
[{"$f":"IF(部員名簿!A146=\"\",\"\",YEAR(部員名簿!G146))","v":""},{"$f":"IF(部員名簿!A146=\"\",\"\",MONTH(部員名簿!G146))","v":""},{"$f":"IF(部員名簿!A146=\"\",\"\",DAY(部員名簿!G146))","v":""},{"$f":"IF(部員名簿!A146=\"\",\"\",学校番号*100+部員名簿!H146)","v":""},{"$f":"IF(部員名簿!A146=\"\",\"\",部員名簿!C146)","v":""},{"$f":"IF(部員名簿!A146=\"\",\"\",部員名簿!D146)","v":""},{"$f":"IF(部員名簿!A146=\"\",\"\",部員名簿!E146)","v":""},{"$f":"IF(部員名簿!A146=\"\",\"\",部員名簿!F146)","v":""},{"$f":"IF(部員名簿!A146=\"\",\"\",部員名簿!I146)","v":""},{"$f":"IF(部員名簿!A146=\"\",\"\",部員名簿!B146)","v":""}]
[{"$f":"IF(部員名簿!A147=\"\",\"\",YEAR(部員名簿!G147))","v":""},{"$f":"IF(部員名簿!A147=\"\",\"\",MONTH(部員名簿!G147))","v":""},{"$f":"IF(部員名簿!A147=\"\",\"\",DAY(部員名簿!G147))","v":""},{"$f":"IF(部員名簿!A147=\"\",\"\",学校番号*100+部員名簿!H147)","v":""},{"$f":"IF(部員名簿!A147=\"\",\"\",部員名簿!C147)","v":""},{"$f":"IF(部員名簿!A147=\"\",\"\",部員名簿!D147)","v":""},{"$f":"IF(部員名簿!A147=\"\",\"\",部員名簿!E147)","v":""},{"$f":"IF(部員名簿!A147=\"\",\"\",部員名簿!F147)","v":""},{"$f":"IF(部員名簿!A147=\"\",\"\",部員名簿!I147)","v":""},{"$f":"IF(部員名簿!A147=\"\",\"\",部員名簿!B147)","v":""}]
[{"$f":"IF(部員名簿!A148=\"\",\"\",YEAR(部員名簿!G148))","v":""},{"$f":"IF(部員名簿!A148=\"\",\"\",MONTH(部員名簿!G148))","v":""},{"$f":"IF(部員名簿!A148=\"\",\"\",DAY(部員名簿!G148))","v":""},{"$f":"IF(部員名簿!A148=\"\",\"\",学校番号*100+部員名簿!H148)","v":""},{"$f":"IF(部員名簿!A148=\"\",\"\",部員名簿!C148)","v":""},{"$f":"IF(部員名簿!A148=\"\",\"\",部員名簿!D148)","v":""},{"$f":"IF(部員名簿!A148=\"\",\"\",部員名簿!E148)","v":""},{"$f":"IF(部員名簿!A148=\"\",\"\",部員名簿!F148)","v":""},{"$f":"IF(部員名簿!A148=\"\",\"\",部員名簿!I148)","v":""},{"$f":"IF(部員名簿!A148=\"\",\"\",部員名簿!B148)","v":""}]
[{"$f":"IF(部員名簿!A149=\"\",\"\",YEAR(部員名簿!G149))","v":""},{"$f":"IF(部員名簿!A149=\"\",\"\",MONTH(部員名簿!G149))","v":""},{"$f":"IF(部員名簿!A149=\"\",\"\",DAY(部員名簿!G149))","v":""},{"$f":"IF(部員名簿!A149=\"\",\"\",学校番号*100+部員名簿!H149)","v":""},{"$f":"IF(部員名簿!A149=\"\",\"\",部員名簿!C149)","v":""},{"$f":"IF(部員名簿!A149=\"\",\"\",部員名簿!D149)","v":""},{"$f":"IF(部員名簿!A149=\"\",\"\",部員名簿!E149)","v":""},{"$f":"IF(部員名簿!A149=\"\",\"\",部員名簿!F149)","v":""},{"$f":"IF(部員名簿!A149=\"\",\"\",部員名簿!I149)","v":""},{"$f":"IF(部員名簿!A149=\"\",\"\",部員名簿!B149)","v":""}]
[{"$f":"IF(部員名簿!A150=\"\",\"\",YEAR(部員名簿!G150))","v":""},{"$f":"IF(部員名簿!A150=\"\",\"\",MONTH(部員名簿!G150))","v":""},{"$f":"IF(部員名簿!A150=\"\",\"\",DAY(部員名簿!G150))","v":""},{"$f":"IF(部員名簿!A150=\"\",\"\",学校番号*100+部員名簿!H150)","v":""},{"$f":"IF(部員名簿!A150=\"\",\"\",部員名簿!C150)","v":""},{"$f":"IF(部員名簿!A150=\"\",\"\",部員名簿!D150)","v":""},{"$f":"IF(部員名簿!A150=\"\",\"\",部員名簿!E150)","v":""},{"$f":"IF(部員名簿!A150=\"\",\"\",部員名簿!F150)","v":""},{"$f":"IF(部員名簿!A150=\"\",\"\",部員名簿!I150)","v":""},{"$f":"IF(部員名簿!A150=\"\",\"\",部員名簿!B150)","v":""}]
[{"$f":"IF(部員名簿!A151=\"\",\"\",YEAR(部員名簿!G151))","v":""},{"$f":"IF(部員名簿!A151=\"\",\"\",MONTH(部員名簿!G151))","v":""},{"$f":"IF(部員名簿!A151=\"\",\"\",DAY(部員名簿!G151))","v":""},{"$f":"IF(部員名簿!A151=\"\",\"\",学校番号*100+部員名簿!H151)","v":""},{"$f":"IF(部員名簿!A151=\"\",\"\",部員名簿!C151)","v":""},{"$f":"IF(部員名簿!A151=\"\",\"\",部員名簿!D151)","v":""},{"$f":"IF(部員名簿!A151=\"\",\"\",部員名簿!E151)","v":""},{"$f":"IF(部員名簿!A151=\"\",\"\",部員名簿!F151)","v":""},{"$f":"IF(部員名簿!A151=\"\",\"\",部員名簿!I151)","v":""},{"$f":"IF(部員名簿!A151=\"\",\"\",部員名簿!B151)","v":""}]
[{"$f":"IF(部員名簿!A152=\"\",\"\",YEAR(部員名簿!G152))","v":""},{"$f":"IF(部員名簿!A152=\"\",\"\",MONTH(部員名簿!G152))","v":""},{"$f":"IF(部員名簿!A152=\"\",\"\",DAY(部員名簿!G152))","v":""},{"$f":"IF(部員名簿!A152=\"\",\"\",学校番号*100+部員名簿!H152)","v":""},{"$f":"IF(部員名簿!A152=\"\",\"\",部員名簿!C152)","v":""},{"$f":"IF(部員名簿!A152=\"\",\"\",部員名簿!D152)","v":""},{"$f":"IF(部員名簿!A152=\"\",\"\",部員名簿!E152)","v":""},{"$f":"IF(部員名簿!A152=\"\",\"\",部員名簿!F152)","v":""},{"$f":"IF(部員名簿!A152=\"\",\"\",部員名簿!I152)","v":""},{"$f":"IF(部員名簿!A152=\"\",\"\",部員名簿!B152)","v":""}]
[{"$f":"IF(部員名簿!A153=\"\",\"\",YEAR(部員名簿!G153))","v":""},{"$f":"IF(部員名簿!A153=\"\",\"\",MONTH(部員名簿!G153))","v":""},{"$f":"IF(部員名簿!A153=\"\",\"\",DAY(部員名簿!G153))","v":""},{"$f":"IF(部員名簿!A153=\"\",\"\",学校番号*100+部員名簿!H153)","v":""},{"$f":"IF(部員名簿!A153=\"\",\"\",部員名簿!C153)","v":""},{"$f":"IF(部員名簿!A153=\"\",\"\",部員名簿!D153)","v":""},{"$f":"IF(部員名簿!A153=\"\",\"\",部員名簿!E153)","v":""},{"$f":"IF(部員名簿!A153=\"\",\"\",部員名簿!F153)","v":""},{"$f":"IF(部員名簿!A153=\"\",\"\",部員名簿!I153)","v":""},{"$f":"IF(部員名簿!A153=\"\",\"\",部員名簿!B153)","v":""}]
[{"$f":"IF(部員名簿!A154=\"\",\"\",YEAR(部員名簿!G154))","v":""},{"$f":"IF(部員名簿!A154=\"\",\"\",MONTH(部員名簿!G154))","v":""},{"$f":"IF(部員名簿!A154=\"\",\"\",DAY(部員名簿!G154))","v":""},{"$f":"IF(部員名簿!A154=\"\",\"\",学校番号*100+部員名簿!H154)","v":""},{"$f":"IF(部員名簿!A154=\"\",\"\",部員名簿!C154)","v":""},{"$f":"IF(部員名簿!A154=\"\",\"\",部員名簿!D154)","v":""},{"$f":"IF(部員名簿!A154=\"\",\"\",部員名簿!E154)","v":""},{"$f":"IF(部員名簿!A154=\"\",\"\",部員名簿!F154)","v":""},{"$f":"IF(部員名簿!A154=\"\",\"\",部員名簿!I154)","v":""},{"$f":"IF(部員名簿!A154=\"\",\"\",部員名簿!B154)","v":""}]
[{"$f":"IF(部員名簿!A155=\"\",\"\",YEAR(部員名簿!G155))","v":""},{"$f":"IF(部員名簿!A155=\"\",\"\",MONTH(部員名簿!G155))","v":""},{"$f":"IF(部員名簿!A155=\"\",\"\",DAY(部員名簿!G155))","v":""},{"$f":"IF(部員名簿!A155=\"\",\"\",学校番号*100+部員名簿!H155)","v":""},{"$f":"IF(部員名簿!A155=\"\",\"\",部員名簿!C155)","v":""},{"$f":"IF(部員名簿!A155=\"\",\"\",部員名簿!D155)","v":""},{"$f":"IF(部員名簿!A155=\"\",\"\",部員名簿!E155)","v":""},{"$f":"IF(部員名簿!A155=\"\",\"\",部員名簿!F155)","v":""},{"$f":"IF(部員名簿!A155=\"\",\"\",部員名簿!I155)","v":""},{"$f":"IF(部員名簿!A155=\"\",\"\",部員名簿!B155)","v":""}]
[{"$f":"IF(部員名簿!A156=\"\",\"\",YEAR(部員名簿!G156))","v":""},{"$f":"IF(部員名簿!A156=\"\",\"\",MONTH(部員名簿!G156))","v":""},{"$f":"IF(部員名簿!A156=\"\",\"\",DAY(部員名簿!G156))","v":""},{"$f":"IF(部員名簿!A156=\"\",\"\",学校番号*100+部員名簿!H156)","v":""},{"$f":"IF(部員名簿!A156=\"\",\"\",部員名簿!C156)","v":""},{"$f":"IF(部員名簿!A156=\"\",\"\",部員名簿!D156)","v":""},{"$f":"IF(部員名簿!A156=\"\",\"\",部員名簿!E156)","v":""},{"$f":"IF(部員名簿!A156=\"\",\"\",部員名簿!F156)","v":""},{"$f":"IF(部員名簿!A156=\"\",\"\",部員名簿!I156)","v":""},{"$f":"IF(部員名簿!A156=\"\",\"\",部員名簿!B156)","v":""}]
[{"$f":"IF(部員名簿!A157=\"\",\"\",YEAR(部員名簿!G157))","v":""},{"$f":"IF(部員名簿!A157=\"\",\"\",MONTH(部員名簿!G157))","v":""},{"$f":"IF(部員名簿!A157=\"\",\"\",DAY(部員名簿!G157))","v":""},{"$f":"IF(部員名簿!A157=\"\",\"\",学校番号*100+部員名簿!H157)","v":""},{"$f":"IF(部員名簿!A157=\"\",\"\",部員名簿!C157)","v":""},{"$f":"IF(部員名簿!A157=\"\",\"\",部員名簿!D157)","v":""},{"$f":"IF(部員名簿!A157=\"\",\"\",部員名簿!E157)","v":""},{"$f":"IF(部員名簿!A157=\"\",\"\",部員名簿!F157)","v":""},{"$f":"IF(部員名簿!A157=\"\",\"\",部員名簿!I157)","v":""},{"$f":"IF(部員名簿!A157=\"\",\"\",部員名簿!B157)","v":""}]
[{"$f":"IF(部員名簿!A158=\"\",\"\",YEAR(部員名簿!G158))","v":""},{"$f":"IF(部員名簿!A158=\"\",\"\",MONTH(部員名簿!G158))","v":""},{"$f":"IF(部員名簿!A158=\"\",\"\",DAY(部員名簿!G158))","v":""},{"$f":"IF(部員名簿!A158=\"\",\"\",学校番号*100+部員名簿!H158)","v":""},{"$f":"IF(部員名簿!A158=\"\",\"\",部員名簿!C158)","v":""},{"$f":"IF(部員名簿!A158=\"\",\"\",部員名簿!D158)","v":""},{"$f":"IF(部員名簿!A158=\"\",\"\",部員名簿!E158)","v":""},{"$f":"IF(部員名簿!A158=\"\",\"\",部員名簿!F158)","v":""},{"$f":"IF(部員名簿!A158=\"\",\"\",部員名簿!I158)","v":""},{"$f":"IF(部員名簿!A158=\"\",\"\",部員名簿!B158)","v":""}]
[{"$f":"IF(部員名簿!A159=\"\",\"\",YEAR(部員名簿!G159))","v":""},{"$f":"IF(部員名簿!A159=\"\",\"\",MONTH(部員名簿!G159))","v":""},{"$f":"IF(部員名簿!A159=\"\",\"\",DAY(部員名簿!G159))","v":""},{"$f":"IF(部員名簿!A159=\"\",\"\",学校番号*100+部員名簿!H159)","v":""},{"$f":"IF(部員名簿!A159=\"\",\"\",部員名簿!C159)","v":""},{"$f":"IF(部員名簿!A159=\"\",\"\",部員名簿!D159)","v":""},{"$f":"IF(部員名簿!A159=\"\",\"\",部員名簿!E159)","v":""},{"$f":"IF(部員名簿!A159=\"\",\"\",部員名簿!F159)","v":""},{"$f":"IF(部員名簿!A159=\"\",\"\",部員名簿!I159)","v":""},{"$f":"IF(部員名簿!A159=\"\",\"\",部員名簿!B159)","v":""}]
[{"$f":"IF(部員名簿!A160=\"\",\"\",YEAR(部員名簿!G160))","v":""},{"$f":"IF(部員名簿!A160=\"\",\"\",MONTH(部員名簿!G160))","v":""},{"$f":"IF(部員名簿!A160=\"\",\"\",DAY(部員名簿!G160))","v":""},{"$f":"IF(部員名簿!A160=\"\",\"\",学校番号*100+部員名簿!H160)","v":""},{"$f":"IF(部員名簿!A160=\"\",\"\",部員名簿!C160)","v":""},{"$f":"IF(部員名簿!A160=\"\",\"\",部員名簿!D160)","v":""},{"$f":"IF(部員名簿!A160=\"\",\"\",部員名簿!E160)","v":""},{"$f":"IF(部員名簿!A160=\"\",\"\",部員名簿!F160)","v":""},{"$f":"IF(部員名簿!A160=\"\",\"\",部員名簿!I160)","v":""},{"$f":"IF(部員名簿!A160=\"\",\"\",部員名簿!B160)","v":""}]
[{"$f":"IF(部員名簿!A161=\"\",\"\",YEAR(部員名簿!G161))","v":""},{"$f":"IF(部員名簿!A161=\"\",\"\",MONTH(部員名簿!G161))","v":""},{"$f":"IF(部員名簿!A161=\"\",\"\",DAY(部員名簿!G161))","v":""},{"$f":"IF(部員名簿!A161=\"\",\"\",学校番号*100+部員名簿!H161)","v":""},{"$f":"IF(部員名簿!A161=\"\",\"\",部員名簿!C161)","v":""},{"$f":"IF(部員名簿!A161=\"\",\"\",部員名簿!D161)","v":""},{"$f":"IF(部員名簿!A161=\"\",\"\",部員名簿!E161)","v":""},{"$f":"IF(部員名簿!A161=\"\",\"\",部員名簿!F161)","v":""},{"$f":"IF(部員名簿!A161=\"\",\"\",部員名簿!I161)","v":""},{"$f":"IF(部員名簿!A161=\"\",\"\",部員名簿!B161)","v":""}]
[{"$f":"IF(部員名簿!A162=\"\",\"\",YEAR(部員名簿!G162))","v":""},{"$f":"IF(部員名簿!A162=\"\",\"\",MONTH(部員名簿!G162))","v":""},{"$f":"IF(部員名簿!A162=\"\",\"\",DAY(部員名簿!G162))","v":""},{"$f":"IF(部員名簿!A162=\"\",\"\",学校番号*100+部員名簿!H162)","v":""},{"$f":"IF(部員名簿!A162=\"\",\"\",部員名簿!C162)","v":""},{"$f":"IF(部員名簿!A162=\"\",\"\",部員名簿!D162)","v":""},{"$f":"IF(部員名簿!A162=\"\",\"\",部員名簿!E162)","v":""},{"$f":"IF(部員名簿!A162=\"\",\"\",部員名簿!F162)","v":""},{"$f":"IF(部員名簿!A162=\"\",\"\",部員名簿!I162)","v":""},{"$f":"IF(部員名簿!A162=\"\",\"\",部員名簿!B162)","v":""}]
[{"$f":"IF(部員名簿!A163=\"\",\"\",YEAR(部員名簿!G163))","v":""},{"$f":"IF(部員名簿!A163=\"\",\"\",MONTH(部員名簿!G163))","v":""},{"$f":"IF(部員名簿!A163=\"\",\"\",DAY(部員名簿!G163))","v":""},{"$f":"IF(部員名簿!A163=\"\",\"\",学校番号*100+部員名簿!H163)","v":""},{"$f":"IF(部員名簿!A163=\"\",\"\",部員名簿!C163)","v":""},{"$f":"IF(部員名簿!A163=\"\",\"\",部員名簿!D163)","v":""},{"$f":"IF(部員名簿!A163=\"\",\"\",部員名簿!E163)","v":""},{"$f":"IF(部員名簿!A163=\"\",\"\",部員名簿!F163)","v":""},{"$f":"IF(部員名簿!A163=\"\",\"\",部員名簿!I163)","v":""},{"$f":"IF(部員名簿!A163=\"\",\"\",部員名簿!B163)","v":""}]
[{"$f":"IF(部員名簿!A164=\"\",\"\",YEAR(部員名簿!G164))","v":""},{"$f":"IF(部員名簿!A164=\"\",\"\",MONTH(部員名簿!G164))","v":""},{"$f":"IF(部員名簿!A164=\"\",\"\",DAY(部員名簿!G164))","v":""},{"$f":"IF(部員名簿!A164=\"\",\"\",学校番号*100+部員名簿!H164)","v":""},{"$f":"IF(部員名簿!A164=\"\",\"\",部員名簿!C164)","v":""},{"$f":"IF(部員名簿!A164=\"\",\"\",部員名簿!D164)","v":""},{"$f":"IF(部員名簿!A164=\"\",\"\",部員名簿!E164)","v":""},{"$f":"IF(部員名簿!A164=\"\",\"\",部員名簿!F164)","v":""},{"$f":"IF(部員名簿!A164=\"\",\"\",部員名簿!I164)","v":""},{"$f":"IF(部員名簿!A164=\"\",\"\",部員名簿!B164)","v":""}]
[{"$f":"IF(部員名簿!A165=\"\",\"\",YEAR(部員名簿!G165))","v":""},{"$f":"IF(部員名簿!A165=\"\",\"\",MONTH(部員名簿!G165))","v":""},{"$f":"IF(部員名簿!A165=\"\",\"\",DAY(部員名簿!G165))","v":""},{"$f":"IF(部員名簿!A165=\"\",\"\",学校番号*100+部員名簿!H165)","v":""},{"$f":"IF(部員名簿!A165=\"\",\"\",部員名簿!C165)","v":""},{"$f":"IF(部員名簿!A165=\"\",\"\",部員名簿!D165)","v":""},{"$f":"IF(部員名簿!A165=\"\",\"\",部員名簿!E165)","v":""},{"$f":"IF(部員名簿!A165=\"\",\"\",部員名簿!F165)","v":""},{"$f":"IF(部員名簿!A165=\"\",\"\",部員名簿!I165)","v":""},{"$f":"IF(部員名簿!A165=\"\",\"\",部員名簿!B165)","v":""}]
[{"$f":"IF(部員名簿!A166=\"\",\"\",YEAR(部員名簿!G166))","v":""},{"$f":"IF(部員名簿!A166=\"\",\"\",MONTH(部員名簿!G166))","v":""},{"$f":"IF(部員名簿!A166=\"\",\"\",DAY(部員名簿!G166))","v":""},{"$f":"IF(部員名簿!A166=\"\",\"\",学校番号*100+部員名簿!H166)","v":""},{"$f":"IF(部員名簿!A166=\"\",\"\",部員名簿!C166)","v":""},{"$f":"IF(部員名簿!A166=\"\",\"\",部員名簿!D166)","v":""},{"$f":"IF(部員名簿!A166=\"\",\"\",部員名簿!E166)","v":""},{"$f":"IF(部員名簿!A166=\"\",\"\",部員名簿!F166)","v":""},{"$f":"IF(部員名簿!A166=\"\",\"\",部員名簿!I166)","v":""},{"$f":"IF(部員名簿!A166=\"\",\"\",部員名簿!B166)","v":""}]
[{"$f":"IF(部員名簿!A167=\"\",\"\",YEAR(部員名簿!G167))","v":""},{"$f":"IF(部員名簿!A167=\"\",\"\",MONTH(部員名簿!G167))","v":""},{"$f":"IF(部員名簿!A167=\"\",\"\",DAY(部員名簿!G167))","v":""},{"$f":"IF(部員名簿!A167=\"\",\"\",学校番号*100+部員名簿!H167)","v":""},{"$f":"IF(部員名簿!A167=\"\",\"\",部員名簿!C167)","v":""},{"$f":"IF(部員名簿!A167=\"\",\"\",部員名簿!D167)","v":""},{"$f":"IF(部員名簿!A167=\"\",\"\",部員名簿!E167)","v":""},{"$f":"IF(部員名簿!A167=\"\",\"\",部員名簿!F167)","v":""},{"$f":"IF(部員名簿!A167=\"\",\"\",部員名簿!I167)","v":""},{"$f":"IF(部員名簿!A167=\"\",\"\",部員名簿!B167)","v":""}]
[{"$f":"IF(部員名簿!A168=\"\",\"\",YEAR(部員名簿!G168))","v":""},{"$f":"IF(部員名簿!A168=\"\",\"\",MONTH(部員名簿!G168))","v":""},{"$f":"IF(部員名簿!A168=\"\",\"\",DAY(部員名簿!G168))","v":""},{"$f":"IF(部員名簿!A168=\"\",\"\",学校番号*100+部員名簿!H168)","v":""},{"$f":"IF(部員名簿!A168=\"\",\"\",部員名簿!C168)","v":""},{"$f":"IF(部員名簿!A168=\"\",\"\",部員名簿!D168)","v":""},{"$f":"IF(部員名簿!A168=\"\",\"\",部員名簿!E168)","v":""},{"$f":"IF(部員名簿!A168=\"\",\"\",部員名簿!F168)","v":""},{"$f":"IF(部員名簿!A168=\"\",\"\",部員名簿!I168)","v":""},{"$f":"IF(部員名簿!A168=\"\",\"\",部員名簿!B168)","v":""}]
[{"$f":"IF(部員名簿!A169=\"\",\"\",YEAR(部員名簿!G169))","v":""},{"$f":"IF(部員名簿!A169=\"\",\"\",MONTH(部員名簿!G169))","v":""},{"$f":"IF(部員名簿!A169=\"\",\"\",DAY(部員名簿!G169))","v":""},{"$f":"IF(部員名簿!A169=\"\",\"\",学校番号*100+部員名簿!H169)","v":""},{"$f":"IF(部員名簿!A169=\"\",\"\",部員名簿!C169)","v":""},{"$f":"IF(部員名簿!A169=\"\",\"\",部員名簿!D169)","v":""},{"$f":"IF(部員名簿!A169=\"\",\"\",部員名簿!E169)","v":""},{"$f":"IF(部員名簿!A169=\"\",\"\",部員名簿!F169)","v":""},{"$f":"IF(部員名簿!A169=\"\",\"\",部員名簿!I169)","v":""},{"$f":"IF(部員名簿!A169=\"\",\"\",部員名簿!B169)","v":""}]
[{"$f":"IF(部員名簿!A170=\"\",\"\",YEAR(部員名簿!G170))","v":""},{"$f":"IF(部員名簿!A170=\"\",\"\",MONTH(部員名簿!G170))","v":""},{"$f":"IF(部員名簿!A170=\"\",\"\",DAY(部員名簿!G170))","v":""},{"$f":"IF(部員名簿!A170=\"\",\"\",学校番号*100+部員名簿!H170)","v":""},{"$f":"IF(部員名簿!A170=\"\",\"\",部員名簿!C170)","v":""},{"$f":"IF(部員名簿!A170=\"\",\"\",部員名簿!D170)","v":""},{"$f":"IF(部員名簿!A170=\"\",\"\",部員名簿!E170)","v":""},{"$f":"IF(部員名簿!A170=\"\",\"\",部員名簿!F170)","v":""},{"$f":"IF(部員名簿!A170=\"\",\"\",部員名簿!I170)","v":""},{"$f":"IF(部員名簿!A170=\"\",\"\",部員名簿!B170)","v":""}]
[{"$f":"IF(部員名簿!A171=\"\",\"\",YEAR(部員名簿!G171))","v":""},{"$f":"IF(部員名簿!A171=\"\",\"\",MONTH(部員名簿!G171))","v":""},{"$f":"IF(部員名簿!A171=\"\",\"\",DAY(部員名簿!G171))","v":""},{"$f":"IF(部員名簿!A171=\"\",\"\",学校番号*100+部員名簿!H171)","v":""},{"$f":"IF(部員名簿!A171=\"\",\"\",部員名簿!C171)","v":""},{"$f":"IF(部員名簿!A171=\"\",\"\",部員名簿!D171)","v":""},{"$f":"IF(部員名簿!A171=\"\",\"\",部員名簿!E171)","v":""},{"$f":"IF(部員名簿!A171=\"\",\"\",部員名簿!F171)","v":""},{"$f":"IF(部員名簿!A171=\"\",\"\",部員名簿!I171)","v":""},{"$f":"IF(部員名簿!A171=\"\",\"\",部員名簿!B171)","v":""}]
[{"$f":"IF(部員名簿!A172=\"\",\"\",YEAR(部員名簿!G172))","v":""},{"$f":"IF(部員名簿!A172=\"\",\"\",MONTH(部員名簿!G172))","v":""},{"$f":"IF(部員名簿!A172=\"\",\"\",DAY(部員名簿!G172))","v":""},{"$f":"IF(部員名簿!A172=\"\",\"\",学校番号*100+部員名簿!H172)","v":""},{"$f":"IF(部員名簿!A172=\"\",\"\",部員名簿!C172)","v":""},{"$f":"IF(部員名簿!A172=\"\",\"\",部員名簿!D172)","v":""},{"$f":"IF(部員名簿!A172=\"\",\"\",部員名簿!E172)","v":""},{"$f":"IF(部員名簿!A172=\"\",\"\",部員名簿!F172)","v":""},{"$f":"IF(部員名簿!A172=\"\",\"\",部員名簿!I172)","v":""},{"$f":"IF(部員名簿!A172=\"\",\"\",部員名簿!B172)","v":""}]
[{"$f":"IF(部員名簿!A173=\"\",\"\",YEAR(部員名簿!G173))","v":""},{"$f":"IF(部員名簿!A173=\"\",\"\",MONTH(部員名簿!G173))","v":""},{"$f":"IF(部員名簿!A173=\"\",\"\",DAY(部員名簿!G173))","v":""},{"$f":"IF(部員名簿!A173=\"\",\"\",学校番号*100+部員名簿!H173)","v":""},{"$f":"IF(部員名簿!A173=\"\",\"\",部員名簿!C173)","v":""},{"$f":"IF(部員名簿!A173=\"\",\"\",部員名簿!D173)","v":""},{"$f":"IF(部員名簿!A173=\"\",\"\",部員名簿!E173)","v":""},{"$f":"IF(部員名簿!A173=\"\",\"\",部員名簿!F173)","v":""},{"$f":"IF(部員名簿!A173=\"\",\"\",部員名簿!I173)","v":""},{"$f":"IF(部員名簿!A173=\"\",\"\",部員名簿!B173)","v":""}]
[{"$f":"IF(部員名簿!A174=\"\",\"\",YEAR(部員名簿!G174))","v":""},{"$f":"IF(部員名簿!A174=\"\",\"\",MONTH(部員名簿!G174))","v":""},{"$f":"IF(部員名簿!A174=\"\",\"\",DAY(部員名簿!G174))","v":""},{"$f":"IF(部員名簿!A174=\"\",\"\",学校番号*100+部員名簿!H174)","v":""},{"$f":"IF(部員名簿!A174=\"\",\"\",部員名簿!C174)","v":""},{"$f":"IF(部員名簿!A174=\"\",\"\",部員名簿!D174)","v":""},{"$f":"IF(部員名簿!A174=\"\",\"\",部員名簿!E174)","v":""},{"$f":"IF(部員名簿!A174=\"\",\"\",部員名簿!F174)","v":""},{"$f":"IF(部員名簿!A174=\"\",\"\",部員名簿!I174)","v":""},{"$f":"IF(部員名簿!A174=\"\",\"\",部員名簿!B174)","v":""}]
[{"$f":"IF(部員名簿!A175=\"\",\"\",YEAR(部員名簿!G175))","v":""},{"$f":"IF(部員名簿!A175=\"\",\"\",MONTH(部員名簿!G175))","v":""},{"$f":"IF(部員名簿!A175=\"\",\"\",DAY(部員名簿!G175))","v":""},{"$f":"IF(部員名簿!A175=\"\",\"\",学校番号*100+部員名簿!H175)","v":""},{"$f":"IF(部員名簿!A175=\"\",\"\",部員名簿!C175)","v":""},{"$f":"IF(部員名簿!A175=\"\",\"\",部員名簿!D175)","v":""},{"$f":"IF(部員名簿!A175=\"\",\"\",部員名簿!E175)","v":""},{"$f":"IF(部員名簿!A175=\"\",\"\",部員名簿!F175)","v":""},{"$f":"IF(部員名簿!A175=\"\",\"\",部員名簿!I175)","v":""},{"$f":"IF(部員名簿!A175=\"\",\"\",部員名簿!B175)","v":""}]
[{"$f":"IF(部員名簿!A176=\"\",\"\",YEAR(部員名簿!G176))","v":""},{"$f":"IF(部員名簿!A176=\"\",\"\",MONTH(部員名簿!G176))","v":""},{"$f":"IF(部員名簿!A176=\"\",\"\",DAY(部員名簿!G176))","v":""},{"$f":"IF(部員名簿!A176=\"\",\"\",学校番号*100+部員名簿!H176)","v":""},{"$f":"IF(部員名簿!A176=\"\",\"\",部員名簿!C176)","v":""},{"$f":"IF(部員名簿!A176=\"\",\"\",部員名簿!D176)","v":""},{"$f":"IF(部員名簿!A176=\"\",\"\",部員名簿!E176)","v":""},{"$f":"IF(部員名簿!A176=\"\",\"\",部員名簿!F176)","v":""},{"$f":"IF(部員名簿!A176=\"\",\"\",部員名簿!I176)","v":""},{"$f":"IF(部員名簿!A176=\"\",\"\",部員名簿!B176)","v":""}]
[{"$f":"IF(部員名簿!A177=\"\",\"\",YEAR(部員名簿!G177))","v":""},{"$f":"IF(部員名簿!A177=\"\",\"\",MONTH(部員名簿!G177))","v":""},{"$f":"IF(部員名簿!A177=\"\",\"\",DAY(部員名簿!G177))","v":""},{"$f":"IF(部員名簿!A177=\"\",\"\",学校番号*100+部員名簿!H177)","v":""},{"$f":"IF(部員名簿!A177=\"\",\"\",部員名簿!C177)","v":""},{"$f":"IF(部員名簿!A177=\"\",\"\",部員名簿!D177)","v":""},{"$f":"IF(部員名簿!A177=\"\",\"\",部員名簿!E177)","v":""},{"$f":"IF(部員名簿!A177=\"\",\"\",部員名簿!F177)","v":""},{"$f":"IF(部員名簿!A177=\"\",\"\",部員名簿!I177)","v":""},{"$f":"IF(部員名簿!A177=\"\",\"\",部員名簿!B177)","v":""}]
[{"$f":"IF(部員名簿!A178=\"\",\"\",YEAR(部員名簿!G178))","v":""},{"$f":"IF(部員名簿!A178=\"\",\"\",MONTH(部員名簿!G178))","v":""},{"$f":"IF(部員名簿!A178=\"\",\"\",DAY(部員名簿!G178))","v":""},{"$f":"IF(部員名簿!A178=\"\",\"\",学校番号*100+部員名簿!H178)","v":""},{"$f":"IF(部員名簿!A178=\"\",\"\",部員名簿!C178)","v":""},{"$f":"IF(部員名簿!A178=\"\",\"\",部員名簿!D178)","v":""},{"$f":"IF(部員名簿!A178=\"\",\"\",部員名簿!E178)","v":""},{"$f":"IF(部員名簿!A178=\"\",\"\",部員名簿!F178)","v":""},{"$f":"IF(部員名簿!A178=\"\",\"\",部員名簿!I178)","v":""},{"$f":"IF(部員名簿!A178=\"\",\"\",部員名簿!B178)","v":""}]
[{"$f":"IF(部員名簿!A179=\"\",\"\",YEAR(部員名簿!G179))","v":""},{"$f":"IF(部員名簿!A179=\"\",\"\",MONTH(部員名簿!G179))","v":""},{"$f":"IF(部員名簿!A179=\"\",\"\",DAY(部員名簿!G179))","v":""},{"$f":"IF(部員名簿!A179=\"\",\"\",学校番号*100+部員名簿!H179)","v":""},{"$f":"IF(部員名簿!A179=\"\",\"\",部員名簿!C179)","v":""},{"$f":"IF(部員名簿!A179=\"\",\"\",部員名簿!D179)","v":""},{"$f":"IF(部員名簿!A179=\"\",\"\",部員名簿!E179)","v":""},{"$f":"IF(部員名簿!A179=\"\",\"\",部員名簿!F179)","v":""},{"$f":"IF(部員名簿!A179=\"\",\"\",部員名簿!I179)","v":""},{"$f":"IF(部員名簿!A179=\"\",\"\",部員名簿!B179)","v":""}]
[{"$f":"IF(部員名簿!A180=\"\",\"\",YEAR(部員名簿!G180))","v":""},{"$f":"IF(部員名簿!A180=\"\",\"\",MONTH(部員名簿!G180))","v":""},{"$f":"IF(部員名簿!A180=\"\",\"\",DAY(部員名簿!G180))","v":""},{"$f":"IF(部員名簿!A180=\"\",\"\",学校番号*100+部員名簿!H180)","v":""},{"$f":"IF(部員名簿!A180=\"\",\"\",部員名簿!C180)","v":""},{"$f":"IF(部員名簿!A180=\"\",\"\",部員名簿!D180)","v":""},{"$f":"IF(部員名簿!A180=\"\",\"\",部員名簿!E180)","v":""},{"$f":"IF(部員名簿!A180=\"\",\"\",部員名簿!F180)","v":""},{"$f":"IF(部員名簿!A180=\"\",\"\",部員名簿!I180)","v":""},{"$f":"IF(部員名簿!A180=\"\",\"\",部員名簿!B180)","v":""}]
[{"$f":"IF(部員名簿!A181=\"\",\"\",YEAR(部員名簿!G181))","v":""},{"$f":"IF(部員名簿!A181=\"\",\"\",MONTH(部員名簿!G181))","v":""},{"$f":"IF(部員名簿!A181=\"\",\"\",DAY(部員名簿!G181))","v":""},{"$f":"IF(部員名簿!A181=\"\",\"\",学校番号*100+部員名簿!H181)","v":""},{"$f":"IF(部員名簿!A181=\"\",\"\",部員名簿!C181)","v":""},{"$f":"IF(部員名簿!A181=\"\",\"\",部員名簿!D181)","v":""},{"$f":"IF(部員名簿!A181=\"\",\"\",部員名簿!E181)","v":""},{"$f":"IF(部員名簿!A181=\"\",\"\",部員名簿!F181)","v":""},{"$f":"IF(部員名簿!A181=\"\",\"\",部員名簿!I181)","v":""},{"$f":"IF(部員名簿!A181=\"\",\"\",部員名簿!B181)","v":""}]
[{"$f":"IF(部員名簿!A182=\"\",\"\",YEAR(部員名簿!G182))","v":""},{"$f":"IF(部員名簿!A182=\"\",\"\",MONTH(部員名簿!G182))","v":""},{"$f":"IF(部員名簿!A182=\"\",\"\",DAY(部員名簿!G182))","v":""},{"$f":"IF(部員名簿!A182=\"\",\"\",学校番号*100+部員名簿!H182)","v":""},{"$f":"IF(部員名簿!A182=\"\",\"\",部員名簿!C182)","v":""},{"$f":"IF(部員名簿!A182=\"\",\"\",部員名簿!D182)","v":""},{"$f":"IF(部員名簿!A182=\"\",\"\",部員名簿!E182)","v":""},{"$f":"IF(部員名簿!A182=\"\",\"\",部員名簿!F182)","v":""},{"$f":"IF(部員名簿!A182=\"\",\"\",部員名簿!I182)","v":""},{"$f":"IF(部員名簿!A182=\"\",\"\",部員名簿!B182)","v":""}]
[{"$f":"IF(部員名簿!A183=\"\",\"\",YEAR(部員名簿!G183))","v":""},{"$f":"IF(部員名簿!A183=\"\",\"\",MONTH(部員名簿!G183))","v":""},{"$f":"IF(部員名簿!A183=\"\",\"\",DAY(部員名簿!G183))","v":""},{"$f":"IF(部員名簿!A183=\"\",\"\",学校番号*100+部員名簿!H183)","v":""},{"$f":"IF(部員名簿!A183=\"\",\"\",部員名簿!C183)","v":""},{"$f":"IF(部員名簿!A183=\"\",\"\",部員名簿!D183)","v":""},{"$f":"IF(部員名簿!A183=\"\",\"\",部員名簿!E183)","v":""},{"$f":"IF(部員名簿!A183=\"\",\"\",部員名簿!F183)","v":""},{"$f":"IF(部員名簿!A183=\"\",\"\",部員名簿!I183)","v":""},{"$f":"IF(部員名簿!A183=\"\",\"\",部員名簿!B183)","v":""}]
[{"$f":"IF(部員名簿!A184=\"\",\"\",YEAR(部員名簿!G184))","v":""},{"$f":"IF(部員名簿!A184=\"\",\"\",MONTH(部員名簿!G184))","v":""},{"$f":"IF(部員名簿!A184=\"\",\"\",DAY(部員名簿!G184))","v":""},{"$f":"IF(部員名簿!A184=\"\",\"\",学校番号*100+部員名簿!H184)","v":""},{"$f":"IF(部員名簿!A184=\"\",\"\",部員名簿!C184)","v":""},{"$f":"IF(部員名簿!A184=\"\",\"\",部員名簿!D184)","v":""},{"$f":"IF(部員名簿!A184=\"\",\"\",部員名簿!E184)","v":""},{"$f":"IF(部員名簿!A184=\"\",\"\",部員名簿!F184)","v":""},{"$f":"IF(部員名簿!A184=\"\",\"\",部員名簿!I184)","v":""},{"$f":"IF(部員名簿!A184=\"\",\"\",部員名簿!B184)","v":""}]
[{"$f":"IF(部員名簿!A185=\"\",\"\",YEAR(部員名簿!G185))","v":""},{"$f":"IF(部員名簿!A185=\"\",\"\",MONTH(部員名簿!G185))","v":""},{"$f":"IF(部員名簿!A185=\"\",\"\",DAY(部員名簿!G185))","v":""},{"$f":"IF(部員名簿!A185=\"\",\"\",学校番号*100+部員名簿!H185)","v":""},{"$f":"IF(部員名簿!A185=\"\",\"\",部員名簿!C185)","v":""},{"$f":"IF(部員名簿!A185=\"\",\"\",部員名簿!D185)","v":""},{"$f":"IF(部員名簿!A185=\"\",\"\",部員名簿!E185)","v":""},{"$f":"IF(部員名簿!A185=\"\",\"\",部員名簿!F185)","v":""},{"$f":"IF(部員名簿!A185=\"\",\"\",部員名簿!I185)","v":""},{"$f":"IF(部員名簿!A185=\"\",\"\",部員名簿!B185)","v":""}]
[{"$f":"IF(部員名簿!A186=\"\",\"\",YEAR(部員名簿!G186))","v":""},{"$f":"IF(部員名簿!A186=\"\",\"\",MONTH(部員名簿!G186))","v":""},{"$f":"IF(部員名簿!A186=\"\",\"\",DAY(部員名簿!G186))","v":""},{"$f":"IF(部員名簿!A186=\"\",\"\",学校番号*100+部員名簿!H186)","v":""},{"$f":"IF(部員名簿!A186=\"\",\"\",部員名簿!C186)","v":""},{"$f":"IF(部員名簿!A186=\"\",\"\",部員名簿!D186)","v":""},{"$f":"IF(部員名簿!A186=\"\",\"\",部員名簿!E186)","v":""},{"$f":"IF(部員名簿!A186=\"\",\"\",部員名簿!F186)","v":""},{"$f":"IF(部員名簿!A186=\"\",\"\",部員名簿!I186)","v":""},{"$f":"IF(部員名簿!A186=\"\",\"\",部員名簿!B186)","v":""}]
[{"$f":"IF(部員名簿!A187=\"\",\"\",YEAR(部員名簿!G187))","v":""},{"$f":"IF(部員名簿!A187=\"\",\"\",MONTH(部員名簿!G187))","v":""},{"$f":"IF(部員名簿!A187=\"\",\"\",DAY(部員名簿!G187))","v":""},{"$f":"IF(部員名簿!A187=\"\",\"\",学校番号*100+部員名簿!H187)","v":""},{"$f":"IF(部員名簿!A187=\"\",\"\",部員名簿!C187)","v":""},{"$f":"IF(部員名簿!A187=\"\",\"\",部員名簿!D187)","v":""},{"$f":"IF(部員名簿!A187=\"\",\"\",部員名簿!E187)","v":""},{"$f":"IF(部員名簿!A187=\"\",\"\",部員名簿!F187)","v":""},{"$f":"IF(部員名簿!A187=\"\",\"\",部員名簿!I187)","v":""},{"$f":"IF(部員名簿!A187=\"\",\"\",部員名簿!B187)","v":""}]
[{"$f":"IF(部員名簿!A188=\"\",\"\",YEAR(部員名簿!G188))","v":""},{"$f":"IF(部員名簿!A188=\"\",\"\",MONTH(部員名簿!G188))","v":""},{"$f":"IF(部員名簿!A188=\"\",\"\",DAY(部員名簿!G188))","v":""},{"$f":"IF(部員名簿!A188=\"\",\"\",学校番号*100+部員名簿!H188)","v":""},{"$f":"IF(部員名簿!A188=\"\",\"\",部員名簿!C188)","v":""},{"$f":"IF(部員名簿!A188=\"\",\"\",部員名簿!D188)","v":""},{"$f":"IF(部員名簿!A188=\"\",\"\",部員名簿!E188)","v":""},{"$f":"IF(部員名簿!A188=\"\",\"\",部員名簿!F188)","v":""},{"$f":"IF(部員名簿!A188=\"\",\"\",部員名簿!I188)","v":""},{"$f":"IF(部員名簿!A188=\"\",\"\",部員名簿!B188)","v":""}]
[{"$f":"IF(部員名簿!A189=\"\",\"\",YEAR(部員名簿!G189))","v":""},{"$f":"IF(部員名簿!A189=\"\",\"\",MONTH(部員名簿!G189))","v":""},{"$f":"IF(部員名簿!A189=\"\",\"\",DAY(部員名簿!G189))","v":""},{"$f":"IF(部員名簿!A189=\"\",\"\",学校番号*100+部員名簿!H189)","v":""},{"$f":"IF(部員名簿!A189=\"\",\"\",部員名簿!C189)","v":""},{"$f":"IF(部員名簿!A189=\"\",\"\",部員名簿!D189)","v":""},{"$f":"IF(部員名簿!A189=\"\",\"\",部員名簿!E189)","v":""},{"$f":"IF(部員名簿!A189=\"\",\"\",部員名簿!F189)","v":""},{"$f":"IF(部員名簿!A189=\"\",\"\",部員名簿!I189)","v":""},{"$f":"IF(部員名簿!A189=\"\",\"\",部員名簿!B189)","v":""}]
[{"$f":"IF(部員名簿!A190=\"\",\"\",YEAR(部員名簿!G190))","v":""},{"$f":"IF(部員名簿!A190=\"\",\"\",MONTH(部員名簿!G190))","v":""},{"$f":"IF(部員名簿!A190=\"\",\"\",DAY(部員名簿!G190))","v":""},{"$f":"IF(部員名簿!A190=\"\",\"\",学校番号*100+部員名簿!H190)","v":""},{"$f":"IF(部員名簿!A190=\"\",\"\",部員名簿!C190)","v":""},{"$f":"IF(部員名簿!A190=\"\",\"\",部員名簿!D190)","v":""},{"$f":"IF(部員名簿!A190=\"\",\"\",部員名簿!E190)","v":""},{"$f":"IF(部員名簿!A190=\"\",\"\",部員名簿!F190)","v":""},{"$f":"IF(部員名簿!A190=\"\",\"\",部員名簿!I190)","v":""},{"$f":"IF(部員名簿!A190=\"\",\"\",部員名簿!B190)","v":""}]
[{"$f":"IF(部員名簿!A191=\"\",\"\",YEAR(部員名簿!G191))","v":""},{"$f":"IF(部員名簿!A191=\"\",\"\",MONTH(部員名簿!G191))","v":""},{"$f":"IF(部員名簿!A191=\"\",\"\",DAY(部員名簿!G191))","v":""},{"$f":"IF(部員名簿!A191=\"\",\"\",学校番号*100+部員名簿!H191)","v":""},{"$f":"IF(部員名簿!A191=\"\",\"\",部員名簿!C191)","v":""},{"$f":"IF(部員名簿!A191=\"\",\"\",部員名簿!D191)","v":""},{"$f":"IF(部員名簿!A191=\"\",\"\",部員名簿!E191)","v":""},{"$f":"IF(部員名簿!A191=\"\",\"\",部員名簿!F191)","v":""},{"$f":"IF(部員名簿!A191=\"\",\"\",部員名簿!I191)","v":""},{"$f":"IF(部員名簿!A191=\"\",\"\",部員名簿!B191)","v":""}]
[{"$f":"IF(部員名簿!A192=\"\",\"\",YEAR(部員名簿!G192))","v":""},{"$f":"IF(部員名簿!A192=\"\",\"\",MONTH(部員名簿!G192))","v":""},{"$f":"IF(部員名簿!A192=\"\",\"\",DAY(部員名簿!G192))","v":""},{"$f":"IF(部員名簿!A192=\"\",\"\",学校番号*100+部員名簿!H192)","v":""},{"$f":"IF(部員名簿!A192=\"\",\"\",部員名簿!C192)","v":""},{"$f":"IF(部員名簿!A192=\"\",\"\",部員名簿!D192)","v":""},{"$f":"IF(部員名簿!A192=\"\",\"\",部員名簿!E192)","v":""},{"$f":"IF(部員名簿!A192=\"\",\"\",部員名簿!F192)","v":""},{"$f":"IF(部員名簿!A192=\"\",\"\",部員名簿!I192)","v":""},{"$f":"IF(部員名簿!A192=\"\",\"\",部員名簿!B192)","v":""}]
[{"$f":"IF(部員名簿!A193=\"\",\"\",YEAR(部員名簿!G193))","v":""},{"$f":"IF(部員名簿!A193=\"\",\"\",MONTH(部員名簿!G193))","v":""},{"$f":"IF(部員名簿!A193=\"\",\"\",DAY(部員名簿!G193))","v":""},{"$f":"IF(部員名簿!A193=\"\",\"\",学校番号*100+部員名簿!H193)","v":""},{"$f":"IF(部員名簿!A193=\"\",\"\",部員名簿!C193)","v":""},{"$f":"IF(部員名簿!A193=\"\",\"\",部員名簿!D193)","v":""},{"$f":"IF(部員名簿!A193=\"\",\"\",部員名簿!E193)","v":""},{"$f":"IF(部員名簿!A193=\"\",\"\",部員名簿!F193)","v":""},{"$f":"IF(部員名簿!A193=\"\",\"\",部員名簿!I193)","v":""},{"$f":"IF(部員名簿!A193=\"\",\"\",部員名簿!B193)","v":""}]
[{"$f":"IF(部員名簿!A194=\"\",\"\",YEAR(部員名簿!G194))","v":""},{"$f":"IF(部員名簿!A194=\"\",\"\",MONTH(部員名簿!G194))","v":""},{"$f":"IF(部員名簿!A194=\"\",\"\",DAY(部員名簿!G194))","v":""},{"$f":"IF(部員名簿!A194=\"\",\"\",学校番号*100+部員名簿!H194)","v":""},{"$f":"IF(部員名簿!A194=\"\",\"\",部員名簿!C194)","v":""},{"$f":"IF(部員名簿!A194=\"\",\"\",部員名簿!D194)","v":""},{"$f":"IF(部員名簿!A194=\"\",\"\",部員名簿!E194)","v":""},{"$f":"IF(部員名簿!A194=\"\",\"\",部員名簿!F194)","v":""},{"$f":"IF(部員名簿!A194=\"\",\"\",部員名簿!I194)","v":""},{"$f":"IF(部員名簿!A194=\"\",\"\",部員名簿!B194)","v":""}]
[{"$f":"IF(部員名簿!A195=\"\",\"\",YEAR(部員名簿!G195))","v":""},{"$f":"IF(部員名簿!A195=\"\",\"\",MONTH(部員名簿!G195))","v":""},{"$f":"IF(部員名簿!A195=\"\",\"\",DAY(部員名簿!G195))","v":""},{"$f":"IF(部員名簿!A195=\"\",\"\",学校番号*100+部員名簿!H195)","v":""},{"$f":"IF(部員名簿!A195=\"\",\"\",部員名簿!C195)","v":""},{"$f":"IF(部員名簿!A195=\"\",\"\",部員名簿!D195)","v":""},{"$f":"IF(部員名簿!A195=\"\",\"\",部員名簿!E195)","v":""},{"$f":"IF(部員名簿!A195=\"\",\"\",部員名簿!F195)","v":""},{"$f":"IF(部員名簿!A195=\"\",\"\",部員名簿!I195)","v":""},{"$f":"IF(部員名簿!A195=\"\",\"\",部員名簿!B195)","v":""}]
[{"$f":"IF(部員名簿!A196=\"\",\"\",YEAR(部員名簿!G196))","v":""},{"$f":"IF(部員名簿!A196=\"\",\"\",MONTH(部員名簿!G196))","v":""},{"$f":"IF(部員名簿!A196=\"\",\"\",DAY(部員名簿!G196))","v":""},{"$f":"IF(部員名簿!A196=\"\",\"\",学校番号*100+部員名簿!H196)","v":""},{"$f":"IF(部員名簿!A196=\"\",\"\",部員名簿!C196)","v":""},{"$f":"IF(部員名簿!A196=\"\",\"\",部員名簿!D196)","v":""},{"$f":"IF(部員名簿!A196=\"\",\"\",部員名簿!E196)","v":""},{"$f":"IF(部員名簿!A196=\"\",\"\",部員名簿!F196)","v":""},{"$f":"IF(部員名簿!A196=\"\",\"\",部員名簿!I196)","v":""},{"$f":"IF(部員名簿!A196=\"\",\"\",部員名簿!B196)","v":""}]
[{"$f":"IF(部員名簿!A197=\"\",\"\",YEAR(部員名簿!G197))","v":""},{"$f":"IF(部員名簿!A197=\"\",\"\",MONTH(部員名簿!G197))","v":""},{"$f":"IF(部員名簿!A197=\"\",\"\",DAY(部員名簿!G197))","v":""},{"$f":"IF(部員名簿!A197=\"\",\"\",学校番号*100+部員名簿!H197)","v":""},{"$f":"IF(部員名簿!A197=\"\",\"\",部員名簿!C197)","v":""},{"$f":"IF(部員名簿!A197=\"\",\"\",部員名簿!D197)","v":""},{"$f":"IF(部員名簿!A197=\"\",\"\",部員名簿!E197)","v":""},{"$f":"IF(部員名簿!A197=\"\",\"\",部員名簿!F197)","v":""},{"$f":"IF(部員名簿!A197=\"\",\"\",部員名簿!I197)","v":""},{"$f":"IF(部員名簿!A197=\"\",\"\",部員名簿!B197)","v":""}]
[{"$f":"IF(部員名簿!A198=\"\",\"\",YEAR(部員名簿!G198))","v":""},{"$f":"IF(部員名簿!A198=\"\",\"\",MONTH(部員名簿!G198))","v":""},{"$f":"IF(部員名簿!A198=\"\",\"\",DAY(部員名簿!G198))","v":""},{"$f":"IF(部員名簿!A198=\"\",\"\",学校番号*100+部員名簿!H198)","v":""},{"$f":"IF(部員名簿!A198=\"\",\"\",部員名簿!C198)","v":""},{"$f":"IF(部員名簿!A198=\"\",\"\",部員名簿!D198)","v":""},{"$f":"IF(部員名簿!A198=\"\",\"\",部員名簿!E198)","v":""},{"$f":"IF(部員名簿!A198=\"\",\"\",部員名簿!F198)","v":""},{"$f":"IF(部員名簿!A198=\"\",\"\",部員名簿!I198)","v":""},{"$f":"IF(部員名簿!A198=\"\",\"\",部員名簿!B198)","v":""}]
[{"$f":"IF(部員名簿!A199=\"\",\"\",YEAR(部員名簿!G199))","v":""},{"$f":"IF(部員名簿!A199=\"\",\"\",MONTH(部員名簿!G199))","v":""},{"$f":"IF(部員名簿!A199=\"\",\"\",DAY(部員名簿!G199))","v":""},{"$f":"IF(部員名簿!A199=\"\",\"\",学校番号*100+部員名簿!H199)","v":""},{"$f":"IF(部員名簿!A199=\"\",\"\",部員名簿!C199)","v":""},{"$f":"IF(部員名簿!A199=\"\",\"\",部員名簿!D199)","v":""},{"$f":"IF(部員名簿!A199=\"\",\"\",部員名簿!E199)","v":""},{"$f":"IF(部員名簿!A199=\"\",\"\",部員名簿!F199)","v":""},{"$f":"IF(部員名簿!A199=\"\",\"\",部員名簿!I199)","v":""},{"$f":"IF(部員名簿!A199=\"\",\"\",部員名簿!B199)","v":""}]
[{"$f":"IF(部員名簿!A200=\"\",\"\",YEAR(部員名簿!G200))","v":""},{"$f":"IF(部員名簿!A200=\"\",\"\",MONTH(部員名簿!G200))","v":""},{"$f":"IF(部員名簿!A200=\"\",\"\",DAY(部員名簿!G200))","v":""},{"$f":"IF(部員名簿!A200=\"\",\"\",学校番号*100+部員名簿!H200)","v":""},{"$f":"IF(部員名簿!A200=\"\",\"\",部員名簿!C200)","v":""},{"$f":"IF(部員名簿!A200=\"\",\"\",部員名簿!D200)","v":""},{"$f":"IF(部員名簿!A200=\"\",\"\",部員名簿!E200)","v":""},{"$f":"IF(部員名簿!A200=\"\",\"\",部員名簿!F200)","v":""},{"$f":"IF(部員名簿!A200=\"\",\"\",部員名簿!I200)","v":""},{"$f":"IF(部員名簿!A200=\"\",\"\",部員名簿!B200)","v":""}]
[{"$f":"IF(部員名簿!A201=\"\",\"\",YEAR(部員名簿!G201))","v":""},{"$f":"IF(部員名簿!A201=\"\",\"\",MONTH(部員名簿!G201))","v":""},{"$f":"IF(部員名簿!A201=\"\",\"\",DAY(部員名簿!G201))","v":""},{"$f":"IF(部員名簿!A201=\"\",\"\",学校番号*100+部員名簿!H201)","v":""},{"$f":"IF(部員名簿!A201=\"\",\"\",部員名簿!C201)","v":""},{"$f":"IF(部員名簿!A201=\"\",\"\",部員名簿!D201)","v":""},{"$f":"IF(部員名簿!A201=\"\",\"\",部員名簿!E201)","v":""},{"$f":"IF(部員名簿!A201=\"\",\"\",部員名簿!F201)","v":""},{"$f":"IF(部員名簿!A201=\"\",\"\",部員名簿!I201)","v":""},{"$f":"IF(部員名簿!A201=\"\",\"\",部員名簿!B201)","v":""}]
[{"$f":"IF(部員名簿!A202=\"\",\"\",YEAR(部員名簿!G202))","v":""},{"$f":"IF(部員名簿!A202=\"\",\"\",MONTH(部員名簿!G202))","v":""},{"$f":"IF(部員名簿!A202=\"\",\"\",DAY(部員名簿!G202))","v":""},{"$f":"IF(部員名簿!A202=\"\",\"\",学校番号*100+部員名簿!H202)","v":""},{"$f":"IF(部員名簿!A202=\"\",\"\",部員名簿!C202)","v":""},{"$f":"IF(部員名簿!A202=\"\",\"\",部員名簿!D202)","v":""},{"$f":"IF(部員名簿!A202=\"\",\"\",部員名簿!E202)","v":""},{"$f":"IF(部員名簿!A202=\"\",\"\",部員名簿!F202)","v":""},{"$f":"IF(部員名簿!A202=\"\",\"\",部員名簿!I202)","v":""},{"$f":"IF(部員名簿!A202=\"\",\"\",部員名簿!B202)","v":""}]
[{"$f":"IF(部員名簿!A203=\"\",\"\",YEAR(部員名簿!G203))","v":""},{"$f":"IF(部員名簿!A203=\"\",\"\",MONTH(部員名簿!G203))","v":""},{"$f":"IF(部員名簿!A203=\"\",\"\",DAY(部員名簿!G203))","v":""},{"$f":"IF(部員名簿!A203=\"\",\"\",学校番号*100+部員名簿!H203)","v":""},{"$f":"IF(部員名簿!A203=\"\",\"\",部員名簿!C203)","v":""},{"$f":"IF(部員名簿!A203=\"\",\"\",部員名簿!D203)","v":""},{"$f":"IF(部員名簿!A203=\"\",\"\",部員名簿!E203)","v":""},{"$f":"IF(部員名簿!A203=\"\",\"\",部員名簿!F203)","v":""},{"$f":"IF(部員名簿!A203=\"\",\"\",部員名簿!I203)","v":""},{"$f":"IF(部員名簿!A203=\"\",\"\",部員名簿!B203)","v":""}]
[{"$f":"IF(部員名簿!A204=\"\",\"\",YEAR(部員名簿!G204))","v":""},{"$f":"IF(部員名簿!A204=\"\",\"\",MONTH(部員名簿!G204))","v":""},{"$f":"IF(部員名簿!A204=\"\",\"\",DAY(部員名簿!G204))","v":""},{"$f":"IF(部員名簿!A204=\"\",\"\",学校番号*100+部員名簿!H204)","v":""},{"$f":"IF(部員名簿!A204=\"\",\"\",部員名簿!C204)","v":""},{"$f":"IF(部員名簿!A204=\"\",\"\",部員名簿!D204)","v":""},{"$f":"IF(部員名簿!A204=\"\",\"\",部員名簿!E204)","v":""},{"$f":"IF(部員名簿!A204=\"\",\"\",部員名簿!F204)","v":""},{"$f":"IF(部員名簿!A204=\"\",\"\",部員名簿!I204)","v":""},{"$f":"IF(部員名簿!A204=\"\",\"\",部員名簿!B204)","v":""}]
[{"$f":"IF(部員名簿!A205=\"\",\"\",YEAR(部員名簿!G205))","v":""},{"$f":"IF(部員名簿!A205=\"\",\"\",MONTH(部員名簿!G205))","v":""},{"$f":"IF(部員名簿!A205=\"\",\"\",DAY(部員名簿!G205))","v":""},{"$f":"IF(部員名簿!A205=\"\",\"\",学校番号*100+部員名簿!H205)","v":""},{"$f":"IF(部員名簿!A205=\"\",\"\",部員名簿!C205)","v":""},{"$f":"IF(部員名簿!A205=\"\",\"\",部員名簿!D205)","v":""},{"$f":"IF(部員名簿!A205=\"\",\"\",部員名簿!E205)","v":""},{"$f":"IF(部員名簿!A205=\"\",\"\",部員名簿!F205)","v":""},{"$f":"IF(部員名簿!A205=\"\",\"\",部員名簿!I205)","v":""},{"$f":"IF(部員名簿!A205=\"\",\"\",部員名簿!B205)","v":""}]
[{"$f":"IF(部員名簿!A207=\"\",\"\",YEAR(部員名簿!G207))","v":""},{"$f":"IF(部員名簿!A207=\"\",\"\",MONTH(部員名簿!G207))","v":""},{"$f":"IF(部員名簿!A207=\"\",\"\",DAY(部員名簿!G207))","v":""},{"$f":"IF(部員名簿!A207=\"\",\"\",学校番号*100+部員名簿!H207)","v":""},{"$f":"IF(部員名簿!A207=\"\",\"\",部員名簿!C207)","v":""},{"$f":"IF(部員名簿!A207=\"\",\"\",部員名簿!D207)","v":""},{"$f":"IF(部員名簿!A207=\"\",\"\",部員名簿!E207)","v":""},{"$f":"IF(部員名簿!A207=\"\",\"\",部員名簿!F207)","v":""},{"$f":"IF(部員名簿!A207=\"\",\"\",部員名簿!I207)","v":""},{"$f":"IF(部員名簿!A207=\"\",\"\",部員名簿!B207)","v":""}]
[{"$f":"IF(部員名簿!A208=\"\",\"\",YEAR(部員名簿!G208))","v":""},{"$f":"IF(部員名簿!A208=\"\",\"\",MONTH(部員名簿!G208))","v":""},{"$f":"IF(部員名簿!A208=\"\",\"\",DAY(部員名簿!G208))","v":""},{"$f":"IF(部員名簿!A208=\"\",\"\",学校番号*100+部員名簿!H208)","v":""},{"$f":"IF(部員名簿!A208=\"\",\"\",部員名簿!C208)","v":""},{"$f":"IF(部員名簿!A208=\"\",\"\",部員名簿!D208)","v":""},{"$f":"IF(部員名簿!A208=\"\",\"\",部員名簿!E208)","v":""},{"$f":"IF(部員名簿!A208=\"\",\"\",部員名簿!F208)","v":""},{"$f":"IF(部員名簿!A208=\"\",\"\",部員名簿!I208)","v":""},{"$f":"IF(部員名簿!A208=\"\",\"\",部員名簿!B208)","v":""}]
[{"$f":"IF(部員名簿!A209=\"\",\"\",YEAR(部員名簿!G209))","v":""},{"$f":"IF(部員名簿!A209=\"\",\"\",MONTH(部員名簿!G209))","v":""},{"$f":"IF(部員名簿!A209=\"\",\"\",DAY(部員名簿!G209))","v":""},{"$f":"IF(部員名簿!A209=\"\",\"\",学校番号*100+部員名簿!H209)","v":""},{"$f":"IF(部員名簿!A209=\"\",\"\",部員名簿!C209)","v":""},{"$f":"IF(部員名簿!A209=\"\",\"\",部員名簿!D209)","v":""},{"$f":"IF(部員名簿!A209=\"\",\"\",部員名簿!E209)","v":""},{"$f":"IF(部員名簿!A209=\"\",\"\",部員名簿!F209)","v":""},{"$f":"IF(部員名簿!A209=\"\",\"\",部員名簿!I209)","v":""},{"$f":"IF(部員名簿!A209=\"\",\"\",部員名簿!B209)","v":""}]
[{"$f":"IF(部員名簿!A210=\"\",\"\",YEAR(部員名簿!G210))","v":""},{"$f":"IF(部員名簿!A210=\"\",\"\",MONTH(部員名簿!G210))","v":""},{"$f":"IF(部員名簿!A210=\"\",\"\",DAY(部員名簿!G210))","v":""},{"$f":"IF(部員名簿!A210=\"\",\"\",学校番号*100+部員名簿!H210)","v":""},{"$f":"IF(部員名簿!A210=\"\",\"\",部員名簿!C210)","v":""},{"$f":"IF(部員名簿!A210=\"\",\"\",部員名簿!D210)","v":""},{"$f":"IF(部員名簿!A210=\"\",\"\",部員名簿!E210)","v":""},{"$f":"IF(部員名簿!A210=\"\",\"\",部員名簿!F210)","v":""},{"$f":"IF(部員名簿!A210=\"\",\"\",部員名簿!I210)","v":""},{"$f":"IF(部員名簿!A210=\"\",\"\",部員名簿!B210)","v":""}]
[{"$f":"IF(部員名簿!A211=\"\",\"\",YEAR(部員名簿!G211))","v":""},{"$f":"IF(部員名簿!A211=\"\",\"\",MONTH(部員名簿!G211))","v":""},{"$f":"IF(部員名簿!A211=\"\",\"\",DAY(部員名簿!G211))","v":""},{"$f":"IF(部員名簿!A211=\"\",\"\",学校番号*100+部員名簿!H211)","v":""},{"$f":"IF(部員名簿!A211=\"\",\"\",部員名簿!C211)","v":""},{"$f":"IF(部員名簿!A211=\"\",\"\",部員名簿!D211)","v":""},{"$f":"IF(部員名簿!A211=\"\",\"\",部員名簿!E211)","v":""},{"$f":"IF(部員名簿!A211=\"\",\"\",部員名簿!F211)","v":""},{"$f":"IF(部員名簿!A211=\"\",\"\",部員名簿!I211)","v":""},{"$f":"IF(部員名簿!A211=\"\",\"\",部員名簿!B211)","v":""}]
[{"$f":"IF(部員名簿!A212=\"\",\"\",YEAR(部員名簿!G212))","v":""},{"$f":"IF(部員名簿!A212=\"\",\"\",MONTH(部員名簿!G212))","v":""},{"$f":"IF(部員名簿!A212=\"\",\"\",DAY(部員名簿!G212))","v":""},{"$f":"IF(部員名簿!A212=\"\",\"\",学校番号*100+部員名簿!H212)","v":""},{"$f":"IF(部員名簿!A212=\"\",\"\",部員名簿!C212)","v":""},{"$f":"IF(部員名簿!A212=\"\",\"\",部員名簿!D212)","v":""},{"$f":"IF(部員名簿!A212=\"\",\"\",部員名簿!E212)","v":""},{"$f":"IF(部員名簿!A212=\"\",\"\",部員名簿!F212)","v":""},{"$f":"IF(部員名簿!A212=\"\",\"\",部員名簿!I212)","v":""},{"$f":"IF(部員名簿!A212=\"\",\"\",部員名簿!B212)","v":""}]
[{"$f":"IF(部員名簿!A213=\"\",\"\",YEAR(部員名簿!G213))","v":""},{"$f":"IF(部員名簿!A213=\"\",\"\",MONTH(部員名簿!G213))","v":""},{"$f":"IF(部員名簿!A213=\"\",\"\",DAY(部員名簿!G213))","v":""},{"$f":"IF(部員名簿!A213=\"\",\"\",学校番号*100+部員名簿!H213)","v":""},{"$f":"IF(部員名簿!A213=\"\",\"\",部員名簿!C213)","v":""},{"$f":"IF(部員名簿!A213=\"\",\"\",部員名簿!D213)","v":""},{"$f":"IF(部員名簿!A213=\"\",\"\",部員名簿!E213)","v":""},{"$f":"IF(部員名簿!A213=\"\",\"\",部員名簿!F213)","v":""},{"$f":"IF(部員名簿!A213=\"\",\"\",部員名簿!I213)","v":""},{"$f":"IF(部員名簿!A213=\"\",\"\",部員名簿!B213)","v":""}]
[{"$f":"IF(部員名簿!A214=\"\",\"\",YEAR(部員名簿!G214))","v":""},{"$f":"IF(部員名簿!A214=\"\",\"\",MONTH(部員名簿!G214))","v":""},{"$f":"IF(部員名簿!A214=\"\",\"\",DAY(部員名簿!G214))","v":""},{"$f":"IF(部員名簿!A214=\"\",\"\",学校番号*100+部員名簿!H214)","v":""},{"$f":"IF(部員名簿!A214=\"\",\"\",部員名簿!C214)","v":""},{"$f":"IF(部員名簿!A214=\"\",\"\",部員名簿!D214)","v":""},{"$f":"IF(部員名簿!A214=\"\",\"\",部員名簿!E214)","v":""},{"$f":"IF(部員名簿!A214=\"\",\"\",部員名簿!F214)","v":""},{"$f":"IF(部員名簿!A214=\"\",\"\",部員名簿!I214)","v":""},{"$f":"IF(部員名簿!A214=\"\",\"\",部員名簿!B214)","v":""}]
[{"$f":"IF(部員名簿!A215=\"\",\"\",YEAR(部員名簿!G215))","v":""},{"$f":"IF(部員名簿!A215=\"\",\"\",MONTH(部員名簿!G215))","v":""},{"$f":"IF(部員名簿!A215=\"\",\"\",DAY(部員名簿!G215))","v":""},{"$f":"IF(部員名簿!A215=\"\",\"\",学校番号*100+部員名簿!H215)","v":""},{"$f":"IF(部員名簿!A215=\"\",\"\",部員名簿!C215)","v":""},{"$f":"IF(部員名簿!A215=\"\",\"\",部員名簿!D215)","v":""},{"$f":"IF(部員名簿!A215=\"\",\"\",部員名簿!E215)","v":""},{"$f":"IF(部員名簿!A215=\"\",\"\",部員名簿!F215)","v":""},{"$f":"IF(部員名簿!A215=\"\",\"\",部員名簿!I215)","v":""},{"$f":"IF(部員名簿!A215=\"\",\"\",部員名簿!B215)","v":""}]
[{"$f":"IF(部員名簿!A216=\"\",\"\",YEAR(部員名簿!G216))","v":""},{"$f":"IF(部員名簿!A216=\"\",\"\",MONTH(部員名簿!G216))","v":""},{"$f":"IF(部員名簿!A216=\"\",\"\",DAY(部員名簿!G216))","v":""},{"$f":"IF(部員名簿!A216=\"\",\"\",学校番号*100+部員名簿!H216)","v":""},{"$f":"IF(部員名簿!A216=\"\",\"\",部員名簿!C216)","v":""},{"$f":"IF(部員名簿!A216=\"\",\"\",部員名簿!D216)","v":""},{"$f":"IF(部員名簿!A216=\"\",\"\",部員名簿!E216)","v":""},{"$f":"IF(部員名簿!A216=\"\",\"\",部員名簿!F216)","v":""},{"$f":"IF(部員名簿!A216=\"\",\"\",部員名簿!I216)","v":""},{"$f":"IF(部員名簿!A216=\"\",\"\",部員名簿!B216)","v":""}]
[{"$f":"IF(部員名簿!A217=\"\",\"\",YEAR(部員名簿!G217))","v":""},{"$f":"IF(部員名簿!A217=\"\",\"\",MONTH(部員名簿!G217))","v":""},{"$f":"IF(部員名簿!A217=\"\",\"\",DAY(部員名簿!G217))","v":""},{"$f":"IF(部員名簿!A217=\"\",\"\",学校番号*100+部員名簿!H217)","v":""},{"$f":"IF(部員名簿!A217=\"\",\"\",部員名簿!C217)","v":""},{"$f":"IF(部員名簿!A217=\"\",\"\",部員名簿!D217)","v":""},{"$f":"IF(部員名簿!A217=\"\",\"\",部員名簿!E217)","v":""},{"$f":"IF(部員名簿!A217=\"\",\"\",部員名簿!F217)","v":""},{"$f":"IF(部員名簿!A217=\"\",\"\",部員名簿!I217)","v":""},{"$f":"IF(部員名簿!A217=\"\",\"\",部員名簿!B217)","v":""}]
[{"$f":"IF(部員名簿!A218=\"\",\"\",YEAR(部員名簿!G218))","v":""},{"$f":"IF(部員名簿!A218=\"\",\"\",MONTH(部員名簿!G218))","v":""},{"$f":"IF(部員名簿!A218=\"\",\"\",DAY(部員名簿!G218))","v":""},{"$f":"IF(部員名簿!A218=\"\",\"\",学校番号*100+部員名簿!H218)","v":""},{"$f":"IF(部員名簿!A218=\"\",\"\",部員名簿!C218)","v":""},{"$f":"IF(部員名簿!A218=\"\",\"\",部員名簿!D218)","v":""},{"$f":"IF(部員名簿!A218=\"\",\"\",部員名簿!E218)","v":""},{"$f":"IF(部員名簿!A218=\"\",\"\",部員名簿!F218)","v":""},{"$f":"IF(部員名簿!A218=\"\",\"\",部員名簿!I218)","v":""},{"$f":"IF(部員名簿!A218=\"\",\"\",部員名簿!B218)","v":""}]
[{"$f":"IF(部員名簿!A219=\"\",\"\",YEAR(部員名簿!G219))","v":""},{"$f":"IF(部員名簿!A219=\"\",\"\",MONTH(部員名簿!G219))","v":""},{"$f":"IF(部員名簿!A219=\"\",\"\",DAY(部員名簿!G219))","v":""},{"$f":"IF(部員名簿!A219=\"\",\"\",学校番号*100+部員名簿!H219)","v":""},{"$f":"IF(部員名簿!A219=\"\",\"\",部員名簿!C219)","v":""},{"$f":"IF(部員名簿!A219=\"\",\"\",部員名簿!D219)","v":""},{"$f":"IF(部員名簿!A219=\"\",\"\",部員名簿!E219)","v":""},{"$f":"IF(部員名簿!A219=\"\",\"\",部員名簿!F219)","v":""},{"$f":"IF(部員名簿!A219=\"\",\"\",部員名簿!I219)","v":""},{"$f":"IF(部員名簿!A219=\"\",\"\",部員名簿!B219)","v":""}]
[{"$f":"IF(部員名簿!A220=\"\",\"\",YEAR(部員名簿!G220))","v":""},{"$f":"IF(部員名簿!A220=\"\",\"\",MONTH(部員名簿!G220))","v":""},{"$f":"IF(部員名簿!A220=\"\",\"\",DAY(部員名簿!G220))","v":""},{"$f":"IF(部員名簿!A220=\"\",\"\",学校番号*100+部員名簿!H220)","v":""},{"$f":"IF(部員名簿!A220=\"\",\"\",部員名簿!C220)","v":""},{"$f":"IF(部員名簿!A220=\"\",\"\",部員名簿!D220)","v":""},{"$f":"IF(部員名簿!A220=\"\",\"\",部員名簿!E220)","v":""},{"$f":"IF(部員名簿!A220=\"\",\"\",部員名簿!F220)","v":""},{"$f":"IF(部員名簿!A220=\"\",\"\",部員名簿!I220)","v":""},{"$f":"IF(部員名簿!A220=\"\",\"\",部員名簿!B220)","v":""}]
[{"$f":"IF(部員名簿!A221=\"\",\"\",YEAR(部員名簿!G221))","v":""},{"$f":"IF(部員名簿!A221=\"\",\"\",MONTH(部員名簿!G221))","v":""},{"$f":"IF(部員名簿!A221=\"\",\"\",DAY(部員名簿!G221))","v":""},{"$f":"IF(部員名簿!A221=\"\",\"\",学校番号*100+部員名簿!H221)","v":""},{"$f":"IF(部員名簿!A221=\"\",\"\",部員名簿!C221)","v":""},{"$f":"IF(部員名簿!A221=\"\",\"\",部員名簿!D221)","v":""},{"$f":"IF(部員名簿!A221=\"\",\"\",部員名簿!E221)","v":""},{"$f":"IF(部員名簿!A221=\"\",\"\",部員名簿!F221)","v":""},{"$f":"IF(部員名簿!A221=\"\",\"\",部員名簿!I221)","v":""},{"$f":"IF(部員名簿!A221=\"\",\"\",部員名簿!B221)","v":""}]
[{"$f":"IF(部員名簿!A222=\"\",\"\",YEAR(部員名簿!G222))","v":""},{"$f":"IF(部員名簿!A222=\"\",\"\",MONTH(部員名簿!G222))","v":""},{"$f":"IF(部員名簿!A222=\"\",\"\",DAY(部員名簿!G222))","v":""},{"$f":"IF(部員名簿!A222=\"\",\"\",学校番号*100+部員名簿!H222)","v":""},{"$f":"IF(部員名簿!A222=\"\",\"\",部員名簿!C222)","v":""},{"$f":"IF(部員名簿!A222=\"\",\"\",部員名簿!D222)","v":""},{"$f":"IF(部員名簿!A222=\"\",\"\",部員名簿!E222)","v":""},{"$f":"IF(部員名簿!A222=\"\",\"\",部員名簿!F222)","v":""},{"$f":"IF(部員名簿!A222=\"\",\"\",部員名簿!I222)","v":""},{"$f":"IF(部員名簿!A222=\"\",\"\",部員名簿!B222)","v":""}]
[{"$f":"IF(部員名簿!A223=\"\",\"\",YEAR(部員名簿!G223))","v":""},{"$f":"IF(部員名簿!A223=\"\",\"\",MONTH(部員名簿!G223))","v":""},{"$f":"IF(部員名簿!A223=\"\",\"\",DAY(部員名簿!G223))","v":""},{"$f":"IF(部員名簿!A223=\"\",\"\",学校番号*100+部員名簿!H223)","v":""},{"$f":"IF(部員名簿!A223=\"\",\"\",部員名簿!C223)","v":""},{"$f":"IF(部員名簿!A223=\"\",\"\",部員名簿!D223)","v":""},{"$f":"IF(部員名簿!A223=\"\",\"\",部員名簿!E223)","v":""},{"$f":"IF(部員名簿!A223=\"\",\"\",部員名簿!F223)","v":""},{"$f":"IF(部員名簿!A223=\"\",\"\",部員名簿!I223)","v":""},{"$f":"IF(部員名簿!A223=\"\",\"\",部員名簿!B223)","v":""}]
[{"$f":"IF(部員名簿!A224=\"\",\"\",YEAR(部員名簿!G224))","v":""},{"$f":"IF(部員名簿!A224=\"\",\"\",MONTH(部員名簿!G224))","v":""},{"$f":"IF(部員名簿!A224=\"\",\"\",DAY(部員名簿!G224))","v":""},{"$f":"IF(部員名簿!A224=\"\",\"\",学校番号*100+部員名簿!H224)","v":""},{"$f":"IF(部員名簿!A224=\"\",\"\",部員名簿!C224)","v":""},{"$f":"IF(部員名簿!A224=\"\",\"\",部員名簿!D224)","v":""},{"$f":"IF(部員名簿!A224=\"\",\"\",部員名簿!E224)","v":""},{"$f":"IF(部員名簿!A224=\"\",\"\",部員名簿!F224)","v":""},{"$f":"IF(部員名簿!A224=\"\",\"\",部員名簿!I224)","v":""},{"$f":"IF(部員名簿!A224=\"\",\"\",部員名簿!B224)","v":""}]
[{"$f":"IF(部員名簿!A225=\"\",\"\",YEAR(部員名簿!G225))","v":""},{"$f":"IF(部員名簿!A225=\"\",\"\",MONTH(部員名簿!G225))","v":""},{"$f":"IF(部員名簿!A225=\"\",\"\",DAY(部員名簿!G225))","v":""},{"$f":"IF(部員名簿!A225=\"\",\"\",学校番号*100+部員名簿!H225)","v":""},{"$f":"IF(部員名簿!A225=\"\",\"\",部員名簿!C225)","v":""},{"$f":"IF(部員名簿!A225=\"\",\"\",部員名簿!D225)","v":""},{"$f":"IF(部員名簿!A225=\"\",\"\",部員名簿!E225)","v":""},{"$f":"IF(部員名簿!A225=\"\",\"\",部員名簿!F225)","v":""},{"$f":"IF(部員名簿!A225=\"\",\"\",部員名簿!I225)","v":""},{"$f":"IF(部員名簿!A225=\"\",\"\",部員名簿!B225)","v":""}]
[{"$f":"IF(部員名簿!A226=\"\",\"\",YEAR(部員名簿!G226))","v":""},{"$f":"IF(部員名簿!A226=\"\",\"\",MONTH(部員名簿!G226))","v":""},{"$f":"IF(部員名簿!A226=\"\",\"\",DAY(部員名簿!G226))","v":""},{"$f":"IF(部員名簿!A226=\"\",\"\",学校番号*100+部員名簿!H226)","v":""},{"$f":"IF(部員名簿!A226=\"\",\"\",部員名簿!C226)","v":""},{"$f":"IF(部員名簿!A226=\"\",\"\",部員名簿!D226)","v":""},{"$f":"IF(部員名簿!A226=\"\",\"\",部員名簿!E226)","v":""},{"$f":"IF(部員名簿!A226=\"\",\"\",部員名簿!F226)","v":""},{"$f":"IF(部員名簿!A226=\"\",\"\",部員名簿!I226)","v":""},{"$f":"IF(部員名簿!A226=\"\",\"\",部員名簿!B226)","v":""}]
[{"$f":"IF(部員名簿!A227=\"\",\"\",YEAR(部員名簿!G227))","v":""},{"$f":"IF(部員名簿!A227=\"\",\"\",MONTH(部員名簿!G227))","v":""},{"$f":"IF(部員名簿!A227=\"\",\"\",DAY(部員名簿!G227))","v":""},{"$f":"IF(部員名簿!A227=\"\",\"\",学校番号*100+部員名簿!H227)","v":""},{"$f":"IF(部員名簿!A227=\"\",\"\",部員名簿!C227)","v":""},{"$f":"IF(部員名簿!A227=\"\",\"\",部員名簿!D227)","v":""},{"$f":"IF(部員名簿!A227=\"\",\"\",部員名簿!E227)","v":""},{"$f":"IF(部員名簿!A227=\"\",\"\",部員名簿!F227)","v":""},{"$f":"IF(部員名簿!A227=\"\",\"\",部員名簿!I227)","v":""},{"$f":"IF(部員名簿!A227=\"\",\"\",部員名簿!B227)","v":""}]
[{"$f":"IF(部員名簿!A228=\"\",\"\",YEAR(部員名簿!G228))","v":""},{"$f":"IF(部員名簿!A228=\"\",\"\",MONTH(部員名簿!G228))","v":""},{"$f":"IF(部員名簿!A228=\"\",\"\",DAY(部員名簿!G228))","v":""},{"$f":"IF(部員名簿!A228=\"\",\"\",学校番号*100+部員名簿!H228)","v":""},{"$f":"IF(部員名簿!A228=\"\",\"\",部員名簿!C228)","v":""},{"$f":"IF(部員名簿!A228=\"\",\"\",部員名簿!D228)","v":""},{"$f":"IF(部員名簿!A228=\"\",\"\",部員名簿!E228)","v":""},{"$f":"IF(部員名簿!A228=\"\",\"\",部員名簿!F228)","v":""},{"$f":"IF(部員名簿!A228=\"\",\"\",部員名簿!I228)","v":""},{"$f":"IF(部員名簿!A228=\"\",\"\",部員名簿!B228)","v":""}]
[{"$f":"IF(部員名簿!A229=\"\",\"\",YEAR(部員名簿!G229))","v":""},{"$f":"IF(部員名簿!A229=\"\",\"\",MONTH(部員名簿!G229))","v":""},{"$f":"IF(部員名簿!A229=\"\",\"\",DAY(部員名簿!G229))","v":""},{"$f":"IF(部員名簿!A229=\"\",\"\",学校番号*100+部員名簿!H229)","v":""},{"$f":"IF(部員名簿!A229=\"\",\"\",部員名簿!C229)","v":""},{"$f":"IF(部員名簿!A229=\"\",\"\",部員名簿!D229)","v":""},{"$f":"IF(部員名簿!A229=\"\",\"\",部員名簿!E229)","v":""},{"$f":"IF(部員名簿!A229=\"\",\"\",部員名簿!F229)","v":""},{"$f":"IF(部員名簿!A229=\"\",\"\",部員名簿!I229)","v":""},{"$f":"IF(部員名簿!A229=\"\",\"\",部員名簿!B229)","v":""}]
[{"$f":"IF(部員名簿!A230=\"\",\"\",YEAR(部員名簿!G230))","v":""},{"$f":"IF(部員名簿!A230=\"\",\"\",MONTH(部員名簿!G230))","v":""},{"$f":"IF(部員名簿!A230=\"\",\"\",DAY(部員名簿!G230))","v":""},{"$f":"IF(部員名簿!A230=\"\",\"\",学校番号*100+部員名簿!H230)","v":""},{"$f":"IF(部員名簿!A230=\"\",\"\",部員名簿!C230)","v":""},{"$f":"IF(部員名簿!A230=\"\",\"\",部員名簿!D230)","v":""},{"$f":"IF(部員名簿!A230=\"\",\"\",部員名簿!E230)","v":""},{"$f":"IF(部員名簿!A230=\"\",\"\",部員名簿!F230)","v":""},{"$f":"IF(部員名簿!A230=\"\",\"\",部員名簿!I230)","v":""},{"$f":"IF(部員名簿!A230=\"\",\"\",部員名簿!B230)","v":""}]
[{"$f":"IF(部員名簿!A231=\"\",\"\",YEAR(部員名簿!G231))","v":""},{"$f":"IF(部員名簿!A231=\"\",\"\",MONTH(部員名簿!G231))","v":""},{"$f":"IF(部員名簿!A231=\"\",\"\",DAY(部員名簿!G231))","v":""},{"$f":"IF(部員名簿!A231=\"\",\"\",学校番号*100+部員名簿!H231)","v":""},{"$f":"IF(部員名簿!A231=\"\",\"\",部員名簿!C231)","v":""},{"$f":"IF(部員名簿!A231=\"\",\"\",部員名簿!D231)","v":""},{"$f":"IF(部員名簿!A231=\"\",\"\",部員名簿!E231)","v":""},{"$f":"IF(部員名簿!A231=\"\",\"\",部員名簿!F231)","v":""},{"$f":"IF(部員名簿!A231=\"\",\"\",部員名簿!I231)","v":""},{"$f":"IF(部員名簿!A231=\"\",\"\",部員名簿!B231)","v":""}]
[{"$f":"IF(部員名簿!A232=\"\",\"\",YEAR(部員名簿!G232))","v":""},{"$f":"IF(部員名簿!A232=\"\",\"\",MONTH(部員名簿!G232))","v":""},{"$f":"IF(部員名簿!A232=\"\",\"\",DAY(部員名簿!G232))","v":""},{"$f":"IF(部員名簿!A232=\"\",\"\",学校番号*100+部員名簿!H232)","v":""},{"$f":"IF(部員名簿!A232=\"\",\"\",部員名簿!C232)","v":""},{"$f":"IF(部員名簿!A232=\"\",\"\",部員名簿!D232)","v":""},{"$f":"IF(部員名簿!A232=\"\",\"\",部員名簿!E232)","v":""},{"$f":"IF(部員名簿!A232=\"\",\"\",部員名簿!F232)","v":""},{"$f":"IF(部員名簿!A232=\"\",\"\",部員名簿!I232)","v":""},{"$f":"IF(部員名簿!A232=\"\",\"\",部員名簿!B232)","v":""}]
[{"$f":"IF(部員名簿!A233=\"\",\"\",YEAR(部員名簿!G233))","v":""},{"$f":"IF(部員名簿!A233=\"\",\"\",MONTH(部員名簿!G233))","v":""},{"$f":"IF(部員名簿!A233=\"\",\"\",DAY(部員名簿!G233))","v":""},{"$f":"IF(部員名簿!A233=\"\",\"\",学校番号*100+部員名簿!H233)","v":""},{"$f":"IF(部員名簿!A233=\"\",\"\",部員名簿!C233)","v":""},{"$f":"IF(部員名簿!A233=\"\",\"\",部員名簿!D233)","v":""},{"$f":"IF(部員名簿!A233=\"\",\"\",部員名簿!E233)","v":""},{"$f":"IF(部員名簿!A233=\"\",\"\",部員名簿!F233)","v":""},{"$f":"IF(部員名簿!A233=\"\",\"\",部員名簿!I233)","v":""},{"$f":"IF(部員名簿!A233=\"\",\"\",部員名簿!B233)","v":""}]
[{"$f":"IF(部員名簿!A234=\"\",\"\",YEAR(部員名簿!G234))","v":""},{"$f":"IF(部員名簿!A234=\"\",\"\",MONTH(部員名簿!G234))","v":""},{"$f":"IF(部員名簿!A234=\"\",\"\",DAY(部員名簿!G234))","v":""},{"$f":"IF(部員名簿!A234=\"\",\"\",学校番号*100+部員名簿!H234)","v":""},{"$f":"IF(部員名簿!A234=\"\",\"\",部員名簿!C234)","v":""},{"$f":"IF(部員名簿!A234=\"\",\"\",部員名簿!D234)","v":""},{"$f":"IF(部員名簿!A234=\"\",\"\",部員名簿!E234)","v":""},{"$f":"IF(部員名簿!A234=\"\",\"\",部員名簿!F234)","v":""},{"$f":"IF(部員名簿!A234=\"\",\"\",部員名簿!I234)","v":""},{"$f":"IF(部員名簿!A234=\"\",\"\",部員名簿!B234)","v":""}]
[{"$f":"IF(部員名簿!A235=\"\",\"\",YEAR(部員名簿!G235))","v":""},{"$f":"IF(部員名簿!A235=\"\",\"\",MONTH(部員名簿!G235))","v":""},{"$f":"IF(部員名簿!A235=\"\",\"\",DAY(部員名簿!G235))","v":""},{"$f":"IF(部員名簿!A235=\"\",\"\",学校番号*100+部員名簿!H235)","v":""},{"$f":"IF(部員名簿!A235=\"\",\"\",部員名簿!C235)","v":""},{"$f":"IF(部員名簿!A235=\"\",\"\",部員名簿!D235)","v":""},{"$f":"IF(部員名簿!A235=\"\",\"\",部員名簿!E235)","v":""},{"$f":"IF(部員名簿!A235=\"\",\"\",部員名簿!F235)","v":""},{"$f":"IF(部員名簿!A235=\"\",\"\",部員名簿!I235)","v":""},{"$f":"IF(部員名簿!A235=\"\",\"\",部員名簿!B235)","v":""}]
[{"$f":"IF(部員名簿!A236=\"\",\"\",YEAR(部員名簿!G236))","v":""},{"$f":"IF(部員名簿!A236=\"\",\"\",MONTH(部員名簿!G236))","v":""},{"$f":"IF(部員名簿!A236=\"\",\"\",DAY(部員名簿!G236))","v":""},{"$f":"IF(部員名簿!A236=\"\",\"\",学校番号*100+部員名簿!H236)","v":""},{"$f":"IF(部員名簿!A236=\"\",\"\",部員名簿!C236)","v":""},{"$f":"IF(部員名簿!A236=\"\",\"\",部員名簿!D236)","v":""},{"$f":"IF(部員名簿!A236=\"\",\"\",部員名簿!E236)","v":""},{"$f":"IF(部員名簿!A236=\"\",\"\",部員名簿!F236)","v":""},{"$f":"IF(部員名簿!A236=\"\",\"\",部員名簿!I236)","v":""},{"$f":"IF(部員名簿!A236=\"\",\"\",部員名簿!B236)","v":""}]
[{"$f":"IF(部員名簿!A237=\"\",\"\",YEAR(部員名簿!G237))","v":""},{"$f":"IF(部員名簿!A237=\"\",\"\",MONTH(部員名簿!G237))","v":""},{"$f":"IF(部員名簿!A237=\"\",\"\",DAY(部員名簿!G237))","v":""},{"$f":"IF(部員名簿!A237=\"\",\"\",学校番号*100+部員名簿!H237)","v":""},{"$f":"IF(部員名簿!A237=\"\",\"\",部員名簿!C237)","v":""},{"$f":"IF(部員名簿!A237=\"\",\"\",部員名簿!D237)","v":""},{"$f":"IF(部員名簿!A237=\"\",\"\",部員名簿!E237)","v":""},{"$f":"IF(部員名簿!A237=\"\",\"\",部員名簿!F237)","v":""},{"$f":"IF(部員名簿!A237=\"\",\"\",部員名簿!I237)","v":""},{"$f":"IF(部員名簿!A237=\"\",\"\",部員名簿!B237)","v":""}]
[{"$f":"IF(部員名簿!A238=\"\",\"\",YEAR(部員名簿!G238))","v":""},{"$f":"IF(部員名簿!A238=\"\",\"\",MONTH(部員名簿!G238))","v":""},{"$f":"IF(部員名簿!A238=\"\",\"\",DAY(部員名簿!G238))","v":""},{"$f":"IF(部員名簿!A238=\"\",\"\",学校番号*100+部員名簿!H238)","v":""},{"$f":"IF(部員名簿!A238=\"\",\"\",部員名簿!C238)","v":""},{"$f":"IF(部員名簿!A238=\"\",\"\",部員名簿!D238)","v":""},{"$f":"IF(部員名簿!A238=\"\",\"\",部員名簿!E238)","v":""},{"$f":"IF(部員名簿!A238=\"\",\"\",部員名簿!F238)","v":""},{"$f":"IF(部員名簿!A238=\"\",\"\",部員名簿!I238)","v":""},{"$f":"IF(部員名簿!A238=\"\",\"\",部員名簿!B238)","v":""}]
[{"$f":"IF(部員名簿!A239=\"\",\"\",YEAR(部員名簿!G239))","v":""},{"$f":"IF(部員名簿!A239=\"\",\"\",MONTH(部員名簿!G239))","v":""},{"$f":"IF(部員名簿!A239=\"\",\"\",DAY(部員名簿!G239))","v":""},{"$f":"IF(部員名簿!A239=\"\",\"\",学校番号*100+部員名簿!H239)","v":""},{"$f":"IF(部員名簿!A239=\"\",\"\",部員名簿!C239)","v":""},{"$f":"IF(部員名簿!A239=\"\",\"\",部員名簿!D239)","v":""},{"$f":"IF(部員名簿!A239=\"\",\"\",部員名簿!E239)","v":""},{"$f":"IF(部員名簿!A239=\"\",\"\",部員名簿!F239)","v":""},{"$f":"IF(部員名簿!A239=\"\",\"\",部員名簿!I239)","v":""},{"$f":"IF(部員名簿!A239=\"\",\"\",部員名簿!B239)","v":""}]
[{"$f":"IF(部員名簿!A240=\"\",\"\",YEAR(部員名簿!G240))","v":""},{"$f":"IF(部員名簿!A240=\"\",\"\",MONTH(部員名簿!G240))","v":""},{"$f":"IF(部員名簿!A240=\"\",\"\",DAY(部員名簿!G240))","v":""},{"$f":"IF(部員名簿!A240=\"\",\"\",学校番号*100+部員名簿!H240)","v":""},{"$f":"IF(部員名簿!A240=\"\",\"\",部員名簿!C240)","v":""},{"$f":"IF(部員名簿!A240=\"\",\"\",部員名簿!D240)","v":""},{"$f":"IF(部員名簿!A240=\"\",\"\",部員名簿!E240)","v":""},{"$f":"IF(部員名簿!A240=\"\",\"\",部員名簿!F240)","v":""},{"$f":"IF(部員名簿!A240=\"\",\"\",部員名簿!I240)","v":""},{"$f":"IF(部員名簿!A240=\"\",\"\",部員名簿!B240)","v":""}]
[{"$f":"IF(部員名簿!A241=\"\",\"\",YEAR(部員名簿!G241))","v":""},{"$f":"IF(部員名簿!A241=\"\",\"\",MONTH(部員名簿!G241))","v":""},{"$f":"IF(部員名簿!A241=\"\",\"\",DAY(部員名簿!G241))","v":""},{"$f":"IF(部員名簿!A241=\"\",\"\",学校番号*100+部員名簿!H241)","v":""},{"$f":"IF(部員名簿!A241=\"\",\"\",部員名簿!C241)","v":""},{"$f":"IF(部員名簿!A241=\"\",\"\",部員名簿!D241)","v":""},{"$f":"IF(部員名簿!A241=\"\",\"\",部員名簿!E241)","v":""},{"$f":"IF(部員名簿!A241=\"\",\"\",部員名簿!F241)","v":""},{"$f":"IF(部員名簿!A241=\"\",\"\",部員名簿!I241)","v":""},{"$f":"IF(部員名簿!A241=\"\",\"\",部員名簿!B241)","v":""}]
[{"$f":"IF(部員名簿!A242=\"\",\"\",YEAR(部員名簿!G242))","v":""},{"$f":"IF(部員名簿!A242=\"\",\"\",MONTH(部員名簿!G242))","v":""},{"$f":"IF(部員名簿!A242=\"\",\"\",DAY(部員名簿!G242))","v":""},{"$f":"IF(部員名簿!A242=\"\",\"\",学校番号*100+部員名簿!H242)","v":""},{"$f":"IF(部員名簿!A242=\"\",\"\",部員名簿!C242)","v":""},{"$f":"IF(部員名簿!A242=\"\",\"\",部員名簿!D242)","v":""},{"$f":"IF(部員名簿!A242=\"\",\"\",部員名簿!E242)","v":""},{"$f":"IF(部員名簿!A242=\"\",\"\",部員名簿!F242)","v":""},{"$f":"IF(部員名簿!A242=\"\",\"\",部員名簿!I242)","v":""},{"$f":"IF(部員名簿!A242=\"\",\"\",部員名簿!B242)","v":""}]
[{"$f":"IF(部員名簿!A243=\"\",\"\",YEAR(部員名簿!G243))","v":""},{"$f":"IF(部員名簿!A243=\"\",\"\",MONTH(部員名簿!G243))","v":""},{"$f":"IF(部員名簿!A243=\"\",\"\",DAY(部員名簿!G243))","v":""},{"$f":"IF(部員名簿!A243=\"\",\"\",学校番号*100+部員名簿!H243)","v":""},{"$f":"IF(部員名簿!A243=\"\",\"\",部員名簿!C243)","v":""},{"$f":"IF(部員名簿!A243=\"\",\"\",部員名簿!D243)","v":""},{"$f":"IF(部員名簿!A243=\"\",\"\",部員名簿!E243)","v":""},{"$f":"IF(部員名簿!A243=\"\",\"\",部員名簿!F243)","v":""},{"$f":"IF(部員名簿!A243=\"\",\"\",部員名簿!I243)","v":""},{"$f":"IF(部員名簿!A243=\"\",\"\",部員名簿!B243)","v":""}]
[{"$f":"IF(部員名簿!A244=\"\",\"\",YEAR(部員名簿!G244))","v":""},{"$f":"IF(部員名簿!A244=\"\",\"\",MONTH(部員名簿!G244))","v":""},{"$f":"IF(部員名簿!A244=\"\",\"\",DAY(部員名簿!G244))","v":""},{"$f":"IF(部員名簿!A244=\"\",\"\",学校番号*100+部員名簿!H244)","v":""},{"$f":"IF(部員名簿!A244=\"\",\"\",部員名簿!C244)","v":""},{"$f":"IF(部員名簿!A244=\"\",\"\",部員名簿!D244)","v":""},{"$f":"IF(部員名簿!A244=\"\",\"\",部員名簿!E244)","v":""},{"$f":"IF(部員名簿!A244=\"\",\"\",部員名簿!F244)","v":""},{"$f":"IF(部員名簿!A244=\"\",\"\",部員名簿!I244)","v":""},{"$f":"IF(部員名簿!A244=\"\",\"\",部員名簿!B244)","v":""}]
[{"$f":"IF(部員名簿!A245=\"\",\"\",YEAR(部員名簿!G245))","v":""},{"$f":"IF(部員名簿!A245=\"\",\"\",MONTH(部員名簿!G245))","v":""},{"$f":"IF(部員名簿!A245=\"\",\"\",DAY(部員名簿!G245))","v":""},{"$f":"IF(部員名簿!A245=\"\",\"\",学校番号*100+部員名簿!H245)","v":""},{"$f":"IF(部員名簿!A245=\"\",\"\",部員名簿!C245)","v":""},{"$f":"IF(部員名簿!A245=\"\",\"\",部員名簿!D245)","v":""},{"$f":"IF(部員名簿!A245=\"\",\"\",部員名簿!E245)","v":""},{"$f":"IF(部員名簿!A245=\"\",\"\",部員名簿!F245)","v":""},{"$f":"IF(部員名簿!A245=\"\",\"\",部員名簿!I245)","v":""},{"$f":"IF(部員名簿!A245=\"\",\"\",部員名簿!B245)","v":""}]
[{"$f":"IF(部員名簿!A246=\"\",\"\",YEAR(部員名簿!G246))","v":""},{"$f":"IF(部員名簿!A246=\"\",\"\",MONTH(部員名簿!G246))","v":""},{"$f":"IF(部員名簿!A246=\"\",\"\",DAY(部員名簿!G246))","v":""},{"$f":"IF(部員名簿!A246=\"\",\"\",学校番号*100+部員名簿!H246)","v":""},{"$f":"IF(部員名簿!A246=\"\",\"\",部員名簿!C246)","v":""},{"$f":"IF(部員名簿!A246=\"\",\"\",部員名簿!D246)","v":""},{"$f":"IF(部員名簿!A246=\"\",\"\",部員名簿!E246)","v":""},{"$f":"IF(部員名簿!A246=\"\",\"\",部員名簿!F246)","v":""},{"$f":"IF(部員名簿!A246=\"\",\"\",部員名簿!I246)","v":""},{"$f":"IF(部員名簿!A246=\"\",\"\",部員名簿!B246)","v":""}]
[{"$f":"IF(部員名簿!A247=\"\",\"\",YEAR(部員名簿!G247))","v":""},{"$f":"IF(部員名簿!A247=\"\",\"\",MONTH(部員名簿!G247))","v":""},{"$f":"IF(部員名簿!A247=\"\",\"\",DAY(部員名簿!G247))","v":""},{"$f":"IF(部員名簿!A247=\"\",\"\",学校番号*100+部員名簿!H247)","v":""},{"$f":"IF(部員名簿!A247=\"\",\"\",部員名簿!C247)","v":""},{"$f":"IF(部員名簿!A247=\"\",\"\",部員名簿!D247)","v":""},{"$f":"IF(部員名簿!A247=\"\",\"\",部員名簿!E247)","v":""},{"$f":"IF(部員名簿!A247=\"\",\"\",部員名簿!F247)","v":""},{"$f":"IF(部員名簿!A247=\"\",\"\",部員名簿!I247)","v":""},{"$f":"IF(部員名簿!A247=\"\",\"\",部員名簿!B247)","v":""}]
[{"$f":"IF(部員名簿!A248=\"\",\"\",YEAR(部員名簿!G248))","v":""},{"$f":"IF(部員名簿!A248=\"\",\"\",MONTH(部員名簿!G248))","v":""},{"$f":"IF(部員名簿!A248=\"\",\"\",DAY(部員名簿!G248))","v":""},{"$f":"IF(部員名簿!A248=\"\",\"\",学校番号*100+部員名簿!H248)","v":""},{"$f":"IF(部員名簿!A248=\"\",\"\",部員名簿!C248)","v":""},{"$f":"IF(部員名簿!A248=\"\",\"\",部員名簿!D248)","v":""},{"$f":"IF(部員名簿!A248=\"\",\"\",部員名簿!E248)","v":""},{"$f":"IF(部員名簿!A248=\"\",\"\",部員名簿!F248)","v":""},{"$f":"IF(部員名簿!A248=\"\",\"\",部員名簿!I248)","v":""},{"$f":"IF(部員名簿!A248=\"\",\"\",部員名簿!B248)","v":""}]
[{"$f":"IF(部員名簿!A249=\"\",\"\",YEAR(部員名簿!G249))","v":""},{"$f":"IF(部員名簿!A249=\"\",\"\",MONTH(部員名簿!G249))","v":""},{"$f":"IF(部員名簿!A249=\"\",\"\",DAY(部員名簿!G249))","v":""},{"$f":"IF(部員名簿!A249=\"\",\"\",学校番号*100+部員名簿!H249)","v":""},{"$f":"IF(部員名簿!A249=\"\",\"\",部員名簿!C249)","v":""},{"$f":"IF(部員名簿!A249=\"\",\"\",部員名簿!D249)","v":""},{"$f":"IF(部員名簿!A249=\"\",\"\",部員名簿!E249)","v":""},{"$f":"IF(部員名簿!A249=\"\",\"\",部員名簿!F249)","v":""},{"$f":"IF(部員名簿!A249=\"\",\"\",部員名簿!I249)","v":""},{"$f":"IF(部員名簿!A249=\"\",\"\",部員名簿!B249)","v":""}]
[{"$f":"IF(部員名簿!A250=\"\",\"\",YEAR(部員名簿!G250))","v":""},{"$f":"IF(部員名簿!A250=\"\",\"\",MONTH(部員名簿!G250))","v":""},{"$f":"IF(部員名簿!A250=\"\",\"\",DAY(部員名簿!G250))","v":""},{"$f":"IF(部員名簿!A250=\"\",\"\",学校番号*100+部員名簿!H250)","v":""},{"$f":"IF(部員名簿!A250=\"\",\"\",部員名簿!C250)","v":""},{"$f":"IF(部員名簿!A250=\"\",\"\",部員名簿!D250)","v":""},{"$f":"IF(部員名簿!A250=\"\",\"\",部員名簿!E250)","v":""},{"$f":"IF(部員名簿!A250=\"\",\"\",部員名簿!F250)","v":""},{"$f":"IF(部員名簿!A250=\"\",\"\",部員名簿!I250)","v":""},{"$f":"IF(部員名簿!A250=\"\",\"\",部員名簿!B250)","v":""}]
[{"$f":"IF(部員名簿!A251=\"\",\"\",YEAR(部員名簿!G251))","v":""},{"$f":"IF(部員名簿!A251=\"\",\"\",MONTH(部員名簿!G251))","v":""},{"$f":"IF(部員名簿!A251=\"\",\"\",DAY(部員名簿!G251))","v":""},{"$f":"IF(部員名簿!A251=\"\",\"\",学校番号*100+部員名簿!H251)","v":""},{"$f":"IF(部員名簿!A251=\"\",\"\",部員名簿!C251)","v":""},{"$f":"IF(部員名簿!A251=\"\",\"\",部員名簿!D251)","v":""},{"$f":"IF(部員名簿!A251=\"\",\"\",部員名簿!E251)","v":""},{"$f":"IF(部員名簿!A251=\"\",\"\",部員名簿!F251)","v":""},{"$f":"IF(部員名簿!A251=\"\",\"\",部員名簿!I251)","v":""},{"$f":"IF(部員名簿!A251=\"\",\"\",部員名簿!B251)","v":""}]
[{"$f":"IF(部員名簿!A252=\"\",\"\",YEAR(部員名簿!G252))","v":""},{"$f":"IF(部員名簿!A252=\"\",\"\",MONTH(部員名簿!G252))","v":""},{"$f":"IF(部員名簿!A252=\"\",\"\",DAY(部員名簿!G252))","v":""},{"$f":"IF(部員名簿!A252=\"\",\"\",学校番号*100+部員名簿!H252)","v":""},{"$f":"IF(部員名簿!A252=\"\",\"\",部員名簿!C252)","v":""},{"$f":"IF(部員名簿!A252=\"\",\"\",部員名簿!D252)","v":""},{"$f":"IF(部員名簿!A252=\"\",\"\",部員名簿!E252)","v":""},{"$f":"IF(部員名簿!A252=\"\",\"\",部員名簿!F252)","v":""},{"$f":"IF(部員名簿!A252=\"\",\"\",部員名簿!I252)","v":""},{"$f":"IF(部員名簿!A252=\"\",\"\",部員名簿!B252)","v":""}]
[{"$f":"IF(部員名簿!A253=\"\",\"\",YEAR(部員名簿!G253))","v":""},{"$f":"IF(部員名簿!A253=\"\",\"\",MONTH(部員名簿!G253))","v":""},{"$f":"IF(部員名簿!A253=\"\",\"\",DAY(部員名簿!G253))","v":""},{"$f":"IF(部員名簿!A253=\"\",\"\",学校番号*100+部員名簿!H253)","v":""},{"$f":"IF(部員名簿!A253=\"\",\"\",部員名簿!C253)","v":""},{"$f":"IF(部員名簿!A253=\"\",\"\",部員名簿!D253)","v":""},{"$f":"IF(部員名簿!A253=\"\",\"\",部員名簿!E253)","v":""},{"$f":"IF(部員名簿!A253=\"\",\"\",部員名簿!F253)","v":""},{"$f":"IF(部員名簿!A253=\"\",\"\",部員名簿!I253)","v":""},{"$f":"IF(部員名簿!A253=\"\",\"\",部員名簿!B253)","v":""}]
[{"$f":"IF(部員名簿!A254=\"\",\"\",YEAR(部員名簿!G254))","v":""},{"$f":"IF(部員名簿!A254=\"\",\"\",MONTH(部員名簿!G254))","v":""},{"$f":"IF(部員名簿!A254=\"\",\"\",DAY(部員名簿!G254))","v":""},{"$f":"IF(部員名簿!A254=\"\",\"\",学校番号*100+部員名簿!H254)","v":""},{"$f":"IF(部員名簿!A254=\"\",\"\",部員名簿!C254)","v":""},{"$f":"IF(部員名簿!A254=\"\",\"\",部員名簿!D254)","v":""},{"$f":"IF(部員名簿!A254=\"\",\"\",部員名簿!E254)","v":""},{"$f":"IF(部員名簿!A254=\"\",\"\",部員名簿!F254)","v":""},{"$f":"IF(部員名簿!A254=\"\",\"\",部員名簿!I254)","v":""},{"$f":"IF(部員名簿!A254=\"\",\"\",部員名簿!B254)","v":""}]
[{"$f":"IF(部員名簿!A255=\"\",\"\",YEAR(部員名簿!G255))","v":""},{"$f":"IF(部員名簿!A255=\"\",\"\",MONTH(部員名簿!G255))","v":""},{"$f":"IF(部員名簿!A255=\"\",\"\",DAY(部員名簿!G255))","v":""},{"$f":"IF(部員名簿!A255=\"\",\"\",学校番号*100+部員名簿!H255)","v":""},{"$f":"IF(部員名簿!A255=\"\",\"\",部員名簿!C255)","v":""},{"$f":"IF(部員名簿!A255=\"\",\"\",部員名簿!D255)","v":""},{"$f":"IF(部員名簿!A255=\"\",\"\",部員名簿!E255)","v":""},{"$f":"IF(部員名簿!A255=\"\",\"\",部員名簿!F255)","v":""},{"$f":"IF(部員名簿!A255=\"\",\"\",部員名簿!I255)","v":""},{"$f":"IF(部員名簿!A255=\"\",\"\",部員名簿!B255)","v":""}]
[{"$f":"IF(部員名簿!A256=\"\",\"\",YEAR(部員名簿!G256))","v":""},{"$f":"IF(部員名簿!A256=\"\",\"\",MONTH(部員名簿!G256))","v":""},{"$f":"IF(部員名簿!A256=\"\",\"\",DAY(部員名簿!G256))","v":""},{"$f":"IF(部員名簿!A256=\"\",\"\",学校番号*100+部員名簿!H256)","v":""},{"$f":"IF(部員名簿!A256=\"\",\"\",部員名簿!C256)","v":""},{"$f":"IF(部員名簿!A256=\"\",\"\",部員名簿!D256)","v":""},{"$f":"IF(部員名簿!A256=\"\",\"\",部員名簿!E256)","v":""},{"$f":"IF(部員名簿!A256=\"\",\"\",部員名簿!F256)","v":""},{"$f":"IF(部員名簿!A256=\"\",\"\",部員名簿!I256)","v":""},{"$f":"IF(部員名簿!A256=\"\",\"\",部員名簿!B256)","v":""}]
[{"$f":"IF(部員名簿!A257=\"\",\"\",YEAR(部員名簿!G257))","v":""},{"$f":"IF(部員名簿!A257=\"\",\"\",MONTH(部員名簿!G257))","v":""},{"$f":"IF(部員名簿!A257=\"\",\"\",DAY(部員名簿!G257))","v":""},{"$f":"IF(部員名簿!A257=\"\",\"\",学校番号*100+部員名簿!H257)","v":""},{"$f":"IF(部員名簿!A257=\"\",\"\",部員名簿!C257)","v":""},{"$f":"IF(部員名簿!A257=\"\",\"\",部員名簿!D257)","v":""},{"$f":"IF(部員名簿!A257=\"\",\"\",部員名簿!E257)","v":""},{"$f":"IF(部員名簿!A257=\"\",\"\",部員名簿!F257)","v":""},{"$f":"IF(部員名簿!A257=\"\",\"\",部員名簿!I257)","v":""},{"$f":"IF(部員名簿!A257=\"\",\"\",部員名簿!B257)","v":""}]
[{"$f":"IF(部員名簿!A258=\"\",\"\",YEAR(部員名簿!G258))","v":""},{"$f":"IF(部員名簿!A258=\"\",\"\",MONTH(部員名簿!G258))","v":""},{"$f":"IF(部員名簿!A258=\"\",\"\",DAY(部員名簿!G258))","v":""},{"$f":"IF(部員名簿!A258=\"\",\"\",学校番号*100+部員名簿!H258)","v":""},{"$f":"IF(部員名簿!A258=\"\",\"\",部員名簿!C258)","v":""},{"$f":"IF(部員名簿!A258=\"\",\"\",部員名簿!D258)","v":""},{"$f":"IF(部員名簿!A258=\"\",\"\",部員名簿!E258)","v":""},{"$f":"IF(部員名簿!A258=\"\",\"\",部員名簿!F258)","v":""},{"$f":"IF(部員名簿!A258=\"\",\"\",部員名簿!I258)","v":""},{"$f":"IF(部員名簿!A258=\"\",\"\",部員名簿!B258)","v":""}]
[{"$f":"IF(部員名簿!A259=\"\",\"\",YEAR(部員名簿!G259))","v":""},{"$f":"IF(部員名簿!A259=\"\",\"\",MONTH(部員名簿!G259))","v":""},{"$f":"IF(部員名簿!A259=\"\",\"\",DAY(部員名簿!G259))","v":""},{"$f":"IF(部員名簿!A259=\"\",\"\",学校番号*100+部員名簿!H259)","v":""},{"$f":"IF(部員名簿!A259=\"\",\"\",部員名簿!C259)","v":""},{"$f":"IF(部員名簿!A259=\"\",\"\",部員名簿!D259)","v":""},{"$f":"IF(部員名簿!A259=\"\",\"\",部員名簿!E259)","v":""},{"$f":"IF(部員名簿!A259=\"\",\"\",部員名簿!F259)","v":""},{"$f":"IF(部員名簿!A259=\"\",\"\",部員名簿!I259)","v":""},{"$f":"IF(部員名簿!A259=\"\",\"\",部員名簿!B259)","v":""}]
[{"$f":"IF(部員名簿!A260=\"\",\"\",YEAR(部員名簿!G260))","v":""},{"$f":"IF(部員名簿!A260=\"\",\"\",MONTH(部員名簿!G260))","v":""},{"$f":"IF(部員名簿!A260=\"\",\"\",DAY(部員名簿!G260))","v":""},{"$f":"IF(部員名簿!A260=\"\",\"\",学校番号*100+部員名簿!H260)","v":""},{"$f":"IF(部員名簿!A260=\"\",\"\",部員名簿!C260)","v":""},{"$f":"IF(部員名簿!A260=\"\",\"\",部員名簿!D260)","v":""},{"$f":"IF(部員名簿!A260=\"\",\"\",部員名簿!E260)","v":""},{"$f":"IF(部員名簿!A260=\"\",\"\",部員名簿!F260)","v":""},{"$f":"IF(部員名簿!A260=\"\",\"\",部員名簿!I260)","v":""},{"$f":"IF(部員名簿!A260=\"\",\"\",部員名簿!B260)","v":""}]
[{"$f":"IF(部員名簿!A261=\"\",\"\",YEAR(部員名簿!G261))","v":""},{"$f":"IF(部員名簿!A261=\"\",\"\",MONTH(部員名簿!G261))","v":""},{"$f":"IF(部員名簿!A261=\"\",\"\",DAY(部員名簿!G261))","v":""},{"$f":"IF(部員名簿!A261=\"\",\"\",学校番号*100+部員名簿!H261)","v":""},{"$f":"IF(部員名簿!A261=\"\",\"\",部員名簿!C261)","v":""},{"$f":"IF(部員名簿!A261=\"\",\"\",部員名簿!D261)","v":""},{"$f":"IF(部員名簿!A261=\"\",\"\",部員名簿!E261)","v":""},{"$f":"IF(部員名簿!A261=\"\",\"\",部員名簿!F261)","v":""},{"$f":"IF(部員名簿!A261=\"\",\"\",部員名簿!I261)","v":""},{"$f":"IF(部員名簿!A261=\"\",\"\",部員名簿!B261)","v":""}]
[{"$f":"IF(部員名簿!A262=\"\",\"\",YEAR(部員名簿!G262))","v":""},{"$f":"IF(部員名簿!A262=\"\",\"\",MONTH(部員名簿!G262))","v":""},{"$f":"IF(部員名簿!A262=\"\",\"\",DAY(部員名簿!G262))","v":""},{"$f":"IF(部員名簿!A262=\"\",\"\",学校番号*100+部員名簿!H262)","v":""},{"$f":"IF(部員名簿!A262=\"\",\"\",部員名簿!C262)","v":""},{"$f":"IF(部員名簿!A262=\"\",\"\",部員名簿!D262)","v":""},{"$f":"IF(部員名簿!A262=\"\",\"\",部員名簿!E262)","v":""},{"$f":"IF(部員名簿!A262=\"\",\"\",部員名簿!F262)","v":""},{"$f":"IF(部員名簿!A262=\"\",\"\",部員名簿!I262)","v":""},{"$f":"IF(部員名簿!A262=\"\",\"\",部員名簿!B262)","v":""}]
[{"$f":"IF(部員名簿!A263=\"\",\"\",YEAR(部員名簿!G263))","v":""},{"$f":"IF(部員名簿!A263=\"\",\"\",MONTH(部員名簿!G263))","v":""},{"$f":"IF(部員名簿!A263=\"\",\"\",DAY(部員名簿!G263))","v":""},{"$f":"IF(部員名簿!A263=\"\",\"\",学校番号*100+部員名簿!H263)","v":""},{"$f":"IF(部員名簿!A263=\"\",\"\",部員名簿!C263)","v":""},{"$f":"IF(部員名簿!A263=\"\",\"\",部員名簿!D263)","v":""},{"$f":"IF(部員名簿!A263=\"\",\"\",部員名簿!E263)","v":""},{"$f":"IF(部員名簿!A263=\"\",\"\",部員名簿!F263)","v":""},{"$f":"IF(部員名簿!A263=\"\",\"\",部員名簿!I263)","v":""},{"$f":"IF(部員名簿!A263=\"\",\"\",部員名簿!B263)","v":""}]
[{"$f":"IF(部員名簿!A264=\"\",\"\",YEAR(部員名簿!G264))","v":""},{"$f":"IF(部員名簿!A264=\"\",\"\",MONTH(部員名簿!G264))","v":""},{"$f":"IF(部員名簿!A264=\"\",\"\",DAY(部員名簿!G264))","v":""},{"$f":"IF(部員名簿!A264=\"\",\"\",学校番号*100+部員名簿!H264)","v":""},{"$f":"IF(部員名簿!A264=\"\",\"\",部員名簿!C264)","v":""},{"$f":"IF(部員名簿!A264=\"\",\"\",部員名簿!D264)","v":""},{"$f":"IF(部員名簿!A264=\"\",\"\",部員名簿!E264)","v":""},{"$f":"IF(部員名簿!A264=\"\",\"\",部員名簿!F264)","v":""},{"$f":"IF(部員名簿!A264=\"\",\"\",部員名簿!I264)","v":""},{"$f":"IF(部員名簿!A264=\"\",\"\",部員名簿!B264)","v":""}]
[{"$f":"IF(部員名簿!A265=\"\",\"\",YEAR(部員名簿!G265))","v":""},{"$f":"IF(部員名簿!A265=\"\",\"\",MONTH(部員名簿!G265))","v":""},{"$f":"IF(部員名簿!A265=\"\",\"\",DAY(部員名簿!G265))","v":""},{"$f":"IF(部員名簿!A265=\"\",\"\",学校番号*100+部員名簿!H265)","v":""},{"$f":"IF(部員名簿!A265=\"\",\"\",部員名簿!C265)","v":""},{"$f":"IF(部員名簿!A265=\"\",\"\",部員名簿!D265)","v":""},{"$f":"IF(部員名簿!A265=\"\",\"\",部員名簿!E265)","v":""},{"$f":"IF(部員名簿!A265=\"\",\"\",部員名簿!F265)","v":""},{"$f":"IF(部員名簿!A265=\"\",\"\",部員名簿!I265)","v":""},{"$f":"IF(部員名簿!A265=\"\",\"\",部員名簿!B265)","v":""}]
[{"$f":"IF(部員名簿!A266=\"\",\"\",YEAR(部員名簿!G266))","v":""},{"$f":"IF(部員名簿!A266=\"\",\"\",MONTH(部員名簿!G266))","v":""},{"$f":"IF(部員名簿!A266=\"\",\"\",DAY(部員名簿!G266))","v":""},{"$f":"IF(部員名簿!A266=\"\",\"\",学校番号*100+部員名簿!H266)","v":""},{"$f":"IF(部員名簿!A266=\"\",\"\",部員名簿!C266)","v":""},{"$f":"IF(部員名簿!A266=\"\",\"\",部員名簿!D266)","v":""},{"$f":"IF(部員名簿!A266=\"\",\"\",部員名簿!E266)","v":""},{"$f":"IF(部員名簿!A266=\"\",\"\",部員名簿!F266)","v":""},{"$f":"IF(部員名簿!A266=\"\",\"\",部員名簿!I266)","v":""},{"$f":"IF(部員名簿!A266=\"\",\"\",部員名簿!B266)","v":""}]
[{"$f":"IF(部員名簿!A267=\"\",\"\",YEAR(部員名簿!G267))","v":""},{"$f":"IF(部員名簿!A267=\"\",\"\",MONTH(部員名簿!G267))","v":""},{"$f":"IF(部員名簿!A267=\"\",\"\",DAY(部員名簿!G267))","v":""},{"$f":"IF(部員名簿!A267=\"\",\"\",学校番号*100+部員名簿!H267)","v":""},{"$f":"IF(部員名簿!A267=\"\",\"\",部員名簿!C267)","v":""},{"$f":"IF(部員名簿!A267=\"\",\"\",部員名簿!D267)","v":""},{"$f":"IF(部員名簿!A267=\"\",\"\",部員名簿!E267)","v":""},{"$f":"IF(部員名簿!A267=\"\",\"\",部員名簿!F267)","v":""},{"$f":"IF(部員名簿!A267=\"\",\"\",部員名簿!I267)","v":""},{"$f":"IF(部員名簿!A267=\"\",\"\",部員名簿!B267)","v":""}]
[{"$f":"IF(部員名簿!A268=\"\",\"\",YEAR(部員名簿!G268))","v":""},{"$f":"IF(部員名簿!A268=\"\",\"\",MONTH(部員名簿!G268))","v":""},{"$f":"IF(部員名簿!A268=\"\",\"\",DAY(部員名簿!G268))","v":""},{"$f":"IF(部員名簿!A268=\"\",\"\",学校番号*100+部員名簿!H268)","v":""},{"$f":"IF(部員名簿!A268=\"\",\"\",部員名簿!C268)","v":""},{"$f":"IF(部員名簿!A268=\"\",\"\",部員名簿!D268)","v":""},{"$f":"IF(部員名簿!A268=\"\",\"\",部員名簿!E268)","v":""},{"$f":"IF(部員名簿!A268=\"\",\"\",部員名簿!F268)","v":""},{"$f":"IF(部員名簿!A268=\"\",\"\",部員名簿!I268)","v":""},{"$f":"IF(部員名簿!A268=\"\",\"\",部員名簿!B268)","v":""}]
[{"$f":"IF(部員名簿!A269=\"\",\"\",YEAR(部員名簿!G269))","v":""},{"$f":"IF(部員名簿!A269=\"\",\"\",MONTH(部員名簿!G269))","v":""},{"$f":"IF(部員名簿!A269=\"\",\"\",DAY(部員名簿!G269))","v":""},{"$f":"IF(部員名簿!A269=\"\",\"\",学校番号*100+部員名簿!H269)","v":""},{"$f":"IF(部員名簿!A269=\"\",\"\",部員名簿!C269)","v":""},{"$f":"IF(部員名簿!A269=\"\",\"\",部員名簿!D269)","v":""},{"$f":"IF(部員名簿!A269=\"\",\"\",部員名簿!E269)","v":""},{"$f":"IF(部員名簿!A269=\"\",\"\",部員名簿!F269)","v":""},{"$f":"IF(部員名簿!A269=\"\",\"\",部員名簿!I269)","v":""},{"$f":"IF(部員名簿!A269=\"\",\"\",部員名簿!B269)","v":""}]
[{"$f":"IF(部員名簿!A270=\"\",\"\",YEAR(部員名簿!G270))","v":""},{"$f":"IF(部員名簿!A270=\"\",\"\",MONTH(部員名簿!G270))","v":""},{"$f":"IF(部員名簿!A270=\"\",\"\",DAY(部員名簿!G270))","v":""},{"$f":"IF(部員名簿!A270=\"\",\"\",学校番号*100+部員名簿!H270)","v":""},{"$f":"IF(部員名簿!A270=\"\",\"\",部員名簿!C270)","v":""},{"$f":"IF(部員名簿!A270=\"\",\"\",部員名簿!D270)","v":""},{"$f":"IF(部員名簿!A270=\"\",\"\",部員名簿!E270)","v":""},{"$f":"IF(部員名簿!A270=\"\",\"\",部員名簿!F270)","v":""},{"$f":"IF(部員名簿!A270=\"\",\"\",部員名簿!I270)","v":""},{"$f":"IF(部員名簿!A270=\"\",\"\",部員名簿!B270)","v":""}]
[{"$f":"IF(部員名簿!A271=\"\",\"\",YEAR(部員名簿!G271))","v":""},{"$f":"IF(部員名簿!A271=\"\",\"\",MONTH(部員名簿!G271))","v":""},{"$f":"IF(部員名簿!A271=\"\",\"\",DAY(部員名簿!G271))","v":""},{"$f":"IF(部員名簿!A271=\"\",\"\",学校番号*100+部員名簿!H271)","v":""},{"$f":"IF(部員名簿!A271=\"\",\"\",部員名簿!C271)","v":""},{"$f":"IF(部員名簿!A271=\"\",\"\",部員名簿!D271)","v":""},{"$f":"IF(部員名簿!A271=\"\",\"\",部員名簿!E271)","v":""},{"$f":"IF(部員名簿!A271=\"\",\"\",部員名簿!F271)","v":""},{"$f":"IF(部員名簿!A271=\"\",\"\",部員名簿!I271)","v":""},{"$f":"IF(部員名簿!A271=\"\",\"\",部員名簿!B271)","v":""}]
[{"$f":"IF(部員名簿!A272=\"\",\"\",YEAR(部員名簿!G272))","v":""},{"$f":"IF(部員名簿!A272=\"\",\"\",MONTH(部員名簿!G272))","v":""},{"$f":"IF(部員名簿!A272=\"\",\"\",DAY(部員名簿!G272))","v":""},{"$f":"IF(部員名簿!A272=\"\",\"\",学校番号*100+部員名簿!H272)","v":""},{"$f":"IF(部員名簿!A272=\"\",\"\",部員名簿!C272)","v":""},{"$f":"IF(部員名簿!A272=\"\",\"\",部員名簿!D272)","v":""},{"$f":"IF(部員名簿!A272=\"\",\"\",部員名簿!E272)","v":""},{"$f":"IF(部員名簿!A272=\"\",\"\",部員名簿!F272)","v":""},{"$f":"IF(部員名簿!A272=\"\",\"\",部員名簿!I272)","v":""},{"$f":"IF(部員名簿!A272=\"\",\"\",部員名簿!B272)","v":""}]
[{"$f":"IF(部員名簿!A273=\"\",\"\",YEAR(部員名簿!G273))","v":""},{"$f":"IF(部員名簿!A273=\"\",\"\",MONTH(部員名簿!G273))","v":""},{"$f":"IF(部員名簿!A273=\"\",\"\",DAY(部員名簿!G273))","v":""},{"$f":"IF(部員名簿!A273=\"\",\"\",学校番号*100+部員名簿!H273)","v":""},{"$f":"IF(部員名簿!A273=\"\",\"\",部員名簿!C273)","v":""},{"$f":"IF(部員名簿!A273=\"\",\"\",部員名簿!D273)","v":""},{"$f":"IF(部員名簿!A273=\"\",\"\",部員名簿!E273)","v":""},{"$f":"IF(部員名簿!A273=\"\",\"\",部員名簿!F273)","v":""},{"$f":"IF(部員名簿!A273=\"\",\"\",部員名簿!I273)","v":""},{"$f":"IF(部員名簿!A273=\"\",\"\",部員名簿!B273)","v":""}]
[{"$f":"IF(部員名簿!A274=\"\",\"\",YEAR(部員名簿!G274))","v":""},{"$f":"IF(部員名簿!A274=\"\",\"\",MONTH(部員名簿!G274))","v":""},{"$f":"IF(部員名簿!A274=\"\",\"\",DAY(部員名簿!G274))","v":""},{"$f":"IF(部員名簿!A274=\"\",\"\",学校番号*100+部員名簿!H274)","v":""},{"$f":"IF(部員名簿!A274=\"\",\"\",部員名簿!C274)","v":""},{"$f":"IF(部員名簿!A274=\"\",\"\",部員名簿!D274)","v":""},{"$f":"IF(部員名簿!A274=\"\",\"\",部員名簿!E274)","v":""},{"$f":"IF(部員名簿!A274=\"\",\"\",部員名簿!F274)","v":""},{"$f":"IF(部員名簿!A274=\"\",\"\",部員名簿!I274)","v":""},{"$f":"IF(部員名簿!A274=\"\",\"\",部員名簿!B274)","v":""}]
[{"$f":"IF(部員名簿!A275=\"\",\"\",YEAR(部員名簿!G275))","v":""},{"$f":"IF(部員名簿!A275=\"\",\"\",MONTH(部員名簿!G275))","v":""},{"$f":"IF(部員名簿!A275=\"\",\"\",DAY(部員名簿!G275))","v":""},{"$f":"IF(部員名簿!A275=\"\",\"\",学校番号*100+部員名簿!H275)","v":""},{"$f":"IF(部員名簿!A275=\"\",\"\",部員名簿!C275)","v":""},{"$f":"IF(部員名簿!A275=\"\",\"\",部員名簿!D275)","v":""},{"$f":"IF(部員名簿!A275=\"\",\"\",部員名簿!E275)","v":""},{"$f":"IF(部員名簿!A275=\"\",\"\",部員名簿!F275)","v":""},{"$f":"IF(部員名簿!A275=\"\",\"\",部員名簿!I275)","v":""},{"$f":"IF(部員名簿!A275=\"\",\"\",部員名簿!B275)","v":""}]
[{"$f":"IF(部員名簿!A276=\"\",\"\",YEAR(部員名簿!G276))","v":""},{"$f":"IF(部員名簿!A276=\"\",\"\",MONTH(部員名簿!G276))","v":""},{"$f":"IF(部員名簿!A276=\"\",\"\",DAY(部員名簿!G276))","v":""},{"$f":"IF(部員名簿!A276=\"\",\"\",学校番号*100+部員名簿!H276)","v":""},{"$f":"IF(部員名簿!A276=\"\",\"\",部員名簿!C276)","v":""},{"$f":"IF(部員名簿!A276=\"\",\"\",部員名簿!D276)","v":""},{"$f":"IF(部員名簿!A276=\"\",\"\",部員名簿!E276)","v":""},{"$f":"IF(部員名簿!A276=\"\",\"\",部員名簿!F276)","v":""},{"$f":"IF(部員名簿!A276=\"\",\"\",部員名簿!I276)","v":""},{"$f":"IF(部員名簿!A276=\"\",\"\",部員名簿!B276)","v":""}]
[{"$f":"IF(部員名簿!A277=\"\",\"\",YEAR(部員名簿!G277))","v":""},{"$f":"IF(部員名簿!A277=\"\",\"\",MONTH(部員名簿!G277))","v":""},{"$f":"IF(部員名簿!A277=\"\",\"\",DAY(部員名簿!G277))","v":""},{"$f":"IF(部員名簿!A277=\"\",\"\",学校番号*100+部員名簿!H277)","v":""},{"$f":"IF(部員名簿!A277=\"\",\"\",部員名簿!C277)","v":""},{"$f":"IF(部員名簿!A277=\"\",\"\",部員名簿!D277)","v":""},{"$f":"IF(部員名簿!A277=\"\",\"\",部員名簿!E277)","v":""},{"$f":"IF(部員名簿!A277=\"\",\"\",部員名簿!F277)","v":""},{"$f":"IF(部員名簿!A277=\"\",\"\",部員名簿!I277)","v":""},{"$f":"IF(部員名簿!A277=\"\",\"\",部員名簿!B277)","v":""}]
[{"$f":"IF(部員名簿!A278=\"\",\"\",YEAR(部員名簿!G278))","v":""},{"$f":"IF(部員名簿!A278=\"\",\"\",MONTH(部員名簿!G278))","v":""},{"$f":"IF(部員名簿!A278=\"\",\"\",DAY(部員名簿!G278))","v":""},{"$f":"IF(部員名簿!A278=\"\",\"\",学校番号*100+部員名簿!H278)","v":""},{"$f":"IF(部員名簿!A278=\"\",\"\",部員名簿!C278)","v":""},{"$f":"IF(部員名簿!A278=\"\",\"\",部員名簿!D278)","v":""},{"$f":"IF(部員名簿!A278=\"\",\"\",部員名簿!E278)","v":""},{"$f":"IF(部員名簿!A278=\"\",\"\",部員名簿!F278)","v":""},{"$f":"IF(部員名簿!A278=\"\",\"\",部員名簿!I278)","v":""},{"$f":"IF(部員名簿!A278=\"\",\"\",部員名簿!B278)","v":""}]
[{"$f":"IF(部員名簿!A279=\"\",\"\",YEAR(部員名簿!G279))","v":""},{"$f":"IF(部員名簿!A279=\"\",\"\",MONTH(部員名簿!G279))","v":""},{"$f":"IF(部員名簿!A279=\"\",\"\",DAY(部員名簿!G279))","v":""},{"$f":"IF(部員名簿!A279=\"\",\"\",学校番号*100+部員名簿!H279)","v":""},{"$f":"IF(部員名簿!A279=\"\",\"\",部員名簿!C279)","v":""},{"$f":"IF(部員名簿!A279=\"\",\"\",部員名簿!D279)","v":""},{"$f":"IF(部員名簿!A279=\"\",\"\",部員名簿!E279)","v":""},{"$f":"IF(部員名簿!A279=\"\",\"\",部員名簿!F279)","v":""},{"$f":"IF(部員名簿!A279=\"\",\"\",部員名簿!I279)","v":""},{"$f":"IF(部員名簿!A279=\"\",\"\",部員名簿!B279)","v":""}]
[{"$f":"IF(部員名簿!A280=\"\",\"\",YEAR(部員名簿!G280))","v":""},{"$f":"IF(部員名簿!A280=\"\",\"\",MONTH(部員名簿!G280))","v":""},{"$f":"IF(部員名簿!A280=\"\",\"\",DAY(部員名簿!G280))","v":""},{"$f":"IF(部員名簿!A280=\"\",\"\",学校番号*100+部員名簿!H280)","v":""},{"$f":"IF(部員名簿!A280=\"\",\"\",部員名簿!C280)","v":""},{"$f":"IF(部員名簿!A280=\"\",\"\",部員名簿!D280)","v":""},{"$f":"IF(部員名簿!A280=\"\",\"\",部員名簿!E280)","v":""},{"$f":"IF(部員名簿!A280=\"\",\"\",部員名簿!F280)","v":""},{"$f":"IF(部員名簿!A280=\"\",\"\",部員名簿!I280)","v":""},{"$f":"IF(部員名簿!A280=\"\",\"\",部員名簿!B280)","v":""}]
[{"$f":"IF(部員名簿!A281=\"\",\"\",YEAR(部員名簿!G281))","v":""},{"$f":"IF(部員名簿!A281=\"\",\"\",MONTH(部員名簿!G281))","v":""},{"$f":"IF(部員名簿!A281=\"\",\"\",DAY(部員名簿!G281))","v":""},{"$f":"IF(部員名簿!A281=\"\",\"\",学校番号*100+部員名簿!H281)","v":""},{"$f":"IF(部員名簿!A281=\"\",\"\",部員名簿!C281)","v":""},{"$f":"IF(部員名簿!A281=\"\",\"\",部員名簿!D281)","v":""},{"$f":"IF(部員名簿!A281=\"\",\"\",部員名簿!E281)","v":""},{"$f":"IF(部員名簿!A281=\"\",\"\",部員名簿!F281)","v":""},{"$f":"IF(部員名簿!A281=\"\",\"\",部員名簿!I281)","v":""},{"$f":"IF(部員名簿!A281=\"\",\"\",部員名簿!B281)","v":""}]
[{"$f":"IF(部員名簿!A282=\"\",\"\",YEAR(部員名簿!G282))","v":""},{"$f":"IF(部員名簿!A282=\"\",\"\",MONTH(部員名簿!G282))","v":""},{"$f":"IF(部員名簿!A282=\"\",\"\",DAY(部員名簿!G282))","v":""},{"$f":"IF(部員名簿!A282=\"\",\"\",学校番号*100+部員名簿!H282)","v":""},{"$f":"IF(部員名簿!A282=\"\",\"\",部員名簿!C282)","v":""},{"$f":"IF(部員名簿!A282=\"\",\"\",部員名簿!D282)","v":""},{"$f":"IF(部員名簿!A282=\"\",\"\",部員名簿!E282)","v":""},{"$f":"IF(部員名簿!A282=\"\",\"\",部員名簿!F282)","v":""},{"$f":"IF(部員名簿!A282=\"\",\"\",部員名簿!I282)","v":""},{"$f":"IF(部員名簿!A282=\"\",\"\",部員名簿!B282)","v":""}]
[{"$f":"IF(部員名簿!A283=\"\",\"\",YEAR(部員名簿!G283))","v":""},{"$f":"IF(部員名簿!A283=\"\",\"\",MONTH(部員名簿!G283))","v":""},{"$f":"IF(部員名簿!A283=\"\",\"\",DAY(部員名簿!G283))","v":""},{"$f":"IF(部員名簿!A283=\"\",\"\",学校番号*100+部員名簿!H283)","v":""},{"$f":"IF(部員名簿!A283=\"\",\"\",部員名簿!C283)","v":""},{"$f":"IF(部員名簿!A283=\"\",\"\",部員名簿!D283)","v":""},{"$f":"IF(部員名簿!A283=\"\",\"\",部員名簿!E283)","v":""},{"$f":"IF(部員名簿!A283=\"\",\"\",部員名簿!F283)","v":""},{"$f":"IF(部員名簿!A283=\"\",\"\",部員名簿!I283)","v":""},{"$f":"IF(部員名簿!A283=\"\",\"\",部員名簿!B283)","v":""}]
[{"$f":"IF(部員名簿!A284=\"\",\"\",YEAR(部員名簿!G284))","v":""},{"$f":"IF(部員名簿!A284=\"\",\"\",MONTH(部員名簿!G284))","v":""},{"$f":"IF(部員名簿!A284=\"\",\"\",DAY(部員名簿!G284))","v":""},{"$f":"IF(部員名簿!A284=\"\",\"\",学校番号*100+部員名簿!H284)","v":""},{"$f":"IF(部員名簿!A284=\"\",\"\",部員名簿!C284)","v":""},{"$f":"IF(部員名簿!A284=\"\",\"\",部員名簿!D284)","v":""},{"$f":"IF(部員名簿!A284=\"\",\"\",部員名簿!E284)","v":""},{"$f":"IF(部員名簿!A284=\"\",\"\",部員名簿!F284)","v":""},{"$f":"IF(部員名簿!A284=\"\",\"\",部員名簿!I284)","v":""},{"$f":"IF(部員名簿!A284=\"\",\"\",部員名簿!B284)","v":""}]
[{"$f":"IF(部員名簿!A285=\"\",\"\",YEAR(部員名簿!G285))","v":""},{"$f":"IF(部員名簿!A285=\"\",\"\",MONTH(部員名簿!G285))","v":""},{"$f":"IF(部員名簿!A285=\"\",\"\",DAY(部員名簿!G285))","v":""},{"$f":"IF(部員名簿!A285=\"\",\"\",学校番号*100+部員名簿!H285)","v":""},{"$f":"IF(部員名簿!A285=\"\",\"\",部員名簿!C285)","v":""},{"$f":"IF(部員名簿!A285=\"\",\"\",部員名簿!D285)","v":""},{"$f":"IF(部員名簿!A285=\"\",\"\",部員名簿!E285)","v":""},{"$f":"IF(部員名簿!A285=\"\",\"\",部員名簿!F285)","v":""},{"$f":"IF(部員名簿!A285=\"\",\"\",部員名簿!I285)","v":""},{"$f":"IF(部員名簿!A285=\"\",\"\",部員名簿!B285)","v":""}]
[{"$f":"IF(部員名簿!A286=\"\",\"\",YEAR(部員名簿!G286))","v":""},{"$f":"IF(部員名簿!A286=\"\",\"\",MONTH(部員名簿!G286))","v":""},{"$f":"IF(部員名簿!A286=\"\",\"\",DAY(部員名簿!G286))","v":""},{"$f":"IF(部員名簿!A286=\"\",\"\",学校番号*100+部員名簿!H286)","v":""},{"$f":"IF(部員名簿!A286=\"\",\"\",部員名簿!C286)","v":""},{"$f":"IF(部員名簿!A286=\"\",\"\",部員名簿!D286)","v":""},{"$f":"IF(部員名簿!A286=\"\",\"\",部員名簿!E286)","v":""},{"$f":"IF(部員名簿!A286=\"\",\"\",部員名簿!F286)","v":""},{"$f":"IF(部員名簿!A286=\"\",\"\",部員名簿!I286)","v":""},{"$f":"IF(部員名簿!A286=\"\",\"\",部員名簿!B286)","v":""}]
[{"$f":"IF(部員名簿!A287=\"\",\"\",YEAR(部員名簿!G287))","v":""},{"$f":"IF(部員名簿!A287=\"\",\"\",MONTH(部員名簿!G287))","v":""},{"$f":"IF(部員名簿!A287=\"\",\"\",DAY(部員名簿!G287))","v":""},{"$f":"IF(部員名簿!A287=\"\",\"\",学校番号*100+部員名簿!H287)","v":""},{"$f":"IF(部員名簿!A287=\"\",\"\",部員名簿!C287)","v":""},{"$f":"IF(部員名簿!A287=\"\",\"\",部員名簿!D287)","v":""},{"$f":"IF(部員名簿!A287=\"\",\"\",部員名簿!E287)","v":""},{"$f":"IF(部員名簿!A287=\"\",\"\",部員名簿!F287)","v":""},{"$f":"IF(部員名簿!A287=\"\",\"\",部員名簿!I287)","v":""},{"$f":"IF(部員名簿!A287=\"\",\"\",部員名簿!B287)","v":""}]
[{"$f":"IF(部員名簿!A288=\"\",\"\",YEAR(部員名簿!G288))","v":""},{"$f":"IF(部員名簿!A288=\"\",\"\",MONTH(部員名簿!G288))","v":""},{"$f":"IF(部員名簿!A288=\"\",\"\",DAY(部員名簿!G288))","v":""},{"$f":"IF(部員名簿!A288=\"\",\"\",学校番号*100+部員名簿!H288)","v":""},{"$f":"IF(部員名簿!A288=\"\",\"\",部員名簿!C288)","v":""},{"$f":"IF(部員名簿!A288=\"\",\"\",部員名簿!D288)","v":""},{"$f":"IF(部員名簿!A288=\"\",\"\",部員名簿!E288)","v":""},{"$f":"IF(部員名簿!A288=\"\",\"\",部員名簿!F288)","v":""},{"$f":"IF(部員名簿!A288=\"\",\"\",部員名簿!I288)","v":""},{"$f":"IF(部員名簿!A288=\"\",\"\",部員名簿!B288)","v":""}]
[{"$f":"IF(部員名簿!A289=\"\",\"\",YEAR(部員名簿!G289))","v":""},{"$f":"IF(部員名簿!A289=\"\",\"\",MONTH(部員名簿!G289))","v":""},{"$f":"IF(部員名簿!A289=\"\",\"\",DAY(部員名簿!G289))","v":""},{"$f":"IF(部員名簿!A289=\"\",\"\",学校番号*100+部員名簿!H289)","v":""},{"$f":"IF(部員名簿!A289=\"\",\"\",部員名簿!C289)","v":""},{"$f":"IF(部員名簿!A289=\"\",\"\",部員名簿!D289)","v":""},{"$f":"IF(部員名簿!A289=\"\",\"\",部員名簿!E289)","v":""},{"$f":"IF(部員名簿!A289=\"\",\"\",部員名簿!F289)","v":""},{"$f":"IF(部員名簿!A289=\"\",\"\",部員名簿!I289)","v":""},{"$f":"IF(部員名簿!A289=\"\",\"\",部員名簿!B289)","v":""}]
[{"$f":"IF(部員名簿!A290=\"\",\"\",YEAR(部員名簿!G290))","v":""},{"$f":"IF(部員名簿!A290=\"\",\"\",MONTH(部員名簿!G290))","v":""},{"$f":"IF(部員名簿!A290=\"\",\"\",DAY(部員名簿!G290))","v":""},{"$f":"IF(部員名簿!A290=\"\",\"\",学校番号*100+部員名簿!H290)","v":""},{"$f":"IF(部員名簿!A290=\"\",\"\",部員名簿!C290)","v":""},{"$f":"IF(部員名簿!A290=\"\",\"\",部員名簿!D290)","v":""},{"$f":"IF(部員名簿!A290=\"\",\"\",部員名簿!E290)","v":""},{"$f":"IF(部員名簿!A290=\"\",\"\",部員名簿!F290)","v":""},{"$f":"IF(部員名簿!A290=\"\",\"\",部員名簿!I290)","v":""},{"$f":"IF(部員名簿!A290=\"\",\"\",部員名簿!B290)","v":""}]
[{"$f":"IF(部員名簿!A291=\"\",\"\",YEAR(部員名簿!G291))","v":""},{"$f":"IF(部員名簿!A291=\"\",\"\",MONTH(部員名簿!G291))","v":""},{"$f":"IF(部員名簿!A291=\"\",\"\",DAY(部員名簿!G291))","v":""},{"$f":"IF(部員名簿!A291=\"\",\"\",学校番号*100+部員名簿!H291)","v":""},{"$f":"IF(部員名簿!A291=\"\",\"\",部員名簿!C291)","v":""},{"$f":"IF(部員名簿!A291=\"\",\"\",部員名簿!D291)","v":""},{"$f":"IF(部員名簿!A291=\"\",\"\",部員名簿!E291)","v":""},{"$f":"IF(部員名簿!A291=\"\",\"\",部員名簿!F291)","v":""},{"$f":"IF(部員名簿!A291=\"\",\"\",部員名簿!I291)","v":""},{"$f":"IF(部員名簿!A291=\"\",\"\",部員名簿!B291)","v":""}]
[{"$f":"IF(部員名簿!A292=\"\",\"\",YEAR(部員名簿!G292))","v":""},{"$f":"IF(部員名簿!A292=\"\",\"\",MONTH(部員名簿!G292))","v":""},{"$f":"IF(部員名簿!A292=\"\",\"\",DAY(部員名簿!G292))","v":""},{"$f":"IF(部員名簿!A292=\"\",\"\",学校番号*100+部員名簿!H292)","v":""},{"$f":"IF(部員名簿!A292=\"\",\"\",部員名簿!C292)","v":""},{"$f":"IF(部員名簿!A292=\"\",\"\",部員名簿!D292)","v":""},{"$f":"IF(部員名簿!A292=\"\",\"\",部員名簿!E292)","v":""},{"$f":"IF(部員名簿!A292=\"\",\"\",部員名簿!F292)","v":""},{"$f":"IF(部員名簿!A292=\"\",\"\",部員名簿!I292)","v":""},{"$f":"IF(部員名簿!A292=\"\",\"\",部員名簿!B292)","v":""}]
[{"$f":"IF(部員名簿!A293=\"\",\"\",YEAR(部員名簿!G293))","v":""},{"$f":"IF(部員名簿!A293=\"\",\"\",MONTH(部員名簿!G293))","v":""},{"$f":"IF(部員名簿!A293=\"\",\"\",DAY(部員名簿!G293))","v":""},{"$f":"IF(部員名簿!A293=\"\",\"\",学校番号*100+部員名簿!H293)","v":""},{"$f":"IF(部員名簿!A293=\"\",\"\",部員名簿!C293)","v":""},{"$f":"IF(部員名簿!A293=\"\",\"\",部員名簿!D293)","v":""},{"$f":"IF(部員名簿!A293=\"\",\"\",部員名簿!E293)","v":""},{"$f":"IF(部員名簿!A293=\"\",\"\",部員名簿!F293)","v":""},{"$f":"IF(部員名簿!A293=\"\",\"\",部員名簿!I293)","v":""},{"$f":"IF(部員名簿!A293=\"\",\"\",部員名簿!B293)","v":""}]
[{"$f":"IF(部員名簿!A294=\"\",\"\",YEAR(部員名簿!G294))","v":""},{"$f":"IF(部員名簿!A294=\"\",\"\",MONTH(部員名簿!G294))","v":""},{"$f":"IF(部員名簿!A294=\"\",\"\",DAY(部員名簿!G294))","v":""},{"$f":"IF(部員名簿!A294=\"\",\"\",学校番号*100+部員名簿!H294)","v":""},{"$f":"IF(部員名簿!A294=\"\",\"\",部員名簿!C294)","v":""},{"$f":"IF(部員名簿!A294=\"\",\"\",部員名簿!D294)","v":""},{"$f":"IF(部員名簿!A294=\"\",\"\",部員名簿!E294)","v":""},{"$f":"IF(部員名簿!A294=\"\",\"\",部員名簿!F294)","v":""},{"$f":"IF(部員名簿!A294=\"\",\"\",部員名簿!I294)","v":""},{"$f":"IF(部員名簿!A294=\"\",\"\",部員名簿!B294)","v":""}]
[{"$f":"IF(部員名簿!A295=\"\",\"\",YEAR(部員名簿!G295))","v":""},{"$f":"IF(部員名簿!A295=\"\",\"\",MONTH(部員名簿!G295))","v":""},{"$f":"IF(部員名簿!A295=\"\",\"\",DAY(部員名簿!G295))","v":""},{"$f":"IF(部員名簿!A295=\"\",\"\",学校番号*100+部員名簿!H295)","v":""},{"$f":"IF(部員名簿!A295=\"\",\"\",部員名簿!C295)","v":""},{"$f":"IF(部員名簿!A295=\"\",\"\",部員名簿!D295)","v":""},{"$f":"IF(部員名簿!A295=\"\",\"\",部員名簿!E295)","v":""},{"$f":"IF(部員名簿!A295=\"\",\"\",部員名簿!F295)","v":""},{"$f":"IF(部員名簿!A295=\"\",\"\",部員名簿!I295)","v":""},{"$f":"IF(部員名簿!A295=\"\",\"\",部員名簿!B295)","v":""}]
[{"$f":"IF(部員名簿!A296=\"\",\"\",YEAR(部員名簿!G296))","v":""},{"$f":"IF(部員名簿!A296=\"\",\"\",MONTH(部員名簿!G296))","v":""},{"$f":"IF(部員名簿!A296=\"\",\"\",DAY(部員名簿!G296))","v":""},{"$f":"IF(部員名簿!A296=\"\",\"\",学校番号*100+部員名簿!H296)","v":""},{"$f":"IF(部員名簿!A296=\"\",\"\",部員名簿!C296)","v":""},{"$f":"IF(部員名簿!A296=\"\",\"\",部員名簿!D296)","v":""},{"$f":"IF(部員名簿!A296=\"\",\"\",部員名簿!E296)","v":""},{"$f":"IF(部員名簿!A296=\"\",\"\",部員名簿!F296)","v":""},{"$f":"IF(部員名簿!A296=\"\",\"\",部員名簿!I296)","v":""},{"$f":"IF(部員名簿!A296=\"\",\"\",部員名簿!B296)","v":""}]
[{"$f":"IF(部員名簿!A297=\"\",\"\",YEAR(部員名簿!G297))","v":""},{"$f":"IF(部員名簿!A297=\"\",\"\",MONTH(部員名簿!G297))","v":""},{"$f":"IF(部員名簿!A297=\"\",\"\",DAY(部員名簿!G297))","v":""},{"$f":"IF(部員名簿!A297=\"\",\"\",学校番号*100+部員名簿!H297)","v":""},{"$f":"IF(部員名簿!A297=\"\",\"\",部員名簿!C297)","v":""},{"$f":"IF(部員名簿!A297=\"\",\"\",部員名簿!D297)","v":""},{"$f":"IF(部員名簿!A297=\"\",\"\",部員名簿!E297)","v":""},{"$f":"IF(部員名簿!A297=\"\",\"\",部員名簿!F297)","v":""},{"$f":"IF(部員名簿!A297=\"\",\"\",部員名簿!I297)","v":""},{"$f":"IF(部員名簿!A297=\"\",\"\",部員名簿!B297)","v":""}]
[{"$f":"IF(部員名簿!A298=\"\",\"\",YEAR(部員名簿!G298))","v":""},{"$f":"IF(部員名簿!A298=\"\",\"\",MONTH(部員名簿!G298))","v":""},{"$f":"IF(部員名簿!A298=\"\",\"\",DAY(部員名簿!G298))","v":""},{"$f":"IF(部員名簿!A298=\"\",\"\",学校番号*100+部員名簿!H298)","v":""},{"$f":"IF(部員名簿!A298=\"\",\"\",部員名簿!C298)","v":""},{"$f":"IF(部員名簿!A298=\"\",\"\",部員名簿!D298)","v":""},{"$f":"IF(部員名簿!A298=\"\",\"\",部員名簿!E298)","v":""},{"$f":"IF(部員名簿!A298=\"\",\"\",部員名簿!F298)","v":""},{"$f":"IF(部員名簿!A298=\"\",\"\",部員名簿!I298)","v":""},{"$f":"IF(部員名簿!A298=\"\",\"\",部員名簿!B298)","v":""}]
[{"$f":"IF(部員名簿!A299=\"\",\"\",YEAR(部員名簿!G299))","v":""},{"$f":"IF(部員名簿!A299=\"\",\"\",MONTH(部員名簿!G299))","v":""},{"$f":"IF(部員名簿!A299=\"\",\"\",DAY(部員名簿!G299))","v":""},{"$f":"IF(部員名簿!A299=\"\",\"\",学校番号*100+部員名簿!H299)","v":""},{"$f":"IF(部員名簿!A299=\"\",\"\",部員名簿!C299)","v":""},{"$f":"IF(部員名簿!A299=\"\",\"\",部員名簿!D299)","v":""},{"$f":"IF(部員名簿!A299=\"\",\"\",部員名簿!E299)","v":""},{"$f":"IF(部員名簿!A299=\"\",\"\",部員名簿!F299)","v":""},{"$f":"IF(部員名簿!A299=\"\",\"\",部員名簿!I299)","v":""},{"$f":"IF(部員名簿!A299=\"\",\"\",部員名簿!B299)","v":""}]
[{"$f":"IF(部員名簿!A300=\"\",\"\",YEAR(部員名簿!G300))","v":""},{"$f":"IF(部員名簿!A300=\"\",\"\",MONTH(部員名簿!G300))","v":""},{"$f":"IF(部員名簿!A300=\"\",\"\",DAY(部員名簿!G300))","v":""},{"$f":"IF(部員名簿!A300=\"\",\"\",学校番号*100+部員名簿!H300)","v":""},{"$f":"IF(部員名簿!A300=\"\",\"\",部員名簿!C300)","v":""},{"$f":"IF(部員名簿!A300=\"\",\"\",部員名簿!D300)","v":""},{"$f":"IF(部員名簿!A300=\"\",\"\",部員名簿!E300)","v":""},{"$f":"IF(部員名簿!A300=\"\",\"\",部員名簿!F300)","v":""},{"$f":"IF(部員名簿!A300=\"\",\"\",部員名簿!I300)","v":""},{"$f":"IF(部員名簿!A300=\"\",\"\",部員名簿!B300)","v":""}]
[{"$f":"IF(部員名簿!A301=\"\",\"\",YEAR(部員名簿!G301))","v":""},{"$f":"IF(部員名簿!A301=\"\",\"\",MONTH(部員名簿!G301))","v":""},{"$f":"IF(部員名簿!A301=\"\",\"\",DAY(部員名簿!G301))","v":""},{"$f":"IF(部員名簿!A301=\"\",\"\",学校番号*100+部員名簿!H301)","v":""},{"$f":"IF(部員名簿!A301=\"\",\"\",部員名簿!C301)","v":""},{"$f":"IF(部員名簿!A301=\"\",\"\",部員名簿!D301)","v":""},{"$f":"IF(部員名簿!A301=\"\",\"\",部員名簿!E301)","v":""},{"$f":"IF(部員名簿!A301=\"\",\"\",部員名簿!F301)","v":""},{"$f":"IF(部員名簿!A301=\"\",\"\",部員名簿!I301)","v":""},{"$f":"IF(部員名簿!A301=\"\",\"\",部員名簿!B301)","v":""}]
[{"$f":"IF(部員名簿!A302=\"\",\"\",YEAR(部員名簿!G302))","v":""},{"$f":"IF(部員名簿!A302=\"\",\"\",MONTH(部員名簿!G302))","v":""},{"$f":"IF(部員名簿!A302=\"\",\"\",DAY(部員名簿!G302))","v":""},{"$f":"IF(部員名簿!A302=\"\",\"\",学校番号*100+部員名簿!H302)","v":""},{"$f":"IF(部員名簿!A302=\"\",\"\",部員名簿!C302)","v":""},{"$f":"IF(部員名簿!A302=\"\",\"\",部員名簿!D302)","v":""},{"$f":"IF(部員名簿!A302=\"\",\"\",部員名簿!E302)","v":""},{"$f":"IF(部員名簿!A302=\"\",\"\",部員名簿!F302)","v":""},{"$f":"IF(部員名簿!A302=\"\",\"\",部員名簿!I302)","v":""},{"$f":"IF(部員名簿!A302=\"\",\"\",部員名簿!B302)","v":""}]
[{"$f":"IF(部員名簿!A303=\"\",\"\",YEAR(部員名簿!G303))","v":""},{"$f":"IF(部員名簿!A303=\"\",\"\",MONTH(部員名簿!G303))","v":""},{"$f":"IF(部員名簿!A303=\"\",\"\",DAY(部員名簿!G303))","v":""},{"$f":"IF(部員名簿!A303=\"\",\"\",学校番号*100+部員名簿!H303)","v":""},{"$f":"IF(部員名簿!A303=\"\",\"\",部員名簿!C303)","v":""},{"$f":"IF(部員名簿!A303=\"\",\"\",部員名簿!D303)","v":""},{"$f":"IF(部員名簿!A303=\"\",\"\",部員名簿!E303)","v":""},{"$f":"IF(部員名簿!A303=\"\",\"\",部員名簿!F303)","v":""},{"$f":"IF(部員名簿!A303=\"\",\"\",部員名簿!I303)","v":""},{"$f":"IF(部員名簿!A303=\"\",\"\",部員名簿!B303)","v":""}]
[{"$f":"IF(部員名簿!A304=\"\",\"\",YEAR(部員名簿!G304))","v":""},{"$f":"IF(部員名簿!A304=\"\",\"\",MONTH(部員名簿!G304))","v":""},{"$f":"IF(部員名簿!A304=\"\",\"\",DAY(部員名簿!G304))","v":""},{"$f":"IF(部員名簿!A304=\"\",\"\",学校番号*100+部員名簿!H304)","v":""},{"$f":"IF(部員名簿!A304=\"\",\"\",部員名簿!C304)","v":""},{"$f":"IF(部員名簿!A304=\"\",\"\",部員名簿!D304)","v":""},{"$f":"IF(部員名簿!A304=\"\",\"\",部員名簿!E304)","v":""},{"$f":"IF(部員名簿!A304=\"\",\"\",部員名簿!F304)","v":""},{"$f":"IF(部員名簿!A304=\"\",\"\",部員名簿!I304)","v":""},{"$f":"IF(部員名簿!A304=\"\",\"\",部員名簿!B304)","v":""}]
[{"$f":"IF(部員名簿!A305=\"\",\"\",YEAR(部員名簿!G305))","v":""},{"$f":"IF(部員名簿!A305=\"\",\"\",MONTH(部員名簿!G305))","v":""},{"$f":"IF(部員名簿!A305=\"\",\"\",DAY(部員名簿!G305))","v":""},{"$f":"IF(部員名簿!A305=\"\",\"\",学校番号*100+部員名簿!H305)","v":""},{"$f":"IF(部員名簿!A305=\"\",\"\",部員名簿!C305)","v":""},{"$f":"IF(部員名簿!A305=\"\",\"\",部員名簿!D305)","v":""},{"$f":"IF(部員名簿!A305=\"\",\"\",部員名簿!E305)","v":""},{"$f":"IF(部員名簿!A305=\"\",\"\",部員名簿!F305)","v":""},{"$f":"IF(部員名簿!A305=\"\",\"\",部員名簿!I305)","v":""},{"$f":"IF(部員名簿!A305=\"\",\"\",部員名簿!B305)","v":""}]
[{"$f":"IF(部員名簿!A306=\"\",\"\",YEAR(部員名簿!G306))","v":""},{"$f":"IF(部員名簿!A306=\"\",\"\",MONTH(部員名簿!G306))","v":""},{"$f":"IF(部員名簿!A306=\"\",\"\",DAY(部員名簿!G306))","v":""},{"$f":"IF(部員名簿!A306=\"\",\"\",学校番号*100+部員名簿!H306)","v":""},{"$f":"IF(部員名簿!A306=\"\",\"\",部員名簿!C306)","v":""},{"$f":"IF(部員名簿!A306=\"\",\"\",部員名簿!D306)","v":""},{"$f":"IF(部員名簿!A306=\"\",\"\",部員名簿!E306)","v":""},{"$f":"IF(部員名簿!A306=\"\",\"\",部員名簿!F306)","v":""},{"$f":"IF(部員名簿!A306=\"\",\"\",部員名簿!I306)","v":""},{"$f":"IF(部員名簿!A306=\"\",\"\",部員名簿!B306)","v":""}]
[{"$f":"IF(部員名簿!A307=\"\",\"\",YEAR(部員名簿!G307))","v":""},{"$f":"IF(部員名簿!A307=\"\",\"\",MONTH(部員名簿!G307))","v":""},{"$f":"IF(部員名簿!A307=\"\",\"\",DAY(部員名簿!G307))","v":""},{"$f":"IF(部員名簿!A307=\"\",\"\",学校番号*100+部員名簿!H307)","v":""},{"$f":"IF(部員名簿!A307=\"\",\"\",部員名簿!C307)","v":""},{"$f":"IF(部員名簿!A307=\"\",\"\",部員名簿!D307)","v":""},{"$f":"IF(部員名簿!A307=\"\",\"\",部員名簿!E307)","v":""},{"$f":"IF(部員名簿!A307=\"\",\"\",部員名簿!F307)","v":""},{"$f":"IF(部員名簿!A307=\"\",\"\",部員名簿!I307)","v":""},{"$f":"IF(部員名簿!A307=\"\",\"\",部員名簿!B307)","v":""}]
[{"$f":"IF(部員名簿!A308=\"\",\"\",YEAR(部員名簿!G308))","v":""},{"$f":"IF(部員名簿!A308=\"\",\"\",MONTH(部員名簿!G308))","v":""},{"$f":"IF(部員名簿!A308=\"\",\"\",DAY(部員名簿!G308))","v":""},{"$f":"IF(部員名簿!A308=\"\",\"\",学校番号*100+部員名簿!H308)","v":""},{"$f":"IF(部員名簿!A308=\"\",\"\",部員名簿!C308)","v":""},{"$f":"IF(部員名簿!A308=\"\",\"\",部員名簿!D308)","v":""},{"$f":"IF(部員名簿!A308=\"\",\"\",部員名簿!E308)","v":""},{"$f":"IF(部員名簿!A308=\"\",\"\",部員名簿!F308)","v":""},{"$f":"IF(部員名簿!A308=\"\",\"\",部員名簿!I308)","v":""},{"$f":"IF(部員名簿!A308=\"\",\"\",部員名簿!B308)","v":""}]
[{"$f":"IF(部員名簿!A309=\"\",\"\",YEAR(部員名簿!G309))","v":""},{"$f":"IF(部員名簿!A309=\"\",\"\",MONTH(部員名簿!G309))","v":""},{"$f":"IF(部員名簿!A309=\"\",\"\",DAY(部員名簿!G309))","v":""},{"$f":"IF(部員名簿!A309=\"\",\"\",学校番号*100+部員名簿!H309)","v":""},{"$f":"IF(部員名簿!A309=\"\",\"\",部員名簿!C309)","v":""},{"$f":"IF(部員名簿!A309=\"\",\"\",部員名簿!D309)","v":""},{"$f":"IF(部員名簿!A309=\"\",\"\",部員名簿!E309)","v":""},{"$f":"IF(部員名簿!A309=\"\",\"\",部員名簿!F309)","v":""},{"$f":"IF(部員名簿!A309=\"\",\"\",部員名簿!I309)","v":""},{"$f":"IF(部員名簿!A309=\"\",\"\",部員名簿!B309)","v":""}]
[{"$f":"IF(部員名簿!A310=\"\",\"\",YEAR(部員名簿!G310))","v":""},{"$f":"IF(部員名簿!A310=\"\",\"\",MONTH(部員名簿!G310))","v":""},{"$f":"IF(部員名簿!A310=\"\",\"\",DAY(部員名簿!G310))","v":""},{"$f":"IF(部員名簿!A310=\"\",\"\",学校番号*100+部員名簿!H310)","v":""},{"$f":"IF(部員名簿!A310=\"\",\"\",部員名簿!C310)","v":""},{"$f":"IF(部員名簿!A310=\"\",\"\",部員名簿!D310)","v":""},{"$f":"IF(部員名簿!A310=\"\",\"\",部員名簿!E310)","v":""},{"$f":"IF(部員名簿!A310=\"\",\"\",部員名簿!F310)","v":""},{"$f":"IF(部員名簿!A310=\"\",\"\",部員名簿!I310)","v":""},{"$f":"IF(部員名簿!A310=\"\",\"\",部員名簿!B310)","v":""}]
[{"$f":"IF(部員名簿!A311=\"\",\"\",YEAR(部員名簿!G311))","v":""},{"$f":"IF(部員名簿!A311=\"\",\"\",MONTH(部員名簿!G311))","v":""},{"$f":"IF(部員名簿!A311=\"\",\"\",DAY(部員名簿!G311))","v":""},{"$f":"IF(部員名簿!A311=\"\",\"\",学校番号*100+部員名簿!H311)","v":""},{"$f":"IF(部員名簿!A311=\"\",\"\",部員名簿!C311)","v":""},{"$f":"IF(部員名簿!A311=\"\",\"\",部員名簿!D311)","v":""},{"$f":"IF(部員名簿!A311=\"\",\"\",部員名簿!E311)","v":""},{"$f":"IF(部員名簿!A311=\"\",\"\",部員名簿!F311)","v":""},{"$f":"IF(部員名簿!A311=\"\",\"\",部員名簿!I311)","v":""},{"$f":"IF(部員名簿!A311=\"\",\"\",部員名簿!B311)","v":""}]
[{"$f":"IF(部員名簿!A312=\"\",\"\",YEAR(部員名簿!G312))","v":""},{"$f":"IF(部員名簿!A312=\"\",\"\",MONTH(部員名簿!G312))","v":""},{"$f":"IF(部員名簿!A312=\"\",\"\",DAY(部員名簿!G312))","v":""},{"$f":"IF(部員名簿!A312=\"\",\"\",学校番号*100+部員名簿!H312)","v":""},{"$f":"IF(部員名簿!A312=\"\",\"\",部員名簿!C312)","v":""},{"$f":"IF(部員名簿!A312=\"\",\"\",部員名簿!D312)","v":""},{"$f":"IF(部員名簿!A312=\"\",\"\",部員名簿!E312)","v":""},{"$f":"IF(部員名簿!A312=\"\",\"\",部員名簿!F312)","v":""},{"$f":"IF(部員名簿!A312=\"\",\"\",部員名簿!I312)","v":""},{"$f":"IF(部員名簿!A312=\"\",\"\",部員名簿!B312)","v":""}]
[{"$f":"IF(部員名簿!A313=\"\",\"\",YEAR(部員名簿!G313))","v":""},{"$f":"IF(部員名簿!A313=\"\",\"\",MONTH(部員名簿!G313))","v":""},{"$f":"IF(部員名簿!A313=\"\",\"\",DAY(部員名簿!G313))","v":""},{"$f":"IF(部員名簿!A313=\"\",\"\",学校番号*100+部員名簿!H313)","v":""},{"$f":"IF(部員名簿!A313=\"\",\"\",部員名簿!C313)","v":""},{"$f":"IF(部員名簿!A313=\"\",\"\",部員名簿!D313)","v":""},{"$f":"IF(部員名簿!A313=\"\",\"\",部員名簿!E313)","v":""},{"$f":"IF(部員名簿!A313=\"\",\"\",部員名簿!F313)","v":""},{"$f":"IF(部員名簿!A313=\"\",\"\",部員名簿!I313)","v":""},{"$f":"IF(部員名簿!A313=\"\",\"\",部員名簿!B313)","v":""}]
[{"$f":"IF(部員名簿!A314=\"\",\"\",YEAR(部員名簿!G314))","v":""},{"$f":"IF(部員名簿!A314=\"\",\"\",MONTH(部員名簿!G314))","v":""},{"$f":"IF(部員名簿!A314=\"\",\"\",DAY(部員名簿!G314))","v":""},{"$f":"IF(部員名簿!A314=\"\",\"\",学校番号*100+部員名簿!H314)","v":""},{"$f":"IF(部員名簿!A314=\"\",\"\",部員名簿!C314)","v":""},{"$f":"IF(部員名簿!A314=\"\",\"\",部員名簿!D314)","v":""},{"$f":"IF(部員名簿!A314=\"\",\"\",部員名簿!E314)","v":""},{"$f":"IF(部員名簿!A314=\"\",\"\",部員名簿!F314)","v":""},{"$f":"IF(部員名簿!A314=\"\",\"\",部員名簿!I314)","v":""},{"$f":"IF(部員名簿!A314=\"\",\"\",部員名簿!B314)","v":""}]

{"sheet":"陸連データ取込シート","index":5,"n_rows":201,"n_cols":20,"rows_kept":201,"hidden":true}
["生年月日（西暦）","生年月日（月）","生年月日（日）","登録番号","姓","名","姓（カナ）","名（カナ）","性別","学年","備考",null,"年","姓","名","フリガナ(姓)","フリガナ(名)","生年月日","個人番号","性別"]
[2001,5,14,45810,"井上","銀河","イノウエ","ギンガ","男",3,null,null,{"$f":"IF(J2=\"\",\"\",J2)","v":3},{"$f":"IF(E2=\"\",\"\",E2)","v":"井上"},{"$f":"IF(F2=\"\",\"\",F2)","v":"銀河"},{"$f":"IF(G2=\"\",\"\",G2)","v":"イノウエ"},{"$f":"IF(H2=\"\",\"\",H2)","v":"ギンガ"},{"$f":"IF(D2=\"\",\"\",DATE(A2,B2,C2))","v":"2001-05-14"},{"$f":"IF(D2=\"\",\"\",RIGHT(D2,2)*1)","v":10},{"$f":"IF(I2=\"\",\"\",I2)","v":"男"}]
[2001,11,30,45811,"白矢","昂汰","シラヤ","コウタ","男",3,null,null,{"$f":"IF(J3=\"\",\"\",J3)","v":3},{"$f":"IF(E3=\"\",\"\",E3)","v":"白矢"},"昂汰","シラヤ","コウタ",{"$f":"IF(D3=\"\",\"\",DATE(A3,B3,C3))","v":"2001-11-30"},{"$f":"IF(D3=\"\",\"\",RIGHT(D3,2)*1)","v":11},{"$f":"IF(I3=\"\",\"\",I3)","v":"男"}]
[2002,1,6,45812,"松岡","泰貴","マツオカ","タイキ","男",3,null,null,3,"松岡","泰貴","マツオカ","タイキ","2002-01-06",12,"男"]
[2001,9,28,45813,"鷲尾","猛","ワシオ","タケル","男",3,null,null,3,"鷲尾","猛","ワシオ","タケル","2001-09-28",13,"男"]
[2002,12,20,45821,"田淵","俊丞","タブチ","シュンスケ","男",2,null,null,2,"田淵","俊丞","タブチ","シュンスケ","2002-12-20",21,"男"]
[2002,7,9,45822,"西澤","昴","ニシザワ","スバル","男",2,null,null,2,"西澤","昴","ニシザワ","スバル","2002-07-09",22,"男"]
[2002,5,8,45823,"豊島","廉執","トヨシマ","ユキト","男",2,null,null,2,"豊島","廉執","トヨシマ","ユキト","2002-05-08",23,"男"]
[2002,5,7,45824,"小山","夢空","コヤマ","ユア","男",2,null,null,2,"小山","夢空","コヤマ","ユア","2002-05-07",24,"男"]
[2002,9,13,45825,"前田","馬杜","マエダ","マナト","男",2,null,null,2,"前田","馬杜","マエダ","マナト","2002-09-13",25,"男"]
[2003,7,27,45830,"水野","蒼士","ミズノ","ソウシ","男",1,null,null,1,"水野","蒼士","ミズノ","ソウシ","2003-07-27",30,"男"]
[2004,1,1,45831,"豊島","聖生","トヨシマ","セイキ","男",1,null,null,1,"豊島","聖生","トヨシマ","セイキ","2004-01-01",31,"男"]
[2003,11,4,45832,"渡辺","翔馬","ワタナベ","ショウマ","男",1,null,null,1,"渡辺","翔馬","ワタナベ","ショウマ","2003-11-04",32,"男"]
[2003,4,20,45833,"毛利","洸晴","モウリ","コウセイ","男",1,null,null,1,"毛利","洸晴","モウリ","コウセイ","2003-04-20",33,"男"]
[2003,7,27,45834,"久保","航貴","クボ","コウキ","男",1,null,null,1,"久保","航貴","クボ","コウキ","2003-07-27",34,"男"]
[2003,5,8,45835,"伊藤","清竜","イトウ","セイリュウ","男",1,null,null,1,"伊藤","清竜","イトウ","セイリュウ","2003-05-08",35,"男"]
[2003,11,27,45836,"藤田","裕","フジタ","ユウ","男",1,null,null,1,"藤田","裕","フジタ","ユウ","2003-11-27",36,"男"]
[2003,2,21,45810,"高尾","美咲","タカオ","ミサキ","女",2,null,null,2,"高尾","美咲","タカオ","ミサキ","2003-02-21",10,"女"]
[2003,1,15,45811,"藤井","乃々華","フジイ","ノノカ","女",2,null,null,2,"藤井","乃々華","フジイ","ノノカ","2003-01-15",11,"女"]
[2002,8,7,45814,"柳田","菜緒","ヤナギタ","ナオ","女",2,null,null,2,"柳田","菜緒","ヤナギタ","ナオ","2002-08-07",14,"女"]
[2003,4,6,45821,"髙嶋","紗莉","タカシマ","サリ","女",1,null,null,1,"髙嶋","紗莉","タカシマ","サリ","2003-04-06",21,"女"]
[2003,10,4,45822,"久保","舞依","クボ","マイ","女",1,null,null,1,"久保","舞依","クボ","マイ","2003-10-04",22,"女"]
[2003,7,15,45823,"豊島","輝夕","トヨシマ","キセキ","女",1,null,null,1,"豊島","輝夕","トヨシマ","キセキ","2003-07-15",23,"女"]
[{"$nulls":12},"","","","","","","",""]
[{"$nulls":12},"","","","","","","",""]
[{"$nulls":12},"","","","","","","",""]
[{"$nulls":12},"","","","","","","",""]
[{"$nulls":12},"","","","","","","",""]
[{"$nulls":12},"","","","","","","",""]
[{"$nulls":12},"","","","","","","",""]
[{"$nulls":12},"","","","","","","",""]
[{"$nulls":12},"","","","","","","",""]
[{"$nulls":12},"","","","","","","",""]
[{"$nulls":12},"","","","","","","",""]
[{"$nulls":12},"","","","","","","",""]
[{"$nulls":12},"","","","","","","",""]
[{"$nulls":12},"","","","","","","",""]
[{"$nulls":12},"","","","","","","",""]
[{"$nulls":12},"","","","","","","",""]
[{"$nulls":12},"","","","","","","",""]
[{"$nulls":12},"","","","","","","",""]
[{"$nulls":12},"","","","","","","",""]
[{"$nulls":12},"","","","","","","",""]
[{"$nulls":12},"","","","","","","",""]
[{"$nulls":12},"","","","","","","",""]
[{"$nulls":12},"","","","","","","",""]
[{"$nulls":12},"","","","","","","",""]
[{"$nulls":12},"","","","","","","",""]
[{"$nulls":12},"","","","","","","",""]
[{"$nulls":12},"","","","","","","",""]
[{"$nulls":12},"","","","","","","",""]
[{"$nulls":12},"","","","","","","",""]
[{"$nulls":12},"","","","","","","",""]
[{"$nulls":12},"","","","","","","",""]
[{"$nulls":12},"","","","","","","",""]
[{"$nulls":12},"","","","","","","",""]
[{"$nulls":12},"","","","","","","",""]
[{"$nulls":12},"","","","","","","",""]
[{"$nulls":12},"","","","","","","",""]
[{"$nulls":12},"","","","","","","",""]
[{"$nulls":12},"","","","","","","",""]
[{"$nulls":12},"","","","","","","",""]
[{"$nulls":12},"","","","","","","",""]
[{"$nulls":12},"","","","","","","",""]
[{"$nulls":12},"","","","","","","",""]
[{"$nulls":12},"","","","",{"$f":"IF(H66=\"\",\"\",H66)","v":""},"","",""]
[{"$nulls":12},{"$f":"IF(J67=\"\",\"\",J67)","v":""},{"$f":"IF(E67=\"\",\"\",E67)","v":""},"","","",{"$f":"IF(D67=\"\",\"\",DATE(A67,B67,C67))","v":""},{"$f":"IF(D67=\"\",\"\",RIGHT(D67,2)*1)","v":""},{"$f":"IF(I67=\"\",\"\",I67)","v":""}]
[{"$nulls":12},"","","","","","","",""]
[{"$nulls":12},"","","","","","","",""]
[{"$nulls":12},"","","","","","","",""]
[{"$nulls":12},"","","","","","","",""]
[{"$nulls":12},"","","","","","","",""]
[{"$nulls":12},"","","","","","","",""]
[{"$nulls":12},"","","","","","","",""]
[{"$nulls":12},"","","","","","","",""]
[{"$nulls":12},"","","","","","","",""]
[{"$nulls":12},"","","","","","","",""]
[{"$nulls":12},"","","","","","","",""]
[{"$nulls":12},"","","","","","","",""]
[{"$nulls":12},"","","","","","","",""]
[{"$nulls":12},"","","","","","","",""]
[{"$nulls":12},"","","","","","","",""]
[{"$nulls":12},"","","","","","","",""]
[{"$nulls":12},"","","","","","","",""]
[{"$nulls":12},"","","","","","","",""]
[{"$nulls":12},"","","","","","","",""]
[{"$nulls":12},"","","","","","","",""]
[{"$nulls":12},"","","","","","","",""]
[{"$nulls":12},"","","","","","","",""]
[{"$nulls":12},"","","","","","","",""]
[{"$nulls":12},"","","","","","","",""]
[{"$nulls":12},"","","","","","","",""]
[{"$nulls":12},"","","","","","","",""]
[{"$nulls":12},"","","","","","","",""]
[{"$nulls":12},"","","","","","","",""]
[{"$nulls":12},"","","","","","","",""]
[{"$nulls":12},"","","","","","","",""]
[{"$nulls":12},"","","","","","","",""]
[{"$nulls":12},"","","","","","","",""]
[{"$nulls":12},"","","","","","","",""]
[{"$nulls":12},"","","","","","","",""]
[{"$nulls":12},"","","","","","","",""]
[{"$nulls":12},"","","","","","","",""]
[{"$nulls":12},"","","","","","","",""]
[{"$nulls":12},"","","","","","","",""]
[{"$nulls":12},"","","","","","","",""]
[{"$nulls":12},"","","","","","","",""]
[{"$nulls":12},"","","","","","","",""]
[{"$nulls":12},"","","","","","","",""]
[{"$nulls":12},"","","","","","","",""]
[{"$nulls":12},"","","","","","","",""]
[{"$nulls":12},"","","","","","","",""]
[{"$nulls":12},"","","","","","","",""]
[{"$nulls":12},"","","","","","","",""]
[{"$nulls":12},"","","","","","","",""]
[{"$nulls":12},"","","","","","","",""]
[{"$nulls":12},"","","","","","","",""]
[{"$nulls":12},"","","","","","","",""]
[{"$nulls":12},"","","","","","","",""]
[{"$nulls":12},"","","","","","","",""]
[{"$nulls":12},"","","","","","","",""]
[{"$nulls":12},"","","","","","","",""]
[{"$nulls":12},"","","","","","","",""]
[{"$nulls":12},"","","","","","","",""]
[{"$nulls":12},"","","","","","","",""]
[{"$nulls":12},"","","","","","","",""]
[{"$nulls":12},"","","","","","","",""]
[{"$nulls":12},"","","","","","","",""]
[{"$nulls":12},"","","","","","","",""]
[{"$nulls":12},"","","","","","","",""]
[{"$nulls":12},{"$f":"IF(J131=\"\",\"\",J131)","v":""},{"$f":"IF(E131=\"\",\"\",E131)","v":""},"","","",{"$f":"IF(D131=\"\",\"\",DATE(A131,B131,C131))","v":""},{"$f":"IF(D131=\"\",\"\",RIGHT(D131,2)*1)","v":""},{"$f":"IF(I131=\"\",\"\",I131)","v":""}]
[{"$nulls":12},"","","","","","","",""]
[{"$nulls":12},"","","","","","","",""]
[{"$nulls":12},"","","","","","","",""]
[{"$nulls":12},"","","","","","","",""]
[{"$nulls":12},"","","","","","","",""]
[{"$nulls":12},"","","","","","","",""]
[{"$nulls":12},"","","","","","","",""]
[{"$nulls":12},"","","","","","","",""]
[{"$nulls":12},"","","","","","","",""]
[{"$nulls":12},"","","","","","","",""]
[{"$nulls":12},"","","","","","","",""]
[{"$nulls":12},"","","","","","","",""]
[{"$nulls":12},"","","","","","","",""]
[{"$nulls":12},"","","","","","","",""]
[{"$nulls":12},"","","","","","","",""]
[{"$nulls":12},"","","","","","","",""]
[{"$nulls":12},"","","","","","","",""]
[{"$nulls":12},"","","","","","","",""]
[{"$nulls":12},"","","","","","","",""]
[{"$nulls":12},"","","","","","","",""]
[{"$nulls":12},"","","","","","","",""]
[{"$nulls":12},"","","","","","","",""]
[{"$nulls":12},"","","","","","","",""]
[{"$nulls":12},"","","","","","","",""]
[{"$nulls":12},"","","","","","","",""]
[{"$nulls":12},"","","","","","","",""]
[{"$nulls":12},"","","","","","","",""]
[{"$nulls":12},"","","","","","","",""]
[{"$nulls":12},"","","","","","","",""]
[{"$nulls":12},"","","","","","","",""]
[{"$nulls":12},"","","","","","","",""]
[{"$nulls":12},"","","","","","","",""]
[{"$nulls":12},"","","","","","","",""]
[{"$nulls":12},"","","","","","","",""]
[{"$nulls":12},"","","","","","","",""]
[{"$nulls":12},"","","","","","","",""]
[{"$nulls":12},"","","","","","","",""]
[{"$nulls":12},"","","","","","","",""]
[{"$nulls":12},"","","","","","","",""]
[{"$nulls":12},"","","","","","","",""]
[{"$nulls":12},"","","","","","","",""]
[{"$nulls":12},"","","","","","","",""]
[{"$nulls":12},"","","","","","","",""]
[{"$nulls":12},"","","","","","","",""]
[{"$nulls":12},"","","","","","","",""]
[{"$nulls":12},"","","","","","","",""]
[{"$nulls":12},"","","","","","","",""]
[{"$nulls":12},"","","","","","","",""]
[{"$nulls":12},"","","","","","","",""]
[{"$nulls":12},"","","","","","","",""]
[{"$nulls":12},"","","","","","","",""]
[{"$nulls":12},"","","","","","","",""]
[{"$nulls":12},"","","","","","","",""]
[{"$nulls":12},"","","","","","","",""]
[{"$nulls":12},"","","","","","","",""]
[{"$nulls":12},"","","","","","","",""]
[{"$nulls":12},"","","","","","","",""]
[{"$nulls":12},"","","","","","","",""]
[{"$nulls":12},"","","","","","","",""]
[{"$nulls":12},"","","","","","","",""]
[{"$nulls":12},"","","","","","","",""]
[{"$nulls":12},"","","","","","","",""]
[{"$nulls":12},"","","","",{"$f":"IF(H194=\"\",\"\",H194)","v":""},"","",""]
[{"$nulls":12},{"$f":"IF(J195=\"\",\"\",J195)","v":""},{"$f":"IF(E195=\"\",\"\",E195)","v":""},"","","",{"$f":"IF(D195=\"\",\"\",DATE(A195,B195,C195))","v":""},{"$f":"IF(D195=\"\",\"\",RIGHT(D195,2)*1)","v":""},{"$f":"IF(I195=\"\",\"\",I195)","v":""}]
[{"$nulls":12},"","","","","","","",""]
[{"$nulls":12},"","","","","","","",""]
[{"$nulls":12},"","","","","","","",""]
[{"$nulls":12},"","","","","","","",""]
[{"$nulls":12},"","","","","","","",""]
[{"$nulls":12},"","","","","","","",""]

{"sheet":"標準記録","index":6,"n_rows":39,"n_cols":10,"rows_kept":39,"hidden":true}
[]
[]
[null,"男子"]
[null,"種目","共通","１年","２年","３年","１．２年","２．３年","低学年","その他"]
["001","１００ｍ"]
["002","２００ｍ"]
["004","４００ｍ"]
["008","８００ｍ"]
["015","１５００ｍ"]
["030","３０００ｍ"]
["111","１１０ｍＨ"]
["410","４×１００ｍＲ"]
["510","走高跳"]
["520","棒高跳"]
["530","走幅跳"]
["540","三段跳"]
["551","円盤投(1.5㎏)"]
["562","砲丸投(5.0㎏)"]
["563","砲丸投(4.0㎏)"]
["570","ｼﾞｬﾍﾞﾘｯｸｽﾛｰ"]
["710","四種競技"]
[]
[null,"女子"]
[null,"種目","共通","１年","２年","３年","１．２年","２．３年","低学年","その他"]
["001","１００ｍ"]
["002","２００ｍ"]
["004","４００ｍ"]
["008","８００ｍ"]
["015","１５００ｍ"]
["030","３０００ｍ"]
["110","１００ｍＨ"]
["410","４×１００ｍＲ"]
["510","走高跳"]
["530","走幅跳"]
["550","円盤投"]
["560","砲丸投"]
["563","砲丸投(4.0㎏)"]
["570","ｼﾞｬﾍﾞﾘｯｸｽﾛｰ"]
["760","四種競技"]

{"sheet":"入力シート(記録会)","index":7,"n_rows":83,"n_cols":20,"rows_kept":83,"hidden":true,"merged":[[1,0,42,0],[34,3,37,7],[34,8,34,9],[34,12,37,12],[35,8,35,9],[36,8,36,9],[37,8,37,9],[39,3,42,7],[39,8,39,9],[39,12,42,12],[40,8,40,9],[41,8,41,9],[42,8,42,9],[43,0,82,0],[74,3,77,7],[74,8,74,9],[74,12,77,12],[75,8,75,9],[76,8,76,9],[77,8,77,9],[79,3,82,7],[79,8,79,9],[79,12,82,12],[80,8,80,9],[81,8,81,9],[82,8,82,9]]}
["性別","性別","種別コード","種別","種目コード","種目","学校番号","個人番号","氏名","学年","申込記録","計測区分","大会名"]
["男子","男",0,{"$f":"VLOOKUP(C2,出場種別,2,FALSE)","v":"共通"},"001",{"$f":"VLOOKUP(E2,種目コード,2,FALSE)","v":"１００ｍ"},{"$f":"学校番号","v":0},null,{"$f":"IF(H2=\"\",\"\",VLOOKUP(P2,部員データ,3,FALSE)&\"　\"&VLOOKUP(P2,部員データ,4,FALSE))","v":""},{"$f":"IF(H2=\"\",\"\",VLOOKUP(P2,部員データ,2,FALSE))","v":""},{"$nulls":5},{"$f":"IF(H2=\"\",\"\",B2&DBCS(TEXT(H2,\"００\")))","v":""},{"$f":"COUNTIF($P$2:$P$43,P2)","v":42},{"$f":"IF(VLOOKUP(E2,男子標準記録,C2+3,FALSE)=\"\",\"\",VLOOKUP(E2,男子標準記録,C2+3,FALSE))","v":""},{"$f":"VLOOKUP(E2,種目コード,4,FALSE)","v":10},{"$f":"IF(FIND(\".\",TEXT(K2,\"#.00\"))>3,MID(TEXT(K2,\"#.00\"),FIND(\".\",TEXT(K2,\"#.00\"))-2,2)/1,\"\")","v":""}]
[null,"男",0,"共通","001","１００ｍ",0,null,{"$f":"IF(H3=\"\",\"\",VLOOKUP(P3,部員データ,3,FALSE)&\"　\"&VLOOKUP(P3,部員データ,4,FALSE))","v":""},"",{"$nulls":5},"",42,"",10,{"$f":"IF(FIND(\".\",TEXT(K3,\"#.00\"))>3,MID(TEXT(K3,\"#.00\"),FIND(\".\",TEXT(K3,\"#.00\"))-2,2)/1,\"\")","v":""}]
[null,"男",0,"共通","001","１００ｍ",0,null,{"$f":"IF(H4=\"\",\"\",VLOOKUP(P4,部員データ,3,FALSE)&\"　\"&VLOOKUP(P4,部員データ,4,FALSE))","v":""},"",{"$nulls":5},"",42,"",10,""]
[null,"男",0,"共通","001","１００ｍ",0,null,"","",{"$nulls":5},"",42,"",10,""]
[null,"男",0,"共通","002","２００ｍ",0,null,"","",{"$nulls":5},"",42,"",20.5,""]
[null,"男",0,"共通","002","２００ｍ",0,null,"","",{"$nulls":5},"",42,"",20.5,""]
[null,"男",0,"共通","004","４００ｍ",0,null,"","",{"$nulls":5},"",42,"",42,""]
[null,"男",0,"共通","004","４００ｍ",0,null,"","",{"$nulls":5},"",42,"",42,""]
[null,"男",0,"共通","008","８００ｍ",0,null,"","",{"$nulls":5},"",42,"",150,""]
[null,"男",0,"共通","008","８００ｍ",0,null,"","",{"$nulls":5},"",42,"",150,""]
[null,"男",0,"共通","015","１５００ｍ",0,null,"","",{"$nulls":5},"",42,"",340,""]
[null,"男",0,"共通","015","１５００ｍ",0,null,"","",{"$nulls":5},"",42,"",340,""]
[null,"男",0,"共通","030","３０００ｍ",0,null,"","",{"$nulls":5},"",42,"",800,""]
[null,"男",0,"共通","030","３０００ｍ",0,null,"","",{"$nulls":5},"",42,"",800,""]
[null,"男",0,"共通","030","３０００ｍ",0,null,"","",{"$nulls":5},"",42,"",800,""]
[null,"男",0,"共通","030","３０００ｍ",0,null,"","",{"$nulls":5},"",42,"",800,""]
[null,"男",0,"共通","030","３０００ｍ",0,null,"","",{"$nulls":5},"",42,"",{"$f":"VLOOKUP(E18,種目コード,4,FALSE)","v":800},""]
[null,"男",0,"共通","030","３０００ｍ",0,null,"","",{"$nulls":5},"",42,null,800,""]
[null,"男",0,"共通","111","１１０ｍＨ",0,null,"","",{"$nulls":5},"",42,null,12,""]
[null,"男",0,"共通","111","１１０ｍＨ",0,null,"","",{"$nulls":5},"",42,null,12,""]
[null,"男",0,"共通","510","走高跳",0,null,"","",{"$nulls":5},"",42,null,2.4,""]
[null,"男",0,"共通","510","走高跳",0,null,"","",{"$nulls":5},"",42,null,2.4,""]
[null,"男",0,"共通","520","棒高跳",0,null,"","",{"$nulls":5},"",42,{"$f":"IF(VLOOKUP(E24,男子標準記録,C24+3,FALSE)=\"\",\"\",VLOOKUP(E24,男子標準記録,C24+3,FALSE))","v":""},5.5,""]
[null,"男",0,"共通","520","棒高跳",0,null,"","",{"$nulls":5},"",42,"",5.5,""]
[null,"男",0,"共通","530","走幅跳",0,null,"","",{"$nulls":5},"",42,"",8,""]
[null,"男",0,"共通","530","走幅跳",0,null,"","",{"$nulls":5},"",42,"",8,""]
[null,"男",0,"共通","540","三段跳",0,null,"","",{"$nulls":5},"",42,"",17,""]
[null,"男",0,"共通","540","三段跳",0,null,"","",{"$nulls":5},"",42,"",17,""]
[null,"男",0,"共通","562","砲丸投(5.0㎏)",0,null,"","",{"$nulls":5},"",42,"",20,""]
[null,"男",0,"共通","562","砲丸投(5.0㎏)",0,null,"","",{"$nulls":5},"",42,"",20,""]
[null,"男",0,"共通","551","円盤投(1.5㎏)",0,null,"","",{"$nulls":5},"",42,"",70,""]
[null,"男",0,"共通","551","円盤投(1.5㎏)",0,null,"","",{"$nulls":5},"",42,"",70,""]
[null,"男",0,"共通","710","男子四種競技",0,null,"","",{"$nulls":5},"",42,"",3800,""]
[{"$nulls":8},"１１０ｍH",{"$nulls":10},""]
[{"$nulls":8},"砲丸投げ",{"$nulls":10},""]
[{"$nulls":8},"走高跳",{"$nulls":10},""]
[{"$nulls":8},"４００ｍ",{"$nulls":10},""]
[null,"男",0,{"$f":"VLOOKUP(C39,出場種別,2,FALSE)","v":"共通"},"710",{"$f":"VLOOKUP(E39,種目コード,2,FALSE)","v":"男子四種競技"},{"$f":"学校番号","v":0},null,{"$f":"IF(H39=\"\",\"\",VLOOKUP(P39,部員データ,3,FALSE)&\"　\"&VLOOKUP(P39,部員データ,4,FALSE))","v":""},{"$f":"IF(H39=\"\",\"\",VLOOKUP(P39,部員データ,2,FALSE))","v":""},{"$nulls":5},"",42,{"$f":"IF(VLOOKUP(E39,男子標準記録,C39+3,FALSE)=\"\",\"\",VLOOKUP(E39,男子標準記録,C39+3,FALSE))","v":""},{"$f":"VLOOKUP(E39,種目コード,4,FALSE)","v":3800},""]
[{"$nulls":8},"１１０ｍH",{"$nulls":10},""]
[{"$nulls":8},"砲丸投げ",{"$nulls":10},""]
[{"$nulls":8},"走高跳",{"$nulls":10},""]
[{"$nulls":8},"４００ｍ",{"$nulls":10},""]
["女子","女",0,{"$f":"VLOOKUP(C44,出場種別,2,FALSE)","v":"共通"},"001",{"$f":"VLOOKUP(E44,種目コード,2,FALSE)","v":"１００ｍ"},{"$f":"学校番号","v":0},null,{"$f":"IF(H44=\"\",\"\",VLOOKUP(P44,部員データ,3,FALSE)&\"　\"&VLOOKUP(P44,部員データ,4,FALSE))","v":""},{"$f":"IF(H44=\"\",\"\",VLOOKUP(P44,部員データ,2,FALSE))","v":""},{"$nulls":5},"",{"$f":"COUNTIF($P$44:$P$83,P44)","v":40},{"$f":"IF(VLOOKUP(E44,女子標準記録,C44+3,FALSE)=\"\",\"\",VLOOKUP(E44,女子標準記録,C44+3,FALSE))","v":""},{"$f":"VLOOKUP(E44,種目コード,6,FALSE)","v":11},""]
[null,"女",0,"共通","001","１００ｍ",0,null,"","",{"$nulls":5},"",40,"",11,""]
[null,"女",0,"共通","001","１００ｍ",0,null,"","",{"$nulls":5},"",40,"",11,""]
[null,"女",0,"共通","001","１００ｍ",0,null,"","",{"$nulls":5},"",40,"",11,""]
[null,"女",0,"共通","002","２００ｍ",0,null,"","",{"$nulls":5},"",40,"",22,""]
[null,"女",0,"共通","002","２００ｍ",0,null,"","",{"$nulls":5},"",40,"",22,""]
[null,"女",0,"共通","008","８００ｍ",0,null,"","",{"$nulls":5},"",40,"",200,""]
[null,"女",0,"共通","008","８００ｍ",0,null,"","",{"$nulls":5},"",40,"",200,""]
[null,"女",0,"共通","015","１５００ｍ",0,null,"","",{"$nulls":5},"",40,"",400,""]
[null,"女",0,"共通","015","１５００ｍ",0,null,"","",{"$nulls":5},"",40,"",400,""]
[null,"女",0,"共通","015","１５００ｍ",0,null,"","",{"$nulls":5},"",40,"",400,""]
[null,"女",0,"共通","015","１５００ｍ",0,null,"","",{"$nulls":5},"",40,"",400,""]
[null,"女",0,"共通","015","１５００ｍ",0,null,"","",{"$nulls":5},"",40,"",{"$f":"VLOOKUP(E56,種目コード,6,FALSE)","v":400},""]
[null,"女",0,"共通","015","１５００ｍ",0,null,"","",{"$nulls":5},"",40,"",400,""]
[null,"女",0,"共通","030","３０００ｍ",0,null,"","",{"$nulls":5},"",40,"",900,""]
[null,"女",0,"共通","030","３０００ｍ",0,null,"","",{"$nulls":5},"",40,"",900,""]
[null,"女",0,"共通","030","３０００ｍ",0,null,"","",{"$nulls":5},"",40,"",900,""]
[null,"女",0,"共通","030","３０００ｍ",0,null,"","",{"$nulls":5},"",40,"",900,""]
[null,"女",0,"共通","030","３０００ｍ",0,null,"","",{"$nulls":5},"",40,"",900,""]
[null,"女",0,"共通","030","３０００ｍ",0,null,"","",{"$nulls":5},"",40,"",900,""]
[null,"女",0,{"$f":"VLOOKUP(C64,出場種別,2,FALSE)","v":"共通"},"110",{"$f":"VLOOKUP(E64,種目コード,2,FALSE)","v":"１００ｍＨ"},0,null,{"$f":"IF(H64=\"\",\"\",VLOOKUP(P64,部員データ,3,FALSE)&\"　\"&VLOOKUP(P64,部員データ,4,FALSE))","v":""},{"$f":"IF(H64=\"\",\"\",VLOOKUP(P64,部員データ,2,FALSE))","v":""},{"$nulls":5},"",40,{"$f":"IF(VLOOKUP(E64,女子標準記録,C64+3,FALSE)=\"\",\"\",VLOOKUP(E64,女子標準記録,C64+3,FALSE))","v":""},12,{"$f":"IF(FIND(\".\",TEXT(K64,\"#.00\"))>3,MID(TEXT(K64,\"#.00\"),FIND(\".\",TEXT(K64,\"#.00\"))-2,2)/1,\"\")","v":""}]
[null,"女",0,{"$f":"VLOOKUP(C65,出場種別,2,FALSE)","v":"共通"},"110",{"$f":"VLOOKUP(E65,種目コード,2,FALSE)","v":"１００ｍＨ"},0,null,{"$f":"IF(H65=\"\",\"\",VLOOKUP(P65,部員データ,3,FALSE)&\"　\"&VLOOKUP(P65,部員データ,4,FALSE))","v":""},{"$f":"IF(H65=\"\",\"\",VLOOKUP(P65,部員データ,2,FALSE))","v":""},{"$nulls":5},"",40,{"$f":"IF(VLOOKUP(E65,女子標準記録,C65+3,FALSE)=\"\",\"\",VLOOKUP(E65,女子標準記録,C65+3,FALSE))","v":""},12,{"$f":"IF(FIND(\".\",TEXT(K65,\"#.00\"))>3,MID(TEXT(K65,\"#.00\"),FIND(\".\",TEXT(K65,\"#.00\"))-2,2)/1,\"\")","v":""}]
[null,"女",0,"共通","510","走高跳",0,null,"","",{"$nulls":5},{"$f":"IF(H66=\"\",\"\",B66&DBCS(TEXT(H66,\"００\")))","v":""},40,"",1.9,""]
[null,"女",0,"共通","510","走高跳",0,null,"","",{"$nulls":5},"",40,"",1.9,{"$f":"IF(FIND(\".\",TEXT(K67,\"#.00\"))>3,MID(TEXT(K67,\"#.00\"),FIND(\".\",TEXT(K67,\"#.00\"))-2,2)/1,\"\")","v":""}]
[null,"女",0,"共通","530","走幅跳",0,null,"","",{"$nulls":5},"",40,"",7,""]
[null,"女",0,"共通","530","走幅跳",0,null,"","",{"$nulls":5},"",40,"",7,""]
[null,"女",0,{"$f":"VLOOKUP(C70,出場種別,2,FALSE)","v":"共通"},"560",{"$f":"VLOOKUP(E70,種目コード,2,FALSE)","v":"砲丸投"},0,null,{"$f":"IF(H70=\"\",\"\",VLOOKUP(P70,部員データ,3,FALSE)&\"　\"&VLOOKUP(P70,部員データ,4,FALSE))","v":""},{"$f":"IF(H70=\"\",\"\",VLOOKUP(P70,部員データ,2,FALSE))","v":""},{"$nulls":5},{"$f":"IF(H70=\"\",\"\",B70&DBCS(TEXT(H70,\"００\")))","v":""},40,{"$f":"IF(VLOOKUP(E70,女子標準記録,C70+3,FALSE)=\"\",\"\",VLOOKUP(E70,女子標準記録,C70+3,FALSE))","v":""},18,{"$f":"IF(FIND(\".\",TEXT(K70,\"#.00\"))>3,MID(TEXT(K70,\"#.00\"),FIND(\".\",TEXT(K70,\"#.00\"))-2,2)/1,\"\")","v":""}]
[null,"女",0,{"$f":"VLOOKUP(C71,出場種別,2,FALSE)","v":"共通"},"560",{"$f":"VLOOKUP(E71,種目コード,2,FALSE)","v":"砲丸投"},0,null,{"$f":"IF(H71=\"\",\"\",VLOOKUP(P71,部員データ,3,FALSE)&\"　\"&VLOOKUP(P71,部員データ,4,FALSE))","v":""},{"$f":"IF(H71=\"\",\"\",VLOOKUP(P71,部員データ,2,FALSE))","v":""},{"$nulls":5},{"$f":"IF(H71=\"\",\"\",B71&DBCS(TEXT(H71,\"００\")))","v":""},40,{"$f":"IF(VLOOKUP(E71,女子標準記録,C71+3,FALSE)=\"\",\"\",VLOOKUP(E71,女子標準記録,C71+3,FALSE))","v":""},18,{"$f":"IF(FIND(\".\",TEXT(K71,\"#.00\"))>3,MID(TEXT(K71,\"#.00\"),FIND(\".\",TEXT(K71,\"#.00\"))-2,2)/1,\"\")","v":""}]
[null,"女",0,"共通","550","円盤投",0,null,"","",{"$nulls":5},"",40,"",45,""]
[null,"女",0,"共通","550","円盤投",0,null,"","",{"$nulls":5},"",40,"",45,""]
[null,"女",0,"共通","760","女子四種競技",0,null,"","",{"$nulls":5},"",40,"",4000,""]
[{"$nulls":8},"１００ｍH",{"$nulls":7},0,null,null,""]
[{"$nulls":8},"走高跳",{"$nulls":7},0,null,null,""]
[{"$nulls":8},"砲丸投",{"$nulls":7},0,null,null,""]
[{"$nulls":8},"２００ｍ",{"$nulls":7},0,null,null,""]
[null,"女",0,{"$f":"VLOOKUP(C79,出場種別,2,FALSE)","v":"共通"},"760",{"$f":"VLOOKUP(E79,種目コード,2,FALSE)","v":"女子四種競技"},{"$f":"学校番号","v":0},null,{"$f":"IF(H79=\"\",\"\",VLOOKUP(P79,部員データ,3,FALSE)&\"　\"&VLOOKUP(P79,部員データ,4,FALSE))","v":""},{"$f":"IF(H79=\"\",\"\",VLOOKUP(P79,部員データ,2,FALSE))","v":""},{"$nulls":5},"",40,{"$f":"IF(VLOOKUP(E79,女子標準記録,C79+3,FALSE)=\"\",\"\",VLOOKUP(E79,女子標準記録,C79+3,FALSE))","v":""},{"$f":"VLOOKUP(E79,種目コード,6,FALSE)","v":4000},""]
[{"$nulls":8},"１００ｍH",{"$nulls":7},0,null,null,""]
[{"$nulls":8},"走高跳",{"$nulls":7},0,null,null,""]
[{"$nulls":8},"砲丸投",{"$nulls":7},0,null,null,""]
[{"$nulls":8},"２００ｍ",{"$nulls":7},0,null,null,""]

{"sheet":"秋季記録会","index":8,"n_rows":58,"n_cols":150,"rows_kept":58,"hidden":true,"merged":[[1,1,1,135],[2,1,2,135],[3,117,3,135],[4,2,4,25],[4,74,4,83],[4,87,4,98],[4,102,4,111],[4,114,4,133],[5,2,5,25],[5,71,5,94],[7,1,7,10],[7,11,7,16],[7,17,7,34],[7,35,7,38],[7,39,7,44],[7,45,7,62],[7,63,7,66],[7,70,7,79],[7,80,7,85],[7,86,7,103],[7,104,7,107],[7,108,7,113],[7,114,7,131],[7,132,7,135],[8,1,11,10],[8,11,9,16],[8,17,8,34],[8,35,9,38],[8,39,9,44],[8,45,8,62],[8,63,9,66],[8,70,11,79],[8,80,9,85],[8,86,8,103],[8,104,9,107],[8,108,9,113],[8,114,8,131],[8,132,9,135],[9,17,9,34],[9,45,9,62],[9,86,9,103],[9,114,9,131],[10,11,11,16],[10,17,10,34],[10,35,11,38],[10,39,11,44],[10,45,10,62],[10,63,11,66],[10,80,11,85],[10,86,10,103],[10,104,11,107],[10,108,11,113],[10,114,10,131],[10,132,11,135],[11,17,11,34],[11,45,11,62],[11,86,11,103],[11,114,11,131],[12,1,13,10],[12,11,13,16],[12,17,12,34],[12,35,13,38],[12,39,13,44],[12,45,12,62],[12,63,13,66],[12,70,13,79],[12,80,13,85],[12,86,12,103],[12,104,13,107],[12,108,13,113],[12,114,12,131],[12,132,13,135],[13,17,13,34],[13,45,13,62],[13,86,13,103],[13,114,13,131],[14,1,15,10],[14,11,15,16],[14,17,14,34],[14,35,15,38],[14,39,15,44],[14,45,14,62],[14,63,15,66],[14,70,15,79],[14,80,15,85],[14,86,14,103],[14,104,15,107],[14,108,15,113],[14,114,14,131],[14,132,15,135],[15,17,15,34],[15,45,15,62],[15,86,15,103],[15,114,15,131],[16,1,17,10],[16,11,17,16],[16,17,16,34],[16,35,17,38],[16,39,17,44],[16,45,16,62],[16,63,17,66],[16,70,21,79],[16,80,17,85],[16,86,16,103],[16,104,17,107],[16,108,17,113],[16,114,16,131],[16,132,17,135],[17,17,17,34],[17,45,17,62],[17,86,17,103],[17,114,17,131],[18,1,19,10],[18,11,19,16],[18,17,18,34],[18,35,19,38],[18,39,19,44],[18,45,18,62],[18,63,19,66],[18,80,19,85],[18,86,18,103],[18,104,19,107],[18,108,19,113],[18,114,18,131],[18,132,19,135],[19,17,19,34],[19,45,19,62],[19,86,19,103],[19,114,19,131],[20,1,25,10],[20,11,21,16],[20,17,20,34],[20,35,21,38],[20,39,21,44],[20,45,20,62],[20,63,21,66],[20,80,21,85],[20,86,20,103],[20,104,21,107],[20,108,21,113],[20,114,20,131],[20,132,21,135],[21,17,21,34],[21,45,21,62],[21,86,21,103],[21,114,21,131],[22,11,23,16],[22,17,22,34],[22,35,23,38],[22,39,23,44],[22,45,22,62],[22,63,23,66],[22,70,27,79],[22,80,23,85],[22,86,22,103],[22,104,23,107],[22,108,23,113],[22,114,22,131],[22,132,23,135],[23,17,23,34],[23,45,23,62],[23,86,23,103],[23,114,23,131],[24,11,25,16],[24,17,24,34],[24,35,25,38],[24,39,25,44],[24,45,24,62],[24,63,25,66],[24,80,25,85],[24,86,24,103],[24,104,25,107],[24,108,25,113],[24,114,24,131],[24,132,25,135],[25,17,25,34],[25,45,25,62],[25,86,25,103],[25,114,25,131],[26,1,27,10],[26,11,27,16],[26,17,26,34],[26,35,27,38],[26,39,27,44],[26,45,26,62],[26,63,27,66],[26,80,27,85],[26,86,26,103],[26,104,27,107],[26,108,27,113],[26,114,26,131],[26,132,27,135],[27,17,27,34],[27,45,27,62],[27,86,27,103],[27,114,27,131],[28,1,29,10],[28,11,29,16],[28,17,28,34],[28,35,29,38],[28,39,29,44],[28,45,28,62],[28,63,29,66],[28,70,29,79],[28,80,29,85],[28,86,28,103],[28,104,29,107],[28,108,29,113],[28,114,28,131],[28,132,29,135],[29,17,29,34],[29,45,29,62],[29,86,29,103],[29,114,29,131],[30,1,31,10],[30,11,31,16],[30,17,30,34],[30,35,31,38],[30,39,31,44],[30,45,30,62],[30,63,31,66],[30,70,31,79],[30,80,31,85],[30,86,30,103],[30,104,31,107],[30,108,31,113],[30,114,30,131],[30,132,31,135],[31,17,31,34],[31,45,31,62],[31,86,31,103],[31,114,31,131],[32,1,33,10],[32,11,33,16],[32,17,32,34],[32,35,33,38],[32,39,33,44],[32,45,32,62],[32,63,33,66],[32,70,33,79],[32,80,33,85],[32,86,32,103],[32,104,33,107],[32,108,33,113],[32,114,32,131],[32,132,33,135],[33,17,33,34],[33,45,33,62],[33,86,33,103],[33,114,33,131],[34,1,35,10],[34,11,35,16],[34,17,34,34],[34,35,35,38],[34,39,35,44],[34,45,34,62],[34,63,35,66],[34,70,35,79],[34,80,35,85],[34,86,34,103],[34,104,35,107],[34,108,35,113],[34,114,34,131],[34,132,35,135],[35,17,35,34],[35,45,35,62],[35,86,35,103],[35,114,35,131],[36,1,37,10],[36,11,37,16],[36,17,36,34],[36,35,37,38],[36,39,37,44],[36,45,36,62],[36,63,37,66],[36,70,37,79],[36,80,37,85],[36,86,36,103],[36,104,37,107],[36,108,37,113],[36,114,36,131],[36,132,37,135],[37,17,37,34],[37,45,37,62],[37,86,37,103],[37,114,37,131],[38,1,39,10],[38,11,39,16],[38,17,38,34],[38,35,39,38],[38,39,39,44],[38,45,38,62],[38,63,39,66],[38,70,39,79],[38,80,39,85],[38,86,38,103],[38,104,39,107],[38,108,39,113],[38,114,38,131],[38,132,39,135],[39,17,39,34],[39,45,39,62],[39,86,39,103],[39,114,39,131],[40,1,41,10],[40,11,41,16],[40,17,40,34],[40,35,41,38],[40,39,41,44],[40,45,40,62],[40,63,41,66],[40,72,40,77],[40,79,40,82],[40,86,40,91],[40,93,40,96],[40,100,40,115],[40,117,40,131],[41,17,41,34],[41,45,41,62],[42,72,42,131],[44,1,44,10],[44,11,44,23],[44,24,44,36],[44,37,44,49],[44,50,44,85],[45,1,45,10],[45,11,45,17],[45,18,45,23],[45,24,45,30],[45,31,45,36],[45,37,45,43],[45,44,45,49],[45,50,45,55],[45,56,45,58],[45,59,45,65],[45,66,45,68],[45,69,45,71],[45,72,45,81],[45,82,45,84],[46,1,46,10],[46,11,46,17],[46,18,46,23],[46,24,46,30],[46,31,46,36],[46,37,46,43],[46,44,46,49],[46,50,46,55],[46,56,46,58],[46,59,46,65],[46,66,46,68],[46,69,46,71],[46,72,46,81],[46,82,46,84],[47,1,47,10],[47,11,47,17],[47,18,47,23],[47,24,47,30],[47,31,47,36],[47,37,47,43],[47,44,47,49],[47,50,47,55],[47,56,47,58],[47,59,47,65],[47,69,47,71],[47,72,47,81],[47,82,47,84],[48,1,48,10],[48,11,48,17],[48,18,48,23],[48,24,48,30],[48,31,48,36],[48,37,48,43],[48,44,48,49],[48,50,48,59],[48,61,48,81],[48,82,48,84],[51,4,51,132],[53,4,53,9],[53,10,53,15],[53,16,53,19],[53,20,53,27],[53,28,53,31],[53,32,53,41],[53,42,53,45],[53,48,53,67],[53,69,53,79],[53,81,53,91],[53,94,53,125],[53,128,53,132],[55,2,55,9],[55,11,55,12],[55,13,55,37],[55,38,55,39],[55,42,55,43],[55,44,55,68],[55,69,55,70],[55,73,55,74],[55,75,55,99],[55,100,55,101],[55,104,55,105],[55,106,55,130],[55,131,55,132]]}
[1,2,3,4,5,6,7,8,9,10,11,12,13,14,15,16,17,18,19,20,21,22,23,24,25,26,27,28,29,30,31,32,33,34,35,36,37,38,39,40,41,42,43,44,45,46,47,48,49,50,51,52,53,54,55,56,57,58,59,60,61,62,63,64,65,66,67,68,69,70,71,72,73,74,75,76,77,78,79,80,81,82,83,84,85,86,87,88,89,90,91,92,93,94,95,96,97,98,99,100,101,102,103,104,105,106,107,108,109,110,111,112,113,114,115,116,117,118,119,120,121,122,123,124,125,126,127,128,129,130,131,132,133,134,135,136,137,138,139,140]
[null,"平成２７年度　中播地区中学校秋季陸上競技記録会"]
[null,"申込一覧表　（Ａ）"]
[{"$nulls":117},"2部提出"]
[null,null,"（全種目とも全学年共通）",{"$nulls":71},"学校番号",{"$nulls":11},"（",{"$f":"学校番号","v":0},{"$nulls":11},"）",null,null,"学 校 名",{"$nulls":10},"（",{"$f":"略称","v":0},{"$nulls":20},"）"]
[null,null,"１日目実施●",{"$nulls":68},"１日目実施●"]
[]
[null,"男子種目",{"$nulls":9},"個人\n番号",{"$nulls":5},"名　　前",{"$nulls":17},"学年",{"$nulls":3},"個人\n番号",{"$nulls":5},"名　　前",{"$nulls":17},"学年",{"$nulls":6},"女子種目",{"$nulls":9},"個人\n番号",{"$nulls":5},"名　　前",{"$nulls":17},"学年",{"$nulls":3},"個人\n番号",{"$nulls":5},"名　　前",{"$nulls":17},"学年"]
[null,"●100m",{"$nulls":9},{"$f":"IF('入力シート(記録会)'!$H2=\"\",\"\",'入力シート(記録会)'!$H2)","v":""},{"$nulls":5},{"$f":"IF(L9<>\"\",VLOOKUP(EM9,部員データ,3,FALSE)&\"  \"&VLOOKUP(EM9,部員データ,4,FALSE),\"\")","v":""},{"$nulls":17},{"$f":"IF(L9<>\"\",VLOOKUP(EM9,部員データ,2,FALSE),\"\")","v":""},{"$nulls":3},{"$f":"IF('入力シート(記録会)'!$H3=\"\",\"\",'入力シート(記録会)'!$H3)","v":""},{"$nulls":5},{"$f":"IF(AN9<>\"\",VLOOKUP(EN9,部員データ,3,FALSE)&\"  \"&VLOOKUP(EN9,部員データ,4,FALSE),\"\")","v":""},{"$nulls":17},{"$f":"IF(AN9<>\"\",VLOOKUP(EN9,部員データ,2,FALSE),\"\")","v":""},{"$nulls":6},"●100m",{"$nulls":9},{"$f":"IF('入力シート(記録会)'!$H44=\"\",\"\",'入力シート(記録会)'!$H44)","v":""},{"$nulls":5},{"$f":"IF(CC9<>\"\",VLOOKUP(EO9,部員データ,3,FALSE)&\"  \"&VLOOKUP(EO9,部員データ,4,FALSE),\"\")","v":""},{"$nulls":17},{"$f":"IF(CC9<>\"\",VLOOKUP(EO9,部員データ,2,FALSE),\"\")","v":""},{"$nulls":3},{"$f":"IF('入力シート(記録会)'!$H45=\"\",\"\",'入力シート(記録会)'!$H45)","v":""},{"$nulls":5},{"$f":"IF(DE9<>\"\",VLOOKUP(EP9,部員データ,3,FALSE)&\"  \"&VLOOKUP(EP9,部員データ,4,FALSE),\"\")","v":""},{"$nulls":17},{"$f":"IF(DE9<>\"\",VLOOKUP(EP9,部員データ,2,FALSE),\"\")","v":""},{"$nulls":9},{"$f":"\"男\"&DBCS(TEXT(L9,\"00\"))","v":"男"},{"$f":"\"男\"&DBCS(TEXT(AN9,\"00\"))","v":"男"},{"$f":"\"女\"&DBCS(TEXT(CC9,\"00\"))","v":"女"},{"$f":"\"女\"&DBCS(TEXT(DE9,\"00\"))","v":"女"},{"$f":"IF(OR(EM9=\"男\",EM9=\"\"),\"\",COUNTIF($EM$9:$EN$42,EM9))","v":""},{"$f":"IF(OR(EN9=\"男\",EN9=\"\"),\"\",COUNTIF($EM$9:$EN$42,EN9))","v":""},{"$f":"IF(OR(EO9=\"女\",EO9=\"\"),\"\",COUNTIF($EO$9:$EP$39,EO9))","v":""},{"$f":"IF(OR(EP9=\"女\",EP9=\"\"),\"\",COUNTIF($EO$9:$EP$39,EP9))","v":""}]
[{"$nulls":17},{"$f":"IF(L9=\"\",\"\",IF('入力シート(記録会)'!$K2=\"\",\"\",format_kiroku('入力シート(記録会)'!$K2,B9)))","v":""},{"$nulls":27},{"$f":"IF(AN9=\"\",\"\",IF('入力シート(記録会)'!$K3=\"\",\"\",format_kiroku('入力シート(記録会)'!$K3,$B9)))","v":""},{"$nulls":40},{"$f":"IF(CC9=\"\",\"\",IF('入力シート(記録会)'!$K44=\"\",\"\",format_kiroku('入力シート(記録会)'!$K44,$BS9)))","v":""},{"$nulls":27},{"$f":"IF(DE9=\"\",\"\",IF('入力シート(記録会)'!$K45=\"\",\"\",format_kiroku('入力シート(記録会)'!$K45,$BS9)))","v":""},{"$nulls":31},{"$f":"IF(OR(EM10=\"男\",EM10=\"\"),\"\",COUNTIF($EM$9:$EN$42,EM10))","v":""},"",{"$f":"IF(OR(EO10=\"女\",EO10=\"\"),\"\",COUNTIF($EO$9:$EP$39,EO10))","v":""},""]
[{"$nulls":11},{"$f":"IF('入力シート(記録会)'!$H4=\"\",\"\",'入力シート(記録会)'!$H4)","v":""},{"$nulls":5},{"$f":"IF(L11<>\"\",VLOOKUP(EM11,部員データ,3,FALSE)&\"  \"&VLOOKUP(EM11,部員データ,4,FALSE),\"\")","v":""},{"$nulls":17},{"$f":"IF(L11<>\"\",VLOOKUP(EM11,部員データ,2,FALSE),\"\")","v":""},{"$nulls":3},{"$f":"IF('入力シート(記録会)'!$H5=\"\",\"\",'入力シート(記録会)'!$H5)","v":""},{"$nulls":5},{"$f":"IF(AN11<>\"\",VLOOKUP(EN11,部員データ,3,FALSE)&\"  \"&VLOOKUP(EN11,部員データ,4,FALSE),\"\")","v":""},{"$nulls":17},{"$f":"IF(AN11<>\"\",VLOOKUP(EN11,部員データ,2,FALSE),\"\")","v":""},{"$nulls":16},{"$f":"IF('入力シート(記録会)'!$H46=\"\",\"\",'入力シート(記録会)'!$H46)","v":""},{"$nulls":5},{"$f":"IF(CC11<>\"\",VLOOKUP(EO11,部員データ,3,FALSE)&\"  \"&VLOOKUP(EO11,部員データ,4,FALSE),\"\")","v":""},{"$nulls":17},{"$f":"IF(CC11<>\"\",VLOOKUP(EO11,部員データ,2,FALSE),\"\")","v":""},{"$nulls":3},{"$f":"IF('入力シート(記録会)'!$H47=\"\",\"\",'入力シート(記録会)'!$H47)","v":""},{"$nulls":5},{"$f":"IF(DE11<>\"\",VLOOKUP(EP11,部員データ,3,FALSE)&\"  \"&VLOOKUP(EP11,部員データ,4,FALSE),\"\")","v":""},{"$nulls":17},{"$f":"IF(DE11<>\"\",VLOOKUP(EP11,部員データ,2,FALSE),\"\")","v":""},{"$nulls":9},{"$f":"\"男\"&DBCS(TEXT(L11,\"00\"))","v":"男"},{"$f":"\"男\"&DBCS(TEXT(AN11,\"00\"))","v":"男"},{"$f":"\"女\"&DBCS(TEXT(CC11,\"00\"))","v":"女"},{"$f":"\"女\"&DBCS(TEXT(DE11,\"00\"))","v":"女"},"","","",""]
[{"$nulls":17},{"$f":"IF(L11=\"\",\"\",IF('入力シート(記録会)'!$K4=\"\",\"\",format_kiroku('入力シート(記録会)'!$K4,$B9)))","v":""},{"$nulls":27},{"$f":"IF(AN11=\"\",\"\",IF('入力シート(記録会)'!$K5=\"\",\"\",format_kiroku('入力シート(記録会)'!$K5,$B9)))","v":""},{"$nulls":40},{"$f":"IF(CC11=\"\",\"\",IF('入力シート(記録会)'!$K46=\"\",\"\",format_kiroku('入力シート(記録会)'!$K46,$BS9)))","v":""},{"$nulls":27},{"$f":"IF(DE11=\"\",\"\",IF('入力シート(記録会)'!$K47=\"\",\"\",format_kiroku('入力シート(記録会)'!$K47,$BS9)))","v":""},{"$nulls":31},"","","",""]
[null,"200m",{"$nulls":9},{"$f":"IF('入力シート(記録会)'!$H6=\"\",\"\",'入力シート(記録会)'!$H6)","v":""},{"$nulls":5},{"$f":"IF(L13<>\"\",VLOOKUP(EM13,部員データ,3,FALSE)&\"  \"&VLOOKUP(EM13,部員データ,4,FALSE),\"\")","v":""},{"$nulls":17},{"$f":"IF(L13<>\"\",VLOOKUP(EM13,部員データ,2,FALSE),\"\")","v":""},{"$nulls":3},{"$f":"IF('入力シート(記録会)'!$H7=\"\",\"\",'入力シート(記録会)'!$H7)","v":""},{"$nulls":5},{"$f":"IF(AN13<>\"\",VLOOKUP(EN13,部員データ,3,FALSE)&\"  \"&VLOOKUP(EN13,部員データ,4,FALSE),\"\")","v":""},{"$nulls":17},{"$f":"IF(AN13<>\"\",VLOOKUP(EN13,部員データ,2,FALSE),\"\")","v":""},{"$nulls":6},"200m",{"$nulls":9},{"$f":"IF('入力シート(記録会)'!$H48=\"\",\"\",'入力シート(記録会)'!$H48)","v":""},{"$nulls":5},{"$f":"IF(CC13<>\"\",VLOOKUP(EO13,部員データ,3,FALSE)&\"  \"&VLOOKUP(EO13,部員データ,4,FALSE),\"\")","v":""},{"$nulls":17},{"$f":"IF(CC13<>\"\",VLOOKUP(EO13,部員データ,2,FALSE),\"\")","v":""},{"$nulls":3},{"$f":"IF('入力シート(記録会)'!$H49=\"\",\"\",'入力シート(記録会)'!$H49)","v":""},{"$nulls":5},{"$f":"IF(DE13<>\"\",VLOOKUP(EP13,部員データ,3,FALSE)&\"  \"&VLOOKUP(EP13,部員データ,4,FALSE),\"\")","v":""},{"$nulls":17},{"$f":"IF(DE13<>\"\",VLOOKUP(EP13,部員データ,2,FALSE),\"\")","v":""},{"$nulls":9},"男","男","女","女","","","",""]
[{"$nulls":17},{"$f":"IF(L13=\"\",\"\",IF('入力シート(記録会)'!$K6=\"\",\"\",format_kiroku('入力シート(記録会)'!$K6,B13)))","v":""},{"$nulls":27},{"$f":"IF(AN13=\"\",\"\",IF('入力シート(記録会)'!$K7=\"\",\"\",format_kiroku('入力シート(記録会)'!$K7,B13)))","v":""},{"$nulls":40},{"$f":"IF(CC13=\"\",\"\",IF('入力シート(記録会)'!$K48=\"\",\"\",format_kiroku('入力シート(記録会)'!$K48,$BS13)))","v":""},{"$nulls":27},{"$f":"IF(DE13=\"\",\"\",IF('入力シート(記録会)'!$K49=\"\",\"\",format_kiroku('入力シート(記録会)'!$K49,$BS13)))","v":""},{"$nulls":31},"","","",""]
[null,"●400m",{"$nulls":9},{"$f":"IF('入力シート(記録会)'!$H8=\"\",\"\",'入力シート(記録会)'!$H8)","v":""},{"$nulls":5},{"$f":"IF(L15<>\"\",VLOOKUP(EM15,部員データ,3,FALSE)&\"  \"&VLOOKUP(EM15,部員データ,4,FALSE),\"\")","v":""},{"$nulls":17},{"$f":"IF(L15<>\"\",VLOOKUP(EM15,部員データ,2,FALSE),\"\")","v":""},{"$nulls":3},{"$f":"IF('入力シート(記録会)'!$H9=\"\",\"\",'入力シート(記録会)'!$H9)","v":""},{"$nulls":5},{"$f":"IF(AN15<>\"\",VLOOKUP(EN15,部員データ,3,FALSE)&\"  \"&VLOOKUP(EN15,部員データ,4,FALSE),\"\")","v":""},{"$nulls":17},{"$f":"IF(AN15<>\"\",VLOOKUP(EN15,部員データ,2,FALSE),\"\")","v":""},{"$nulls":6},"800m",{"$nulls":9},{"$f":"IF('入力シート(記録会)'!$H50=\"\",\"\",'入力シート(記録会)'!$H50)","v":""},{"$nulls":5},{"$f":"IF(CC15<>\"\",VLOOKUP(EO15,部員データ,3,FALSE)&\"  \"&VLOOKUP(EO15,部員データ,4,FALSE),\"\")","v":""},{"$nulls":17},{"$f":"IF(CC15<>\"\",VLOOKUP(EO15,部員データ,2,FALSE),\"\")","v":""},{"$nulls":3},{"$f":"IF('入力シート(記録会)'!$H51=\"\",\"\",'入力シート(記録会)'!$H51)","v":""},{"$nulls":5},{"$f":"IF(DE15<>\"\",VLOOKUP(EP15,部員データ,3,FALSE)&\"  \"&VLOOKUP(EP15,部員データ,4,FALSE),\"\")","v":""},{"$nulls":17},{"$f":"IF(DE15<>\"\",VLOOKUP(EP15,部員データ,2,FALSE),\"\")","v":""},{"$nulls":9},"男","男","女","女","","","",""]
[{"$nulls":17},{"$f":"IF(L15=\"\",\"\",IF('入力シート(記録会)'!$K8=\"\",\"\",format_kiroku('入力シート(記録会)'!$K8,B15)))","v":""},{"$nulls":27},{"$f":"IF(AN15=\"\",\"\",IF('入力シート(記録会)'!$K9=\"\",\"\",format_kiroku('入力シート(記録会)'!$K9,B15)))","v":""},{"$nulls":40},{"$f":"IF(CC15=\"\",\"\",IF('入力シート(記録会)'!$K50=\"\",\"\",format_kiroku('入力シート(記録会)'!$K50,$BS15)))","v":""},{"$nulls":27},{"$f":"IF(DE15=\"\",\"\",IF('入力シート(記録会)'!$K51=\"\",\"\",format_kiroku('入力シート(記録会)'!$K51,$BS15)))","v":""},{"$nulls":31},"","","",""]
[null,"800m",{"$nulls":9},{"$f":"IF('入力シート(記録会)'!$H10=\"\",\"\",'入力シート(記録会)'!$H10)","v":""},{"$nulls":5},{"$f":"IF(L17<>\"\",VLOOKUP(EM17,部員データ,3,FALSE)&\"  \"&VLOOKUP(EM17,部員データ,4,FALSE),\"\")","v":""},{"$nulls":17},{"$f":"IF(L17<>\"\",VLOOKUP(EM17,部員データ,2,FALSE),\"\")","v":""},{"$nulls":3},{"$f":"IF('入力シート(記録会)'!$H11=\"\",\"\",'入力シート(記録会)'!$H11)","v":""},{"$nulls":5},{"$f":"IF(AN17<>\"\",VLOOKUP(EN17,部員データ,3,FALSE)&\"  \"&VLOOKUP(EN17,部員データ,4,FALSE),\"\")","v":""},{"$nulls":17},{"$f":"IF(AN17<>\"\",VLOOKUP(EN17,部員データ,2,FALSE),\"\")","v":""},{"$nulls":6},"●1500m",{"$nulls":9},{"$f":"IF('入力シート(記録会)'!$H52=\"\",\"\",'入力シート(記録会)'!$H52)","v":""},{"$nulls":5},{"$f":"IF(CC17<>\"\",VLOOKUP(EO17,部員データ,3,FALSE)&\"  \"&VLOOKUP(EO17,部員データ,4,FALSE),\"\")","v":""},{"$nulls":17},{"$f":"IF(CC17<>\"\",VLOOKUP(EO17,部員データ,2,FALSE),\"\")","v":""},{"$nulls":3},{"$f":"IF('入力シート(記録会)'!$H53=\"\",\"\",'入力シート(記録会)'!$H53)","v":""},{"$nulls":5},{"$f":"IF(DE17<>\"\",VLOOKUP(EP17,部員データ,3,FALSE)&\"  \"&VLOOKUP(EP17,部員データ,4,FALSE),\"\")","v":""},{"$nulls":17},{"$f":"IF(DE17<>\"\",VLOOKUP(EP17,部員データ,2,FALSE),\"\")","v":""},{"$nulls":9},"男","男","女","女","","","",""]
[{"$nulls":17},{"$f":"IF(L17=\"\",\"\",IF('入力シート(記録会)'!$K10=\"\",\"\",format_kiroku('入力シート(記録会)'!$K10,B17)))","v":""},{"$nulls":27},{"$f":"IF(AN17=\"\",\"\",IF('入力シート(記録会)'!$K11=\"\",\"\",format_kiroku('入力シート(記録会)'!$K11,B17)))","v":""},{"$nulls":40},{"$f":"IF(CC17=\"\",\"\",IF('入力シート(記録会)'!$K52=\"\",\"\",format_kiroku('入力シート(記録会)'!$K52,$BS17)))","v":""},{"$nulls":27},{"$f":"IF(DE17=\"\",\"\",IF('入力シート(記録会)'!$K53=\"\",\"\",format_kiroku('入力シート(記録会)'!$K53,$BS17)))","v":""},{"$nulls":31},"","","",""]
[null,"●1500m",{"$nulls":9},{"$f":"IF('入力シート(記録会)'!$H12=\"\",\"\",'入力シート(記録会)'!$H12)","v":""},{"$nulls":5},{"$f":"IF(L19<>\"\",VLOOKUP(EM19,部員データ,3,FALSE)&\"  \"&VLOOKUP(EM19,部員データ,4,FALSE),\"\")","v":""},{"$nulls":17},{"$f":"IF(L19<>\"\",VLOOKUP(EM19,部員データ,2,FALSE),\"\")","v":""},{"$nulls":3},{"$f":"IF('入力シート(記録会)'!$H13=\"\",\"\",'入力シート(記録会)'!$H13)","v":""},{"$nulls":5},{"$f":"IF(AN19<>\"\",VLOOKUP(EN19,部員データ,3,FALSE)&\"  \"&VLOOKUP(EN19,部員データ,4,FALSE),\"\")","v":""},{"$nulls":17},{"$f":"IF(AN19<>\"\",VLOOKUP(EN19,部員データ,2,FALSE),\"\")","v":""},{"$nulls":16},{"$f":"IF('入力シート(記録会)'!$H54=\"\",\"\",'入力シート(記録会)'!$H54)","v":""},{"$nulls":5},{"$f":"IF(CC19<>\"\",VLOOKUP(EO19,部員データ,3,FALSE)&\"  \"&VLOOKUP(EO19,部員データ,4,FALSE),\"\")","v":""},{"$nulls":17},{"$f":"IF(CC19<>\"\",VLOOKUP(EO19,部員データ,2,FALSE),\"\")","v":""},{"$nulls":3},{"$f":"IF('入力シート(記録会)'!$H55=\"\",\"\",'入力シート(記録会)'!$H55)","v":""},{"$nulls":5},{"$f":"IF(DE19<>\"\",VLOOKUP(EP19,部員データ,3,FALSE)&\"  \"&VLOOKUP(EP19,部員データ,4,FALSE),\"\")","v":""},{"$nulls":17},{"$f":"IF(DE19<>\"\",VLOOKUP(EP19,部員データ,2,FALSE),\"\")","v":""},{"$nulls":9},"男","男","女","女","","","",""]
[{"$nulls":17},{"$f":"IF(L19=\"\",\"\",IF('入力シート(記録会)'!$K12=\"\",\"\",format_kiroku('入力シート(記録会)'!$K12,B19)))","v":""},{"$nulls":27},{"$f":"IF(AN19=\"\",\"\",IF('入力シート(記録会)'!$K13=\"\",\"\",format_kiroku('入力シート(記録会)'!$K13,B19)))","v":""},{"$nulls":40},{"$f":"IF(CC19=\"\",\"\",IF('入力シート(記録会)'!$K54=\"\",\"\",format_kiroku('入力シート(記録会)'!$K54,$BS17)))","v":""},{"$nulls":27},{"$f":"IF(DE19=\"\",\"\",IF('入力シート(記録会)'!$K55=\"\",\"\",format_kiroku('入力シート(記録会)'!$K55,$BS17)))","v":""},{"$nulls":31},"","","",""]
[null,"3000m",{"$nulls":9},{"$f":"IF('入力シート(記録会)'!$H14=\"\",\"\",'入力シート(記録会)'!$H14)","v":""},{"$nulls":5},{"$f":"IF(L21<>\"\",VLOOKUP(EM21,部員データ,3,FALSE)&\"  \"&VLOOKUP(EM21,部員データ,4,FALSE),\"\")","v":""},{"$nulls":17},{"$f":"IF(L21<>\"\",VLOOKUP(EM21,部員データ,2,FALSE),\"\")","v":""},{"$nulls":3},{"$f":"IF('入力シート(記録会)'!$H15=\"\",\"\",'入力シート(記録会)'!$H15)","v":""},{"$nulls":5},{"$f":"IF(AN21<>\"\",VLOOKUP(EN21,部員データ,3,FALSE)&\"  \"&VLOOKUP(EN21,部員データ,4,FALSE),\"\")","v":""},{"$nulls":17},{"$f":"IF(AN21<>\"\",VLOOKUP(EN21,部員データ,2,FALSE),\"\")","v":""},{"$nulls":16},{"$f":"IF('入力シート(記録会)'!$H56=\"\",\"\",'入力シート(記録会)'!$H56)","v":""},{"$nulls":5},{"$f":"IF(CC21<>\"\",VLOOKUP(EO21,部員データ,3,FALSE)&\"  \"&VLOOKUP(EO21,部員データ,4,FALSE),\"\")","v":""},{"$nulls":17},{"$f":"IF(CC21<>\"\",VLOOKUP(EO21,部員データ,2,FALSE),\"\")","v":""},{"$nulls":3},{"$f":"IF('入力シート(記録会)'!$H57=\"\",\"\",'入力シート(記録会)'!$H57)","v":""},{"$nulls":5},{"$f":"IF(DE21<>\"\",VLOOKUP(EP21,部員データ,3,FALSE)&\"  \"&VLOOKUP(EP21,部員データ,4,FALSE),\"\")","v":""},{"$nulls":17},{"$f":"IF(DE21<>\"\",VLOOKUP(EP21,部員データ,2,FALSE),\"\")","v":""},{"$nulls":9},"男","男","女","女","","","",""]
[{"$nulls":17},{"$f":"IF(L21=\"\",\"\",IF('入力シート(記録会)'!$K14=\"\",\"\",format_kiroku('入力シート(記録会)'!$K14,B21)))","v":""},{"$nulls":27},{"$f":"IF(AN21=\"\",\"\",IF('入力シート(記録会)'!$K15=\"\",\"\",format_kiroku('入力シート(記録会)'!$K15,B21)))","v":""},{"$nulls":40},{"$f":"IF(CC21=\"\",\"\",IF('入力シート(記録会)'!$K56=\"\",\"\",format_kiroku('入力シート(記録会)'!$K56,$BS17)))","v":""},{"$nulls":27},{"$f":"IF(DE21=\"\",\"\",IF('入力シート(記録会)'!$K57=\"\",\"\",format_kiroku('入力シート(記録会)'!$K57,$BS17)))","v":""},{"$nulls":31},"","","",""]
[{"$nulls":11},{"$f":"IF('入力シート(記録会)'!$H16=\"\",\"\",'入力シート(記録会)'!$H16)","v":""},{"$nulls":5},{"$f":"IF(L23<>\"\",VLOOKUP(EM23,部員データ,3,FALSE)&\"  \"&VLOOKUP(EM23,部員データ,4,FALSE),\"\")","v":""},{"$nulls":17},{"$f":"IF(L23<>\"\",VLOOKUP(EM23,部員データ,2,FALSE),\"\")","v":""},{"$nulls":3},{"$f":"IF('入力シート(記録会)'!$H17=\"\",\"\",'入力シート(記録会)'!$H17)","v":""},{"$nulls":5},{"$f":"IF(AN23<>\"\",VLOOKUP(EN23,部員データ,3,FALSE)&\"  \"&VLOOKUP(EN23,部員データ,4,FALSE),\"\")","v":""},{"$nulls":17},{"$f":"IF(AN23<>\"\",VLOOKUP(EN23,部員データ,2,FALSE),\"\")","v":""},{"$nulls":6},"3000m",{"$nulls":9},{"$f":"IF('入力シート(記録会)'!$H58=\"\",\"\",'入力シート(記録会)'!$H58)","v":""},{"$nulls":5},{"$f":"IF(CC23<>\"\",VLOOKUP(EO23,部員データ,3,FALSE)&\"  \"&VLOOKUP(EO23,部員データ,4,FALSE),\"\")","v":""},{"$nulls":17},{"$f":"IF(CC23<>\"\",VLOOKUP(EO23,部員データ,2,FALSE),\"\")","v":""},{"$nulls":3},{"$f":"IF('入力シート(記録会)'!$H59=\"\",\"\",'入力シート(記録会)'!$H59)","v":""},{"$nulls":5},{"$f":"IF(DE23<>\"\",VLOOKUP(EP23,部員データ,3,FALSE)&\"  \"&VLOOKUP(EP23,部員データ,4,FALSE),\"\")","v":""},{"$nulls":17},{"$f":"IF(DE23<>\"\",VLOOKUP(EP23,部員データ,2,FALSE),\"\")","v":""},{"$nulls":9},"男","男","女","女","","","",""]
[{"$nulls":17},{"$f":"IF(L23=\"\",\"\",IF('入力シート(記録会)'!$K16=\"\",\"\",format_kiroku('入力シート(記録会)'!$K16,B21)))","v":""},{"$nulls":27},{"$f":"IF(AN23=\"\",\"\",IF('入力シート(記録会)'!$K17=\"\",\"\",format_kiroku('入力シート(記録会)'!$K17,B21)))","v":""},{"$nulls":40},{"$f":"IF(CC23=\"\",\"\",IF('入力シート(記録会)'!$K58=\"\",\"\",format_kiroku('入力シート(記録会)'!$K58,$BS23)))","v":""},{"$nulls":27},{"$f":"IF(DE23=\"\",\"\",IF('入力シート(記録会)'!$K59=\"\",\"\",format_kiroku('入力シート(記録会)'!$K59,$BS23)))","v":""},{"$nulls":31},"","","",""]
[{"$nulls":11},{"$f":"IF('入力シート(記録会)'!$H18=\"\",\"\",'入力シート(記録会)'!$H18)","v":""},{"$nulls":5},{"$f":"IF(L25<>\"\",VLOOKUP(EM25,部員データ,3,FALSE)&\"  \"&VLOOKUP(EM25,部員データ,4,FALSE),\"\")","v":""},{"$nulls":17},{"$f":"IF(L25<>\"\",VLOOKUP(EM25,部員データ,2,FALSE),\"\")","v":""},{"$nulls":3},{"$f":"IF('入力シート(記録会)'!$H19=\"\",\"\",'入力シート(記録会)'!$H19)","v":""},{"$nulls":5},{"$f":"IF(AN25<>\"\",VLOOKUP(EN25,部員データ,3,FALSE)&\"  \"&VLOOKUP(EN25,部員データ,4,FALSE),\"\")","v":""},{"$nulls":17},{"$f":"IF(AN25<>\"\",VLOOKUP(EN25,部員データ,2,FALSE),\"\")","v":""},{"$nulls":16},{"$f":"IF('入力シート(記録会)'!$H60=\"\",\"\",'入力シート(記録会)'!$H60)","v":""},{"$nulls":5},{"$f":"IF(CC25<>\"\",VLOOKUP(EO25,部員データ,3,FALSE)&\"  \"&VLOOKUP(EO25,部員データ,4,FALSE),\"\")","v":""},{"$nulls":17},{"$f":"IF(CC25<>\"\",VLOOKUP(EO25,部員データ,2,FALSE),\"\")","v":""},{"$nulls":3},{"$f":"IF('入力シート(記録会)'!$H61=\"\",\"\",'入力シート(記録会)'!$H61)","v":""},{"$nulls":5},{"$f":"IF(DE25<>\"\",VLOOKUP(EP25,部員データ,3,FALSE)&\"  \"&VLOOKUP(EP25,部員データ,4,FALSE),\"\")","v":""},{"$nulls":17},{"$f":"IF(DE25<>\"\",VLOOKUP(EP25,部員データ,2,FALSE),\"\")","v":""},{"$nulls":9},"男","男","女","女","","","",""]
[{"$nulls":17},{"$f":"IF(L25=\"\",\"\",IF('入力シート(記録会)'!$K18=\"\",\"\",format_kiroku('入力シート(記録会)'!$K18,B21)))","v":""},{"$nulls":27},{"$f":"IF(AN25=\"\",\"\",IF('入力シート(記録会)'!$K19=\"\",\"\",format_kiroku('入力シート(記録会)'!$K19,B21)))","v":""},{"$nulls":40},{"$f":"IF(CC25=\"\",\"\",IF('入力シート(記録会)'!$K60=\"\",\"\",format_kiroku('入力シート(記録会)'!$K60,$BS23)))","v":""},{"$nulls":27},{"$f":"IF(DE25=\"\",\"\",IF('入力シート(記録会)'!$K61=\"\",\"\",format_kiroku('入力シート(記録会)'!$K61,$BS23)))","v":""},{"$nulls":31},"","","",""]
[null,"110mＨ",{"$nulls":9},{"$f":"IF('入力シート(記録会)'!$H20=\"\",\"\",'入力シート(記録会)'!$H20)","v":""},{"$nulls":5},{"$f":"IF(L27<>\"\",VLOOKUP(EM27,部員データ,3,FALSE)&\"  \"&VLOOKUP(EM27,部員データ,4,FALSE),\"\")","v":""},{"$nulls":17},{"$f":"IF(L27<>\"\",VLOOKUP(EM27,部員データ,2,FALSE),\"\")","v":""},{"$nulls":3},{"$f":"IF('入力シート(記録会)'!$H21=\"\",\"\",'入力シート(記録会)'!$H21)","v":""},{"$nulls":5},{"$f":"IF(AN27<>\"\",VLOOKUP(EN27,部員データ,3,FALSE)&\"  \"&VLOOKUP(EN27,部員データ,4,FALSE),\"\")","v":""},{"$nulls":17},{"$f":"IF(AN27<>\"\",VLOOKUP(EN27,部員データ,2,FALSE),\"\")","v":""},{"$nulls":16},{"$f":"IF('入力シート(記録会)'!$H62=\"\",\"\",'入力シート(記録会)'!$H62)","v":""},{"$nulls":5},{"$f":"IF(CC27<>\"\",VLOOKUP(EO27,部員データ,3,FALSE)&\"  \"&VLOOKUP(EO27,部員データ,4,FALSE),\"\")","v":""},{"$nulls":17},{"$f":"IF(CC27<>\"\",VLOOKUP(EO27,部員データ,2,FALSE),\"\")","v":""},{"$nulls":3},{"$f":"IF('入力シート(記録会)'!$H63=\"\",\"\",'入力シート(記録会)'!$H63)","v":""},{"$nulls":5},{"$f":"IF(DE27<>\"\",VLOOKUP(EP27,部員データ,3,FALSE)&\"  \"&VLOOKUP(EP27,部員データ,4,FALSE),\"\")","v":""},{"$nulls":17},{"$f":"IF(DE27<>\"\",VLOOKUP(EP27,部員データ,2,FALSE),\"\")","v":""},{"$nulls":9},"男","男","女","女","","","",""]
[{"$nulls":17},{"$f":"IF(L27=\"\",\"\",IF('入力シート(記録会)'!$K20=\"\",\"\",format_kiroku('入力シート(記録会)'!$K20,B27)))","v":""},{"$nulls":27},{"$f":"IF(AN27=\"\",\"\",IF('入力シート(記録会)'!$K21=\"\",\"\",format_kiroku('入力シート(記録会)'!$K21,B27)))","v":""},{"$nulls":40},{"$f":"IF(CC27=\"\",\"\",IF('入力シート(記録会)'!$K62=\"\",\"\",format_kiroku('入力シート(記録会)'!$K62,$BS23)))","v":""},{"$nulls":27},{"$f":"IF(DE27=\"\",\"\",IF('入力シート(記録会)'!$K63=\"\",\"\",format_kiroku('入力シート(記録会)'!$K63,$BS23)))","v":""},{"$nulls":31},"","","",""]
[null,"走高跳",{"$nulls":9},{"$f":"IF('入力シート(記録会)'!$H22=\"\",\"\",'入力シート(記録会)'!$H22)","v":""},{"$nulls":5},{"$f":"IF(L29<>\"\",VLOOKUP(EM29,部員データ,3,FALSE)&\"  \"&VLOOKUP(EM29,部員データ,4,FALSE),\"\")","v":""},{"$nulls":17},{"$f":"IF(L29<>\"\",VLOOKUP(EM29,部員データ,2,FALSE),\"\")","v":""},{"$nulls":3},{"$f":"IF('入力シート(記録会)'!$H23=\"\",\"\",'入力シート(記録会)'!$H23)","v":""},{"$nulls":5},{"$f":"IF(AN29<>\"\",VLOOKUP(EN29,部員データ,3,FALSE)&\"  \"&VLOOKUP(EN29,部員データ,4,FALSE),\"\")","v":""},{"$nulls":17},{"$f":"IF(AN29<>\"\",VLOOKUP(EN29,部員データ,2,FALSE),\"\")","v":""},{"$nulls":6},"100mＨ",{"$nulls":9},{"$f":"IF('入力シート(記録会)'!$H64=\"\",\"\",'入力シート(記録会)'!$H64)","v":""},{"$nulls":5},{"$f":"IF(CC29<>\"\",VLOOKUP(EO29,部員データ,3,FALSE)&\"  \"&VLOOKUP(EO29,部員データ,4,FALSE),\"\")","v":""},{"$nulls":17},{"$f":"IF(CC29<>\"\",VLOOKUP(EO29,部員データ,2,FALSE),\"\")","v":""},{"$nulls":3},{"$f":"IF('入力シート(記録会)'!$H65=\"\",\"\",'入力シート(記録会)'!$H65)","v":""},{"$nulls":5},{"$f":"IF(DE29<>\"\",VLOOKUP(EP29,部員データ,3,FALSE)&\"  \"&VLOOKUP(EP29,部員データ,4,FALSE),\"\")","v":""},{"$nulls":17},{"$f":"IF(DE29<>\"\",VLOOKUP(EP29,部員データ,2,FALSE),\"\")","v":""},{"$nulls":9},"男","男","女","女","","","",""]
[{"$nulls":17},{"$f":"IF(L29=\"\",\"\",IF('入力シート(記録会)'!$K22=\"\",\"\",format_kiroku('入力シート(記録会)'!$K22,B29)))","v":""},{"$nulls":27},{"$f":"IF(AN29=\"\",\"\",IF('入力シート(記録会)'!$K23=\"\",\"\",format_kiroku('入力シート(記録会)'!$K23,B29)))","v":""},{"$nulls":40},{"$f":"IF(CC29=\"\",\"\",IF('入力シート(記録会)'!$K64=\"\",\"\",format_kiroku('入力シート(記録会)'!$K64,$BS29)))","v":""},{"$nulls":27},{"$f":"IF(DE29=\"\",\"\",IF('入力シート(記録会)'!$K65=\"\",\"\",format_kiroku('入力シート(記録会)'!$K65,$BS29)))","v":""},{"$nulls":31},"","","",""]
[null,"●棒高跳",{"$nulls":9},{"$f":"IF('入力シート(記録会)'!$H24=\"\",\"\",'入力シート(記録会)'!$H24)","v":""},{"$nulls":5},{"$f":"IF(L31<>\"\",VLOOKUP(EM31,部員データ,3,FALSE)&\"  \"&VLOOKUP(EM31,部員データ,4,FALSE),\"\")","v":""},{"$nulls":17},{"$f":"IF(L31<>\"\",VLOOKUP(EM31,部員データ,2,FALSE),\"\")","v":""},{"$nulls":3},{"$f":"IF('入力シート(記録会)'!$H25=\"\",\"\",'入力シート(記録会)'!$H25)","v":""},{"$nulls":5},{"$f":"IF(AN31<>\"\",VLOOKUP(EN31,部員データ,3,FALSE)&\"  \"&VLOOKUP(EN31,部員データ,4,FALSE),\"\")","v":""},{"$nulls":17},{"$f":"IF(AN31<>\"\",VLOOKUP(EN31,部員データ,2,FALSE),\"\")","v":""},{"$nulls":6},"走高跳",{"$nulls":9},{"$f":"IF('入力シート(記録会)'!$H66=\"\",\"\",'入力シート(記録会)'!$H66)","v":""},{"$nulls":5},{"$f":"IF(CC31<>\"\",VLOOKUP(EO31,部員データ,3,FALSE)&\"  \"&VLOOKUP(EO31,部員データ,4,FALSE),\"\")","v":""},{"$nulls":17},{"$f":"IF(CC31<>\"\",VLOOKUP(EO31,部員データ,2,FALSE),\"\")","v":""},{"$nulls":3},{"$f":"IF('入力シート(記録会)'!$H67=\"\",\"\",'入力シート(記録会)'!$H67)","v":""},{"$nulls":5},{"$f":"IF(DE31<>\"\",VLOOKUP(EP31,部員データ,3,FALSE)&\"  \"&VLOOKUP(EP31,部員データ,4,FALSE),\"\")","v":""},{"$nulls":17},{"$f":"IF(DE31<>\"\",VLOOKUP(EP31,部員データ,2,FALSE),\"\")","v":""},{"$nulls":9},"男","男","女","女","","","",""]
[{"$nulls":17},{"$f":"IF(L31=\"\",\"\",IF('入力シート(記録会)'!$K24=\"\",\"\",format_kiroku('入力シート(記録会)'!$K24,B31)))","v":""},{"$nulls":27},{"$f":"IF(AN31=\"\",\"\",IF('入力シート(記録会)'!$K25=\"\",\"\",format_kiroku('入力シート(記録会)'!$K25,B31)))","v":""},{"$nulls":40},{"$f":"IF(CC31=\"\",\"\",IF('入力シート(記録会)'!$K66=\"\",\"\",format_kiroku('入力シート(記録会)'!$K66,$BS31)))","v":""},{"$nulls":27},{"$f":"IF(DE31=\"\",\"\",IF('入力シート(記録会)'!$K67=\"\",\"\",format_kiroku('入力シート(記録会)'!$K67,$BS31)))","v":""},{"$nulls":31},"","","",""]
[null,"走幅跳",{"$nulls":9},{"$f":"IF('入力シート(記録会)'!$H26=\"\",\"\",'入力シート(記録会)'!$H26)","v":""},{"$nulls":5},{"$f":"IF(L33<>\"\",VLOOKUP(EM33,部員データ,3,FALSE)&\"  \"&VLOOKUP(EM33,部員データ,4,FALSE),\"\")","v":""},{"$nulls":17},{"$f":"IF(L33<>\"\",VLOOKUP(EM33,部員データ,2,FALSE),\"\")","v":""},{"$nulls":3},{"$f":"IF('入力シート(記録会)'!$H27=\"\",\"\",'入力シート(記録会)'!$H27)","v":""},{"$nulls":5},{"$f":"IF(AN33<>\"\",VLOOKUP(EN33,部員データ,3,FALSE)&\"  \"&VLOOKUP(EN33,部員データ,4,FALSE),\"\")","v":""},{"$nulls":17},{"$f":"IF(AN33<>\"\",VLOOKUP(EN33,部員データ,2,FALSE),\"\")","v":""},{"$nulls":6},"走幅跳",{"$nulls":9},{"$f":"IF('入力シート(記録会)'!$H68=\"\",\"\",'入力シート(記録会)'!$H68)","v":""},{"$nulls":5},{"$f":"IF(CC33<>\"\",VLOOKUP(EO33,部員データ,3,FALSE)&\"  \"&VLOOKUP(EO33,部員データ,4,FALSE),\"\")","v":""},{"$nulls":17},{"$f":"IF(CC33<>\"\",VLOOKUP(EO33,部員データ,2,FALSE),\"\")","v":""},{"$nulls":3},{"$f":"IF('入力シート(記録会)'!$H69=\"\",\"\",'入力シート(記録会)'!$H69)","v":""},{"$nulls":5},{"$f":"IF(DE33<>\"\",VLOOKUP(EP33,部員データ,3,FALSE)&\"  \"&VLOOKUP(EP33,部員データ,4,FALSE),\"\")","v":""},{"$nulls":17},{"$f":"IF(DE33<>\"\",VLOOKUP(EP33,部員データ,2,FALSE),\"\")","v":""},{"$nulls":9},"男","男","女","女","","","",""]
[{"$nulls":17},{"$f":"IF(L33=\"\",\"\",IF('入力シート(記録会)'!$K26=\"\",\"\",format_kiroku('入力シート(記録会)'!$K26,B33)))","v":""},{"$nulls":27},{"$f":"IF(AN33=\"\",\"\",IF('入力シート(記録会)'!$K27=\"\",\"\",format_kiroku('入力シート(記録会)'!$K27,B33)))","v":""},{"$nulls":40},{"$f":"IF(CC33=\"\",\"\",IF('入力シート(記録会)'!$K68=\"\",\"\",format_kiroku('入力シート(記録会)'!$K68,$BS33)))","v":""},{"$nulls":27},{"$f":"IF(DE33=\"\",\"\",IF('入力シート(記録会)'!$K69=\"\",\"\",format_kiroku('入力シート(記録会)'!$K69,$BS33)))","v":""},{"$nulls":31},"","","",""]
[null,"三段跳",{"$nulls":9},{"$f":"IF('入力シート(記録会)'!$H28=\"\",\"\",'入力シート(記録会)'!$H28)","v":""},{"$nulls":5},{"$f":"IF(L35<>\"\",VLOOKUP(EM35,部員データ,3,FALSE)&\"  \"&VLOOKUP(EM35,部員データ,4,FALSE),\"\")","v":""},{"$nulls":17},{"$f":"IF(L35<>\"\",VLOOKUP(EM35,部員データ,2,FALSE),\"\")","v":""},{"$nulls":3},{"$f":"IF('入力シート(記録会)'!$H29=\"\",\"\",'入力シート(記録会)'!$H29)","v":""},{"$nulls":5},{"$f":"IF(AN35<>\"\",VLOOKUP(EN35,部員データ,3,FALSE)&\"  \"&VLOOKUP(EN35,部員データ,4,FALSE),\"\")","v":""},{"$nulls":17},{"$f":"IF(AN35<>\"\",VLOOKUP(EN35,部員データ,2,FALSE),\"\")","v":""},{"$nulls":6},"砲丸投",{"$nulls":9},{"$f":"IF('入力シート(記録会)'!$H70=\"\",\"\",'入力シート(記録会)'!$H70)","v":""},{"$nulls":5},{"$f":"IF(CC35<>\"\",VLOOKUP(EO35,部員データ,3,FALSE)&\"  \"&VLOOKUP(EO35,部員データ,4,FALSE),\"\")","v":""},{"$nulls":17},{"$f":"IF(CC35<>\"\",VLOOKUP(EO35,部員データ,2,FALSE),\"\")","v":""},{"$nulls":3},{"$f":"IF('入力シート(記録会)'!$H71=\"\",\"\",'入力シート(記録会)'!$H71)","v":""},{"$nulls":5},{"$f":"IF(DE35<>\"\",VLOOKUP(EP35,部員データ,3,FALSE)&\"  \"&VLOOKUP(EP35,部員データ,4,FALSE),\"\")","v":""},{"$nulls":17},{"$f":"IF(DE35<>\"\",VLOOKUP(EP35,部員データ,2,FALSE),\"\")","v":""},{"$nulls":9},"男","男","女","女","","","",""]
[{"$nulls":17},{"$f":"IF(L35=\"\",\"\",IF('入力シート(記録会)'!$K28=\"\",\"\",format_kiroku('入力シート(記録会)'!$K28,B35)))","v":""},{"$nulls":27},{"$f":"IF(AN35=\"\",\"\",IF('入力シート(記録会)'!$K29=\"\",\"\",format_kiroku('入力シート(記録会)'!$K29,B35)))","v":""},{"$nulls":40},{"$f":"IF(CC35=\"\",\"\",IF('入力シート(記録会)'!$K70=\"\",\"\",format_kiroku('入力シート(記録会)'!$K70,$BS35)))","v":""},{"$nulls":27},{"$f":"IF(DE35=\"\",\"\",IF('入力シート(記録会)'!$K71=\"\",\"\",format_kiroku('入力シート(記録会)'!$K71,$BS35)))","v":""},{"$nulls":31},"","","",""]
[null,"砲丸投",{"$nulls":9},{"$f":"IF('入力シート(記録会)'!$H30=\"\",\"\",'入力シート(記録会)'!$H30)","v":""},{"$nulls":5},{"$f":"IF(L37<>\"\",VLOOKUP(EM37,部員データ,3,FALSE)&\"  \"&VLOOKUP(EM37,部員データ,4,FALSE),\"\")","v":""},{"$nulls":17},{"$f":"IF(L37<>\"\",VLOOKUP(EM37,部員データ,2,FALSE),\"\")","v":""},{"$nulls":3},{"$f":"IF('入力シート(記録会)'!$H31=\"\",\"\",'入力シート(記録会)'!$H31)","v":""},{"$nulls":5},{"$f":"IF(AN37<>\"\",VLOOKUP(EN37,部員データ,3,FALSE)&\"  \"&VLOOKUP(EN37,部員データ,4,FALSE),\"\")","v":""},{"$nulls":17},{"$f":"IF(AN37<>\"\",VLOOKUP(EN37,部員データ,2,FALSE),\"\")","v":""},{"$nulls":6},"●円盤投",{"$nulls":9},{"$f":"IF('入力シート(記録会)'!$H72=\"\",\"\",'入力シート(記録会)'!$H72)","v":""},{"$nulls":5},{"$f":"IF(CC37<>\"\",VLOOKUP(EO37,部員データ,3,FALSE)&\"  \"&VLOOKUP(EO37,部員データ,4,FALSE),\"\")","v":""},{"$nulls":17},{"$f":"IF(CC37<>\"\",VLOOKUP(EO37,部員データ,2,FALSE),\"\")","v":""},{"$nulls":3},{"$f":"IF('入力シート(記録会)'!$H73=\"\",\"\",'入力シート(記録会)'!$H73)","v":""},{"$nulls":5},{"$f":"IF(DE37<>\"\",VLOOKUP(EP37,部員データ,3,FALSE)&\"  \"&VLOOKUP(EP37,部員データ,4,FALSE),\"\")","v":""},{"$nulls":17},{"$f":"IF(DE37<>\"\",VLOOKUP(EP37,部員データ,2,FALSE),\"\")","v":""},{"$nulls":9},"男","男","女","女","","","",""]
[{"$nulls":17},{"$f":"IF(L37=\"\",\"\",IF('入力シート(記録会)'!$K30=\"\",\"\",format_kiroku('入力シート(記録会)'!$K30,B37)))","v":""},{"$nulls":27},{"$f":"IF(AN37=\"\",\"\",IF('入力シート(記録会)'!$K31=\"\",\"\",format_kiroku('入力シート(記録会)'!$K31,B37)))","v":""},{"$nulls":40},{"$f":"IF(CC37=\"\",\"\",IF('入力シート(記録会)'!$K72=\"\",\"\",format_kiroku('入力シート(記録会)'!$K72,$BS37)))","v":""},{"$nulls":27},{"$f":"IF(DE37=\"\",\"\",IF('入力シート(記録会)'!$K73=\"\",\"\",format_kiroku('入力シート(記録会)'!$K73,$BS37)))","v":""},{"$nulls":31},"","","",""]
[null,"●円盤投",{"$nulls":9},{"$f":"IF('入力シート(記録会)'!$H32=\"\",\"\",'入力シート(記録会)'!$H32)","v":""},{"$nulls":5},{"$f":"IF(L39<>\"\",VLOOKUP(EM39,部員データ,3,FALSE)&\"  \"&VLOOKUP(EM39,部員データ,4,FALSE),\"\")","v":""},{"$nulls":17},{"$f":"IF(L39<>\"\",VLOOKUP(EM39,部員データ,2,FALSE),\"\")","v":""},{"$nulls":3},{"$f":"IF('入力シート(記録会)'!$H33=\"\",\"\",'入力シート(記録会)'!$H33)","v":""},{"$nulls":5},{"$f":"IF(AN39<>\"\",VLOOKUP(EN39,部員データ,3,FALSE)&\"  \"&VLOOKUP(EN39,部員データ,4,FALSE),\"\")","v":""},{"$nulls":17},{"$f":"IF(AN39<>\"\",VLOOKUP(EN39,部員データ,2,FALSE),\"\")","v":""},{"$nulls":6},"共通\n●四種競技",{"$nulls":9},{"$f":"IF('入力シート(記録会)'!$H74=\"\",\"\",'入力シート(記録会)'!$H74)","v":""},{"$nulls":5},{"$f":"IF(CC39<>\"\",VLOOKUP(EO39,部員データ,3,FALSE)&\"  \"&VLOOKUP(EO39,部員データ,4,FALSE),\"\")","v":""},{"$nulls":17},{"$f":"IF(CC39<>\"\",VLOOKUP(EO39,部員データ,2,FALSE),\"\")","v":""},{"$nulls":3},{"$f":"IF('入力シート(記録会)'!$H79=\"\",\"\",'入力シート(記録会)'!$H79)","v":""},{"$nulls":5},{"$f":"IF(DE39<>\"\",VLOOKUP(EP39,部員データ,3,FALSE)&\"  \"&VLOOKUP(EP39,部員データ,4,FALSE),\"\")","v":""},{"$nulls":17},{"$f":"IF(DE39<>\"\",VLOOKUP(EP39,部員データ,2,FALSE),\"\")","v":""},{"$nulls":9},"男","男",{"$f":"\"女\"&DBCS(TEXT(CC39,\"00\"))","v":"女"},{"$f":"\"女\"&DBCS(TEXT(DE39,\"00\"))","v":"女"},"","","",""]
[{"$nulls":17},{"$f":"IF(L39=\"\",\"\",IF('入力シート(記録会)'!$K32=\"\",\"\",format_kiroku('入力シート(記録会)'!$K32,B39)))","v":""},{"$nulls":27},{"$f":"IF(AN39=\"\",\"\",IF('入力シート(記録会)'!$K33=\"\",\"\",format_kiroku('入力シート(記録会)'!$K33,B39)))","v":""},{"$nulls":40},{"$f":"IF(CC39=\"\",\"\",IF('入力シート(記録会)'!$K74=\"\",\"\",format_kiroku('入力シート(記録会)'!$K74,$BS39)))","v":""},{"$nulls":27},{"$f":"IF(DE39=\"\",\"\",IF('入力シート(記録会)'!$K79=\"\",\"\",format_kiroku('入力シート(記録会)'!$K79,$BS39)))","v":""},{"$nulls":31},"",""]
[null,"共通\n●四種競技",{"$nulls":9},{"$f":"IF('入力シート(記録会)'!$H34=\"\",\"\",'入力シート(記録会)'!$H34)","v":""},{"$nulls":5},{"$f":"IF(L41<>\"\",VLOOKUP(EM41,部員データ,3,FALSE)&\"  \"&VLOOKUP(EM41,部員データ,4,FALSE),\"\")","v":""},{"$nulls":17},{"$f":"IF(L41<>\"\",VLOOKUP(EM41,部員データ,2,FALSE),\"\")","v":""},{"$nulls":3},{"$f":"IF('入力シート(記録会)'!$H39=\"\",\"\",'入力シート(記録会)'!$H39)","v":""},{"$nulls":5},{"$f":"IF(AN41<>\"\",VLOOKUP(EN41,部員データ,3,FALSE)&\"  \"&VLOOKUP(EN41,部員データ,4,FALSE),\"\")","v":""},{"$nulls":17},{"$f":"IF(AN41<>\"\",VLOOKUP(EN41,部員データ,2,FALSE),\"\")","v":""},{"$nulls":8},{"$f":"振込月","v":0},{"$nulls":6},"月",{"$nulls":6},{"$f":"振込日","v":0},{"$nulls":6},"日",{"$nulls":6},{"$f":"郵便局","v":0},{"$nulls":16},"郵便局振込",{"$nulls":24},"男","男",null,null,"",""]
[{"$nulls":17},{"$f":"IF(L41=\"\",\"\",IF('入力シート(記録会)'!$K34=\"\",\"\",format_kiroku('入力シート(記録会)'!$K34,$B41)))","v":""},{"$nulls":27},{"$f":"IF(AN41=\"\",\"\",IF('入力シート(記録会)'!$K39=\"\",\"\",format_kiroku('入力シート(記録会)'!$K39,$B41)))","v":""}]
[{"$nulls":72},"振込受領書貼り付け",{"$nulls":73},{"$f":"COUNTIF($EQ$9:$ER$41,\">0\")","v":0},{"$f":"COUNTIF($EQ$9:$ER$41,\"2\")","v":0},{"$f":"COUNTIF($ES$9:$ET$39,\">0\")","v":0},{"$f":"COUNTIF($ES$9:$ET$39,\"2\")","v":0}]
[{"$nulls":147},{"$f":"COUNTIF($EQ$9:$ER$41,\"3\")","v":0},null,{"$f":"COUNTIF($ES$9:$ET$39,\"3\")","v":0}]
[{"$nulls":11},"男子",{"$nulls":12},"女子",{"$nulls":12},"合計",{"$nulls":12},"申込料",{"$nulls":96},{"$f":"COUNTIF($EQ$9:$ER$41,\"4\")","v":0},null,{"$f":"COUNTIF($ES$9:$ET$39,\"4\")","v":0}]
[null,"個人種目",{"$nulls":9},{"$f":"COUNTIF(L9:Q40,\">=0\")+COUNTIF(AN9:AS40,\">=0\")","v":0},{"$nulls":6},"枚",{"$nulls":5},{"$f":"COUNTIF(CC9:CH38,\">=0\")+COUNTIF(DE9:DJ38,\">=0\")","v":0},{"$nulls":6},"枚",{"$nulls":5},{"$f":"L46+Y46","v":0},{"$nulls":6},"枚",{"$nulls":5},"400円",{"$nulls":5},"×",null,null,{"$f":"AL46","v":0},{"$nulls":6},"枚",null,null,"＝",null,null,{"$f":"400*BH46","v":0},{"$nulls":9},"円",{"$nulls":63},{"$f":"EQ43-ER43/2","v":0},null,{"$f":"ES43-ET43/2-ET44/3-ET45/4","v":0}]
[null,"四種競技",{"$nulls":9},{"$f":"COUNTIF(L41,\">=0\")+COUNTIF(AN41,\">=0\")","v":0},{"$nulls":6},"枚",{"$nulls":5},{"$f":"COUNTIF(CC39,\">=0\")+COUNTIF(DE39,\">=0\")","v":0},{"$nulls":6},"枚",{"$nulls":5},{"$f":"L47+Y47","v":0},{"$nulls":6},"枚",{"$nulls":5},"600円",{"$nulls":5},"×",null,null,{"$f":"AL47","v":0},{"$nulls":6},"枚",null,null,"＝",null,null,{"$f":"600*BH47","v":0},{"$nulls":9},"円"]
[null,"リレー種目",{"$nulls":16},"チーム",{"$nulls":5},{"$f":"COUNTIF(CC11:CH40,\">=0\")+COUNTIF(DE11:DJ40,\">=0\")","v":0},{"$nulls":6},"チーム",{"$nulls":5},{"$f":"L48+Y48","v":0},{"$nulls":6},"チーム",{"$nulls":5},"600円",{"$nulls":5},"×",null,null,{"$f":"IF((EI48)=0,\"\",(EI48))","v":""},{"$nulls":6},"枚",null,null,"＝",null,null,{"$f":"IF((EK48)=0,\"\",(EK48))","v":""},{"$nulls":9},"円"]
[null,"実参加人数",{"$nulls":9},{"$f":"D_参加","v":0},{"$nulls":6},"人",{"$nulls":5},{"$f":"J_参加","v":0},{"$nulls":6},"人",{"$nulls":5},{"$f":"L49+Y49","v":0},{"$nulls":6},"人",{"$nulls":5},"合計金額",{"$nulls":10},{"$f":"BU46+BU47","v":0},{"$nulls":20},"円"]
[]
[]
[{"$nulls":4},"上記の生徒を本校代表として、参加を認めます。また、本競技大会の参加申し込みに際し、大会要項記載内容を確認し、個人情報の取り扱いについて同意を得ています。"]
[]
[{"$nulls":4},"平成",{"$nulls":5},{"$f":"TEXT(TODAY(),\"e\")","v":"28"},{"$nulls":5},"年",{"$nulls":3},{"$f":"TEXT(TODAY(),\"m\")","v":"8"},{"$nulls":7},"月",{"$nulls":3},{"$f":"TEXT(TODAY(),\"d\")","v":"17"},{"$nulls":9},"日",{"$nulls":5},{"$f":"学校名","v":0},{"$nulls":20},"中学校",{"$nulls":11},"学校長",{"$nulls":12},{"$f":"学校長","v":"　"},{"$nulls":33},"印"]
[]
[null,null,"審判員",{"$nulls":8},"（",null,{"$f":"IF(基礎データ!$N21=TRUE,基礎データ!$N17,\"\")","v":""},{"$nulls":24},"）",{"$nulls":3},"（",null,{"$f":"IF(基礎データ!$N22=TRUE,基礎データ!$N18,\"\")","v":""},{"$nulls":24},"）",{"$nulls":3},"（",null,{"$f":"IF(基礎データ!$N23=TRUE,基礎データ!$N19,\"\")","v":""},{"$nulls":24},"）",{"$nulls":3},"（",null,{"$f":"IF(基礎データ!$N24=TRUE,基礎データ!$N20,\"\")","v":""},{"$nulls":24},"）"]
[]
[{"$nulls":3},"注　審判員が不足していますので、顧問全員の方に審判を依頼します。審判員の箇所には顧問全員の氏名を記入してください。"]

{"sheet":"送信データ(記録会)","index":9,"n_rows":233,"n_cols":71,"rows_kept":233,"hidden":true}
["大会コード","性別","学年","競技種目コード","学校コード","性別1","選手コード","組","レーン","エントリ記録","当日記録","順位","条件項目","計測区分","未記録区分","大会順位"]
[{"$f":"IF('入力シート(記録会)'!$H2=\"\",\"\",\"4000006\")","v":""},{"$f":"IF('入力シート(記録会)'!$H2=\"\",\"\",IF('入力シート(記録会)'!$B2=\"男\",0,1))","v":""},{"$f":"IF('入力シート(記録会)'!$H2=\"\",\"\",'入力シート(記録会)'!C2)","v":""},{"$f":"IF('入力シート(記録会)'!$H2=\"\",\"\",TEXT('入力シート(記録会)'!$E2,\"000\"))","v":""},{"$f":"IF('入力シート(記録会)'!$H2=\"\",\"\",学校番号)","v":""},{"$f":"IF('入力シート(記録会)'!$H2=\"\",\"\",B2)","v":""},{"$f":"IF('入力シート(記録会)'!$H2=\"\",\"\",TEXT('入力シート(記録会)'!$H2,\"00\"))","v":""},null,null,{"$f":"IF('入力シート(記録会)'!$H2=\"\",\"\",IF('入力シート(記録会)'!K2=\"\",\"\",'入力シート(記録会)'!K2))","v":""},{"$nulls":3},{"$f":"IF('入力シート(記録会)'!$H2=\"\",\"\",IF('入力シート(記録会)'!L2=\"\",\"\",IF('入力シート(記録会)'!L2=\"電気\",0,1)))","v":""}]
[{"$f":"IF('入力シート(記録会)'!$H3=\"\",\"\",\"4000006\")","v":""},{"$f":"IF('入力シート(記録会)'!$H3=\"\",\"\",IF('入力シート(記録会)'!$B3=\"男\",0,1))","v":""},{"$f":"IF('入力シート(記録会)'!$H3=\"\",\"\",'入力シート(記録会)'!C3)","v":""},{"$f":"IF('入力シート(記録会)'!$H3=\"\",\"\",TEXT('入力シート(記録会)'!$E3,\"000\"))","v":""},{"$f":"IF('入力シート(記録会)'!$H3=\"\",\"\",学校番号)","v":""},{"$f":"IF('入力シート(記録会)'!$H3=\"\",\"\",B3)","v":""},{"$f":"IF('入力シート(記録会)'!$H3=\"\",\"\",TEXT('入力シート(記録会)'!$H3,\"00\"))","v":""},null,null,{"$f":"IF('入力シート(記録会)'!$H3=\"\",\"\",IF('入力シート(記録会)'!K3=\"\",\"\",'入力シート(記録会)'!K3))","v":""},{"$nulls":3},{"$f":"IF('入力シート(記録会)'!$H3=\"\",\"\",IF('入力シート(記録会)'!L3=\"\",\"\",IF('入力シート(記録会)'!L3=\"電気\",0,1)))","v":""}]
[{"$f":"IF('入力シート(記録会)'!$H4=\"\",\"\",\"4000006\")","v":""},{"$f":"IF('入力シート(記録会)'!$H4=\"\",\"\",IF('入力シート(記録会)'!$B4=\"男\",0,1))","v":""},{"$f":"IF('入力シート(記録会)'!$H4=\"\",\"\",'入力シート(記録会)'!C4)","v":""},{"$f":"IF('入力シート(記録会)'!$H4=\"\",\"\",TEXT('入力シート(記録会)'!$E4,\"000\"))","v":""},{"$f":"IF('入力シート(記録会)'!$H4=\"\",\"\",学校番号)","v":""},{"$f":"IF('入力シート(記録会)'!$H4=\"\",\"\",B4)","v":""},{"$f":"IF('入力シート(記録会)'!$H4=\"\",\"\",TEXT('入力シート(記録会)'!$H4,\"00\"))","v":""},null,null,{"$f":"IF('入力シート(記録会)'!$H4=\"\",\"\",IF('入力シート(記録会)'!K4=\"\",\"\",'入力シート(記録会)'!K4))","v":""},{"$nulls":3},{"$f":"IF('入力シート(記録会)'!$H4=\"\",\"\",IF('入力シート(記録会)'!L4=\"\",\"\",IF('入力シート(記録会)'!L4=\"電気\",0,1)))","v":""}]
[{"$f":"IF('入力シート(記録会)'!$H5=\"\",\"\",\"4000006\")","v":""},{"$f":"IF('入力シート(記録会)'!$H5=\"\",\"\",IF('入力シート(記録会)'!$B5=\"男\",0,1))","v":""},{"$f":"IF('入力シート(記録会)'!$H5=\"\",\"\",'入力シート(記録会)'!C5)","v":""},{"$f":"IF('入力シート(記録会)'!$H5=\"\",\"\",TEXT('入力シート(記録会)'!$E5,\"000\"))","v":""},{"$f":"IF('入力シート(記録会)'!$H5=\"\",\"\",学校番号)","v":""},{"$f":"IF('入力シート(記録会)'!$H5=\"\",\"\",B5)","v":""},{"$f":"IF('入力シート(記録会)'!$H5=\"\",\"\",TEXT('入力シート(記録会)'!$H5,\"00\"))","v":""},null,null,{"$f":"IF('入力シート(記録会)'!$H5=\"\",\"\",IF('入力シート(記録会)'!K5=\"\",\"\",'入力シート(記録会)'!K5))","v":""},{"$nulls":3},{"$f":"IF('入力シート(記録会)'!$H5=\"\",\"\",IF('入力シート(記録会)'!L5=\"\",\"\",IF('入力シート(記録会)'!L5=\"電気\",0,1)))","v":""}]
[{"$f":"IF('入力シート(記録会)'!$H6=\"\",\"\",\"4000006\")","v":""},{"$f":"IF('入力シート(記録会)'!$H6=\"\",\"\",IF('入力シート(記録会)'!$B6=\"男\",0,1))","v":""},{"$f":"IF('入力シート(記録会)'!$H6=\"\",\"\",'入力シート(記録会)'!C6)","v":""},{"$f":"IF('入力シート(記録会)'!$H6=\"\",\"\",TEXT('入力シート(記録会)'!$E6,\"000\"))","v":""},{"$f":"IF('入力シート(記録会)'!$H6=\"\",\"\",学校番号)","v":""},{"$f":"IF('入力シート(記録会)'!$H6=\"\",\"\",B6)","v":""},{"$f":"IF('入力シート(記録会)'!$H6=\"\",\"\",TEXT('入力シート(記録会)'!$H6,\"00\"))","v":""},null,null,{"$f":"IF('入力シート(記録会)'!$H6=\"\",\"\",IF('入力シート(記録会)'!K6=\"\",\"\",'入力シート(記録会)'!K6))","v":""},{"$nulls":3},{"$f":"IF('入力シート(記録会)'!$H6=\"\",\"\",IF('入力シート(記録会)'!L6=\"\",\"\",IF('入力シート(記録会)'!L6=\"電気\",0,1)))","v":""}]
[{"$f":"IF('入力シート(記録会)'!$H7=\"\",\"\",\"4000006\")","v":""},{"$f":"IF('入力シート(記録会)'!$H7=\"\",\"\",IF('入力シート(記録会)'!$B7=\"男\",0,1))","v":""},{"$f":"IF('入力シート(記録会)'!$H7=\"\",\"\",'入力シート(記録会)'!C7)","v":""},{"$f":"IF('入力シート(記録会)'!$H7=\"\",\"\",TEXT('入力シート(記録会)'!$E7,\"000\"))","v":""},{"$f":"IF('入力シート(記録会)'!$H7=\"\",\"\",学校番号)","v":""},{"$f":"IF('入力シート(記録会)'!$H7=\"\",\"\",B7)","v":""},{"$f":"IF('入力シート(記録会)'!$H7=\"\",\"\",TEXT('入力シート(記録会)'!$H7,\"00\"))","v":""},null,null,{"$f":"IF('入力シート(記録会)'!$H7=\"\",\"\",IF('入力シート(記録会)'!K7=\"\",\"\",'入力シート(記録会)'!K7))","v":""},{"$nulls":3},{"$f":"IF('入力シート(記録会)'!$H7=\"\",\"\",IF('入力シート(記録会)'!L7=\"\",\"\",IF('入力シート(記録会)'!L7=\"電気\",0,1)))","v":""}]
[{"$f":"IF('入力シート(記録会)'!$H8=\"\",\"\",\"4000006\")","v":""},{"$f":"IF('入力シート(記録会)'!$H8=\"\",\"\",IF('入力シート(記録会)'!$B8=\"男\",0,1))","v":""},{"$f":"IF('入力シート(記録会)'!$H8=\"\",\"\",'入力シート(記録会)'!C8)","v":""},{"$f":"IF('入力シート(記録会)'!$H8=\"\",\"\",TEXT('入力シート(記録会)'!$E8,\"000\"))","v":""},{"$f":"IF('入力シート(記録会)'!$H8=\"\",\"\",学校番号)","v":""},{"$f":"IF('入力シート(記録会)'!$H8=\"\",\"\",B8)","v":""},{"$f":"IF('入力シート(記録会)'!$H8=\"\",\"\",TEXT('入力シート(記録会)'!$H8,\"00\"))","v":""},null,null,{"$f":"IF('入力シート(記録会)'!$H8=\"\",\"\",IF('入力シート(記録会)'!K8=\"\",\"\",'入力シート(記録会)'!K8))","v":""},{"$nulls":3},{"$f":"IF('入力シート(記録会)'!$H8=\"\",\"\",IF('入力シート(記録会)'!L8=\"\",\"\",IF('入力シート(記録会)'!L8=\"電気\",0,1)))","v":""}]
[{"$f":"IF('入力シート(記録会)'!$H9=\"\",\"\",\"4000006\")","v":""},{"$f":"IF('入力シート(記録会)'!$H9=\"\",\"\",IF('入力シート(記録会)'!$B9=\"男\",0,1))","v":""},{"$f":"IF('入力シート(記録会)'!$H9=\"\",\"\",'入力シート(記録会)'!C9)","v":""},{"$f":"IF('入力シート(記録会)'!$H9=\"\",\"\",TEXT('入力シート(記録会)'!$E9,\"000\"))","v":""},{"$f":"IF('入力シート(記録会)'!$H9=\"\",\"\",学校番号)","v":""},{"$f":"IF('入力シート(記録会)'!$H9=\"\",\"\",B9)","v":""},{"$f":"IF('入力シート(記録会)'!$H9=\"\",\"\",TEXT('入力シート(記録会)'!$H9,\"00\"))","v":""},null,null,{"$f":"IF('入力シート(記録会)'!$H9=\"\",\"\",IF('入力シート(記録会)'!K9=\"\",\"\",'入力シート(記録会)'!K9))","v":""},{"$nulls":3},{"$f":"IF('入力シート(記録会)'!$H9=\"\",\"\",IF('入力シート(記録会)'!L9=\"\",\"\",IF('入力シート(記録会)'!L9=\"電気\",0,1)))","v":""}]
[{"$f":"IF('入力シート(記録会)'!$H10=\"\",\"\",\"4000006\")","v":""},{"$f":"IF('入力シート(記録会)'!$H10=\"\",\"\",IF('入力シート(記録会)'!$B10=\"男\",0,1))","v":""},{"$f":"IF('入力シート(記録会)'!$H10=\"\",\"\",'入力シート(記録会)'!C10)","v":""},{"$f":"IF('入力シート(記録会)'!$H10=\"\",\"\",TEXT('入力シート(記録会)'!$E10,\"000\"))","v":""},{"$f":"IF('入力シート(記録会)'!$H10=\"\",\"\",学校番号)","v":""},{"$f":"IF('入力シート(記録会)'!$H10=\"\",\"\",B10)","v":""},{"$f":"IF('入力シート(記録会)'!$H10=\"\",\"\",TEXT('入力シート(記録会)'!$H10,\"00\"))","v":""},null,null,{"$f":"IF('入力シート(記録会)'!$H10=\"\",\"\",IF('入力シート(記録会)'!K10=\"\",\"\",'入力シート(記録会)'!K10))","v":""},{"$nulls":3},{"$f":"IF('入力シート(記録会)'!$H10=\"\",\"\",IF('入力シート(記録会)'!L10=\"\",\"\",IF('入力シート(記録会)'!L10=\"電気\",0,1)))","v":""}]
[{"$f":"IF('入力シート(記録会)'!$H11=\"\",\"\",\"4000006\")","v":""},{"$f":"IF('入力シート(記録会)'!$H11=\"\",\"\",IF('入力シート(記録会)'!$B11=\"男\",0,1))","v":""},{"$f":"IF('入力シート(記録会)'!$H11=\"\",\"\",'入力シート(記録会)'!C11)","v":""},{"$f":"IF('入力シート(記録会)'!$H11=\"\",\"\",TEXT('入力シート(記録会)'!$E11,\"000\"))","v":""},{"$f":"IF('入力シート(記録会)'!$H11=\"\",\"\",学校番号)","v":""},{"$f":"IF('入力シート(記録会)'!$H11=\"\",\"\",B11)","v":""},{"$f":"IF('入力シート(記録会)'!$H11=\"\",\"\",TEXT('入力シート(記録会)'!$H11,\"00\"))","v":""},null,null,{"$f":"IF('入力シート(記録会)'!$H11=\"\",\"\",IF('入力シート(記録会)'!K11=\"\",\"\",'入力シート(記録会)'!K11))","v":""},{"$nulls":3},{"$f":"IF('入力シート(記録会)'!$H11=\"\",\"\",IF('入力シート(記録会)'!L11=\"\",\"\",IF('入力シート(記録会)'!L11=\"電気\",0,1)))","v":""}]
[{"$f":"IF('入力シート(記録会)'!$H12=\"\",\"\",\"4000006\")","v":""},{"$f":"IF('入力シート(記録会)'!$H12=\"\",\"\",IF('入力シート(記録会)'!$B12=\"男\",0,1))","v":""},{"$f":"IF('入力シート(記録会)'!$H12=\"\",\"\",'入力シート(記録会)'!C12)","v":""},{"$f":"IF('入力シート(記録会)'!$H12=\"\",\"\",TEXT('入力シート(記録会)'!$E12,\"000\"))","v":""},{"$f":"IF('入力シート(記録会)'!$H12=\"\",\"\",学校番号)","v":""},{"$f":"IF('入力シート(記録会)'!$H12=\"\",\"\",B12)","v":""},{"$f":"IF('入力シート(記録会)'!$H12=\"\",\"\",TEXT('入力シート(記録会)'!$H12,\"00\"))","v":""},null,null,{"$f":"IF('入力シート(記録会)'!$H12=\"\",\"\",IF('入力シート(記録会)'!K12=\"\",\"\",'入力シート(記録会)'!K12))","v":""},{"$nulls":3},{"$f":"IF('入力シート(記録会)'!$H12=\"\",\"\",IF('入力シート(記録会)'!L12=\"\",\"\",IF('入力シート(記録会)'!L12=\"電気\",0,1)))","v":""}]
[{"$f":"IF('入力シート(記録会)'!$H13=\"\",\"\",\"4000006\")","v":""},{"$f":"IF('入力シート(記録会)'!$H13=\"\",\"\",IF('入力シート(記録会)'!$B13=\"男\",0,1))","v":""},{"$f":"IF('入力シート(記録会)'!$H13=\"\",\"\",'入力シート(記録会)'!C13)","v":""},{"$f":"IF('入力シート(記録会)'!$H13=\"\",\"\",TEXT('入力シート(記録会)'!$E13,\"000\"))","v":""},{"$f":"IF('入力シート(記録会)'!$H13=\"\",\"\",学校番号)","v":""},{"$f":"IF('入力シート(記録会)'!$H13=\"\",\"\",B13)","v":""},{"$f":"IF('入力シート(記録会)'!$H13=\"\",\"\",TEXT('入力シート(記録会)'!$H13,\"00\"))","v":""},null,null,{"$f":"IF('入力シート(記録会)'!$H13=\"\",\"\",IF('入力シート(記録会)'!K13=\"\",\"\",'入力シート(記録会)'!K13))","v":""},{"$nulls":3},{"$f":"IF('入力シート(記録会)'!$H13=\"\",\"\",IF('入力シート(記録会)'!L13=\"\",\"\",IF('入力シート(記録会)'!L13=\"電気\",0,1)))","v":""}]
[{"$f":"IF('入力シート(記録会)'!$H14=\"\",\"\",\"4000006\")","v":""},{"$f":"IF('入力シート(記録会)'!$H14=\"\",\"\",IF('入力シート(記録会)'!$B14=\"男\",0,1))","v":""},{"$f":"IF('入力シート(記録会)'!$H14=\"\",\"\",'入力シート(記録会)'!C14)","v":""},{"$f":"IF('入力シート(記録会)'!$H14=\"\",\"\",TEXT('入力シート(記録会)'!$E14,\"000\"))","v":""},{"$f":"IF('入力シート(記録会)'!$H14=\"\",\"\",学校番号)","v":""},{"$f":"IF('入力シート(記録会)'!$H14=\"\",\"\",B14)","v":""},{"$f":"IF('入力シート(記録会)'!$H14=\"\",\"\",TEXT('入力シート(記録会)'!$H14,\"00\"))","v":""},null,null,{"$f":"IF('入力シート(記録会)'!$H14=\"\",\"\",IF('入力シート(記録会)'!K14=\"\",\"\",'入力シート(記録会)'!K14))","v":""},{"$nulls":3},{"$f":"IF('入力シート(記録会)'!$H14=\"\",\"\",IF('入力シート(記録会)'!L14=\"\",\"\",IF('入力シート(記録会)'!L14=\"電気\",0,1)))","v":""}]
[{"$f":"IF('入力シート(記録会)'!$H15=\"\",\"\",\"4000006\")","v":""},{"$f":"IF('入力シート(記録会)'!$H15=\"\",\"\",IF('入力シート(記録会)'!$B15=\"男\",0,1))","v":""},{"$f":"IF('入力シート(記録会)'!$H15=\"\",\"\",'入力シート(記録会)'!C15)","v":""},{"$f":"IF('入力シート(記録会)'!$H15=\"\",\"\",TEXT('入力シート(記録会)'!$E15,\"000\"))","v":""},{"$f":"IF('入力シート(記録会)'!$H15=\"\",\"\",学校番号)","v":""},{"$f":"IF('入力シート(記録会)'!$H15=\"\",\"\",B15)","v":""},{"$f":"IF('入力シート(記録会)'!$H15=\"\",\"\",TEXT('入力シート(記録会)'!$H15,\"00\"))","v":""},null,null,{"$f":"IF('入力シート(記録会)'!$H15=\"\",\"\",IF('入力シート(記録会)'!K15=\"\",\"\",'入力シート(記録会)'!K15))","v":""},{"$nulls":3},{"$f":"IF('入力シート(記録会)'!$H15=\"\",\"\",IF('入力シート(記録会)'!L15=\"\",\"\",IF('入力シート(記録会)'!L15=\"電気\",0,1)))","v":""}]
[{"$f":"IF('入力シート(記録会)'!$H16=\"\",\"\",\"4000006\")","v":""},{"$f":"IF('入力シート(記録会)'!$H16=\"\",\"\",IF('入力シート(記録会)'!$B16=\"男\",0,1))","v":""},{"$f":"IF('入力シート(記録会)'!$H16=\"\",\"\",'入力シート(記録会)'!C16)","v":""},{"$f":"IF('入力シート(記録会)'!$H16=\"\",\"\",TEXT('入力シート(記録会)'!$E16,\"000\"))","v":""},{"$f":"IF('入力シート(記録会)'!$H16=\"\",\"\",学校番号)","v":""},{"$f":"IF('入力シート(記録会)'!$H16=\"\",\"\",B16)","v":""},{"$f":"IF('入力シート(記録会)'!$H16=\"\",\"\",TEXT('入力シート(記録会)'!$H16,\"00\"))","v":""},null,null,{"$f":"IF('入力シート(記録会)'!$H16=\"\",\"\",IF('入力シート(記録会)'!K16=\"\",\"\",'入力シート(記録会)'!K16))","v":""},{"$nulls":3},{"$f":"IF('入力シート(記録会)'!$H16=\"\",\"\",IF('入力シート(記録会)'!L16=\"\",\"\",IF('入力シート(記録会)'!L16=\"電気\",0,1)))","v":""}]
[{"$f":"IF('入力シート(記録会)'!$H17=\"\",\"\",\"4000006\")","v":""},{"$f":"IF('入力シート(記録会)'!$H17=\"\",\"\",IF('入力シート(記録会)'!$B17=\"男\",0,1))","v":""},{"$f":"IF('入力シート(記録会)'!$H17=\"\",\"\",'入力シート(記録会)'!C17)","v":""},{"$f":"IF('入力シート(記録会)'!$H17=\"\",\"\",TEXT('入力シート(記録会)'!$E17,\"000\"))","v":""},{"$f":"IF('入力シート(記録会)'!$H17=\"\",\"\",学校番号)","v":""},{"$f":"IF('入力シート(記録会)'!$H17=\"\",\"\",B17)","v":""},{"$f":"IF('入力シート(記録会)'!$H17=\"\",\"\",TEXT('入力シート(記録会)'!$H17,\"00\"))","v":""},null,null,{"$f":"IF('入力シート(記録会)'!$H17=\"\",\"\",IF('入力シート(記録会)'!K17=\"\",\"\",'入力シート(記録会)'!K17))","v":""},{"$nulls":3},{"$f":"IF('入力シート(記録会)'!$H17=\"\",\"\",IF('入力シート(記録会)'!L17=\"\",\"\",IF('入力シート(記録会)'!L17=\"電気\",0,1)))","v":""}]
[{"$f":"IF('入力シート(記録会)'!$H18=\"\",\"\",\"4000006\")","v":""},{"$f":"IF('入力シート(記録会)'!$H18=\"\",\"\",IF('入力シート(記録会)'!$B18=\"男\",0,1))","v":""},{"$f":"IF('入力シート(記録会)'!$H18=\"\",\"\",'入力シート(記録会)'!C18)","v":""},{"$f":"IF('入力シート(記録会)'!$H18=\"\",\"\",TEXT('入力シート(記録会)'!$E18,\"000\"))","v":""},{"$f":"IF('入力シート(記録会)'!$H18=\"\",\"\",学校番号)","v":""},{"$f":"IF('入力シート(記録会)'!$H18=\"\",\"\",B18)","v":""},{"$f":"IF('入力シート(記録会)'!$H18=\"\",\"\",TEXT('入力シート(記録会)'!$H18,\"00\"))","v":""},null,null,{"$f":"IF('入力シート(記録会)'!$H18=\"\",\"\",IF('入力シート(記録会)'!K18=\"\",\"\",'入力シート(記録会)'!K18))","v":""},{"$nulls":3},{"$f":"IF('入力シート(記録会)'!$H18=\"\",\"\",IF('入力シート(記録会)'!L18=\"\",\"\",IF('入力シート(記録会)'!L18=\"電気\",0,1)))","v":""}]
[{"$f":"IF('入力シート(記録会)'!$H19=\"\",\"\",\"4000006\")","v":""},{"$f":"IF('入力シート(記録会)'!$H19=\"\",\"\",IF('入力シート(記録会)'!$B19=\"男\",0,1))","v":""},{"$f":"IF('入力シート(記録会)'!$H19=\"\",\"\",'入力シート(記録会)'!C19)","v":""},{"$f":"IF('入力シート(記録会)'!$H19=\"\",\"\",TEXT('入力シート(記録会)'!$E19,\"000\"))","v":""},{"$f":"IF('入力シート(記録会)'!$H19=\"\",\"\",学校番号)","v":""},{"$f":"IF('入力シート(記録会)'!$H19=\"\",\"\",B19)","v":""},{"$f":"IF('入力シート(記録会)'!$H19=\"\",\"\",TEXT('入力シート(記録会)'!$H19,\"00\"))","v":""},null,null,{"$f":"IF('入力シート(記録会)'!$H19=\"\",\"\",IF('入力シート(記録会)'!K19=\"\",\"\",'入力シート(記録会)'!K19))","v":""},{"$nulls":3},{"$f":"IF('入力シート(記録会)'!$H19=\"\",\"\",IF('入力シート(記録会)'!L19=\"\",\"\",IF('入力シート(記録会)'!L19=\"電気\",0,1)))","v":""}]
[{"$f":"IF('入力シート(記録会)'!$H20=\"\",\"\",\"4000006\")","v":""},{"$f":"IF('入力シート(記録会)'!$H20=\"\",\"\",IF('入力シート(記録会)'!$B20=\"男\",0,1))","v":""},{"$f":"IF('入力シート(記録会)'!$H20=\"\",\"\",'入力シート(記録会)'!C20)","v":""},{"$f":"IF('入力シート(記録会)'!$H20=\"\",\"\",TEXT('入力シート(記録会)'!$E20,\"000\"))","v":""},{"$f":"IF('入力シート(記録会)'!$H20=\"\",\"\",学校番号)","v":""},{"$f":"IF('入力シート(記録会)'!$H20=\"\",\"\",B20)","v":""},{"$f":"IF('入力シート(記録会)'!$H20=\"\",\"\",TEXT('入力シート(記録会)'!$H20,\"00\"))","v":""},null,null,{"$f":"IF('入力シート(記録会)'!$H20=\"\",\"\",IF('入力シート(記録会)'!K20=\"\",\"\",'入力シート(記録会)'!K20))","v":""},{"$nulls":3},{"$f":"IF('入力シート(記録会)'!$H20=\"\",\"\",IF('入力シート(記録会)'!L20=\"\",\"\",IF('入力シート(記録会)'!L20=\"電気\",0,1)))","v":""}]
[{"$f":"IF('入力シート(記録会)'!$H21=\"\",\"\",\"4000006\")","v":""},{"$f":"IF('入力シート(記録会)'!$H21=\"\",\"\",IF('入力シート(記録会)'!$B21=\"男\",0,1))","v":""},{"$f":"IF('入力シート(記録会)'!$H21=\"\",\"\",'入力シート(記録会)'!C21)","v":""},{"$f":"IF('入力シート(記録会)'!$H21=\"\",\"\",TEXT('入力シート(記録会)'!$E21,\"000\"))","v":""},{"$f":"IF('入力シート(記録会)'!$H21=\"\",\"\",学校番号)","v":""},{"$f":"IF('入力シート(記録会)'!$H21=\"\",\"\",B21)","v":""},{"$f":"IF('入力シート(記録会)'!$H21=\"\",\"\",TEXT('入力シート(記録会)'!$H21,\"00\"))","v":""},null,null,{"$f":"IF('入力シート(記録会)'!$H21=\"\",\"\",IF('入力シート(記録会)'!K21=\"\",\"\",'入力シート(記録会)'!K21))","v":""},{"$nulls":3},{"$f":"IF('入力シート(記録会)'!$H21=\"\",\"\",IF('入力シート(記録会)'!L21=\"\",\"\",IF('入力シート(記録会)'!L21=\"電気\",0,1)))","v":""}]
[{"$f":"IF('入力シート(記録会)'!$H22=\"\",\"\",\"4000006\")","v":""},{"$f":"IF('入力シート(記録会)'!$H22=\"\",\"\",IF('入力シート(記録会)'!$B22=\"男\",0,1))","v":""},{"$f":"IF('入力シート(記録会)'!$H22=\"\",\"\",'入力シート(記録会)'!C22)","v":""},{"$f":"IF('入力シート(記録会)'!$H22=\"\",\"\",TEXT('入力シート(記録会)'!$E22,\"000\"))","v":""},{"$f":"IF('入力シート(記録会)'!$H22=\"\",\"\",学校番号)","v":""},{"$f":"IF('入力シート(記録会)'!$H22=\"\",\"\",B22)","v":""},{"$f":"IF('入力シート(記録会)'!$H22=\"\",\"\",TEXT('入力シート(記録会)'!$H22,\"00\"))","v":""},null,null,{"$f":"IF('入力シート(記録会)'!$H22=\"\",\"\",IF('入力シート(記録会)'!K22=\"\",\"\",'入力シート(記録会)'!K22))","v":""},{"$nulls":3},{"$f":"IF('入力シート(記録会)'!$H22=\"\",\"\",IF('入力シート(記録会)'!L22=\"\",\"\",IF('入力シート(記録会)'!L22=\"電気\",0,1)))","v":""}]
[{"$f":"IF('入力シート(記録会)'!$H23=\"\",\"\",\"4000006\")","v":""},{"$f":"IF('入力シート(記録会)'!$H23=\"\",\"\",IF('入力シート(記録会)'!$B23=\"男\",0,1))","v":""},{"$f":"IF('入力シート(記録会)'!$H23=\"\",\"\",'入力シート(記録会)'!C23)","v":""},{"$f":"IF('入力シート(記録会)'!$H23=\"\",\"\",TEXT('入力シート(記録会)'!$E23,\"000\"))","v":""},{"$f":"IF('入力シート(記録会)'!$H23=\"\",\"\",学校番号)","v":""},{"$f":"IF('入力シート(記録会)'!$H23=\"\",\"\",B23)","v":""},{"$f":"IF('入力シート(記録会)'!$H23=\"\",\"\",TEXT('入力シート(記録会)'!$H23,\"00\"))","v":""},null,null,{"$f":"IF('入力シート(記録会)'!$H23=\"\",\"\",IF('入力シート(記録会)'!K23=\"\",\"\",'入力シート(記録会)'!K23))","v":""},{"$nulls":3},{"$f":"IF('入力シート(記録会)'!$H23=\"\",\"\",IF('入力シート(記録会)'!L23=\"\",\"\",IF('入力シート(記録会)'!L23=\"電気\",0,1)))","v":""}]
[{"$f":"IF('入力シート(記録会)'!$H24=\"\",\"\",\"4000006\")","v":""},{"$f":"IF('入力シート(記録会)'!$H24=\"\",\"\",IF('入力シート(記録会)'!$B24=\"男\",0,1))","v":""},{"$f":"IF('入力シート(記録会)'!$H24=\"\",\"\",'入力シート(記録会)'!C24)","v":""},{"$f":"IF('入力シート(記録会)'!$H24=\"\",\"\",TEXT('入力シート(記録会)'!$E24,\"000\"))","v":""},{"$f":"IF('入力シート(記録会)'!$H24=\"\",\"\",学校番号)","v":""},{"$f":"IF('入力シート(記録会)'!$H24=\"\",\"\",B24)","v":""},{"$f":"IF('入力シート(記録会)'!$H24=\"\",\"\",TEXT('入力シート(記録会)'!$H24,\"00\"))","v":""},null,null,{"$f":"IF('入力シート(記録会)'!$H24=\"\",\"\",IF('入力シート(記録会)'!K24=\"\",\"\",'入力シート(記録会)'!K24))","v":""},{"$nulls":3},{"$f":"IF('入力シート(記録会)'!$H24=\"\",\"\",IF('入力シート(記録会)'!L24=\"\",\"\",IF('入力シート(記録会)'!L24=\"電気\",0,1)))","v":""}]
[{"$f":"IF('入力シート(記録会)'!$H25=\"\",\"\",\"4000006\")","v":""},{"$f":"IF('入力シート(記録会)'!$H25=\"\",\"\",IF('入力シート(記録会)'!$B25=\"男\",0,1))","v":""},{"$f":"IF('入力シート(記録会)'!$H25=\"\",\"\",'入力シート(記録会)'!C25)","v":""},{"$f":"IF('入力シート(記録会)'!$H25=\"\",\"\",TEXT('入力シート(記録会)'!$E25,\"000\"))","v":""},{"$f":"IF('入力シート(記録会)'!$H25=\"\",\"\",学校番号)","v":""},{"$f":"IF('入力シート(記録会)'!$H25=\"\",\"\",B25)","v":""},{"$f":"IF('入力シート(記録会)'!$H25=\"\",\"\",TEXT('入力シート(記録会)'!$H25,\"00\"))","v":""},null,null,{"$f":"IF('入力シート(記録会)'!$H25=\"\",\"\",IF('入力シート(記録会)'!K25=\"\",\"\",'入力シート(記録会)'!K25))","v":""},{"$nulls":3},{"$f":"IF('入力シート(記録会)'!$H25=\"\",\"\",IF('入力シート(記録会)'!L25=\"\",\"\",IF('入力シート(記録会)'!L25=\"電気\",0,1)))","v":""}]
[{"$f":"IF('入力シート(記録会)'!$H26=\"\",\"\",\"4000006\")","v":""},{"$f":"IF('入力シート(記録会)'!$H26=\"\",\"\",IF('入力シート(記録会)'!$B26=\"男\",0,1))","v":""},{"$f":"IF('入力シート(記録会)'!$H26=\"\",\"\",'入力シート(記録会)'!C26)","v":""},{"$f":"IF('入力シート(記録会)'!$H26=\"\",\"\",TEXT('入力シート(記録会)'!$E26,\"000\"))","v":""},{"$f":"IF('入力シート(記録会)'!$H26=\"\",\"\",学校番号)","v":""},{"$f":"IF('入力シート(記録会)'!$H26=\"\",\"\",B26)","v":""},{"$f":"IF('入力シート(記録会)'!$H26=\"\",\"\",TEXT('入力シート(記録会)'!$H26,\"00\"))","v":""},null,null,{"$f":"IF('入力シート(記録会)'!$H26=\"\",\"\",IF('入力シート(記録会)'!K26=\"\",\"\",'入力シート(記録会)'!K26))","v":""},{"$nulls":3},{"$f":"IF('入力シート(記録会)'!$H26=\"\",\"\",IF('入力シート(記録会)'!L26=\"\",\"\",IF('入力シート(記録会)'!L26=\"電気\",0,1)))","v":""}]
[{"$f":"IF('入力シート(記録会)'!$H27=\"\",\"\",\"4000006\")","v":""},{"$f":"IF('入力シート(記録会)'!$H27=\"\",\"\",IF('入力シート(記録会)'!$B27=\"男\",0,1))","v":""},{"$f":"IF('入力シート(記録会)'!$H27=\"\",\"\",'入力シート(記録会)'!C27)","v":""},{"$f":"IF('入力シート(記録会)'!$H27=\"\",\"\",TEXT('入力シート(記録会)'!$E27,\"000\"))","v":""},{"$f":"IF('入力シート(記録会)'!$H27=\"\",\"\",学校番号)","v":""},{"$f":"IF('入力シート(記録会)'!$H27=\"\",\"\",B27)","v":""},{"$f":"IF('入力シート(記録会)'!$H27=\"\",\"\",TEXT('入力シート(記録会)'!$H27,\"00\"))","v":""},null,null,{"$f":"IF('入力シート(記録会)'!$H27=\"\",\"\",IF('入力シート(記録会)'!K27=\"\",\"\",'入力シート(記録会)'!K27))","v":""},{"$nulls":3},{"$f":"IF('入力シート(記録会)'!$H27=\"\",\"\",IF('入力シート(記録会)'!L27=\"\",\"\",IF('入力シート(記録会)'!L27=\"電気\",0,1)))","v":""}]
[{"$f":"IF('入力シート(記録会)'!$H28=\"\",\"\",\"4000006\")","v":""},{"$f":"IF('入力シート(記録会)'!$H28=\"\",\"\",IF('入力シート(記録会)'!$B28=\"男\",0,1))","v":""},{"$f":"IF('入力シート(記録会)'!$H28=\"\",\"\",'入力シート(記録会)'!C28)","v":""},{"$f":"IF('入力シート(記録会)'!$H28=\"\",\"\",TEXT('入力シート(記録会)'!$E28,\"000\"))","v":""},{"$f":"IF('入力シート(記録会)'!$H28=\"\",\"\",学校番号)","v":""},{"$f":"IF('入力シート(記録会)'!$H28=\"\",\"\",B28)","v":""},{"$f":"IF('入力シート(記録会)'!$H28=\"\",\"\",TEXT('入力シート(記録会)'!$H28,\"00\"))","v":""},null,null,{"$f":"IF('入力シート(記録会)'!$H28=\"\",\"\",IF('入力シート(記録会)'!K28=\"\",\"\",'入力シート(記録会)'!K28))","v":""},{"$nulls":3},{"$f":"IF('入力シート(記録会)'!$H28=\"\",\"\",IF('入力シート(記録会)'!L28=\"\",\"\",IF('入力シート(記録会)'!L28=\"電気\",0,1)))","v":""}]
[{"$f":"IF('入力シート(記録会)'!$H29=\"\",\"\",\"4000006\")","v":""},{"$f":"IF('入力シート(記録会)'!$H29=\"\",\"\",IF('入力シート(記録会)'!$B29=\"男\",0,1))","v":""},{"$f":"IF('入力シート(記録会)'!$H29=\"\",\"\",'入力シート(記録会)'!C29)","v":""},{"$f":"IF('入力シート(記録会)'!$H29=\"\",\"\",TEXT('入力シート(記録会)'!$E29,\"000\"))","v":""},{"$f":"IF('入力シート(記録会)'!$H29=\"\",\"\",学校番号)","v":""},{"$f":"IF('入力シート(記録会)'!$H29=\"\",\"\",B29)","v":""},{"$f":"IF('入力シート(記録会)'!$H29=\"\",\"\",TEXT('入力シート(記録会)'!$H29,\"00\"))","v":""},null,null,{"$f":"IF('入力シート(記録会)'!$H29=\"\",\"\",IF('入力シート(記録会)'!K29=\"\",\"\",'入力シート(記録会)'!K29))","v":""},{"$nulls":3},{"$f":"IF('入力シート(記録会)'!$H29=\"\",\"\",IF('入力シート(記録会)'!L29=\"\",\"\",IF('入力シート(記録会)'!L29=\"電気\",0,1)))","v":""}]
[{"$f":"IF('入力シート(記録会)'!$H30=\"\",\"\",\"4000006\")","v":""},{"$f":"IF('入力シート(記録会)'!$H30=\"\",\"\",IF('入力シート(記録会)'!$B30=\"男\",0,1))","v":""},{"$f":"IF('入力シート(記録会)'!$H30=\"\",\"\",'入力シート(記録会)'!C30)","v":""},{"$f":"IF('入力シート(記録会)'!$H30=\"\",\"\",TEXT('入力シート(記録会)'!$E30,\"000\"))","v":""},{"$f":"IF('入力シート(記録会)'!$H30=\"\",\"\",学校番号)","v":""},{"$f":"IF('入力シート(記録会)'!$H30=\"\",\"\",B30)","v":""},{"$f":"IF('入力シート(記録会)'!$H30=\"\",\"\",TEXT('入力シート(記録会)'!$H30,\"00\"))","v":""},null,null,{"$f":"IF('入力シート(記録会)'!$H30=\"\",\"\",IF('入力シート(記録会)'!K30=\"\",\"\",'入力シート(記録会)'!K30))","v":""},{"$nulls":3},{"$f":"IF('入力シート(記録会)'!$H30=\"\",\"\",IF('入力シート(記録会)'!L30=\"\",\"\",IF('入力シート(記録会)'!L30=\"電気\",0,1)))","v":""}]
[{"$f":"IF('入力シート(記録会)'!$H31=\"\",\"\",\"4000006\")","v":""},{"$f":"IF('入力シート(記録会)'!$H31=\"\",\"\",IF('入力シート(記録会)'!$B31=\"男\",0,1))","v":""},{"$f":"IF('入力シート(記録会)'!$H31=\"\",\"\",'入力シート(記録会)'!C31)","v":""},{"$f":"IF('入力シート(記録会)'!$H31=\"\",\"\",TEXT('入力シート(記録会)'!$E31,\"000\"))","v":""},{"$f":"IF('入力シート(記録会)'!$H31=\"\",\"\",学校番号)","v":""},{"$f":"IF('入力シート(記録会)'!$H31=\"\",\"\",B31)","v":""},{"$f":"IF('入力シート(記録会)'!$H31=\"\",\"\",TEXT('入力シート(記録会)'!$H31,\"00\"))","v":""},null,null,{"$f":"IF('入力シート(記録会)'!$H31=\"\",\"\",IF('入力シート(記録会)'!K31=\"\",\"\",'入力シート(記録会)'!K31))","v":""},{"$nulls":3},{"$f":"IF('入力シート(記録会)'!$H31=\"\",\"\",IF('入力シート(記録会)'!L31=\"\",\"\",IF('入力シート(記録会)'!L31=\"電気\",0,1)))","v":""}]
[{"$f":"IF('入力シート(記録会)'!$H32=\"\",\"\",\"4000006\")","v":""},{"$f":"IF('入力シート(記録会)'!$H32=\"\",\"\",IF('入力シート(記録会)'!$B32=\"男\",0,1))","v":""},{"$f":"IF('入力シート(記録会)'!$H32=\"\",\"\",'入力シート(記録会)'!C32)","v":""},{"$f":"IF('入力シート(記録会)'!$H32=\"\",\"\",TEXT('入力シート(記録会)'!$E32,\"000\"))","v":""},{"$f":"IF('入力シート(記録会)'!$H32=\"\",\"\",学校番号)","v":""},{"$f":"IF('入力シート(記録会)'!$H32=\"\",\"\",B32)","v":""},{"$f":"IF('入力シート(記録会)'!$H32=\"\",\"\",TEXT('入力シート(記録会)'!$H32,\"00\"))","v":""},null,null,{"$f":"IF('入力シート(記録会)'!$H32=\"\",\"\",IF('入力シート(記録会)'!K32=\"\",\"\",'入力シート(記録会)'!K32))","v":""},{"$nulls":3},{"$f":"IF('入力シート(記録会)'!$H32=\"\",\"\",IF('入力シート(記録会)'!L32=\"\",\"\",IF('入力シート(記録会)'!L32=\"電気\",0,1)))","v":""}]
[{"$f":"IF('入力シート(記録会)'!$H33=\"\",\"\",\"4000006\")","v":""},{"$f":"IF('入力シート(記録会)'!$H33=\"\",\"\",IF('入力シート(記録会)'!$B33=\"男\",0,1))","v":""},{"$f":"IF('入力シート(記録会)'!$H33=\"\",\"\",'入力シート(記録会)'!C33)","v":""},{"$f":"IF('入力シート(記録会)'!$H33=\"\",\"\",TEXT('入力シート(記録会)'!$E33,\"000\"))","v":""},{"$f":"IF('入力シート(記録会)'!$H33=\"\",\"\",学校番号)","v":""},{"$f":"IF('入力シート(記録会)'!$H33=\"\",\"\",B33)","v":""},{"$f":"IF('入力シート(記録会)'!$H33=\"\",\"\",TEXT('入力シート(記録会)'!$H33,\"00\"))","v":""},null,null,{"$f":"IF('入力シート(記録会)'!$H33=\"\",\"\",IF('入力シート(記録会)'!K33=\"\",\"\",'入力シート(記録会)'!K33))","v":""},{"$nulls":3},{"$f":"IF('入力シート(記録会)'!$H33=\"\",\"\",IF('入力シート(記録会)'!L33=\"\",\"\",IF('入力シート(記録会)'!L33=\"電気\",0,1)))","v":""}]
[{"$f":"IF('入力シート(記録会)'!$H44=\"\",\"\",\"4000006\")","v":""},{"$f":"IF('入力シート(記録会)'!$H44=\"\",\"\",IF('入力シート(記録会)'!$B44=\"男\",0,1))","v":""},{"$f":"IF('入力シート(記録会)'!$H44=\"\",\"\",'入力シート(記録会)'!C44)","v":""},{"$f":"IF('入力シート(記録会)'!$H44=\"\",\"\",TEXT('入力シート(記録会)'!$E44,\"000\"))","v":""},{"$f":"IF('入力シート(記録会)'!$H44=\"\",\"\",学校番号)","v":""},{"$f":"IF('入力シート(記録会)'!$H44=\"\",\"\",B34)","v":""},{"$f":"IF('入力シート(記録会)'!$H44=\"\",\"\",TEXT('入力シート(記録会)'!$H44,\"00\"))","v":""},null,null,{"$f":"IF('入力シート(記録会)'!$H44=\"\",\"\",IF('入力シート(記録会)'!K44=\"\",\"\",'入力シート(記録会)'!K44))","v":""},{"$nulls":3},{"$f":"IF('入力シート(記録会)'!$H44=\"\",\"\",IF('入力シート(記録会)'!L44=\"\",\"\",IF('入力シート(記録会)'!L44=\"電気\",0,1)))","v":""}]
[{"$f":"IF('入力シート(記録会)'!$H45=\"\",\"\",\"4000006\")","v":""},{"$f":"IF('入力シート(記録会)'!$H45=\"\",\"\",IF('入力シート(記録会)'!$B45=\"男\",0,1))","v":""},{"$f":"IF('入力シート(記録会)'!$H45=\"\",\"\",'入力シート(記録会)'!C45)","v":""},{"$f":"IF('入力シート(記録会)'!$H45=\"\",\"\",TEXT('入力シート(記録会)'!$E45,\"000\"))","v":""},{"$f":"IF('入力シート(記録会)'!$H45=\"\",\"\",学校番号)","v":""},{"$f":"IF('入力シート(記録会)'!$H45=\"\",\"\",B35)","v":""},{"$f":"IF('入力シート(記録会)'!$H45=\"\",\"\",TEXT('入力シート(記録会)'!$H45,\"00\"))","v":""},null,null,{"$f":"IF('入力シート(記録会)'!$H45=\"\",\"\",IF('入力シート(記録会)'!K45=\"\",\"\",'入力シート(記録会)'!K45))","v":""},{"$nulls":3},{"$f":"IF('入力シート(記録会)'!$H45=\"\",\"\",IF('入力シート(記録会)'!L45=\"\",\"\",IF('入力シート(記録会)'!L45=\"電気\",0,1)))","v":""}]
[{"$f":"IF('入力シート(記録会)'!$H46=\"\",\"\",\"4000006\")","v":""},{"$f":"IF('入力シート(記録会)'!$H46=\"\",\"\",IF('入力シート(記録会)'!$B46=\"男\",0,1))","v":""},{"$f":"IF('入力シート(記録会)'!$H46=\"\",\"\",'入力シート(記録会)'!C46)","v":""},{"$f":"IF('入力シート(記録会)'!$H46=\"\",\"\",TEXT('入力シート(記録会)'!$E46,\"000\"))","v":""},{"$f":"IF('入力シート(記録会)'!$H46=\"\",\"\",学校番号)","v":""},{"$f":"IF('入力シート(記録会)'!$H46=\"\",\"\",B36)","v":""},{"$f":"IF('入力シート(記録会)'!$H46=\"\",\"\",TEXT('入力シート(記録会)'!$H46,\"00\"))","v":""},null,null,{"$f":"IF('入力シート(記録会)'!$H46=\"\",\"\",IF('入力シート(記録会)'!K46=\"\",\"\",'入力シート(記録会)'!K46))","v":""},{"$nulls":3},{"$f":"IF('入力シート(記録会)'!$H46=\"\",\"\",IF('入力シート(記録会)'!L46=\"\",\"\",IF('入力シート(記録会)'!L46=\"電気\",0,1)))","v":""}]
[{"$f":"IF('入力シート(記録会)'!$H47=\"\",\"\",\"4000006\")","v":""},{"$f":"IF('入力シート(記録会)'!$H47=\"\",\"\",IF('入力シート(記録会)'!$B47=\"男\",0,1))","v":""},{"$f":"IF('入力シート(記録会)'!$H47=\"\",\"\",'入力シート(記録会)'!C47)","v":""},{"$f":"IF('入力シート(記録会)'!$H47=\"\",\"\",TEXT('入力シート(記録会)'!$E47,\"000\"))","v":""},{"$f":"IF('入力シート(記録会)'!$H47=\"\",\"\",学校番号)","v":""},{"$f":"IF('入力シート(記録会)'!$H47=\"\",\"\",B37)","v":""},{"$f":"IF('入力シート(記録会)'!$H47=\"\",\"\",TEXT('入力シート(記録会)'!$H47,\"00\"))","v":""},null,null,{"$f":"IF('入力シート(記録会)'!$H47=\"\",\"\",IF('入力シート(記録会)'!K47=\"\",\"\",'入力シート(記録会)'!K47))","v":""},{"$nulls":3},{"$f":"IF('入力シート(記録会)'!$H47=\"\",\"\",IF('入力シート(記録会)'!L47=\"\",\"\",IF('入力シート(記録会)'!L47=\"電気\",0,1)))","v":""}]
[{"$f":"IF('入力シート(記録会)'!$H48=\"\",\"\",\"4000006\")","v":""},{"$f":"IF('入力シート(記録会)'!$H48=\"\",\"\",IF('入力シート(記録会)'!$B48=\"男\",0,1))","v":""},{"$f":"IF('入力シート(記録会)'!$H48=\"\",\"\",'入力シート(記録会)'!C48)","v":""},{"$f":"IF('入力シート(記録会)'!$H48=\"\",\"\",TEXT('入力シート(記録会)'!$E48,\"000\"))","v":""},{"$f":"IF('入力シート(記録会)'!$H48=\"\",\"\",学校番号)","v":""},{"$f":"IF('入力シート(記録会)'!$H48=\"\",\"\",B38)","v":""},{"$f":"IF('入力シート(記録会)'!$H48=\"\",\"\",TEXT('入力シート(記録会)'!$H48,\"00\"))","v":""},null,null,{"$f":"IF('入力シート(記録会)'!$H48=\"\",\"\",IF('入力シート(記録会)'!K48=\"\",\"\",'入力シート(記録会)'!K48))","v":""},{"$nulls":3},{"$f":"IF('入力シート(記録会)'!$H48=\"\",\"\",IF('入力シート(記録会)'!L48=\"\",\"\",IF('入力シート(記録会)'!L48=\"電気\",0,1)))","v":""}]
[{"$f":"IF('入力シート(記録会)'!$H49=\"\",\"\",\"4000006\")","v":""},{"$f":"IF('入力シート(記録会)'!$H49=\"\",\"\",IF('入力シート(記録会)'!$B49=\"男\",0,1))","v":""},{"$f":"IF('入力シート(記録会)'!$H49=\"\",\"\",'入力シート(記録会)'!C49)","v":""},{"$f":"IF('入力シート(記録会)'!$H49=\"\",\"\",TEXT('入力シート(記録会)'!$E49,\"000\"))","v":""},{"$f":"IF('入力シート(記録会)'!$H49=\"\",\"\",学校番号)","v":""},{"$f":"IF('入力シート(記録会)'!$H49=\"\",\"\",B39)","v":""},{"$f":"IF('入力シート(記録会)'!$H49=\"\",\"\",TEXT('入力シート(記録会)'!$H49,\"00\"))","v":""},null,null,{"$f":"IF('入力シート(記録会)'!$H49=\"\",\"\",IF('入力シート(記録会)'!K49=\"\",\"\",'入力シート(記録会)'!K49))","v":""},{"$nulls":3},{"$f":"IF('入力シート(記録会)'!$H49=\"\",\"\",IF('入力シート(記録会)'!L49=\"\",\"\",IF('入力シート(記録会)'!L49=\"電気\",0,1)))","v":""}]
[{"$f":"IF('入力シート(記録会)'!$H50=\"\",\"\",\"4000006\")","v":""},{"$f":"IF('入力シート(記録会)'!$H50=\"\",\"\",IF('入力シート(記録会)'!$B50=\"男\",0,1))","v":""},{"$f":"IF('入力シート(記録会)'!$H50=\"\",\"\",'入力シート(記録会)'!C50)","v":""},{"$f":"IF('入力シート(記録会)'!$H50=\"\",\"\",TEXT('入力シート(記録会)'!$E50,\"000\"))","v":""},{"$f":"IF('入力シート(記録会)'!$H50=\"\",\"\",学校番号)","v":""},{"$f":"IF('入力シート(記録会)'!$H50=\"\",\"\",B40)","v":""},{"$f":"IF('入力シート(記録会)'!$H50=\"\",\"\",TEXT('入力シート(記録会)'!$H50,\"00\"))","v":""},null,null,{"$f":"IF('入力シート(記録会)'!$H50=\"\",\"\",IF('入力シート(記録会)'!K50=\"\",\"\",'入力シート(記録会)'!K50))","v":""},{"$nulls":3},{"$f":"IF('入力シート(記録会)'!$H50=\"\",\"\",IF('入力シート(記録会)'!L50=\"\",\"\",IF('入力シート(記録会)'!L50=\"電気\",0,1)))","v":""}]
[{"$f":"IF('入力シート(記録会)'!$H51=\"\",\"\",\"4000006\")","v":""},{"$f":"IF('入力シート(記録会)'!$H51=\"\",\"\",IF('入力シート(記録会)'!$B51=\"男\",0,1))","v":""},{"$f":"IF('入力シート(記録会)'!$H51=\"\",\"\",'入力シート(記録会)'!C51)","v":""},{"$f":"IF('入力シート(記録会)'!$H51=\"\",\"\",TEXT('入力シート(記録会)'!$E51,\"000\"))","v":""},{"$f":"IF('入力シート(記録会)'!$H51=\"\",\"\",学校番号)","v":""},{"$f":"IF('入力シート(記録会)'!$H51=\"\",\"\",B41)","v":""},{"$f":"IF('入力シート(記録会)'!$H51=\"\",\"\",TEXT('入力シート(記録会)'!$H51,\"00\"))","v":""},null,null,{"$f":"IF('入力シート(記録会)'!$H51=\"\",\"\",IF('入力シート(記録会)'!K51=\"\",\"\",'入力シート(記録会)'!K51))","v":""},{"$nulls":3},{"$f":"IF('入力シート(記録会)'!$H51=\"\",\"\",IF('入力シート(記録会)'!L51=\"\",\"\",IF('入力シート(記録会)'!L51=\"電気\",0,1)))","v":""}]
[{"$f":"IF('入力シート(記録会)'!$H52=\"\",\"\",\"4000006\")","v":""},{"$f":"IF('入力シート(記録会)'!$H52=\"\",\"\",IF('入力シート(記録会)'!$B52=\"男\",0,1))","v":""},{"$f":"IF('入力シート(記録会)'!$H52=\"\",\"\",'入力シート(記録会)'!C52)","v":""},{"$f":"IF('入力シート(記録会)'!$H52=\"\",\"\",TEXT('入力シート(記録会)'!$E52,\"000\"))","v":""},{"$f":"IF('入力シート(記録会)'!$H52=\"\",\"\",学校番号)","v":""},{"$f":"IF('入力シート(記録会)'!$H52=\"\",\"\",B42)","v":""},{"$f":"IF('入力シート(記録会)'!$H52=\"\",\"\",TEXT('入力シート(記録会)'!$H52,\"00\"))","v":""},null,null,{"$f":"IF('入力シート(記録会)'!$H52=\"\",\"\",IF('入力シート(記録会)'!K52=\"\",\"\",'入力シート(記録会)'!K52))","v":""},{"$nulls":3},{"$f":"IF('入力シート(記録会)'!$H52=\"\",\"\",IF('入力シート(記録会)'!L52=\"\",\"\",IF('入力シート(記録会)'!L52=\"電気\",0,1)))","v":""}]
[{"$f":"IF('入力シート(記録会)'!$H53=\"\",\"\",\"4000006\")","v":""},{"$f":"IF('入力シート(記録会)'!$H53=\"\",\"\",IF('入力シート(記録会)'!$B53=\"男\",0,1))","v":""},{"$f":"IF('入力シート(記録会)'!$H53=\"\",\"\",'入力シート(記録会)'!C53)","v":""},{"$f":"IF('入力シート(記録会)'!$H53=\"\",\"\",TEXT('入力シート(記録会)'!$E53,\"000\"))","v":""},{"$f":"IF('入力シート(記録会)'!$H53=\"\",\"\",学校番号)","v":""},{"$f":"IF('入力シート(記録会)'!$H53=\"\",\"\",B43)","v":""},{"$f":"IF('入力シート(記録会)'!$H53=\"\",\"\",TEXT('入力シート(記録会)'!$H53,\"00\"))","v":""},null,null,{"$f":"IF('入力シート(記録会)'!$H53=\"\",\"\",IF('入力シート(記録会)'!K53=\"\",\"\",'入力シート(記録会)'!K53))","v":""},{"$nulls":3},{"$f":"IF('入力シート(記録会)'!$H53=\"\",\"\",IF('入力シート(記録会)'!L53=\"\",\"\",IF('入力シート(記録会)'!L53=\"電気\",0,1)))","v":""}]
[{"$f":"IF('入力シート(記録会)'!$H54=\"\",\"\",\"4000006\")","v":""},{"$f":"IF('入力シート(記録会)'!$H54=\"\",\"\",IF('入力シート(記録会)'!$B54=\"男\",0,1))","v":""},{"$f":"IF('入力シート(記録会)'!$H54=\"\",\"\",'入力シート(記録会)'!C54)","v":""},{"$f":"IF('入力シート(記録会)'!$H54=\"\",\"\",TEXT('入力シート(記録会)'!$E54,\"000\"))","v":""},{"$f":"IF('入力シート(記録会)'!$H54=\"\",\"\",学校番号)","v":""},{"$f":"IF('入力シート(記録会)'!$H54=\"\",\"\",B44)","v":""},{"$f":"IF('入力シート(記録会)'!$H54=\"\",\"\",TEXT('入力シート(記録会)'!$H54,\"00\"))","v":""},null,null,{"$f":"IF('入力シート(記録会)'!$H54=\"\",\"\",IF('入力シート(記録会)'!K54=\"\",\"\",'入力シート(記録会)'!K54))","v":""},{"$nulls":3},{"$f":"IF('入力シート(記録会)'!$H54=\"\",\"\",IF('入力シート(記録会)'!L54=\"\",\"\",IF('入力シート(記録会)'!L54=\"電気\",0,1)))","v":""}]
[{"$f":"IF('入力シート(記録会)'!$H55=\"\",\"\",\"4000006\")","v":""},{"$f":"IF('入力シート(記録会)'!$H55=\"\",\"\",IF('入力シート(記録会)'!$B55=\"男\",0,1))","v":""},{"$f":"IF('入力シート(記録会)'!$H55=\"\",\"\",'入力シート(記録会)'!C55)","v":""},{"$f":"IF('入力シート(記録会)'!$H55=\"\",\"\",TEXT('入力シート(記録会)'!$E55,\"000\"))","v":""},{"$f":"IF('入力シート(記録会)'!$H55=\"\",\"\",学校番号)","v":""},{"$f":"IF('入力シート(記録会)'!$H55=\"\",\"\",B45)","v":""},{"$f":"IF('入力シート(記録会)'!$H55=\"\",\"\",TEXT('入力シート(記録会)'!$H55,\"00\"))","v":""},null,null,{"$f":"IF('入力シート(記録会)'!$H55=\"\",\"\",IF('入力シート(記録会)'!K55=\"\",\"\",'入力シート(記録会)'!K55))","v":""},{"$nulls":3},{"$f":"IF('入力シート(記録会)'!$H55=\"\",\"\",IF('入力シート(記録会)'!L55=\"\",\"\",IF('入力シート(記録会)'!L55=\"電気\",0,1)))","v":""}]
[{"$f":"IF('入力シート(記録会)'!$H56=\"\",\"\",\"4000006\")","v":""},{"$f":"IF('入力シート(記録会)'!$H56=\"\",\"\",IF('入力シート(記録会)'!$B56=\"男\",0,1))","v":""},{"$f":"IF('入力シート(記録会)'!$H56=\"\",\"\",'入力シート(記録会)'!C56)","v":""},{"$f":"IF('入力シート(記録会)'!$H56=\"\",\"\",TEXT('入力シート(記録会)'!$E56,\"000\"))","v":""},{"$f":"IF('入力シート(記録会)'!$H56=\"\",\"\",学校番号)","v":""},{"$f":"IF('入力シート(記録会)'!$H56=\"\",\"\",B46)","v":""},{"$f":"IF('入力シート(記録会)'!$H56=\"\",\"\",TEXT('入力シート(記録会)'!$H56,\"00\"))","v":""},null,null,{"$f":"IF('入力シート(記録会)'!$H56=\"\",\"\",IF('入力シート(記録会)'!K56=\"\",\"\",'入力シート(記録会)'!K56))","v":""},{"$nulls":3},{"$f":"IF('入力シート(記録会)'!$H56=\"\",\"\",IF('入力シート(記録会)'!L56=\"\",\"\",IF('入力シート(記録会)'!L56=\"電気\",0,1)))","v":""}]
[{"$f":"IF('入力シート(記録会)'!$H57=\"\",\"\",\"4000006\")","v":""},{"$f":"IF('入力シート(記録会)'!$H57=\"\",\"\",IF('入力シート(記録会)'!$B57=\"男\",0,1))","v":""},{"$f":"IF('入力シート(記録会)'!$H57=\"\",\"\",'入力シート(記録会)'!C57)","v":""},{"$f":"IF('入力シート(記録会)'!$H57=\"\",\"\",TEXT('入力シート(記録会)'!$E57,\"000\"))","v":""},{"$f":"IF('入力シート(記録会)'!$H57=\"\",\"\",学校番号)","v":""},{"$f":"IF('入力シート(記録会)'!$H57=\"\",\"\",B47)","v":""},{"$f":"IF('入力シート(記録会)'!$H57=\"\",\"\",TEXT('入力シート(記録会)'!$H57,\"00\"))","v":""},null,null,{"$f":"IF('入力シート(記録会)'!$H57=\"\",\"\",IF('入力シート(記録会)'!K57=\"\",\"\",'入力シート(記録会)'!K57))","v":""},{"$nulls":3},{"$f":"IF('入力シート(記録会)'!$H57=\"\",\"\",IF('入力シート(記録会)'!L57=\"\",\"\",IF('入力シート(記録会)'!L57=\"電気\",0,1)))","v":""}]
[{"$f":"IF('入力シート(記録会)'!$H58=\"\",\"\",\"4000006\")","v":""},{"$f":"IF('入力シート(記録会)'!$H58=\"\",\"\",IF('入力シート(記録会)'!$B58=\"男\",0,1))","v":""},{"$f":"IF('入力シート(記録会)'!$H58=\"\",\"\",'入力シート(記録会)'!C58)","v":""},{"$f":"IF('入力シート(記録会)'!$H58=\"\",\"\",TEXT('入力シート(記録会)'!$E58,\"000\"))","v":""},{"$f":"IF('入力シート(記録会)'!$H58=\"\",\"\",学校番号)","v":""},{"$f":"IF('入力シート(記録会)'!$H58=\"\",\"\",B48)","v":""},{"$f":"IF('入力シート(記録会)'!$H58=\"\",\"\",TEXT('入力シート(記録会)'!$H58,\"00\"))","v":""},null,null,{"$f":"IF('入力シート(記録会)'!$H58=\"\",\"\",IF('入力シート(記録会)'!K58=\"\",\"\",'入力シート(記録会)'!K58))","v":""},{"$nulls":3},{"$f":"IF('入力シート(記録会)'!$H58=\"\",\"\",IF('入力シート(記録会)'!L58=\"\",\"\",IF('入力シート(記録会)'!L58=\"電気\",0,1)))","v":""}]
[{"$f":"IF('入力シート(記録会)'!$H59=\"\",\"\",\"4000006\")","v":""},{"$f":"IF('入力シート(記録会)'!$H59=\"\",\"\",IF('入力シート(記録会)'!$B59=\"男\",0,1))","v":""},{"$f":"IF('入力シート(記録会)'!$H59=\"\",\"\",'入力シート(記録会)'!C59)","v":""},{"$f":"IF('入力シート(記録会)'!$H59=\"\",\"\",TEXT('入力シート(記録会)'!$E59,\"000\"))","v":""},{"$f":"IF('入力シート(記録会)'!$H59=\"\",\"\",学校番号)","v":""},{"$f":"IF('入力シート(記録会)'!$H59=\"\",\"\",B49)","v":""},{"$f":"IF('入力シート(記録会)'!$H59=\"\",\"\",TEXT('入力シート(記録会)'!$H59,\"00\"))","v":""},null,null,{"$f":"IF('入力シート(記録会)'!$H59=\"\",\"\",IF('入力シート(記録会)'!K59=\"\",\"\",'入力シート(記録会)'!K59))","v":""},{"$nulls":3},{"$f":"IF('入力シート(記録会)'!$H59=\"\",\"\",IF('入力シート(記録会)'!L59=\"\",\"\",IF('入力シート(記録会)'!L59=\"電気\",0,1)))","v":""}]
[{"$f":"IF('入力シート(記録会)'!$H60=\"\",\"\",\"4000006\")","v":""},{"$f":"IF('入力シート(記録会)'!$H60=\"\",\"\",IF('入力シート(記録会)'!$B60=\"男\",0,1))","v":""},{"$f":"IF('入力シート(記録会)'!$H60=\"\",\"\",'入力シート(記録会)'!C60)","v":""},{"$f":"IF('入力シート(記録会)'!$H60=\"\",\"\",TEXT('入力シート(記録会)'!$E60,\"000\"))","v":""},{"$f":"IF('入力シート(記録会)'!$H60=\"\",\"\",学校番号)","v":""},{"$f":"IF('入力シート(記録会)'!$H60=\"\",\"\",B50)","v":""},{"$f":"IF('入力シート(記録会)'!$H60=\"\",\"\",TEXT('入力シート(記録会)'!$H60,\"00\"))","v":""},null,null,{"$f":"IF('入力シート(記録会)'!$H60=\"\",\"\",IF('入力シート(記録会)'!K60=\"\",\"\",'入力シート(記録会)'!K60))","v":""},{"$nulls":3},{"$f":"IF('入力シート(記録会)'!$H60=\"\",\"\",IF('入力シート(記録会)'!L60=\"\",\"\",IF('入力シート(記録会)'!L60=\"電気\",0,1)))","v":""}]
[{"$f":"IF('入力シート(記録会)'!$H61=\"\",\"\",\"4000006\")","v":""},{"$f":"IF('入力シート(記録会)'!$H61=\"\",\"\",IF('入力シート(記録会)'!$B61=\"男\",0,1))","v":""},{"$f":"IF('入力シート(記録会)'!$H61=\"\",\"\",'入力シート(記録会)'!C61)","v":""},{"$f":"IF('入力シート(記録会)'!$H61=\"\",\"\",TEXT('入力シート(記録会)'!$E61,\"000\"))","v":""},{"$f":"IF('入力シート(記録会)'!$H61=\"\",\"\",学校番号)","v":""},{"$f":"IF('入力シート(記録会)'!$H61=\"\",\"\",B51)","v":""},{"$f":"IF('入力シート(記録会)'!$H61=\"\",\"\",TEXT('入力シート(記録会)'!$H61,\"00\"))","v":""},null,null,{"$f":"IF('入力シート(記録会)'!$H61=\"\",\"\",IF('入力シート(記録会)'!K61=\"\",\"\",'入力シート(記録会)'!K61))","v":""},{"$nulls":3},{"$f":"IF('入力シート(記録会)'!$H61=\"\",\"\",IF('入力シート(記録会)'!L61=\"\",\"\",IF('入力シート(記録会)'!L61=\"電気\",0,1)))","v":""}]
[{"$f":"IF('入力シート(記録会)'!$H62=\"\",\"\",\"4000006\")","v":""},{"$f":"IF('入力シート(記録会)'!$H62=\"\",\"\",IF('入力シート(記録会)'!$B62=\"男\",0,1))","v":""},{"$f":"IF('入力シート(記録会)'!$H62=\"\",\"\",'入力シート(記録会)'!C62)","v":""},{"$f":"IF('入力シート(記録会)'!$H62=\"\",\"\",TEXT('入力シート(記録会)'!$E62,\"000\"))","v":""},{"$f":"IF('入力シート(記録会)'!$H62=\"\",\"\",学校番号)","v":""},{"$f":"IF('入力シート(記録会)'!$H62=\"\",\"\",B52)","v":""},{"$f":"IF('入力シート(記録会)'!$H62=\"\",\"\",TEXT('入力シート(記録会)'!$H62,\"00\"))","v":""},null,null,{"$f":"IF('入力シート(記録会)'!$H62=\"\",\"\",IF('入力シート(記録会)'!K62=\"\",\"\",'入力シート(記録会)'!K62))","v":""},{"$nulls":3},{"$f":"IF('入力シート(記録会)'!$H62=\"\",\"\",IF('入力シート(記録会)'!L62=\"\",\"\",IF('入力シート(記録会)'!L62=\"電気\",0,1)))","v":""}]
[{"$f":"IF('入力シート(記録会)'!$H63=\"\",\"\",\"4000006\")","v":""},{"$f":"IF('入力シート(記録会)'!$H63=\"\",\"\",IF('入力シート(記録会)'!$B63=\"男\",0,1))","v":""},{"$f":"IF('入力シート(記録会)'!$H63=\"\",\"\",'入力シート(記録会)'!C63)","v":""},{"$f":"IF('入力シート(記録会)'!$H63=\"\",\"\",TEXT('入力シート(記録会)'!$E63,\"000\"))","v":""},{"$f":"IF('入力シート(記録会)'!$H63=\"\",\"\",学校番号)","v":""},{"$f":"IF('入力シート(記録会)'!$H63=\"\",\"\",B53)","v":""},{"$f":"IF('入力シート(記録会)'!$H63=\"\",\"\",TEXT('入力シート(記録会)'!$H63,\"00\"))","v":""},null,null,{"$f":"IF('入力シート(記録会)'!$H63=\"\",\"\",IF('入力シート(記録会)'!K63=\"\",\"\",'入力シート(記録会)'!K63))","v":""},{"$nulls":3},{"$f":"IF('入力シート(記録会)'!$H63=\"\",\"\",IF('入力シート(記録会)'!L63=\"\",\"\",IF('入力シート(記録会)'!L63=\"電気\",0,1)))","v":""}]
[{"$f":"IF('入力シート(記録会)'!$H64=\"\",\"\",\"4000006\")","v":""},{"$f":"IF('入力シート(記録会)'!$H64=\"\",\"\",IF('入力シート(記録会)'!$B64=\"男\",0,1))","v":""},{"$f":"IF('入力シート(記録会)'!$H64=\"\",\"\",'入力シート(記録会)'!C64)","v":""},{"$f":"IF('入力シート(記録会)'!$H64=\"\",\"\",TEXT('入力シート(記録会)'!$E64,\"000\"))","v":""},{"$f":"IF('入力シート(記録会)'!$H64=\"\",\"\",学校番号)","v":""},{"$f":"IF('入力シート(記録会)'!$H64=\"\",\"\",B54)","v":""},{"$f":"IF('入力シート(記録会)'!$H64=\"\",\"\",TEXT('入力シート(記録会)'!$H64,\"00\"))","v":""},null,null,{"$f":"IF('入力シート(記録会)'!$H64=\"\",\"\",IF('入力シート(記録会)'!K64=\"\",\"\",'入力シート(記録会)'!K64))","v":""},{"$nulls":3},{"$f":"IF('入力シート(記録会)'!$H64=\"\",\"\",IF('入力シート(記録会)'!L64=\"\",\"\",IF('入力シート(記録会)'!L64=\"電気\",0,1)))","v":""}]
[{"$f":"IF('入力シート(記録会)'!$H65=\"\",\"\",\"4000006\")","v":""},{"$f":"IF('入力シート(記録会)'!$H65=\"\",\"\",IF('入力シート(記録会)'!$B65=\"男\",0,1))","v":""},{"$f":"IF('入力シート(記録会)'!$H65=\"\",\"\",'入力シート(記録会)'!C65)","v":""},{"$f":"IF('入力シート(記録会)'!$H65=\"\",\"\",TEXT('入力シート(記録会)'!$E65,\"000\"))","v":""},{"$f":"IF('入力シート(記録会)'!$H65=\"\",\"\",学校番号)","v":""},{"$f":"IF('入力シート(記録会)'!$H65=\"\",\"\",B55)","v":""},{"$f":"IF('入力シート(記録会)'!$H65=\"\",\"\",TEXT('入力シート(記録会)'!$H65,\"00\"))","v":""},null,null,{"$f":"IF('入力シート(記録会)'!$H65=\"\",\"\",IF('入力シート(記録会)'!K65=\"\",\"\",'入力シート(記録会)'!K65))","v":""},{"$nulls":3},{"$f":"IF('入力シート(記録会)'!$H65=\"\",\"\",IF('入力シート(記録会)'!L65=\"\",\"\",IF('入力シート(記録会)'!L65=\"電気\",0,1)))","v":""}]
[{"$f":"IF('入力シート(記録会)'!$H66=\"\",\"\",\"4000006\")","v":""},{"$f":"IF('入力シート(記録会)'!$H66=\"\",\"\",IF('入力シート(記録会)'!$B66=\"男\",0,1))","v":""},{"$f":"IF('入力シート(記録会)'!$H66=\"\",\"\",'入力シート(記録会)'!C66)","v":""},{"$f":"IF('入力シート(記録会)'!$H66=\"\",\"\",TEXT('入力シート(記録会)'!$E66,\"000\"))","v":""},{"$f":"IF('入力シート(記録会)'!$H66=\"\",\"\",学校番号)","v":""},{"$f":"IF('入力シート(記録会)'!$H66=\"\",\"\",B56)","v":""},{"$f":"IF('入力シート(記録会)'!$H66=\"\",\"\",TEXT('入力シート(記録会)'!$H66,\"00\"))","v":""},null,null,{"$f":"IF('入力シート(記録会)'!$H66=\"\",\"\",IF('入力シート(記録会)'!K66=\"\",\"\",'入力シート(記録会)'!K66))","v":""},{"$nulls":3},{"$f":"IF('入力シート(記録会)'!$H66=\"\",\"\",IF('入力シート(記録会)'!L66=\"\",\"\",IF('入力シート(記録会)'!L66=\"電気\",0,1)))","v":""}]
[{"$f":"IF('入力シート(記録会)'!$H67=\"\",\"\",\"4000006\")","v":""},{"$f":"IF('入力シート(記録会)'!$H67=\"\",\"\",IF('入力シート(記録会)'!$B67=\"男\",0,1))","v":""},{"$f":"IF('入力シート(記録会)'!$H67=\"\",\"\",'入力シート(記録会)'!C67)","v":""},{"$f":"IF('入力シート(記録会)'!$H67=\"\",\"\",TEXT('入力シート(記録会)'!$E67,\"000\"))","v":""},{"$f":"IF('入力シート(記録会)'!$H67=\"\",\"\",学校番号)","v":""},{"$f":"IF('入力シート(記録会)'!$H67=\"\",\"\",B57)","v":""},{"$f":"IF('入力シート(記録会)'!$H67=\"\",\"\",TEXT('入力シート(記録会)'!$H67,\"00\"))","v":""},null,null,{"$f":"IF('入力シート(記録会)'!$H67=\"\",\"\",IF('入力シート(記録会)'!K67=\"\",\"\",'入力シート(記録会)'!K67))","v":""},{"$nulls":3},{"$f":"IF('入力シート(記録会)'!$H67=\"\",\"\",IF('入力シート(記録会)'!L67=\"\",\"\",IF('入力シート(記録会)'!L67=\"電気\",0,1)))","v":""}]
[{"$f":"IF('入力シート(記録会)'!$H68=\"\",\"\",\"4000006\")","v":""},{"$f":"IF('入力シート(記録会)'!$H68=\"\",\"\",IF('入力シート(記録会)'!$B68=\"男\",0,1))","v":""},{"$f":"IF('入力シート(記録会)'!$H68=\"\",\"\",'入力シート(記録会)'!C68)","v":""},{"$f":"IF('入力シート(記録会)'!$H68=\"\",\"\",TEXT('入力シート(記録会)'!$E68,\"000\"))","v":""},{"$f":"IF('入力シート(記録会)'!$H68=\"\",\"\",学校番号)","v":""},{"$f":"IF('入力シート(記録会)'!$H68=\"\",\"\",B58)","v":""},{"$f":"IF('入力シート(記録会)'!$H68=\"\",\"\",TEXT('入力シート(記録会)'!$H68,\"00\"))","v":""},null,null,{"$f":"IF('入力シート(記録会)'!$H68=\"\",\"\",IF('入力シート(記録会)'!K68=\"\",\"\",'入力シート(記録会)'!K68))","v":""},{"$nulls":3},{"$f":"IF('入力シート(記録会)'!$H68=\"\",\"\",IF('入力シート(記録会)'!L68=\"\",\"\",IF('入力シート(記録会)'!L68=\"電気\",0,1)))","v":""}]
[{"$f":"IF('入力シート(記録会)'!$H69=\"\",\"\",\"4000006\")","v":""},{"$f":"IF('入力シート(記録会)'!$H69=\"\",\"\",IF('入力シート(記録会)'!$B69=\"男\",0,1))","v":""},{"$f":"IF('入力シート(記録会)'!$H69=\"\",\"\",'入力シート(記録会)'!C69)","v":""},{"$f":"IF('入力シート(記録会)'!$H69=\"\",\"\",TEXT('入力シート(記録会)'!$E69,\"000\"))","v":""},{"$f":"IF('入力シート(記録会)'!$H69=\"\",\"\",学校番号)","v":""},{"$f":"IF('入力シート(記録会)'!$H69=\"\",\"\",B59)","v":""},{"$f":"IF('入力シート(記録会)'!$H69=\"\",\"\",TEXT('入力シート(記録会)'!$H69,\"00\"))","v":""},null,null,{"$f":"IF('入力シート(記録会)'!$H69=\"\",\"\",IF('入力シート(記録会)'!K69=\"\",\"\",'入力シート(記録会)'!K69))","v":""},{"$nulls":3},{"$f":"IF('入力シート(記録会)'!$H69=\"\",\"\",IF('入力シート(記録会)'!L69=\"\",\"\",IF('入力シート(記録会)'!L69=\"電気\",0,1)))","v":""}]
[{"$f":"IF('入力シート(記録会)'!$H70=\"\",\"\",\"4000006\")","v":""},{"$f":"IF('入力シート(記録会)'!$H70=\"\",\"\",IF('入力シート(記録会)'!$B70=\"男\",0,1))","v":""},{"$f":"IF('入力シート(記録会)'!$H70=\"\",\"\",'入力シート(記録会)'!C70)","v":""},{"$f":"IF('入力シート(記録会)'!$H70=\"\",\"\",TEXT('入力シート(記録会)'!$E70,\"000\"))","v":""},{"$f":"IF('入力シート(記録会)'!$H70=\"\",\"\",学校番号)","v":""},{"$f":"IF('入力シート(記録会)'!$H70=\"\",\"\",B60)","v":""},{"$f":"IF('入力シート(記録会)'!$H70=\"\",\"\",TEXT('入力シート(記録会)'!$H70,\"00\"))","v":""},null,null,{"$f":"IF('入力シート(記録会)'!$H70=\"\",\"\",IF('入力シート(記録会)'!K70=\"\",\"\",'入力シート(記録会)'!K70))","v":""},{"$nulls":3},{"$f":"IF('入力シート(記録会)'!$H70=\"\",\"\",IF('入力シート(記録会)'!L70=\"\",\"\",IF('入力シート(記録会)'!L70=\"電気\",0,1)))","v":""}]
[{"$f":"IF('入力シート(記録会)'!$H71=\"\",\"\",\"4000006\")","v":""},{"$f":"IF('入力シート(記録会)'!$H71=\"\",\"\",IF('入力シート(記録会)'!$B71=\"男\",0,1))","v":""},{"$f":"IF('入力シート(記録会)'!$H71=\"\",\"\",'入力シート(記録会)'!C71)","v":""},{"$f":"IF('入力シート(記録会)'!$H71=\"\",\"\",TEXT('入力シート(記録会)'!$E71,\"000\"))","v":""},{"$f":"IF('入力シート(記録会)'!$H71=\"\",\"\",学校番号)","v":""},{"$f":"IF('入力シート(記録会)'!$H71=\"\",\"\",B61)","v":""},{"$f":"IF('入力シート(記録会)'!$H71=\"\",\"\",TEXT('入力シート(記録会)'!$H71,\"00\"))","v":""},null,null,{"$f":"IF('入力シート(記録会)'!$H71=\"\",\"\",IF('入力シート(記録会)'!K71=\"\",\"\",'入力シート(記録会)'!K71))","v":""},{"$nulls":3},{"$f":"IF('入力シート(記録会)'!$H71=\"\",\"\",IF('入力シート(記録会)'!L71=\"\",\"\",IF('入力シート(記録会)'!L71=\"電気\",0,1)))","v":""}]
[{"$f":"IF('入力シート(記録会)'!$H72=\"\",\"\",\"4000006\")","v":""},{"$f":"IF('入力シート(記録会)'!$H72=\"\",\"\",IF('入力シート(記録会)'!$B72=\"男\",0,1))","v":""},{"$f":"IF('入力シート(記録会)'!$H72=\"\",\"\",'入力シート(記録会)'!C72)","v":""},{"$f":"IF('入力シート(記録会)'!$H72=\"\",\"\",TEXT('入力シート(記録会)'!$E72,\"000\"))","v":""},{"$f":"IF('入力シート(記録会)'!$H72=\"\",\"\",学校番号)","v":""},{"$f":"IF('入力シート(記録会)'!$H72=\"\",\"\",B62)","v":""},{"$f":"IF('入力シート(記録会)'!$H72=\"\",\"\",TEXT('入力シート(記録会)'!$H72,\"00\"))","v":""},null,null,{"$f":"IF('入力シート(記録会)'!$H72=\"\",\"\",IF('入力シート(記録会)'!K72=\"\",\"\",'入力シート(記録会)'!K72))","v":""},{"$nulls":3},{"$f":"IF('入力シート(記録会)'!$H72=\"\",\"\",IF('入力シート(記録会)'!L72=\"\",\"\",IF('入力シート(記録会)'!L72=\"電気\",0,1)))","v":""}]
[{"$f":"IF('入力シート(記録会)'!$H73=\"\",\"\",\"4000006\")","v":""},{"$f":"IF('入力シート(記録会)'!$H73=\"\",\"\",IF('入力シート(記録会)'!$B73=\"男\",0,1))","v":""},{"$f":"IF('入力シート(記録会)'!$H73=\"\",\"\",'入力シート(記録会)'!C73)","v":""},{"$f":"IF('入力シート(記録会)'!$H73=\"\",\"\",TEXT('入力シート(記録会)'!$E73,\"000\"))","v":""},{"$f":"IF('入力シート(記録会)'!$H73=\"\",\"\",学校番号)","v":""},{"$f":"IF('入力シート(記録会)'!$H73=\"\",\"\",B63)","v":""},{"$f":"IF('入力シート(記録会)'!$H73=\"\",\"\",TEXT('入力シート(記録会)'!$H73,\"00\"))","v":""},null,null,{"$f":"IF('入力シート(記録会)'!$H73=\"\",\"\",IF('入力シート(記録会)'!K73=\"\",\"\",'入力シート(記録会)'!K73))","v":""},{"$nulls":3},{"$f":"IF('入力シート(記録会)'!$H73=\"\",\"\",IF('入力シート(記録会)'!L73=\"\",\"\",IF('入力シート(記録会)'!L73=\"電気\",0,1)))","v":""}]
{"$rows_empty":36}
["大会コード","性別","学年","競技種目コード","学校コード","性別1","選手コード","エントリ記録","当日記録","順位","順番","条件項目","競技－１記録","競技－１得点","競技－１試技順番","競技－１組","競技－１条件項目","計測区分1","未記録区分１","最高記録１","公認最高記録１","三種最高記録１","最高条件項目１","公認最高条件項目１","三種最高条件項目１","競技－２記録","競技－２得点","競技－２試技順番","競技－２組","競技－２条件項目","計測区分２","未記録区分２","最高記録２","公認最高記録２","三種最高記録２","最高条件項目２","公認最高条件項目２","三種最高条件項目２","競技－３記録","競技－３得点","競技－３試技順番","競技－３組","競技－３条件項目","計測区分３","未記録区分３","最高記録３","公認最高記録３","三種最高記録３","最高条件項目３","公認最高条件項目３","三種最高条件項目３","競技－４記録","競技－４得点","競技－４試技順番","競技－４組","競技－４条件項目","計測区分４","未記録区分４","最高記録４","公認最高記録４","三種最高記録４","最高条件項目４","公認最高条件項目４","三種最高条件項目４","競技－５記録","競技－５得点","競技－５試技順番","競技－５組","競技－５条件項目","大会順位","公認記録"]
[{"$f":"IF('入力シート(記録会)'!$H34=\"\",\"\",\"4000006\")","v":""},{"$f":"IF('入力シート(記録会)'!$H34=\"\",\"\",IF('入力シート(記録会)'!$B34=\"男\",0,1))","v":""},{"$f":"IF('入力シート(記録会)'!$H34=\"\",\"\",'入力シート(記録会)'!C34)","v":""},{"$f":"IF('入力シート(記録会)'!$H34=\"\",\"\",TEXT('入力シート(記録会)'!$E34,\"000\"))","v":""},{"$f":"IF('入力シート(記録会)'!$H34=\"\",\"\",学校番号)","v":""},{"$f":"IF('入力シート(記録会)'!$H34=\"\",\"\",B101)","v":""},{"$f":"IF('入力シート(記録会)'!$H34=\"\",\"\",TEXT('入力シート(記録会)'!$H34,\"00\"))","v":""},{"$f":"IF('入力シート(記録会)'!$H34=\"\",\"\",IF('入力シート(記録会)'!$K34=\"\",\"\",'入力シート(記録会)'!$K34))","v":""},{"$nulls":4},{"$f":"IF('入力シート(記録会)'!$H34=\"\",\"\",IF('入力シート(記録会)'!$K39=\"\",\"\",'入力シート(記録会)'!$K39))","v":""},{"$nulls":12},{"$f":"IF('入力シート(記録会)'!$H34=\"\",\"\",IF('入力シート(記録会)'!$K40=\"\",\"\",'入力シート(記録会)'!$K40))","v":""},{"$nulls":12},{"$f":"IF('入力シート(記録会)'!$H34=\"\",\"\",IF('入力シート(記録会)'!$K41=\"\",\"\",'入力シート(記録会)'!$K41))","v":""},{"$nulls":12},{"$f":"IF('入力シート(記録会)'!$H34=\"\",\"\",IF('入力シート(記録会)'!$K42=\"\",\"\",'入力シート(記録会)'!$K42))","v":""}]
[{"$f":"IF('入力シート(記録会)'!$H39=\"\",\"\",\"4000006\")","v":""},{"$f":"IF('入力シート(記録会)'!$H39=\"\",\"\",IF('入力シート(記録会)'!$B39=\"男\",0,1))","v":""},{"$f":"IF('入力シート(記録会)'!$H39=\"\",\"\",'入力シート(記録会)'!C39)","v":""},{"$f":"IF('入力シート(記録会)'!$H39=\"\",\"\",TEXT('入力シート(記録会)'!$E39,\"000\"))","v":""},{"$f":"IF('入力シート(記録会)'!$H39=\"\",\"\",学校番号)","v":""},{"$f":"IF('入力シート(記録会)'!$H39=\"\",\"\",B102)","v":""},{"$f":"IF('入力シート(記録会)'!$H39=\"\",\"\",TEXT('入力シート(記録会)'!$H39,\"00\"))","v":""},{"$f":"IF('入力シート(記録会)'!$H39=\"\",\"\",IF('入力シート(記録会)'!$K39=\"\",\"\",'入力シート(記録会)'!$K39))","v":""},{"$nulls":4},{"$f":"IF('入力シート(記録会)'!$H39=\"\",\"\",IF('入力シート(記録会)'!$K44=\"\",\"\",'入力シート(記録会)'!$K44))","v":""},{"$nulls":12},{"$f":"IF('入力シート(記録会)'!$H39=\"\",\"\",IF('入力シート(記録会)'!$K45=\"\",\"\",'入力シート(記録会)'!$K45))","v":""},{"$nulls":12},{"$f":"IF('入力シート(記録会)'!$H39=\"\",\"\",IF('入力シート(記録会)'!$K46=\"\",\"\",'入力シート(記録会)'!$K46))","v":""},{"$nulls":12},{"$f":"IF('入力シート(記録会)'!$H39=\"\",\"\",IF('入力シート(記録会)'!$K47=\"\",\"\",'入力シート(記録会)'!$K47))","v":""}]
[{"$f":"IF('入力シート(記録会)'!$H74=\"\",\"\",\"4000006\")","v":""},{"$f":"IF('入力シート(記録会)'!$H74=\"\",\"\",IF('入力シート(記録会)'!$B74=\"男\",0,1))","v":""},{"$f":"IF('入力シート(記録会)'!$H74=\"\",\"\",'入力シート(記録会)'!C74)","v":""},{"$f":"IF('入力シート(記録会)'!$H74=\"\",\"\",TEXT('入力シート(記録会)'!$E74,\"000\"))","v":""},{"$f":"IF('入力シート(記録会)'!$H74=\"\",\"\",学校番号)","v":""},{"$f":"IF('入力シート(記録会)'!$H74=\"\",\"\",B103)","v":""},{"$f":"IF('入力シート(記録会)'!$H74=\"\",\"\",TEXT('入力シート(記録会)'!$H74,\"00\"))","v":""},{"$f":"IF('入力シート(記録会)'!$H74=\"\",\"\",IF('入力シート(記録会)'!$K74=\"\",\"\",'入力シート(記録会)'!$K74))","v":""},{"$nulls":4},{"$f":"IF('入力シート(記録会)'!$H74=\"\",\"\",IF('入力シート(記録会)'!$K77=\"\",\"\",'入力シート(記録会)'!$K77))","v":""},{"$nulls":12},{"$f":"IF('入力シート(記録会)'!$H74=\"\",\"\",IF('入力シート(記録会)'!$K78=\"\",\"\",'入力シート(記録会)'!$K78))","v":""},{"$nulls":12},{"$f":"IF('入力シート(記録会)'!$H74=\"\",\"\",IF('入力シート(記録会)'!$K79=\"\",\"\",'入力シート(記録会)'!$K79))","v":""},{"$nulls":12},{"$f":"IF('入力シート(記録会)'!$H74=\"\",\"\",IF('入力シート(記録会)'!$K80=\"\",\"\",'入力シート(記録会)'!$K80))","v":""}]
[{"$f":"IF('入力シート(記録会)'!$H79=\"\",\"\",\"4000006\")","v":""},{"$f":"IF('入力シート(記録会)'!$H79=\"\",\"\",IF('入力シート(記録会)'!$B79=\"男\",0,1))","v":""},{"$f":"IF('入力シート(記録会)'!$H79=\"\",\"\",'入力シート(記録会)'!C79)","v":""},{"$f":"IF('入力シート(記録会)'!$H79=\"\",\"\",TEXT('入力シート(記録会)'!$E79,\"000\"))","v":""},{"$f":"IF('入力シート(記録会)'!$H79=\"\",\"\",学校番号)","v":""},{"$f":"IF('入力シート(記録会)'!$H79=\"\",\"\",B104)","v":""},{"$f":"IF('入力シート(記録会)'!$H79=\"\",\"\",TEXT('入力シート(記録会)'!$H79,\"00\"))","v":""},{"$f":"IF('入力シート(記録会)'!$H79=\"\",\"\",IF('入力シート(記録会)'!$K79=\"\",\"\",'入力シート(記録会)'!$K79))","v":""},{"$nulls":4},{"$f":"IF('入力シート(記録会)'!$H79=\"\",\"\",IF('入力シート(記録会)'!$K82=\"\",\"\",'入力シート(記録会)'!$K82))","v":""},{"$nulls":12},{"$f":"IF('入力シート(記録会)'!$H79=\"\",\"\",IF('入力シート(記録会)'!$K83=\"\",\"\",'入力シート(記録会)'!$K83))","v":""},{"$nulls":12},{"$f":"IF('入力シート(記録会)'!$H79=\"\",\"\",IF('入力シート(記録会)'!$K84=\"\",\"\",'入力シート(記録会)'!$K84))","v":""},{"$nulls":12},{"$f":"IF('入力シート(記録会)'!$H79=\"\",\"\",IF('入力シート(記録会)'!$K85=\"\",\"\",'入力シート(記録会)'!$K85))","v":""}]
{"$rows_empty":25}
["大会コード","性別","学年","競技種目コード","組","レーン","学校コード","エントリ記録","当日記録","順位","条件項目","選手コード１","出場区分１","選手コード２","出場区分２","選手コード３","出場区分３","選手コード４","出場区分４","選手コード５","出場区分５","選手コード６","出場区分６","計測区分","未記録区分","大会順位"]
{"$rows_empty":81}
[{"$f":"IF('入力シート(記録会)'!$H272=\"\",\"\",\"4000006\")","v":""},{"$f":"IF('入力シート(記録会)'!$H272=\"\",\"\",IF('入力シート(記録会)'!$B272=\"男\",0,1))","v":""},{"$f":"IF('入力シート(記録会)'!$H272=\"\",\"\",'入力シート(記録会)'!C272)","v":""},{"$f":"IF('入力シート(記録会)'!$H272=\"\",\"\",'入力シート(記録会)'!$E272)","v":""},{"$f":"IF('入力シート(記録会)'!$H272=\"\",\"\",学校番号)","v":""},{"$f":"IF('入力シート(記録会)'!$H272=\"\",\"\",B212)","v":""},{"$f":"IF('入力シート(記録会)'!$H272=\"\",\"\",'入力シート(記録会)'!H272)","v":""},null,null,{"$f":"IF('入力シート(記録会)'!$H272=\"\",\"\",IF('入力シート(記録会)'!K272=\"\",\"\",'入力シート(記録会)'!K272))","v":""}]
[{"$f":"IF('入力シート(記録会)'!$H273=\"\",\"\",\"4000006\")","v":""},{"$f":"IF('入力シート(記録会)'!$H273=\"\",\"\",IF('入力シート(記録会)'!$B273=\"男\",0,1))","v":""},{"$f":"IF('入力シート(記録会)'!$H273=\"\",\"\",'入力シート(記録会)'!C273)","v":""},{"$f":"IF('入力シート(記録会)'!$H273=\"\",\"\",'入力シート(記録会)'!$E273)","v":""},{"$f":"IF('入力シート(記録会)'!$H273=\"\",\"\",学校番号)","v":""},{"$f":"IF('入力シート(記録会)'!$H273=\"\",\"\",B213)","v":""},{"$f":"IF('入力シート(記録会)'!$H273=\"\",\"\",'入力シート(記録会)'!H273)","v":""},null,null,{"$f":"IF('入力シート(記録会)'!$H273=\"\",\"\",IF('入力シート(記録会)'!K273=\"\",\"\",'入力シート(記録会)'!K273))","v":""}]
[{"$f":"IF('入力シート(記録会)'!$H274=\"\",\"\",\"4000006\")","v":""},{"$f":"IF('入力シート(記録会)'!$H274=\"\",\"\",IF('入力シート(記録会)'!$B274=\"男\",0,1))","v":""},{"$f":"IF('入力シート(記録会)'!$H274=\"\",\"\",'入力シート(記録会)'!C274)","v":""},{"$f":"IF('入力シート(記録会)'!$H274=\"\",\"\",'入力シート(記録会)'!$E274)","v":""},{"$f":"IF('入力シート(記録会)'!$H274=\"\",\"\",学校番号)","v":""},{"$f":"IF('入力シート(記録会)'!$H274=\"\",\"\",B214)","v":""},{"$f":"IF('入力シート(記録会)'!$H274=\"\",\"\",'入力シート(記録会)'!H274)","v":""},null,null,{"$f":"IF('入力シート(記録会)'!$H274=\"\",\"\",IF('入力シート(記録会)'!K274=\"\",\"\",'入力シート(記録会)'!K274))","v":""}]
[{"$f":"IF('入力シート(記録会)'!$H275=\"\",\"\",\"4000006\")","v":""},{"$f":"IF('入力シート(記録会)'!$H275=\"\",\"\",IF('入力シート(記録会)'!$B275=\"男\",0,1))","v":""},{"$f":"IF('入力シート(記録会)'!$H275=\"\",\"\",'入力シート(記録会)'!C275)","v":""},{"$f":"IF('入力シート(記録会)'!$H275=\"\",\"\",'入力シート(記録会)'!$E275)","v":""},{"$f":"IF('入力シート(記録会)'!$H275=\"\",\"\",学校番号)","v":""},{"$f":"IF('入力シート(記録会)'!$H275=\"\",\"\",B215)","v":""},{"$f":"IF('入力シート(記録会)'!$H275=\"\",\"\",'入力シート(記録会)'!H275)","v":""},null,null,{"$f":"IF('入力シート(記録会)'!$H275=\"\",\"\",IF('入力シート(記録会)'!K275=\"\",\"\",'入力シート(記録会)'!K275))","v":""}]
[{"$f":"IF('入力シート(記録会)'!$H276=\"\",\"\",\"4000006\")","v":""},{"$f":"IF('入力シート(記録会)'!$H276=\"\",\"\",IF('入力シート(記録会)'!$B276=\"男\",0,1))","v":""},{"$f":"IF('入力シート(記録会)'!$H276=\"\",\"\",'入力シート(記録会)'!C276)","v":""},{"$f":"IF('入力シート(記録会)'!$H276=\"\",\"\",'入力シート(記録会)'!$E276)","v":""},{"$f":"IF('入力シート(記録会)'!$H276=\"\",\"\",学校番号)","v":""},{"$f":"IF('入力シート(記録会)'!$H276=\"\",\"\",B216)","v":""},{"$f":"IF('入力シート(記録会)'!$H276=\"\",\"\",'入力シート(記録会)'!H276)","v":""},null,null,{"$f":"IF('入力シート(記録会)'!$H276=\"\",\"\",IF('入力シート(記録会)'!K276=\"\",\"\",'入力シート(記録会)'!K276))","v":""}]
[{"$f":"IF('入力シート(記録会)'!$H277=\"\",\"\",\"4000006\")","v":""},{"$f":"IF('入力シート(記録会)'!$H277=\"\",\"\",IF('入力シート(記録会)'!$B277=\"男\",0,1))","v":""},{"$f":"IF('入力シート(記録会)'!$H277=\"\",\"\",'入力シート(記録会)'!C277)","v":""},{"$f":"IF('入力シート(記録会)'!$H277=\"\",\"\",'入力シート(記録会)'!$E277)","v":""},{"$f":"IF('入力シート(記録会)'!$H277=\"\",\"\",学校番号)","v":""},{"$f":"IF('入力シート(記録会)'!$H277=\"\",\"\",B217)","v":""},{"$f":"IF('入力シート(記録会)'!$H277=\"\",\"\",'入力シート(記録会)'!H277)","v":""},null,null,{"$f":"IF('入力シート(記録会)'!$H277=\"\",\"\",IF('入力シート(記録会)'!K277=\"\",\"\",'入力シート(記録会)'!K277))","v":""}]
[{"$f":"IF('入力シート(記録会)'!$H278=\"\",\"\",\"4000006\")","v":""},{"$f":"IF('入力シート(記録会)'!$H278=\"\",\"\",IF('入力シート(記録会)'!$B278=\"男\",0,1))","v":""},{"$f":"IF('入力シート(記録会)'!$H278=\"\",\"\",'入力シート(記録会)'!C278)","v":""},{"$f":"IF('入力シート(記録会)'!$H278=\"\",\"\",'入力シート(記録会)'!$E278)","v":""},{"$f":"IF('入力シート(記録会)'!$H278=\"\",\"\",学校番号)","v":""},{"$f":"IF('入力シート(記録会)'!$H278=\"\",\"\",B218)","v":""},{"$f":"IF('入力シート(記録会)'!$H278=\"\",\"\",'入力シート(記録会)'!H278)","v":""},null,null,{"$f":"IF('入力シート(記録会)'!$H278=\"\",\"\",IF('入力シート(記録会)'!K278=\"\",\"\",'入力シート(記録会)'!K278))","v":""}]
[{"$f":"IF('入力シート(記録会)'!$H279=\"\",\"\",\"4000006\")","v":""},{"$f":"IF('入力シート(記録会)'!$H279=\"\",\"\",IF('入力シート(記録会)'!$B279=\"男\",0,1))","v":""},{"$f":"IF('入力シート(記録会)'!$H279=\"\",\"\",'入力シート(記録会)'!C279)","v":""},{"$f":"IF('入力シート(記録会)'!$H279=\"\",\"\",'入力シート(記録会)'!$E279)","v":""},{"$f":"IF('入力シート(記録会)'!$H279=\"\",\"\",学校番号)","v":""},{"$f":"IF('入力シート(記録会)'!$H279=\"\",\"\",B219)","v":""},{"$f":"IF('入力シート(記録会)'!$H279=\"\",\"\",'入力シート(記録会)'!H279)","v":""},null,null,{"$f":"IF('入力シート(記録会)'!$H279=\"\",\"\",IF('入力シート(記録会)'!K279=\"\",\"\",'入力シート(記録会)'!K279))","v":""}]
[{"$f":"IF('入力シート(記録会)'!$H280=\"\",\"\",\"4000006\")","v":""},{"$f":"IF('入力シート(記録会)'!$H280=\"\",\"\",IF('入力シート(記録会)'!$B280=\"男\",0,1))","v":""},{"$f":"IF('入力シート(記録会)'!$H280=\"\",\"\",'入力シート(記録会)'!C280)","v":""},{"$f":"IF('入力シート(記録会)'!$H280=\"\",\"\",'入力シート(記録会)'!$E280)","v":""},{"$f":"IF('入力シート(記録会)'!$H280=\"\",\"\",学校番号)","v":""},{"$f":"IF('入力シート(記録会)'!$H280=\"\",\"\",B220)","v":""},{"$f":"IF('入力シート(記録会)'!$H280=\"\",\"\",'入力シート(記録会)'!H280)","v":""},null,null,{"$f":"IF('入力シート(記録会)'!$H280=\"\",\"\",IF('入力シート(記録会)'!K280=\"\",\"\",'入力シート(記録会)'!K280))","v":""}]
[{"$f":"IF('入力シート(記録会)'!$H281=\"\",\"\",\"4000006\")","v":""},{"$f":"IF('入力シート(記録会)'!$H281=\"\",\"\",IF('入力シート(記録会)'!$B281=\"男\",0,1))","v":""},{"$f":"IF('入力シート(記録会)'!$H281=\"\",\"\",'入力シート(記録会)'!C281)","v":""},{"$f":"IF('入力シート(記録会)'!$H281=\"\",\"\",'入力シート(記録会)'!$E281)","v":""},{"$f":"IF('入力シート(記録会)'!$H281=\"\",\"\",学校番号)","v":""},{"$f":"IF('入力シート(記録会)'!$H281=\"\",\"\",B221)","v":""},{"$f":"IF('入力シート(記録会)'!$H281=\"\",\"\",'入力シート(記録会)'!H281)","v":""},null,null,{"$f":"IF('入力シート(記録会)'!$H281=\"\",\"\",IF('入力シート(記録会)'!K281=\"\",\"\",'入力シート(記録会)'!K281))","v":""}]
[{"$f":"IF('入力シート(記録会)'!$H282=\"\",\"\",\"4000006\")","v":""},{"$f":"IF('入力シート(記録会)'!$H282=\"\",\"\",IF('入力シート(記録会)'!$B282=\"男\",0,1))","v":""},{"$f":"IF('入力シート(記録会)'!$H282=\"\",\"\",'入力シート(記録会)'!C282)","v":""},{"$f":"IF('入力シート(記録会)'!$H282=\"\",\"\",'入力シート(記録会)'!$E282)","v":""},{"$f":"IF('入力シート(記録会)'!$H282=\"\",\"\",学校番号)","v":""},{"$f":"IF('入力シート(記録会)'!$H282=\"\",\"\",B222)","v":""},{"$f":"IF('入力シート(記録会)'!$H282=\"\",\"\",'入力シート(記録会)'!H282)","v":""},null,null,{"$f":"IF('入力シート(記録会)'!$H282=\"\",\"\",IF('入力シート(記録会)'!K282=\"\",\"\",'入力シート(記録会)'!K282))","v":""}]
[{"$f":"IF('入力シート(記録会)'!$H283=\"\",\"\",\"4000006\")","v":""},{"$f":"IF('入力シート(記録会)'!$H283=\"\",\"\",IF('入力シート(記録会)'!$B283=\"男\",0,1))","v":""},{"$f":"IF('入力シート(記録会)'!$H283=\"\",\"\",'入力シート(記録会)'!C283)","v":""},{"$f":"IF('入力シート(記録会)'!$H283=\"\",\"\",'入力シート(記録会)'!$E283)","v":""},{"$f":"IF('入力シート(記録会)'!$H283=\"\",\"\",学校番号)","v":""},{"$f":"IF('入力シート(記録会)'!$H283=\"\",\"\",B223)","v":""},{"$f":"IF('入力シート(記録会)'!$H283=\"\",\"\",'入力シート(記録会)'!H283)","v":""},null,null,{"$f":"IF('入力シート(記録会)'!$H283=\"\",\"\",IF('入力シート(記録会)'!K283=\"\",\"\",'入力シート(記録会)'!K283))","v":""}]
[{"$f":"IF('入力シート(記録会)'!$H284=\"\",\"\",\"4000006\")","v":""},{"$f":"IF('入力シート(記録会)'!$H284=\"\",\"\",IF('入力シート(記録会)'!$B284=\"男\",0,1))","v":""},{"$f":"IF('入力シート(記録会)'!$H284=\"\",\"\",'入力シート(記録会)'!C284)","v":""},{"$f":"IF('入力シート(記録会)'!$H284=\"\",\"\",'入力シート(記録会)'!$E284)","v":""},{"$f":"IF('入力シート(記録会)'!$H284=\"\",\"\",学校番号)","v":""},{"$f":"IF('入力シート(記録会)'!$H284=\"\",\"\",B224)","v":""},{"$f":"IF('入力シート(記録会)'!$H284=\"\",\"\",'入力シート(記録会)'!H284)","v":""},null,null,{"$f":"IF('入力シート(記録会)'!$H284=\"\",\"\",IF('入力シート(記録会)'!K284=\"\",\"\",'入力シート(記録会)'!K284))","v":""}]
[{"$f":"IF('入力シート(記録会)'!$H285=\"\",\"\",\"4000006\")","v":""},{"$f":"IF('入力シート(記録会)'!$H285=\"\",\"\",IF('入力シート(記録会)'!$B285=\"男\",0,1))","v":""},{"$f":"IF('入力シート(記録会)'!$H285=\"\",\"\",'入力シート(記録会)'!C285)","v":""},{"$f":"IF('入力シート(記録会)'!$H285=\"\",\"\",'入力シート(記録会)'!$E285)","v":""},{"$f":"IF('入力シート(記録会)'!$H285=\"\",\"\",学校番号)","v":""},{"$f":"IF('入力シート(記録会)'!$H285=\"\",\"\",B225)","v":""},{"$f":"IF('入力シート(記録会)'!$H285=\"\",\"\",'入力シート(記録会)'!H285)","v":""},null,null,{"$f":"IF('入力シート(記録会)'!$H285=\"\",\"\",IF('入力シート(記録会)'!K285=\"\",\"\",'入力シート(記録会)'!K285))","v":""}]
[{"$f":"IF('入力シート(記録会)'!$H286=\"\",\"\",\"4000006\")","v":""},{"$f":"IF('入力シート(記録会)'!$H286=\"\",\"\",IF('入力シート(記録会)'!$B286=\"男\",0,1))","v":""},{"$f":"IF('入力シート(記録会)'!$H286=\"\",\"\",'入力シート(記録会)'!C286)","v":""},{"$f":"IF('入力シート(記録会)'!$H286=\"\",\"\",'入力シート(記録会)'!$E286)","v":""},{"$f":"IF('入力シート(記録会)'!$H286=\"\",\"\",学校番号)","v":""},{"$f":"IF('入力シート(記録会)'!$H286=\"\",\"\",B226)","v":""},{"$f":"IF('入力シート(記録会)'!$H286=\"\",\"\",'入力シート(記録会)'!H286)","v":""},null,null,{"$f":"IF('入力シート(記録会)'!$H286=\"\",\"\",IF('入力シート(記録会)'!K286=\"\",\"\",'入力シート(記録会)'!K286))","v":""}]
[{"$f":"IF('入力シート(記録会)'!$H287=\"\",\"\",\"4000006\")","v":""},{"$f":"IF('入力シート(記録会)'!$H287=\"\",\"\",IF('入力シート(記録会)'!$B287=\"男\",0,1))","v":""},{"$f":"IF('入力シート(記録会)'!$H287=\"\",\"\",'入力シート(記録会)'!C287)","v":""},{"$f":"IF('入力シート(記録会)'!$H287=\"\",\"\",'入力シート(記録会)'!$E287)","v":""},{"$f":"IF('入力シート(記録会)'!$H287=\"\",\"\",学校番号)","v":""},{"$f":"IF('入力シート(記録会)'!$H287=\"\",\"\",B227)","v":""},{"$f":"IF('入力シート(記録会)'!$H287=\"\",\"\",'入力シート(記録会)'!H287)","v":""},null,null,{"$f":"IF('入力シート(記録会)'!$H287=\"\",\"\",IF('入力シート(記録会)'!K287=\"\",\"\",'入力シート(記録会)'!K287))","v":""}]
[{"$f":"IF('入力シート(記録会)'!$H288=\"\",\"\",\"4000006\")","v":""},{"$f":"IF('入力シート(記録会)'!$H288=\"\",\"\",IF('入力シート(記録会)'!$B288=\"男\",0,1))","v":""},{"$f":"IF('入力シート(記録会)'!$H288=\"\",\"\",'入力シート(記録会)'!C288)","v":""},{"$f":"IF('入力シート(記録会)'!$H288=\"\",\"\",'入力シート(記録会)'!$E288)","v":""},{"$f":"IF('入力シート(記録会)'!$H288=\"\",\"\",学校番号)","v":""},{"$f":"IF('入力シート(記録会)'!$H288=\"\",\"\",B228)","v":""},{"$f":"IF('入力シート(記録会)'!$H288=\"\",\"\",'入力シート(記録会)'!H288)","v":""},null,null,{"$f":"IF('入力シート(記録会)'!$H288=\"\",\"\",IF('入力シート(記録会)'!K288=\"\",\"\",'入力シート(記録会)'!K288))","v":""}]
[{"$f":"IF('入力シート(記録会)'!$H289=\"\",\"\",\"4000006\")","v":""},{"$f":"IF('入力シート(記録会)'!$H289=\"\",\"\",IF('入力シート(記録会)'!$B289=\"男\",0,1))","v":""},{"$f":"IF('入力シート(記録会)'!$H289=\"\",\"\",'入力シート(記録会)'!C289)","v":""},{"$f":"IF('入力シート(記録会)'!$H289=\"\",\"\",'入力シート(記録会)'!$E289)","v":""},{"$f":"IF('入力シート(記録会)'!$H289=\"\",\"\",学校番号)","v":""},{"$f":"IF('入力シート(記録会)'!$H289=\"\",\"\",B229)","v":""},{"$f":"IF('入力シート(記録会)'!$H289=\"\",\"\",'入力シート(記録会)'!H289)","v":""},null,null,{"$f":"IF('入力シート(記録会)'!$H289=\"\",\"\",IF('入力シート(記録会)'!K289=\"\",\"\",'入力シート(記録会)'!K289))","v":""}]
[{"$f":"IF('入力シート(記録会)'!$H290=\"\",\"\",\"4000006\")","v":""},{"$f":"IF('入力シート(記録会)'!$H290=\"\",\"\",IF('入力シート(記録会)'!$B290=\"男\",0,1))","v":""},{"$f":"IF('入力シート(記録会)'!$H290=\"\",\"\",'入力シート(記録会)'!C290)","v":""},{"$f":"IF('入力シート(記録会)'!$H290=\"\",\"\",'入力シート(記録会)'!$E290)","v":""},{"$f":"IF('入力シート(記録会)'!$H290=\"\",\"\",学校番号)","v":""},{"$f":"IF('入力シート(記録会)'!$H290=\"\",\"\",B230)","v":""},{"$f":"IF('入力シート(記録会)'!$H290=\"\",\"\",'入力シート(記録会)'!H290)","v":""},null,null,{"$f":"IF('入力シート(記録会)'!$H290=\"\",\"\",IF('入力シート(記録会)'!K290=\"\",\"\",'入力シート(記録会)'!K290))","v":""}]
[{"$f":"IF('入力シート(記録会)'!$H291=\"\",\"\",\"4000006\")","v":""},{"$f":"IF('入力シート(記録会)'!$H291=\"\",\"\",IF('入力シート(記録会)'!$B291=\"男\",0,1))","v":""},{"$f":"IF('入力シート(記録会)'!$H291=\"\",\"\",'入力シート(記録会)'!C291)","v":""},{"$f":"IF('入力シート(記録会)'!$H291=\"\",\"\",'入力シート(記録会)'!$E291)","v":""},{"$f":"IF('入力シート(記録会)'!$H291=\"\",\"\",学校番号)","v":""},{"$f":"IF('入力シート(記録会)'!$H291=\"\",\"\",B231)","v":""},{"$f":"IF('入力シート(記録会)'!$H291=\"\",\"\",'入力シート(記録会)'!H291)","v":""},null,null,{"$f":"IF('入力シート(記録会)'!$H291=\"\",\"\",IF('入力シート(記録会)'!K291=\"\",\"\",'入力シート(記録会)'!K291))","v":""}]
[{"$f":"IF('入力シート(記録会)'!$H292=\"\",\"\",\"4000006\")","v":""},{"$f":"IF('入力シート(記録会)'!$H292=\"\",\"\",IF('入力シート(記録会)'!$B292=\"男\",0,1))","v":""},{"$f":"IF('入力シート(記録会)'!$H292=\"\",\"\",'入力シート(記録会)'!C292)","v":""},{"$f":"IF('入力シート(記録会)'!$H292=\"\",\"\",'入力シート(記録会)'!$E292)","v":""},{"$f":"IF('入力シート(記録会)'!$H292=\"\",\"\",学校番号)","v":""},{"$f":"IF('入力シート(記録会)'!$H292=\"\",\"\",B232)","v":""},{"$f":"IF('入力シート(記録会)'!$H292=\"\",\"\",'入力シート(記録会)'!H292)","v":""},null,null,{"$f":"IF('入力シート(記録会)'!$H292=\"\",\"\",IF('入力シート(記録会)'!K292=\"\",\"\",'入力シート(記録会)'!K292))","v":""}]
[{"$f":"IF('入力シート(記録会)'!$H293=\"\",\"\",\"4000006\")","v":""},{"$f":"IF('入力シート(記録会)'!$H293=\"\",\"\",IF('入力シート(記録会)'!$B293=\"男\",0,1))","v":""},{"$f":"IF('入力シート(記録会)'!$H293=\"\",\"\",'入力シート(記録会)'!C293)","v":""},{"$f":"IF('入力シート(記録会)'!$H293=\"\",\"\",'入力シート(記録会)'!$E293)","v":""},{"$f":"IF('入力シート(記録会)'!$H293=\"\",\"\",学校番号)","v":""},{"$f":"IF('入力シート(記録会)'!$H293=\"\",\"\",B233)","v":""},{"$f":"IF('入力シート(記録会)'!$H293=\"\",\"\",'入力シート(記録会)'!H293)","v":""},null,null,{"$f":"IF('入力シート(記録会)'!$H293=\"\",\"\",IF('入力シート(記録会)'!K293=\"\",\"\",'入力シート(記録会)'!K293))","v":""}]

{"sheet":"入力シート(新人)","index":10,"n_rows":85,"n_cols":20,"rows_kept":85,"hidden":true,"merged":[[1,0,46,0],[20,10,24,12],[38,3,41,7],[38,8,38,9],[38,12,41,12],[39,8,39,9],[40,8,40,9],[41,8,41,9],[43,3,46,7],[43,8,43,9],[43,12,46,12],[44,8,44,9],[45,8,45,9],[46,8,46,9],[47,0,84,0],[62,10,66,12],[76,3,79,7],[76,8,76,9],[76,12,79,12],[77,8,77,9],[78,8,78,9],[79,8,79,9],[81,3,84,7],[81,8,81,9],[81,12,84,12],[82,8,82,9],[83,8,83,9],[84,8,84,9]]}
["性別","性別","種別コード","種別","種目コード","種目","学校番号","個人番号","氏名","学年","申込記録","計測区分","大会名"]
["男子","男",1,{"$f":"VLOOKUP(C2,出場種別,2,FALSE)","v":"１年"},"001",{"$f":"VLOOKUP(E2,種目コード,2,FALSE)","v":"１００ｍ"},{"$f":"学校番号","v":0},null,{"$f":"IF(H2=\"\",\"\",VLOOKUP(P2,部員データ,3,FALSE)&\"　\"&VLOOKUP(P2,部員データ,4,FALSE))","v":""},{"$f":"IF(H2=\"\",\"\",VLOOKUP(P2,部員データ,2,FALSE))","v":""},{"$nulls":5},{"$f":"IF(H2=\"\",\"\",B2&DBCS(TEXT(H2,\"００\")))","v":""},{"$f":"COUNTIF($P$2:$P$19,P2)+COUNTIF($P$26:$P$47,P2)","v":40},{"$f":"IF(VLOOKUP(E2,男子標準記録,C2+3,FALSE)=\"\",\"\",VLOOKUP(E2,男子標準記録,C2+3,FALSE))","v":""},{"$f":"VLOOKUP(E2,種目コード,4,FALSE)","v":10},{"$f":"IF(FIND(\".\",TEXT(K2,\"#.00\"))>3,MID(TEXT(K2,\"#.00\"),FIND(\".\",TEXT(K2,\"#.00\"))-2,2)/1,\"\")","v":""}]
[null,"男",1,"１年","001","１００ｍ",0,null,{"$f":"IF(H3=\"\",\"\",VLOOKUP(P3,部員データ,3,FALSE)&\"　\"&VLOOKUP(P3,部員データ,4,FALSE))","v":""},"",{"$nulls":5},"",{"$f":"COUNTIF($P$2:$P$19,P3)+COUNTIF($P$26:$P$47,P3)","v":40},"",10,{"$f":"IF(FIND(\".\",TEXT(K3,\"#.00\"))>3,MID(TEXT(K3,\"#.00\"),FIND(\".\",TEXT(K3,\"#.00\"))-2,2)/1,\"\")","v":""}]
[null,"男",1,"１年","015","１５００ｍ",0,null,{"$f":"IF(H4=\"\",\"\",VLOOKUP(P4,部員データ,3,FALSE)&\"　\"&VLOOKUP(P4,部員データ,4,FALSE))","v":""},"",{"$nulls":5},"",40,"",340,""]
[null,"男",1,"１年","015","１５００ｍ",0,null,"","",{"$nulls":5},"",40,"",340,""]
[null,"男",2,"２年","001","１００ｍ",0,null,"","",{"$nulls":5},"",40,"",10,""]
[null,"男",2,"２年","001","１００ｍ",0,null,"","",{"$nulls":5},"",40,"",10,""]
[null,"男",2,"２年","015","１５００ｍ",0,null,"","",{"$nulls":5},"",40,"",340,""]
[null,"男",2,"２年","015","１５００ｍ",0,null,"","",{"$nulls":5},"",40,"",340,""]
[null,"男",0,"共通","002","２００ｍ",0,null,"","",{"$nulls":5},"",40,"",20.5,""]
[null,"男",0,"共通","002","２００ｍ",0,null,"","",{"$nulls":5},"",40,"",20.5,""]
[null,"男",0,"共通","004","４００ｍ",0,null,"","",{"$nulls":5},"",40,"",42,""]
[null,"男",0,"共通","004","４００ｍ",0,null,"","",{"$nulls":5},"",40,"",42,""]
[null,"男",0,"共通","008","８００ｍ",0,null,"","",{"$nulls":5},"",40,"",150,""]
[null,"男",0,"共通","008","８００ｍ",0,null,"","",{"$nulls":5},"",40,"",150,""]
[null,"男",0,{"$f":"VLOOKUP(C16,出場種別,2,FALSE)","v":"共通"},"030",{"$f":"VLOOKUP(E16,種目コード,2,FALSE)","v":"３０００ｍ"},0,null,{"$f":"IF(H16=\"\",\"\",VLOOKUP(P16,部員データ,3,FALSE)&\"　\"&VLOOKUP(P16,部員データ,4,FALSE))","v":""},{"$f":"IF(H16=\"\",\"\",VLOOKUP(P16,部員データ,2,FALSE))","v":""},{"$nulls":5},{"$f":"IF(H16=\"\",\"\",B16&DBCS(TEXT(H16,\"００\")))","v":""},{"$f":"COUNTIF($P$2:$P$19,P16)+COUNTIF($P$26:$P$47,P16)","v":40},{"$f":"IF(VLOOKUP(E16,男子標準記録,C16+3,FALSE)=\"\",\"\",VLOOKUP(E16,男子標準記録,C16+3,FALSE))","v":""},{"$f":"VLOOKUP(E16,種目コード,4,FALSE)","v":800},{"$f":"IF(FIND(\".\",TEXT(K16,\"#.00\"))>3,MID(TEXT(K16,\"#.00\"),FIND(\".\",TEXT(K16,\"#.00\"))-2,2)/1,\"\")","v":""}]
[null,"男",0,{"$f":"VLOOKUP(C17,出場種別,2,FALSE)","v":"共通"},"030",{"$f":"VLOOKUP(E17,種目コード,2,FALSE)","v":"３０００ｍ"},0,null,{"$f":"IF(H17=\"\",\"\",VLOOKUP(P17,部員データ,3,FALSE)&\"　\"&VLOOKUP(P17,部員データ,4,FALSE))","v":""},{"$f":"IF(H17=\"\",\"\",VLOOKUP(P17,部員データ,2,FALSE))","v":""},{"$nulls":5},{"$f":"IF(H17=\"\",\"\",B17&DBCS(TEXT(H17,\"００\")))","v":""},{"$f":"COUNTIF($P$2:$P$19,P17)+COUNTIF($P$26:$P$47,P17)","v":40},{"$f":"IF(VLOOKUP(E17,男子標準記録,C17+3,FALSE)=\"\",\"\",VLOOKUP(E17,男子標準記録,C17+3,FALSE))","v":""},{"$f":"VLOOKUP(E17,種目コード,4,FALSE)","v":800},{"$f":"IF(FIND(\".\",TEXT(K17,\"#.00\"))>3,MID(TEXT(K17,\"#.00\"),FIND(\".\",TEXT(K17,\"#.00\"))-2,2)/1,\"\")","v":""}]
[null,"男",0,"共通","111","１１０ｍＨ",0,null,"","",{"$nulls":5},"",40,"",12,""]
[null,"男",0,"共通","111","１１０ｍＨ",0,null,"","",{"$nulls":5},"",40,"",12,""]
[null,"男",0,"共通","410","４×１００ｍＲ",0,null,"","",{"$nulls":5},"",null,"",38,""]
[null,"男",0,"共通","410","４×１００ｍＲ",0,null,"","",{"$nulls":5},"",{"$nulls":3},""]
[null,"男",0,"共通","410","４×１００ｍＲ",0,null,"","",{"$nulls":5},"",{"$nulls":3},""]
[null,"男",0,"共通","410","４×１００ｍＲ",0,null,"","",{"$nulls":5},"",{"$nulls":3},""]
[null,"男",0,"共通","410","４×１００ｍＲ",0,null,"","",{"$nulls":5},"",{"$nulls":3},""]
[null,"男",0,"共通","410","４×１００ｍＲ",0,null,"","",{"$nulls":5},"",{"$nulls":3},""]
[null,"男",0,"共通","510","走高跳",0,null,"","",{"$nulls":5},"",40,{"$f":"IF(VLOOKUP(E26,男子標準記録,C26+3,FALSE)=\"\",\"\",VLOOKUP(E26,男子標準記録,C26+3,FALSE))","v":""},{"$f":"VLOOKUP(E26,種目コード,4,FALSE)","v":2.4},""]
[null,"男",0,"共通","510","走高跳",0,null,"","",{"$nulls":5},"",40,"",2.4,""]
[null,"男",0,"共通","520","棒高跳",0,null,"","",{"$nulls":5},"",40,"",5.5,""]
[null,"男",0,"共通","520","棒高跳",0,null,"","",{"$nulls":5},"",40,"",5.5,""]
[null,"男",0,"共通","530","走幅跳",0,null,"","",{"$nulls":5},"",40,"",8,""]
[null,"男",0,"共通","530","走幅跳",0,null,"","",{"$nulls":5},"",40,"",8,""]
[null,"男",0,"共通","540","三段跳",0,null,"","",{"$nulls":5},"",40,"",17,""]
[null,"男",0,"共通","540","三段跳",0,null,"","",{"$nulls":5},"",40,"",17,""]
[null,"男",0,"共通","562","砲丸投(5.0㎏)",0,null,"","",{"$nulls":5},"",40,"",20,""]
[null,"男",0,"共通","562","砲丸投(5.0㎏)",0,null,"","",{"$nulls":5},"",40,"",20,""]
[null,"男",0,"共通","551","円盤投(1.5㎏)",0,null,"","",{"$nulls":5},{"$f":"IF(H36=\"\",\"\",B36&DBCS(TEXT(H36,\"００\")))","v":""},40,"",70,""]
[null,"男",0,"共通","551","円盤投(1.5㎏)",0,null,"","",{"$nulls":5},"",40,"",70,""]
[null,"男",0,"共通","710","男子四種競技",0,null,"","",{"$nulls":5},"",{"$f":"COUNTIF($P$2:$P$19,P38)+COUNTIF($P$26:$P$47,P38)","v":40},"",3800,""]
[{"$nulls":8},"１１０ｍH",{"$nulls":10},""]
[{"$nulls":8},"砲丸投げ",{"$nulls":10},""]
[{"$nulls":8},"走高跳",{"$nulls":10},""]
[{"$nulls":8},"４００ｍ",{"$nulls":10},""]
[null,"男",0,{"$f":"VLOOKUP(C43,出場種別,2,FALSE)","v":"共通"},"710",{"$f":"VLOOKUP(E43,種目コード,2,FALSE)","v":"男子四種競技"},{"$f":"学校番号","v":0},null,{"$f":"IF(H43=\"\",\"\",VLOOKUP(P43,部員データ,3,FALSE)&\"　\"&VLOOKUP(P43,部員データ,4,FALSE))","v":""},{"$f":"IF(H43=\"\",\"\",VLOOKUP(P43,部員データ,2,FALSE))","v":""},{"$nulls":5},"",{"$f":"COUNTIF($P$2:$P$19,P43)+COUNTIF($P$26:$P$47,P43)","v":40},{"$f":"IF(VLOOKUP(E43,男子標準記録,C43+3,FALSE)=\"\",\"\",VLOOKUP(E43,男子標準記録,C43+3,FALSE))","v":""},{"$f":"VLOOKUP(E43,種目コード,4,FALSE)","v":3800},""]
[{"$nulls":8},"１１０ｍH",{"$nulls":10},""]
[{"$nulls":8},"砲丸投げ",{"$nulls":10},""]
[{"$nulls":8},"走高跳",{"$nulls":10},""]
[{"$nulls":8},"４００ｍ",{"$nulls":10},""]
["女子","女",1,{"$f":"VLOOKUP(C48,出場種別,2,FALSE)","v":"１年"},"001",{"$f":"VLOOKUP(E48,種目コード,2,FALSE)","v":"１００ｍ"},{"$f":"学校番号","v":0},null,{"$f":"IF(H48=\"\",\"\",VLOOKUP(P48,部員データ,3,FALSE)&\"　\"&VLOOKUP(P48,部員データ,4,FALSE))","v":""},{"$f":"IF(H48=\"\",\"\",VLOOKUP(P48,部員データ,2,FALSE))","v":""},{"$nulls":5},"",{"$f":"COUNTIF($P$48:$P$59,P48)+COUNTIF($P$68:$P$85,P48)","v":30},{"$f":"IF(VLOOKUP(E48,女子標準記録,C48+3,FALSE)=\"\",\"\",VLOOKUP(E48,女子標準記録,C48+3,FALSE))","v":""},{"$f":"VLOOKUP(E48,種目コード,6,FALSE)","v":11},""]
[null,"女",1,"１年","001","１００ｍ",0,null,"","",{"$nulls":5},"",{"$f":"COUNTIF($P$48:$P$59,P49)+COUNTIF($P$68:$P$85,P49)","v":30},"",11,""]
[null,"女",1,"１年","008","８００ｍ",0,null,"","",{"$nulls":5},"",30,"",200,""]
[null,"女",1,"１年","008","８００ｍ",0,null,"","",{"$nulls":5},"",30,"",200,""]
[null,"女",2,"２年","001","１００ｍ",0,null,"","",{"$nulls":5},"",30,"",11,""]
[null,"女",2,"２年","001","１００ｍ",0,null,"","",{"$nulls":5},"",30,"",11,""]
[null,"女",2,"２年","008","８００ｍ",0,null,"","",{"$nulls":5},"",30,"",200,""]
[null,"女",2,"２年","008","８００ｍ",0,null,"","",{"$nulls":5},"",30,"",200,""]
[null,"女",0,"共通","002","２００ｍ",0,null,"","",{"$nulls":5},"",30,"",22,""]
[null,"女",0,"共通","002","２００ｍ",0,null,"","",{"$nulls":5},"",30,"",22,""]
[null,"女",0,"共通","015","１５００ｍ",0,null,"","",{"$nulls":5},"",30,"",400,""]
[null,"女",0,"共通","015","１５００ｍ",0,null,"","",{"$nulls":5},"",30,"",400,""]
[null,"女",0,{"$f":"VLOOKUP(C60,出場種別,2,FALSE)","v":"共通"},"110",{"$f":"VLOOKUP(E60,種目コード,2,FALSE)","v":"１００ｍＨ"},0,null,{"$f":"IF(H60=\"\",\"\",VLOOKUP(P60,部員データ,3,FALSE)&\"　\"&VLOOKUP(P60,部員データ,4,FALSE))","v":""},{"$f":"IF(H60=\"\",\"\",VLOOKUP(P60,部員データ,2,FALSE))","v":""},{"$nulls":5},{"$f":"IF(H60=\"\",\"\",B60&DBCS(TEXT(H60,\"００\")))","v":""},{"$f":"COUNTIF($P$48:$P$59,P60)+COUNTIF($P$68:$P$85,P60)","v":30},{"$f":"IF(VLOOKUP(E60,女子標準記録,C60+3,FALSE)=\"\",\"\",VLOOKUP(E60,女子標準記録,C60+3,FALSE))","v":""},{"$f":"VLOOKUP(E60,種目コード,6,FALSE)","v":12},{"$f":"IF(FIND(\".\",TEXT(K60,\"#.00\"))>3,MID(TEXT(K60,\"#.00\"),FIND(\".\",TEXT(K60,\"#.00\"))-2,2)/1,\"\")","v":""}]
[null,"女",0,{"$f":"VLOOKUP(C61,出場種別,2,FALSE)","v":"共通"},"110",{"$f":"VLOOKUP(E61,種目コード,2,FALSE)","v":"１００ｍＨ"},0,null,{"$f":"IF(H61=\"\",\"\",VLOOKUP(P61,部員データ,3,FALSE)&\"　\"&VLOOKUP(P61,部員データ,4,FALSE))","v":""},{"$f":"IF(H61=\"\",\"\",VLOOKUP(P61,部員データ,2,FALSE))","v":""},{"$nulls":5},{"$f":"IF(H61=\"\",\"\",B61&DBCS(TEXT(H61,\"００\")))","v":""},{"$f":"COUNTIF($P$48:$P$59,P61)+COUNTIF($P$68:$P$85,P61)","v":30},{"$f":"IF(VLOOKUP(E61,女子標準記録,C61+3,FALSE)=\"\",\"\",VLOOKUP(E61,女子標準記録,C61+3,FALSE))","v":""},{"$f":"VLOOKUP(E61,種目コード,6,FALSE)","v":12},{"$f":"IF(FIND(\".\",TEXT(K61,\"#.00\"))>3,MID(TEXT(K61,\"#.00\"),FIND(\".\",TEXT(K61,\"#.00\"))-2,2)/1,\"\")","v":""}]
[null,"女",0,"共通","410","４×１００ｍＲ",0,null,"","",{"$nulls":5},"",null,"",41,""]
[null,"女",0,"共通","410","４×１００ｍＲ",0,null,"","",{"$nulls":5},"",null,"",null,""]
[null,"女",0,"共通","410","４×１００ｍＲ",0,null,"","",{"$nulls":5},"",null,"",null,""]
[null,"女",0,"共通","410","４×１００ｍＲ",0,null,"","",{"$nulls":5},"",null,"",null,""]
[null,"女",0,"共通","410","４×１００ｍＲ",0,null,"","",{"$nulls":5},"",null,"",null,""]
[null,"女",0,"共通","410","４×１００ｍＲ",0,null,"","",{"$nulls":5},"",null,"",null,""]
[null,"女",0,"共通","510","走高跳",0,null,"","",{"$nulls":5},"",30,"",{"$f":"VLOOKUP(E68,種目コード,6,FALSE)","v":1.9},""]
[null,"女",0,"共通","510","走高跳",0,null,"","",{"$nulls":5},"",30,"",1.9,""]
[null,"女",0,"共通","530","走幅跳",0,null,"","",{"$nulls":5},{"$f":"IF(H70=\"\",\"\",B70&DBCS(TEXT(H70,\"００\")))","v":""},30,"",7,""]
[null,"女",0,"共通","530","走幅跳",0,null,"","",{"$nulls":5},"",30,"",7,{"$f":"IF(FIND(\".\",TEXT(K71,\"#.00\"))>3,MID(TEXT(K71,\"#.00\"),FIND(\".\",TEXT(K71,\"#.00\"))-2,2)/1,\"\")","v":""}]
[null,"女",0,"共通","560","砲丸投",0,null,"","",{"$nulls":5},"",30,"",18,""]
[null,"女",0,"共通","560","砲丸投",0,null,"","",{"$nulls":5},"",30,"",18,""]
[null,"女",0,"共通","550","円盤投",0,null,"","",{"$nulls":5},"",30,"",45,""]
[null,"女",0,"共通","550","円盤投",0,null,"","",{"$nulls":5},"",30,"",45,""]
[null,"女",0,"共通","760","女子四種競技",0,null,"","",{"$nulls":5},"",30,"",4000,""]
[{"$nulls":8},"１００ｍH",{"$nulls":10},""]
[{"$nulls":8},"走高跳",{"$nulls":10},""]
[{"$nulls":8},"砲丸投",{"$nulls":10},""]
[{"$nulls":8},"２００ｍ",{"$nulls":10},""]
[null,"女",0,{"$f":"VLOOKUP(C81,出場種別,2,FALSE)","v":"共通"},"760",{"$f":"VLOOKUP(E81,種目コード,2,FALSE)","v":"女子四種競技"},{"$f":"学校番号","v":0},null,{"$f":"IF(H81=\"\",\"\",VLOOKUP(P81,部員データ,3,FALSE)&\"　\"&VLOOKUP(P81,部員データ,4,FALSE))","v":""},{"$f":"IF(H81=\"\",\"\",VLOOKUP(P81,部員データ,2,FALSE))","v":""},{"$nulls":5},"",30,{"$f":"IF(VLOOKUP(E81,女子標準記録,C81+3,FALSE)=\"\",\"\",VLOOKUP(E81,女子標準記録,C81+3,FALSE))","v":""},{"$f":"VLOOKUP(E81,種目コード,6,FALSE)","v":4000},""]
[{"$nulls":8},"１００ｍH",{"$nulls":10},""]
[{"$nulls":8},"走高跳",{"$nulls":10},""]
[{"$nulls":8},"砲丸投",{"$nulls":10},""]
[{"$nulls":8},"２００ｍ",{"$nulls":10},""]

{"sheet":"新人","index":11,"n_rows":60,"n_cols":150,"rows_kept":60,"hidden":true,"merged":[[1,1,1,135],[2,1,2,135],[3,117,3,135],[4,2,4,25],[4,74,4,83],[4,87,4,98],[4,102,4,111],[4,114,4,133],[5,2,5,25],[5,71,5,94],[7,1,7,10],[7,11,7,16],[7,17,7,34],[7,35,7,38],[7,39,7,44],[7,45,7,62],[7,63,7,66],[7,70,7,79],[7,80,7,85],[7,86,7,103],[7,104,7,107],[7,108,7,113],[7,114,7,131],[7,132,7,135],[8,1,8,10],[8,11,9,16],[8,17,8,34],[8,35,9,38],[8,39,9,44],[8,45,8,62],[8,63,9,66],[8,70,8,79],[8,80,9,85],[8,86,8,103],[8,104,9,107],[8,108,9,113],[8,114,8,131],[8,132,9,135],[9,1,9,10],[9,17,9,34],[9,45,9,62],[9,70,9,79],[9,86,9,103],[9,114,9,131],[10,1,10,10],[10,11,11,16],[10,17,10,34],[10,35,11,38],[10,39,11,44],[10,45,10,62],[10,63,11,66],[10,70,10,79],[10,80,11,85],[10,86,10,103],[10,104,11,107],[10,108,11,113],[10,114,10,131],[10,132,11,135],[11,1,11,10],[11,17,11,34],[11,45,11,62],[11,70,11,79],[11,86,11,103],[11,114,11,131],[12,1,12,10],[12,11,13,16],[12,17,12,34],[12,35,13,38],[12,39,13,44],[12,45,12,62],[12,63,13,66],[12,70,12,79],[12,80,13,85],[12,86,12,103],[12,104,13,107],[12,108,13,113],[12,114,12,131],[12,132,13,135],[13,1,13,10],[13,17,13,34],[13,45,13,62],[13,70,13,79],[13,86,13,103],[13,114,13,131],[14,1,14,10],[14,11,15,16],[14,17,14,34],[14,35,15,38],[14,39,15,44],[14,45,14,62],[14,63,15,66],[14,70,14,79],[14,80,15,85],[14,86,14,103],[14,104,15,107],[14,108,15,113],[14,114,14,131],[14,132,15,135],[15,1,15,10],[15,17,15,34],[15,45,15,62],[15,70,15,79],[15,86,15,103],[15,114,15,131],[16,1,16,10],[16,11,17,16],[16,17,16,34],[16,35,17,38],[16,39,17,44],[16,45,16,62],[16,63,17,66],[16,70,16,79],[16,80,17,85],[16,86,16,103],[16,104,17,107],[16,108,17,113],[16,114,16,131],[16,132,17,135],[17,1,17,10],[17,17,17,34],[17,45,17,62],[17,70,17,79],[17,86,17,103],[17,114,17,131],[18,1,18,10],[18,11,19,16],[18,17,18,34],[18,35,19,38],[18,39,19,44],[18,45,18,62],[18,63,19,66],[18,70,18,79],[18,80,19,85],[18,86,18,103],[18,104,19,107],[18,108,19,113],[18,114,18,131],[18,132,19,135],[19,1,19,10],[19,17,19,34],[19,45,19,62],[19,70,19,79],[19,86,19,103],[19,114,19,131],[20,1,20,10],[20,11,21,16],[20,17,20,34],[20,35,21,38],[20,39,21,44],[20,45,20,62],[20,63,21,66],[20,70,20,79],[20,80,21,85],[20,86,20,103],[20,104,21,107],[20,108,21,113],[20,114,20,131],[20,132,21,135],[21,1,21,10],[21,17,21,34],[21,45,21,62],[21,70,21,79],[21,86,21,103],[21,114,21,131],[22,1,22,10],[22,11,23,16],[22,17,22,34],[22,35,23,38],[22,39,23,44],[22,45,22,62],[22,63,23,66],[22,70,22,79],[22,80,23,85],[22,86,22,103],[22,104,23,107],[22,108,23,113],[22,114,22,131],[22,132,23,135],[23,1,23,10],[23,17,23,34],[23,45,23,62],[23,70,23,79],[23,86,23,103],[23,114,23,131],[24,1,24,10],[24,11,25,16],[24,17,24,34],[24,35,25,38],[24,39,25,44],[24,45,24,62],[24,63,25,66],[24,70,24,79],[24,80,25,85],[24,86,24,103],[24,104,25,107],[24,108,25,113],[24,114,24,131],[24,132,25,135],[25,1,25,10],[25,17,25,34],[25,45,25,62],[25,70,25,79],[25,86,25,103],[25,114,25,131],[26,1,26,10],[26,11,27,16],[26,17,26,34],[26,35,27,38],[26,39,27,44],[26,45,26,62],[26,63,27,66],[26,70,26,79],[26,80,27,85],[26,86,26,103],[26,104,27,107],[26,108,27,113],[26,114,26,131],[26,132,27,135],[27,1,27,10],[27,17,27,34],[27,45,27,62],[27,70,27,79],[27,86,27,103],[27,114,27,131],[28,1,28,10],[28,11,29,16],[28,17,28,34],[28,35,29,38],[28,39,29,44],[28,45,28,62],[28,63,29,66],[28,70,28,79],[28,80,29,85],[28,86,28,103],[28,104,29,107],[28,108,29,113],[28,114,28,131],[28,132,29,135],[29,1,29,10],[29,17,29,34],[29,45,29,62],[29,70,29,79],[29,86,29,103],[29,114,29,131],[30,1,30,10],[30,11,31,16],[30,17,30,34],[30,35,31,38],[30,39,31,44],[30,45,30,62],[30,63,31,66],[30,70,30,79],[30,80,31,85],[30,86,30,103],[30,104,31,107],[30,108,31,113],[30,114,30,131],[30,132,31,135],[31,1,31,10],[31,17,31,34],[31,45,31,62],[31,70,31,79],[31,86,31,103],[31,114,31,131],[32,1,32,10],[32,11,33,16],[32,17,32,34],[32,35,33,38],[32,39,33,44],[32,45,32,62],[32,63,33,66],[32,70,36,79],[32,80,33,85],[32,86,33,103],[32,104,33,107],[32,108,33,113],[32,114,33,131],[32,132,33,135],[33,1,33,10],[33,17,33,34],[33,45,33,62],[34,1,34,10],[34,11,35,16],[34,17,34,34],[34,35,35,38],[34,39,35,44],[34,45,34,62],[34,63,35,66],[34,80,35,85],[34,86,35,103],[34,104,35,107],[34,108,35,113],[34,114,35,131],[34,132,35,135],[35,1,35,10],[35,17,35,34],[35,45,35,62],[36,1,36,10],[36,11,37,16],[36,17,36,34],[36,35,37,38],[36,39,37,44],[36,45,36,62],[36,63,37,66],[36,80,37,85],[36,86,37,103],[36,104,37,107],[36,108,37,113],[36,114,37,131],[36,132,37,135],[37,1,37,10],[37,17,37,34],[37,45,37,62],[37,70,37,79],[38,1,38,10],[38,11,39,16],[38,17,38,34],[38,35,39,38],[38,39,39,44],[38,45,38,62],[38,63,39,66],[39,1,39,10],[39,17,39,34],[39,45,39,62],[40,1,44,10],[40,11,41,16],[40,17,41,34],[40,35,41,38],[40,39,41,44],[40,45,41,62],[40,63,41,66],[40,72,40,77],[40,79,40,82],[40,86,40,91],[40,93,40,96],[40,100,40,115],[40,117,40,131],[42,11,43,16],[42,17,43,34],[42,35,43,38],[42,39,43,44],[42,45,43,62],[42,63,43,66],[42,72,43,131],[44,11,45,16],[44,17,45,34],[44,35,45,38],[44,39,45,44],[44,45,45,62],[44,63,45,66],[45,1,45,10],[47,1,47,10],[47,11,47,23],[47,24,47,36],[47,37,47,49],[47,50,47,85],[48,1,48,10],[48,11,48,17],[48,18,48,23],[48,24,48,30],[48,31,48,36],[48,37,48,43],[48,44,48,49],[48,50,48,55],[48,56,48,58],[48,59,48,65],[48,66,48,68],[48,69,48,71],[48,72,48,81],[48,82,48,84],[49,1,49,10],[49,11,49,17],[49,18,49,23],[49,24,49,30],[49,31,49,36],[49,37,49,43],[49,44,49,49],[49,50,49,55],[49,56,49,58],[49,59,49,65],[49,66,49,68],[49,69,49,71],[49,72,49,81],[49,82,49,84],[50,1,50,10],[50,11,50,17],[50,18,50,23],[50,24,50,30],[50,31,50,36],[50,37,50,43],[50,44,50,49],[50,50,50,55],[50,56,50,58],[50,59,50,65],[50,66,50,68],[50,69,50,71],[50,72,50,81],[50,82,50,84],[51,1,51,10],[51,11,51,17],[51,18,51,23],[51,24,51,30],[51,31,51,36],[51,37,51,43],[51,44,51,49],[51,50,51,59],[51,61,51,80],[51,82,51,84],[53,4,53,132],[55,4,55,9],[55,10,55,15],[55,16,55,19],[55,20,55,27],[55,28,55,31],[55,32,55,41],[55,42,55,45],[55,48,55,67],[55,69,55,79],[55,81,55,91],[55,94,55,125],[55,128,55,132],[57,2,57,9],[57,11,57,12],[57,13,57,37],[57,38,57,39],[57,42,57,43],[57,44,57,68],[57,69,57,70],[57,73,57,74],[57,75,57,99],[57,100,57,101],[57,104,57,105],[57,106,57,130],[57,131,57,132],[59,3,59,133]]}
[1,2,3,4,5,6,7,8,9,10,11,12,13,14,15,16,17,18,19,20,21,22,23,24,25,26,27,28,29,30,31,32,33,34,35,36,37,38,39,40,41,42,43,44,45,46,47,48,49,50,51,52,53,54,55,56,57,58,59,60,61,62,63,64,65,66,67,68,69,70,71,72,73,74,75,76,77,78,79,80,81,82,83,84,85,86,87,88,89,90,91,92,93,94,95,96,97,98,99,100,101,102,103,104,105,106,107,108,109,110,111,112,113,114,115,116,117,118,119,120,121,122,123,124,125,126,127,128,129,130,131,132,133,134,135,136,137,138,139,140]
[null,"平成27年度　第21回　中播地区中学校新人大会陸上競技の部"]
[null,"申込一覧表　（Ａ）"]
[{"$nulls":117},"2部提出"]
[null,null,"（ 共 ＝ １・２年種目 ）",{"$nulls":71},"学校番号",{"$nulls":11},"（",{"$f":"学校番号","v":0},{"$nulls":11},"）",null,null,"学 校 名",{"$nulls":10},"（",{"$f":"略称","v":0},{"$nulls":20},"）"]
[null,null,"〔 男　子 〕　１日目実施●",{"$nulls":68},"〔 女　子 〕　１日目実施●"]
[]
[null,"種　目",{"$nulls":9},"個人\n番号",{"$nulls":5},"名　　前",{"$nulls":17},"学年",{"$nulls":3},"個人\n番号",{"$nulls":5},"名　　前",{"$nulls":17},"学年",{"$nulls":6},"種　目",{"$nulls":9},"個人\n番号",{"$nulls":5},"名　　前",{"$nulls":17},"学年",{"$nulls":3},"個人\n番号",{"$nulls":5},"名　　前",{"$nulls":17},"学年"]
[null,"●１年",{"$nulls":9},{"$f":"IF('入力シート(新人)'!$H2=\"\",\"\",'入力シート(新人)'!$H2)","v":""},{"$nulls":5},{"$f":"IF(L9<>\"\",VLOOKUP(EM9,部員データ,3,FALSE)&\"  \"&VLOOKUP(EM9,部員データ,4,FALSE),\"\")","v":""},{"$nulls":17},1,{"$nulls":3},{"$f":"IF('入力シート(新人)'!$H3=\"\",\"\",'入力シート(新人)'!$H3)","v":""},{"$nulls":5},{"$f":"IF(AN9<>\"\",VLOOKUP(EN9,部員データ,3,FALSE)&\"  \"&VLOOKUP(EN9,部員データ,4,FALSE),\"\")","v":""},{"$nulls":17},1,{"$nulls":6},"●１年",{"$nulls":9},{"$f":"IF('入力シート(新人)'!$H48=\"\",\"\",'入力シート(新人)'!$H48)","v":""},{"$nulls":5},{"$f":"IF(CC9<>\"\",VLOOKUP(EO9,部員データ,3,FALSE)&\"  \"&VLOOKUP(EO9,部員データ,4,FALSE),\"\")","v":""},{"$nulls":17},1,{"$nulls":3},{"$f":"IF('入力シート(新人)'!$H49=\"\",\"\",'入力シート(新人)'!$H49)","v":""},{"$nulls":5},{"$f":"IF(DE9<>\"\",VLOOKUP(EP9,部員データ,3,FALSE)&\"  \"&VLOOKUP(EP9,部員データ,4,FALSE),\"\")","v":""},{"$nulls":17},1,{"$nulls":9},{"$f":"\"男\"&DBCS(TEXT(L9,\"00\"))","v":"男"},{"$f":"\"男\"&DBCS(TEXT(AN9,\"00\"))","v":"男"},{"$f":"\"女\"&DBCS(TEXT(CC9,\"00\"))","v":"女"},{"$f":"\"女\"&DBCS(TEXT(DE9,\"00\"))","v":"女"},{"$f":"IF(OR(EM9=\"男\",EM9=\"\"),\"\",COUNTIF($EM$9:$EN$42,EM9))","v":""},"",{"$f":"IF(OR(EO9=\"女\",EO9=\"\"),\"\",COUNTIF($EO$9:$EP$39,EO9))","v":""},""]
[null,"100m",{"$nulls":15},{"$f":"IF(L9=\"\",\"\",IF('入力シート(新人)'!$K2=\"\",\"\",format_kiroku('入力シート(新人)'!$K2,$B10)))","v":""},{"$nulls":27},{"$f":"IF(AN9=\"\",\"\",IF('入力シート(新人)'!$K3=\"\",\"\",format_kiroku('入力シート(新人)'!$K3,$B10)))","v":""},{"$nulls":24},"100m",{"$nulls":15},{"$f":"IF(CC9=\"\",\"\",IF('入力シート(新人)'!$K48=\"\",\"\",format_kiroku('入力シート(新人)'!$K48,$BS10)))","v":""},{"$nulls":27},{"$f":"IF(DE9=\"\",\"\",IF('入力シート(新人)'!$K49=\"\",\"\",format_kiroku('入力シート(新人)'!$K49,$BS10)))","v":""},{"$nulls":31},"","","",""]
[null,"●１年",{"$nulls":9},{"$f":"IF('入力シート(新人)'!$H4=\"\",\"\",'入力シート(新人)'!$H4)","v":""},{"$nulls":5},{"$f":"IF(L11<>\"\",VLOOKUP(EM11,部員データ,3,FALSE)&\"  \"&VLOOKUP(EM11,部員データ,4,FALSE),\"\")","v":""},{"$nulls":17},1,{"$nulls":3},{"$f":"IF('入力シート(新人)'!$H5=\"\",\"\",'入力シート(新人)'!$H5)","v":""},{"$nulls":5},{"$f":"IF(AN11<>\"\",VLOOKUP(EN11,部員データ,3,FALSE)&\"  \"&VLOOKUP(EN11,部員データ,4,FALSE),\"\")","v":""},{"$nulls":17},1,{"$nulls":6},"１年",{"$nulls":9},{"$f":"IF('入力シート(新人)'!$H50=\"\",\"\",'入力シート(新人)'!$H50)","v":""},{"$nulls":5},{"$f":"IF(CC11<>\"\",VLOOKUP(EO11,部員データ,3,FALSE)&\"  \"&VLOOKUP(EO11,部員データ,4,FALSE),\"\")","v":""},{"$nulls":17},1,{"$nulls":3},{"$f":"IF('入力シート(新人)'!$H51=\"\",\"\",'入力シート(新人)'!$H51)","v":""},{"$nulls":5},{"$f":"IF(DE11<>\"\",VLOOKUP(EP11,部員データ,3,FALSE)&\"  \"&VLOOKUP(EP11,部員データ,4,FALSE),\"\")","v":""},{"$nulls":17},1,{"$nulls":9},{"$f":"\"男\"&DBCS(TEXT(L11,\"00\"))","v":"男"},{"$f":"\"男\"&DBCS(TEXT(AN11,\"00\"))","v":"男"},{"$f":"\"女\"&DBCS(TEXT(CC11,\"00\"))","v":"女"},{"$f":"\"女\"&DBCS(TEXT(DE11,\"00\"))","v":"女"},"","","",""]
[null,"1500m",{"$nulls":15},{"$f":"IF(L11=\"\",\"\",IF('入力シート(新人)'!$K4=\"\",\"\",format_kiroku('入力シート(新人)'!$K4,$B12)))","v":""},{"$nulls":27},{"$f":"IF(AN11=\"\",\"\",IF('入力シート(新人)'!$K5=\"\",\"\",format_kiroku('入力シート(新人)'!$K5,$B12)))","v":""},{"$nulls":24},"800ｍ",{"$nulls":15},{"$f":"IF(CC11=\"\",\"\",IF('入力シート(新人)'!$K50=\"\",\"\",format_kiroku('入力シート(新人)'!$K50,$BS12)))","v":""},{"$nulls":27},{"$f":"IF(DE11=\"\",\"\",IF('入力シート(新人)'!$K51=\"\",\"\",format_kiroku('入力シート(新人)'!$K51,$BS12)))","v":""},{"$nulls":31},"","","",""]
[null,"●2年",{"$nulls":9},{"$f":"IF('入力シート(新人)'!$H6=\"\",\"\",'入力シート(新人)'!$H6)","v":""},{"$nulls":5},{"$f":"IF(L13<>\"\",VLOOKUP(EM13,部員データ,3,FALSE)&\"  \"&VLOOKUP(EM13,部員データ,4,FALSE),\"\")","v":""},{"$nulls":17},2,{"$nulls":3},{"$f":"IF('入力シート(新人)'!$H7=\"\",\"\",'入力シート(新人)'!$H7)","v":""},{"$nulls":5},{"$f":"IF(AN13<>\"\",VLOOKUP(EN13,部員データ,3,FALSE)&\"  \"&VLOOKUP(EN13,部員データ,4,FALSE),\"\")","v":""},{"$nulls":17},2,{"$nulls":6},"●2年",{"$nulls":9},{"$f":"IF('入力シート(新人)'!$H52=\"\",\"\",'入力シート(新人)'!$H52)","v":""},{"$nulls":5},{"$f":"IF(CC13<>\"\",VLOOKUP(EO13,部員データ,3,FALSE)&\"  \"&VLOOKUP(EO13,部員データ,4,FALSE),\"\")","v":""},{"$nulls":17},2,{"$nulls":3},{"$f":"IF('入力シート(新人)'!$H53=\"\",\"\",'入力シート(新人)'!$H53)","v":""},{"$nulls":5},{"$f":"IF(DE13<>\"\",VLOOKUP(EP13,部員データ,3,FALSE)&\"  \"&VLOOKUP(EP13,部員データ,4,FALSE),\"\")","v":""},{"$nulls":17},2,{"$nulls":9},"男","男","女","女","","","",""]
[null,"100m",{"$nulls":15},{"$f":"IF(L13=\"\",\"\",IF('入力シート(新人)'!$K6=\"\",\"\",format_kiroku('入力シート(新人)'!$K6,$B14)))","v":""},{"$nulls":27},{"$f":"IF(AN13=\"\",\"\",IF('入力シート(新人)'!$K7=\"\",\"\",format_kiroku('入力シート(新人)'!$K7,$B14)))","v":""},{"$nulls":24},"100m",{"$nulls":15},{"$f":"IF(CC13=\"\",\"\",IF('入力シート(新人)'!$K52=\"\",\"\",format_kiroku('入力シート(新人)'!$K52,$BS14)))","v":""},{"$nulls":27},{"$f":"IF(DE13=\"\",\"\",IF('入力シート(新人)'!$K53=\"\",\"\",format_kiroku('入力シート(新人)'!$K53,$BS14)))","v":""},{"$nulls":31},"","","",""]
[null,"●2年",{"$nulls":9},{"$f":"IF('入力シート(新人)'!$H8=\"\",\"\",'入力シート(新人)'!$H8)","v":""},{"$nulls":5},{"$f":"IF(L15<>\"\",VLOOKUP(EM15,部員データ,3,FALSE)&\"  \"&VLOOKUP(EM15,部員データ,4,FALSE),\"\")","v":""},{"$nulls":17},2,{"$nulls":3},{"$f":"IF('入力シート(新人)'!$H9=\"\",\"\",'入力シート(新人)'!$H9)","v":""},{"$nulls":5},{"$f":"IF(AN15<>\"\",VLOOKUP(EN15,部員データ,3,FALSE)&\"  \"&VLOOKUP(EN15,部員データ,4,FALSE),\"\")","v":""},{"$nulls":17},2,{"$nulls":6},"２年",{"$nulls":9},{"$f":"IF('入力シート(新人)'!$H54=\"\",\"\",'入力シート(新人)'!$H54)","v":""},{"$nulls":5},{"$f":"IF(CC15<>\"\",VLOOKUP(EO15,部員データ,3,FALSE)&\"  \"&VLOOKUP(EO15,部員データ,4,FALSE),\"\")","v":""},{"$nulls":17},2,{"$nulls":3},{"$f":"IF('入力シート(新人)'!$H55=\"\",\"\",'入力シート(新人)'!$H55)","v":""},{"$nulls":5},{"$f":"IF(DE15<>\"\",VLOOKUP(EP15,部員データ,3,FALSE)&\"  \"&VLOOKUP(EP15,部員データ,4,FALSE),\"\")","v":""},{"$nulls":17},2,{"$nulls":9},"男","男","女","女","","","",""]
[null,"1500m",{"$nulls":15},{"$f":"IF(L15=\"\",\"\",IF('入力シート(新人)'!$K8=\"\",\"\",format_kiroku('入力シート(新人)'!$K8,$B16)))","v":""},{"$nulls":27},{"$f":"IF(AN15=\"\",\"\",IF('入力シート(新人)'!$K9=\"\",\"\",format_kiroku('入力シート(新人)'!$K9,$B16)))","v":""},{"$nulls":24},"800ｍ",{"$nulls":15},{"$f":"IF(CC15=\"\",\"\",IF('入力シート(新人)'!$K54=\"\",\"\",format_kiroku('入力シート(新人)'!$K54,$BS16)))","v":""},{"$nulls":27},{"$f":"IF(DE15=\"\",\"\",IF('入力シート(新人)'!$K55=\"\",\"\",format_kiroku('入力シート(新人)'!$K55,$BS16)))","v":""},{"$nulls":31},"","","",""]
[null,"共通",{"$nulls":9},{"$f":"IF('入力シート(新人)'!$H10=\"\",\"\",'入力シート(新人)'!$H10)","v":""},{"$nulls":5},{"$f":"IF(L17<>\"\",VLOOKUP(EM17,部員データ,3,FALSE)&\"  \"&VLOOKUP(EM17,部員データ,4,FALSE),\"\")","v":""},{"$nulls":17},{"$f":"IF(L17<>\"\",VLOOKUP(EM17,部員データ,2,FALSE),\"\")","v":""},{"$nulls":3},{"$f":"IF('入力シート(新人)'!$H11=\"\",\"\",'入力シート(新人)'!$H11)","v":""},{"$nulls":5},{"$f":"IF(AN17<>\"\",VLOOKUP(EN17,部員データ,3,FALSE)&\"  \"&VLOOKUP(EN17,部員データ,4,FALSE),\"\")","v":""},{"$nulls":17},{"$f":"IF(AN17<>\"\",VLOOKUP(EN17,部員データ,2,FALSE),\"\")","v":""},{"$nulls":6},"共通",{"$nulls":9},{"$f":"IF('入力シート(新人)'!$H56=\"\",\"\",'入力シート(新人)'!$H56)","v":""},{"$nulls":5},{"$f":"IF(CC17<>\"\",VLOOKUP(EO17,部員データ,3,FALSE)&\"  \"&VLOOKUP(EO17,部員データ,4,FALSE),\"\")","v":""},{"$nulls":17},{"$f":"IF(CC17<>\"\",VLOOKUP(EO17,部員データ,2,FALSE),\"\")","v":""},{"$nulls":3},{"$f":"IF('入力シート(新人)'!$H57=\"\",\"\",'入力シート(新人)'!$H57)","v":""},{"$nulls":5},{"$f":"IF(DE17<>\"\",VLOOKUP(EP17,部員データ,3,FALSE)&\"  \"&VLOOKUP(EP17,部員データ,4,FALSE),\"\")","v":""},{"$nulls":17},{"$f":"IF(DE17<>\"\",VLOOKUP(EP17,部員データ,2,FALSE),\"\")","v":""},{"$nulls":9},"男","男","女","女","","","",""]
[null,"200m",{"$nulls":15},{"$f":"IF(L17=\"\",\"\",IF('入力シート(新人)'!$K10=\"\",\"\",format_kiroku('入力シート(新人)'!$K10,$B18)))","v":""},{"$nulls":27},{"$f":"IF(AN17=\"\",\"\",IF('入力シート(新人)'!$K11=\"\",\"\",format_kiroku('入力シート(新人)'!$K11,$B18)))","v":""},{"$nulls":24},"200m",{"$nulls":15},{"$f":"IF(CC17=\"\",\"\",IF('入力シート(新人)'!$K56=\"\",\"\",format_kiroku('入力シート(新人)'!$K56,$BS18)))","v":""},{"$nulls":27},{"$f":"IF(DE17=\"\",\"\",IF('入力シート(新人)'!$K57=\"\",\"\",format_kiroku('入力シート(新人)'!$K57,$BS18)))","v":""},{"$nulls":31},"","","",""]
[null,"●共通",{"$nulls":9},{"$f":"IF('入力シート(新人)'!$H12=\"\",\"\",'入力シート(新人)'!$H12)","v":""},{"$nulls":5},{"$f":"IF(L19<>\"\",VLOOKUP(EM19,部員データ,3,FALSE)&\"  \"&VLOOKUP(EM19,部員データ,4,FALSE),\"\")","v":""},{"$nulls":17},{"$f":"IF(L19<>\"\",VLOOKUP(EM19,部員データ,2,FALSE),\"\")","v":""},{"$nulls":3},{"$f":"IF('入力シート(新人)'!$H13=\"\",\"\",'入力シート(新人)'!$H13)","v":""},{"$nulls":5},{"$f":"IF(AN19<>\"\",VLOOKUP(EN19,部員データ,3,FALSE)&\"  \"&VLOOKUP(EN19,部員データ,4,FALSE),\"\")","v":""},{"$nulls":17},{"$f":"IF(AN19<>\"\",VLOOKUP(EN19,部員データ,2,FALSE),\"\")","v":""},{"$nulls":6},"●共通",{"$nulls":9},{"$f":"IF('入力シート(新人)'!$H58=\"\",\"\",'入力シート(新人)'!$H58)","v":""},{"$nulls":5},{"$f":"IF(CC19<>\"\",VLOOKUP(EO19,部員データ,3,FALSE)&\"  \"&VLOOKUP(EO19,部員データ,4,FALSE),\"\")","v":""},{"$nulls":17},{"$f":"IF(CC19<>\"\",VLOOKUP(EO19,部員データ,2,FALSE),\"\")","v":""},{"$nulls":3},{"$f":"IF('入力シート(新人)'!$H59=\"\",\"\",'入力シート(新人)'!$H59)","v":""},{"$nulls":5},{"$f":"IF(DE19<>\"\",VLOOKUP(EP19,部員データ,3,FALSE)&\"  \"&VLOOKUP(EP19,部員データ,4,FALSE),\"\")","v":""},{"$nulls":17},{"$f":"IF(DE19<>\"\",VLOOKUP(EP19,部員データ,2,FALSE),\"\")","v":""},{"$nulls":9},"男","男","女","女","","","",""]
[null,"400ｍ",{"$nulls":15},{"$f":"IF(L19=\"\",\"\",IF('入力シート(新人)'!$K12=\"\",\"\",format_kiroku('入力シート(新人)'!$K12,$B20)))","v":""},{"$nulls":27},{"$f":"IF(AN19=\"\",\"\",IF('入力シート(新人)'!$K13=\"\",\"\",format_kiroku('入力シート(新人)'!$K13,$B20)))","v":""},{"$nulls":24},"1500m",{"$nulls":15},{"$f":"IF(CC19=\"\",\"\",IF('入力シート(新人)'!$K58=\"\",\"\",format_kiroku('入力シート(新人)'!$K58,$BS20)))","v":""},{"$nulls":27},{"$f":"IF(DE19=\"\",\"\",IF('入力シート(新人)'!$K59=\"\",\"\",format_kiroku('入力シート(新人)'!$K59,$BS20)))","v":""},{"$nulls":31},"","","",""]
[null,"共通",{"$nulls":9},{"$f":"IF('入力シート(新人)'!$H14=\"\",\"\",'入力シート(新人)'!$H14)","v":""},{"$nulls":5},{"$f":"IF(L21<>\"\",VLOOKUP(EM21,部員データ,3,FALSE)&\"  \"&VLOOKUP(EM21,部員データ,4,FALSE),\"\")","v":""},{"$nulls":17},{"$f":"IF(L21<>\"\",VLOOKUP(EM21,部員データ,2,FALSE),\"\")","v":""},{"$nulls":3},{"$f":"IF('入力シート(新人)'!$H15=\"\",\"\",'入力シート(新人)'!$H15)","v":""},{"$nulls":5},{"$f":"IF(AN21<>\"\",VLOOKUP(EN21,部員データ,3,FALSE)&\"  \"&VLOOKUP(EN21,部員データ,4,FALSE),\"\")","v":""},{"$nulls":17},{"$f":"IF(AN21<>\"\",VLOOKUP(EN21,部員データ,2,FALSE),\"\")","v":""},{"$nulls":6},"共通",{"$nulls":9},{"$f":"IF('入力シート(新人)'!$H60=\"\",\"\",'入力シート(新人)'!$H60)","v":""},{"$nulls":5},{"$f":"IF(CC21<>\"\",VLOOKUP(EO21,部員データ,3,FALSE)&\"  \"&VLOOKUP(EO21,部員データ,4,FALSE),\"\")","v":""},{"$nulls":17},{"$f":"IF(CC21<>\"\",VLOOKUP(EO21,部員データ,2,FALSE),\"\")","v":""},{"$nulls":3},{"$f":"IF('入力シート(新人)'!$H61=\"\",\"\",'入力シート(新人)'!$H61)","v":""},{"$nulls":5},{"$f":"IF(DE21<>\"\",VLOOKUP(EP21,部員データ,3,FALSE)&\"  \"&VLOOKUP(EP21,部員データ,4,FALSE),\"\")","v":""},{"$nulls":17},{"$f":"IF(DE21<>\"\",VLOOKUP(EP21,部員データ,2,FALSE),\"\")","v":""},{"$nulls":9},"男","男","女","女","","","",""]
[null,"800m",{"$nulls":15},{"$f":"IF(L21=\"\",\"\",IF('入力シート(新人)'!$K14=\"\",\"\",format_kiroku('入力シート(新人)'!$K14,$B22)))","v":""},{"$nulls":27},{"$f":"IF(AN21=\"\",\"\",IF('入力シート(新人)'!$K15=\"\",\"\",format_kiroku('入力シート(新人)'!$K15,$B22)))","v":""},{"$nulls":24},"100mH",{"$nulls":15},{"$f":"IF(CC21=\"\",\"\",IF('入力シート(新人)'!$K60=\"\",\"\",format_kiroku('入力シート(新人)'!$K60,$BS22)))","v":""},{"$nulls":27},{"$f":"IF(DE21=\"\",\"\",IF('入力シート(新人)'!$K61=\"\",\"\",format_kiroku('入力シート(新人)'!$K61,$BS22)))","v":""},{"$nulls":31},"","","",""]
[null,"共通",{"$nulls":9},{"$f":"IF('入力シート(新人)'!$H16=\"\",\"\",'入力シート(新人)'!$H16)","v":""},{"$nulls":5},{"$f":"IF(L23<>\"\",VLOOKUP(EM23,部員データ,3,FALSE)&\"  \"&VLOOKUP(EM23,部員データ,4,FALSE),\"\")","v":""},{"$nulls":17},{"$f":"IF(L23<>\"\",VLOOKUP(EM23,部員データ,2,FALSE),\"\")","v":""},{"$nulls":3},{"$f":"IF('入力シート(新人)'!$H17=\"\",\"\",'入力シート(新人)'!$H17)","v":""},{"$nulls":5},{"$f":"IF(AN23<>\"\",VLOOKUP(EN23,部員データ,3,FALSE)&\"  \"&VLOOKUP(EN23,部員データ,4,FALSE),\"\")","v":""},{"$nulls":17},{"$f":"IF(AN23<>\"\",VLOOKUP(EN23,部員データ,2,FALSE),\"\")","v":""},{"$nulls":6},"共通",{"$nulls":9},{"$f":"IF('入力シート(新人)'!$H68=\"\",\"\",'入力シート(新人)'!$H68)","v":""},{"$nulls":5},{"$f":"IF(CC23<>\"\",VLOOKUP(EO23,部員データ,3,FALSE)&\"  \"&VLOOKUP(EO23,部員データ,4,FALSE),\"\")","v":""},{"$nulls":17},{"$f":"IF(CC23<>\"\",VLOOKUP(EO23,部員データ,2,FALSE),\"\")","v":""},{"$nulls":3},{"$f":"IF('入力シート(新人)'!$H69=\"\",\"\",'入力シート(新人)'!$H69)","v":""},{"$nulls":5},{"$f":"IF(DE23<>\"\",VLOOKUP(EP23,部員データ,3,FALSE)&\"  \"&VLOOKUP(EP23,部員データ,4,FALSE),\"\")","v":""},{"$nulls":17},{"$f":"IF(DE23<>\"\",VLOOKUP(EP23,部員データ,2,FALSE),\"\")","v":""},{"$nulls":9},"男","男","女","女","","","",""]
[null,"3000m",{"$nulls":15},{"$f":"IF(L23=\"\",\"\",IF('入力シート(新人)'!$K16=\"\",\"\",format_kiroku('入力シート(新人)'!$K16,$B24)))","v":""},{"$nulls":27},{"$f":"IF(AN23=\"\",\"\",IF('入力シート(新人)'!$K17=\"\",\"\",format_kiroku('入力シート(新人)'!$K17,$B24)))","v":""},{"$nulls":24},"走高跳",{"$nulls":15},{"$f":"IF(CC23=\"\",\"\",IF('入力シート(新人)'!$K68=\"\",\"\",format_kiroku('入力シート(新人)'!$K68,$BS24)))","v":""},{"$nulls":27},{"$f":"IF(DE23=\"\",\"\",IF('入力シート(新人)'!$K69=\"\",\"\",format_kiroku('入力シート(新人)'!$K69,$BS24)))","v":""},{"$nulls":31},"","","",""]
[null,"共通",{"$nulls":9},{"$f":"IF('入力シート(新人)'!$H18=\"\",\"\",'入力シート(新人)'!$H18)","v":""},{"$nulls":5},{"$f":"IF(L25<>\"\",VLOOKUP(EM25,部員データ,3,FALSE)&\"  \"&VLOOKUP(EM25,部員データ,4,FALSE),\"\")","v":""},{"$nulls":17},{"$f":"IF(L25<>\"\",VLOOKUP(EM25,部員データ,2,FALSE),\"\")","v":""},{"$nulls":3},{"$f":"IF('入力シート(新人)'!$H19=\"\",\"\",'入力シート(新人)'!$H19)","v":""},{"$nulls":5},{"$f":"IF(AN25<>\"\",VLOOKUP(EN25,部員データ,3,FALSE)&\"  \"&VLOOKUP(EN25,部員データ,4,FALSE),\"\")","v":""},{"$nulls":17},{"$f":"IF(AN25<>\"\",VLOOKUP(EN25,部員データ,2,FALSE),\"\")","v":""},{"$nulls":6},"●共通",{"$nulls":9},{"$f":"IF('入力シート(新人)'!$H70=\"\",\"\",'入力シート(新人)'!$H70)","v":""},{"$nulls":5},{"$f":"IF(CC25<>\"\",VLOOKUP(EO25,部員データ,3,FALSE)&\"  \"&VLOOKUP(EO25,部員データ,4,FALSE),\"\")","v":""},{"$nulls":17},{"$f":"IF(CC25<>\"\",VLOOKUP(EO25,部員データ,2,FALSE),\"\")","v":""},{"$nulls":3},{"$f":"IF('入力シート(新人)'!$H71=\"\",\"\",'入力シート(新人)'!$H71)","v":""},{"$nulls":5},{"$f":"IF(DE25<>\"\",VLOOKUP(EP25,部員データ,3,FALSE)&\"  \"&VLOOKUP(EP25,部員データ,4,FALSE),\"\")","v":""},{"$nulls":17},{"$f":"IF(DE25<>\"\",VLOOKUP(EP25,部員データ,2,FALSE),\"\")","v":""},{"$nulls":9},"男","男","女","女",{"$f":"IF(OR(EM25=\"男\",EM25=\"\"),\"\",COUNTIF($EM$9:$EN$42,EM25))","v":""},"",{"$f":"IF(OR(EO25=\"女\",EO25=\"\"),\"\",COUNTIF($EO$9:$EP$39,EO25))","v":""},""]
[null,"110mＨ",{"$nulls":15},{"$f":"IF(L25=\"\",\"\",IF('入力シート(新人)'!$K18=\"\",\"\",format_kiroku('入力シート(新人)'!$K18,$B26)))","v":""},{"$nulls":27},{"$f":"IF(AN25=\"\",\"\",IF('入力シート(新人)'!$K19=\"\",\"\",format_kiroku('入力シート(新人)'!$K19,$B26)))","v":""},{"$nulls":24},"走幅跳",{"$nulls":15},{"$f":"IF(CC25=\"\",\"\",IF('入力シート(新人)'!$K70=\"\",\"\",format_kiroku('入力シート(新人)'!$K70,$BS26)))","v":""},{"$nulls":27},{"$f":"IF(DE25=\"\",\"\",IF('入力シート(新人)'!$K71=\"\",\"\",format_kiroku('入力シート(新人)'!$K71,$BS26)))","v":""},{"$nulls":31},"","","",""]
[null,"共通",{"$nulls":9},{"$f":"IF('入力シート(新人)'!$H26=\"\",\"\",'入力シート(新人)'!$H26)","v":""},{"$nulls":5},{"$f":"IF(L27<>\"\",VLOOKUP(EM27,部員データ,3,FALSE)&\"  \"&VLOOKUP(EM27,部員データ,4,FALSE),\"\")","v":""},{"$nulls":17},{"$f":"IF(L27<>\"\",VLOOKUP(EM27,部員データ,2,FALSE),\"\")","v":""},{"$nulls":3},{"$f":"IF('入力シート(新人)'!$H27=\"\",\"\",'入力シート(新人)'!$H27)","v":""},{"$nulls":5},{"$f":"IF(AN27<>\"\",VLOOKUP(EN27,部員データ,3,FALSE)&\"  \"&VLOOKUP(EN27,部員データ,4,FALSE),\"\")","v":""},{"$nulls":17},{"$f":"IF(AN27<>\"\",VLOOKUP(EN27,部員データ,2,FALSE),\"\")","v":""},{"$nulls":6},"共通",{"$nulls":9},{"$f":"IF('入力シート(新人)'!$H72=\"\",\"\",'入力シート(新人)'!$H72)","v":""},{"$nulls":5},{"$f":"IF(CC27<>\"\",VLOOKUP(EO27,部員データ,3,FALSE)&\"  \"&VLOOKUP(EO27,部員データ,4,FALSE),\"\")","v":""},{"$nulls":17},{"$f":"IF(CC27<>\"\",VLOOKUP(EO27,部員データ,2,FALSE),\"\")","v":""},{"$nulls":3},{"$f":"IF('入力シート(新人)'!$H73=\"\",\"\",'入力シート(新人)'!$H73)","v":""},{"$nulls":5},{"$f":"IF(DE27<>\"\",VLOOKUP(EP27,部員データ,3,FALSE)&\"  \"&VLOOKUP(EP27,部員データ,4,FALSE),\"\")","v":""},{"$nulls":17},{"$f":"IF(DE27<>\"\",VLOOKUP(EP27,部員データ,2,FALSE),\"\")","v":""},{"$nulls":9},"男","男","女","女","","","",""]
[null,"走高跳",{"$nulls":15},{"$f":"IF(L27=\"\",\"\",IF('入力シート(新人)'!$K26=\"\",\"\",format_kiroku('入力シート(新人)'!$K26,$B28)))","v":""},{"$nulls":27},{"$f":"IF(AN27=\"\",\"\",IF('入力シート(新人)'!$K27=\"\",\"\",format_kiroku('入力シート(新人)'!$K27,$B28)))","v":""},{"$nulls":24},"砲丸投",{"$nulls":15},{"$f":"IF(CC27=\"\",\"\",IF('入力シート(新人)'!$K72=\"\",\"\",format_kiroku('入力シート(新人)'!$K72,$BS28)))","v":""},{"$nulls":27},{"$f":"IF(DE27=\"\",\"\",IF('入力シート(新人)'!$K73=\"\",\"\",format_kiroku('入力シート(新人)'!$K73,$BS28)))","v":""},{"$nulls":31},"","","",""]
[null,"●共通",{"$nulls":9},{"$f":"IF('入力シート(新人)'!$H28=\"\",\"\",'入力シート(新人)'!$H28)","v":""},{"$nulls":5},{"$f":"IF(L29<>\"\",VLOOKUP(EM29,部員データ,3,FALSE)&\"  \"&VLOOKUP(EM29,部員データ,4,FALSE),\"\")","v":""},{"$nulls":17},{"$f":"IF(L29<>\"\",VLOOKUP(EM29,部員データ,2,FALSE),\"\")","v":""},{"$nulls":3},{"$f":"IF('入力シート(新人)'!$H29=\"\",\"\",'入力シート(新人)'!$H29)","v":""},{"$nulls":5},{"$f":"IF(AN29<>\"\",VLOOKUP(EN29,部員データ,3,FALSE)&\"  \"&VLOOKUP(EN29,部員データ,4,FALSE),\"\")","v":""},{"$nulls":17},{"$f":"IF(AN29<>\"\",VLOOKUP(EN29,部員データ,2,FALSE),\"\")","v":""},{"$nulls":6},"●共通",{"$nulls":9},{"$f":"IF('入力シート(新人)'!$H74=\"\",\"\",'入力シート(新人)'!$H74)","v":""},{"$nulls":5},{"$f":"IF(CC29<>\"\",VLOOKUP(EO29,部員データ,3,FALSE)&\"  \"&VLOOKUP(EO29,部員データ,4,FALSE),\"\")","v":""},{"$nulls":17},{"$f":"IF(CC29<>\"\",VLOOKUP(EO29,部員データ,2,FALSE),\"\")","v":""},{"$nulls":3},{"$f":"IF('入力シート(新人)'!$H75=\"\",\"\",'入力シート(新人)'!$H75)","v":""},{"$nulls":5},{"$f":"IF(DE29<>\"\",VLOOKUP(EP29,部員データ,3,FALSE)&\"  \"&VLOOKUP(EP29,部員データ,4,FALSE),\"\")","v":""},{"$nulls":17},{"$f":"IF(DE29<>\"\",VLOOKUP(EP29,部員データ,2,FALSE),\"\")","v":""},{"$nulls":9},"男","男","女","女","","","",""]
[null,"棒高跳",{"$nulls":15},{"$f":"IF(L29=\"\",\"\",IF('入力シート(新人)'!$K28=\"\",\"\",format_kiroku('入力シート(新人)'!$K28,$B30)))","v":""},{"$nulls":27},{"$f":"IF(AN29=\"\",\"\",IF('入力シート(新人)'!$K29=\"\",\"\",format_kiroku('入力シート(新人)'!$K29,$B30)))","v":""},{"$nulls":24},"円盤投",{"$nulls":15},{"$f":"IF(CC29=\"\",\"\",IF('入力シート(新人)'!$K74=\"\",\"\",format_kiroku('入力シート(新人)'!$K74,$BS30)))","v":""},{"$nulls":27},{"$f":"IF(DE29=\"\",\"\",IF('入力シート(新人)'!$K75=\"\",\"\",format_kiroku('入力シート(新人)'!$K75,$BS30)))","v":""},{"$nulls":31},"","","",""]
[null,"●共通",{"$nulls":9},{"$f":"IF('入力シート(新人)'!$H30=\"\",\"\",'入力シート(新人)'!$H30)","v":""},{"$nulls":5},{"$f":"IF(L31<>\"\",VLOOKUP(EM31,部員データ,3,FALSE)&\"  \"&VLOOKUP(EM31,部員データ,4,FALSE),\"\")","v":""},{"$nulls":17},{"$f":"IF(L31<>\"\",VLOOKUP(EM31,部員データ,2,FALSE),\"\")","v":""},{"$nulls":3},{"$f":"IF('入力シート(新人)'!$H31=\"\",\"\",'入力シート(新人)'!$H31)","v":""},{"$nulls":5},{"$f":"IF(AN31<>\"\",VLOOKUP(EN31,部員データ,3,FALSE)&\"  \"&VLOOKUP(EN31,部員データ,4,FALSE),\"\")","v":""},{"$nulls":17},{"$f":"IF(AN31<>\"\",VLOOKUP(EN31,部員データ,2,FALSE),\"\")","v":""},{"$nulls":6},"●共通",{"$nulls":9},{"$f":"IF('入力シート(新人)'!$H76=\"\",\"\",'入力シート(新人)'!$H76)","v":""},{"$nulls":5},{"$f":"IF(CC31<>\"\",VLOOKUP(EO31,部員データ,3,FALSE)&\"  \"&VLOOKUP(EO31,部員データ,4,FALSE),\"\")","v":""},{"$nulls":17},{"$f":"IF(CC31<>\"\",VLOOKUP(EO31,部員データ,2,FALSE),\"\")","v":""},{"$nulls":3},{"$f":"IF('入力シート(新人)'!$H81=\"\",\"\",'入力シート(新人)'!$H81)","v":""},{"$nulls":5},{"$f":"IF(DE31<>\"\",VLOOKUP(EP31,部員データ,3,FALSE)&\"  \"&VLOOKUP(EP31,部員データ,4,FALSE),\"\")","v":""},{"$nulls":17},{"$f":"IF(DE31<>\"\",VLOOKUP(EP31,部員データ,2,FALSE),\"\")","v":""},{"$nulls":9},"男","男","女","女","","","",""]
[null,"走幅跳",{"$nulls":15},{"$f":"IF(L31=\"\",\"\",IF('入力シート(新人)'!$K30=\"\",\"\",format_kiroku('入力シート(新人)'!$K30,$B32)))","v":""},{"$nulls":27},{"$f":"IF(AN31=\"\",\"\",IF('入力シート(新人)'!$K31=\"\",\"\",format_kiroku('入力シート(新人)'!$K31,$B32)))","v":""},{"$nulls":24},"四種競技",{"$nulls":15},{"$f":"IF(CC31=\"\",\"\",IF('入力シート(新人)'!$K76=\"\",\"\",format_kiroku('入力シート(新人)'!$K76,$BS32)))","v":""},{"$nulls":27},{"$f":"IF(DE31=\"\",\"\",IF('入力シート(新人)'!$K81=\"\",\"\",format_kiroku('入力シート(新人)'!$K81,$BS32)))","v":""},{"$nulls":31},"","","",""]
[null,"共通",{"$nulls":9},{"$f":"IF('入力シート(新人)'!$H32=\"\",\"\",'入力シート(新人)'!$H32)","v":""},{"$nulls":5},{"$f":"IF(L33<>\"\",VLOOKUP(EM33,部員データ,3,FALSE)&\"  \"&VLOOKUP(EM33,部員データ,4,FALSE),\"\")","v":""},{"$nulls":17},{"$f":"IF(L33<>\"\",VLOOKUP(EM33,部員データ,2,FALSE),\"\")","v":""},{"$nulls":3},{"$f":"IF('入力シート(新人)'!$H33=\"\",\"\",'入力シート(新人)'!$H33)","v":""},{"$nulls":5},{"$f":"IF(AN33<>\"\",VLOOKUP(EN33,部員データ,3,FALSE)&\"  \"&VLOOKUP(EN33,部員データ,4,FALSE),\"\")","v":""},{"$nulls":17},{"$f":"IF(AN33<>\"\",VLOOKUP(EN33,部員データ,2,FALSE),\"\")","v":""},{"$nulls":6},"共通\n4×100mR",{"$nulls":9},{"$f":"IF('入力シート(新人)'!$H62=\"\",\"\",'入力シート(新人)'!$H62)","v":""},{"$nulls":5},{"$f":"IF(CC33<>\"\",VLOOKUP(EO33,部員データ,3,FALSE)&\"  \"&VLOOKUP(EO33,部員データ,4,FALSE),\"\")","v":""},{"$nulls":17},{"$f":"IF(CC33<>\"\",VLOOKUP(EO33,部員データ,2,FALSE),\"\")","v":""},{"$nulls":3},{"$f":"IF('入力シート(新人)'!$H63=\"\",\"\",'入力シート(新人)'!$H63)","v":""},{"$nulls":5},{"$f":"IF(DE33<>\"\",VLOOKUP(EP33,部員データ,3,FALSE)&\"  \"&VLOOKUP(EP33,部員データ,4,FALSE),\"\")","v":""},{"$nulls":17},{"$f":"IF(DE33<>\"\",VLOOKUP(EP33,部員データ,2,FALSE),\"\")","v":""},{"$nulls":9},"男","男","女","女","","","",""]
[null,"三段跳",{"$nulls":15},{"$f":"IF(L33=\"\",\"\",IF('入力シート(新人)'!$K32=\"\",\"\",format_kiroku('入力シート(新人)'!$K32,$B34)))","v":""},{"$nulls":27},{"$f":"IF(AN33=\"\",\"\",IF('入力シート(新人)'!$K33=\"\",\"\",format_kiroku('入力シート(新人)'!$K33,$B34)))","v":""},{"$nulls":100},"","","",""]
[null,"共通",{"$nulls":9},{"$f":"IF('入力シート(新人)'!$H34=\"\",\"\",'入力シート(新人)'!$H34)","v":""},{"$nulls":5},{"$f":"IF(L35<>\"\",VLOOKUP(EM35,部員データ,3,FALSE)&\"  \"&VLOOKUP(EM35,部員データ,4,FALSE),\"\")","v":""},{"$nulls":17},{"$f":"IF(L35<>\"\",VLOOKUP(EM35,部員データ,2,FALSE),\"\")","v":""},{"$nulls":3},{"$f":"IF('入力シート(新人)'!$H35=\"\",\"\",'入力シート(新人)'!$H35)","v":""},{"$nulls":5},{"$f":"IF(AN35<>\"\",VLOOKUP(EN35,部員データ,3,FALSE)&\"  \"&VLOOKUP(EN35,部員データ,4,FALSE),\"\")","v":""},{"$nulls":17},{"$f":"IF(AN35<>\"\",VLOOKUP(EN35,部員データ,2,FALSE),\"\")","v":""},{"$nulls":16},{"$f":"IF('入力シート(新人)'!$H64=\"\",\"\",'入力シート(新人)'!$H64)","v":""},{"$nulls":5},{"$f":"IF(CC35<>\"\",VLOOKUP(EO35,部員データ,3,FALSE)&\"  \"&VLOOKUP(EO35,部員データ,4,FALSE),\"\")","v":""},{"$nulls":17},{"$f":"IF(CC35<>\"\",VLOOKUP(EO35,部員データ,2,FALSE),\"\")","v":""},{"$nulls":3},{"$f":"IF('入力シート(新人)'!$H65=\"\",\"\",'入力シート(新人)'!$H65)","v":""},{"$nulls":5},{"$f":"IF(DE35<>\"\",VLOOKUP(EP35,部員データ,3,FALSE)&\"  \"&VLOOKUP(EP35,部員データ,4,FALSE),\"\")","v":""},{"$nulls":17},{"$f":"IF(DE35<>\"\",VLOOKUP(EP35,部員データ,2,FALSE),\"\")","v":""},{"$nulls":5},{"$f":"COUNTA(L9:Q37,AN9:AS37)","v":30},{"$f":"COUNTA(CC9:CH29,DE9:DJ29)","v":22},null,null,"男","男","女","女","","","",""]
[null,"砲丸投",{"$nulls":15},{"$f":"IF(L35=\"\",\"\",IF('入力シート(新人)'!$K34=\"\",\"\",format_kiroku('入力シート(新人)'!$K34,$B36)))","v":""},{"$nulls":27},{"$f":"IF(AN35=\"\",\"\",IF('入力シート(新人)'!$K35=\"\",\"\",format_kiroku('入力シート(新人)'!$K35,$B36)))","v":""},{"$nulls":100},"","","",""]
[null,"●共通",{"$nulls":9},{"$f":"IF('入力シート(新人)'!$H36=\"\",\"\",'入力シート(新人)'!$H36)","v":""},{"$nulls":5},{"$f":"IF(L37<>\"\",VLOOKUP(EM37,部員データ,3,FALSE)&\"  \"&VLOOKUP(EM37,部員データ,4,FALSE),\"\")","v":""},{"$nulls":17},{"$f":"IF(L37<>\"\",VLOOKUP(EM37,部員データ,2,FALSE),\"\")","v":""},{"$nulls":3},{"$f":"IF('入力シート(新人)'!$H37=\"\",\"\",'入力シート(新人)'!$H37)","v":""},{"$nulls":5},{"$f":"IF(AN37<>\"\",VLOOKUP(EN37,部員データ,3,FALSE)&\"  \"&VLOOKUP(EN37,部員データ,4,FALSE),\"\")","v":""},{"$nulls":17},{"$f":"IF(AN37<>\"\",VLOOKUP(EN37,部員データ,2,FALSE),\"\")","v":""},{"$nulls":16},{"$f":"IF('入力シート(新人)'!$H66=\"\",\"\",'入力シート(新人)'!$H66)","v":""},{"$nulls":5},{"$f":"IF(CC37<>\"\",VLOOKUP(EO37,部員データ,3,FALSE)&\"  \"&VLOOKUP(EO37,部員データ,4,FALSE),\"\")","v":""},{"$nulls":17},{"$f":"IF(CC37<>\"\",VLOOKUP(EO37,部員データ,2,FALSE),\"\")","v":""},{"$nulls":3},{"$f":"IF('入力シート(新人)'!$H67=\"\",\"\",'入力シート(新人)'!$H67)","v":""},{"$nulls":5},{"$f":"IF(DE37<>\"\",VLOOKUP(EP37,部員データ,3,FALSE)&\"  \"&VLOOKUP(EP37,部員データ,4,FALSE),\"\")","v":""},{"$nulls":17},{"$f":"IF(DE37<>\"\",VLOOKUP(EP37,部員データ,2,FALSE),\"\")","v":""},{"$nulls":5},{"$f":"COUNTA(L39,AN39)","v":2},{"$f":"COUNTA(CC31,DE31)","v":2},null,null,"男","男","女","女","","","",""]
[null,"円盤投",{"$nulls":15},{"$f":"IF(L37=\"\",\"\",IF('入力シート(新人)'!$K36=\"\",\"\",format_kiroku('入力シート(新人)'!$K36,$B38)))","v":""},{"$nulls":27},{"$f":"IF(AN37=\"\",\"\",IF('入力シート(新人)'!$K37=\"\",\"\",format_kiroku('入力シート(新人)'!$K37,$B38)))","v":""},{"$nulls":24},{"$f":"IF(CC33=\"\",\"\",IF('入力シート(新人)'!$K62=\"\",\"\",format_kiroku('入力シート(新人)'!$K62,$BS33)))","v":""},{"$nulls":75},"","","",""]
[null,"●共通",{"$nulls":9},{"$f":"IF('入力シート(新人)'!$H38=\"\",\"\",'入力シート(新人)'!$H38)","v":""},{"$nulls":5},{"$f":"IF(L39<>\"\",VLOOKUP(EM39,部員データ,3,FALSE)&\"  \"&VLOOKUP(EM39,部員データ,4,FALSE),\"\")","v":""},{"$nulls":17},{"$f":"IF(L39<>\"\",VLOOKUP(EM39,部員データ,2,FALSE),\"\")","v":""},{"$nulls":3},{"$f":"IF('入力シート(新人)'!$H43=\"\",\"\",'入力シート(新人)'!$H43)","v":""},{"$nulls":5},{"$f":"IF(AN39<>\"\",VLOOKUP(EN39,部員データ,3,FALSE)&\"  \"&VLOOKUP(EN39,部員データ,4,FALSE),\"\")","v":""},{"$nulls":17},{"$f":"IF(AN39<>\"\",VLOOKUP(EN39,部員データ,2,FALSE),\"\")","v":""},{"$nulls":74},{"$f":"COUNTA(L41)","v":1},{"$f":"COUNTA(CC33)","v":1},null,null,"男","男",null,null,"","","",""]
[null,"四種競技",{"$nulls":15},{"$f":"IF(L39=\"\",\"\",IF('入力シート(新人)'!$K32=\"\",\"\",format_kiroku('入力シート(新人)'!$K38,$B40)))","v":""},{"$nulls":27},{"$f":"IF(AN39=\"\",\"\",IF('入力シート(新人)'!$K33=\"\",\"\",format_kiroku('入力シート(新人)'!$K43,$B40)))","v":""},{"$nulls":100},"",""]
[null,"共通\n4×100mR",{"$nulls":9},{"$f":"IF('入力シート(新人)'!$H20=\"\",\"\",'入力シート(新人)'!$H20)","v":""},{"$nulls":5},{"$f":"IF(L41<>\"\",VLOOKUP(EM41,部員データ,3,FALSE)&\"  \"&VLOOKUP(EM41,部員データ,4,FALSE),\"\")","v":""},{"$nulls":17},{"$f":"IF(L41<>\"\",VLOOKUP(EM41,部員データ,2,FALSE),\"\")","v":""},{"$nulls":3},{"$f":"IF('入力シート(新人)'!$H21=\"\",\"\",'入力シート(新人)'!$H21)","v":""},{"$nulls":5},{"$f":"IF(AN41<>\"\",VLOOKUP(EN41,部員データ,3,FALSE)&\"  \"&VLOOKUP(EN41,部員データ,4,FALSE),\"\")","v":""},{"$nulls":17},{"$f":"IF(AN41<>\"\",VLOOKUP(EN41,部員データ,2,FALSE),\"\")","v":""},{"$nulls":8},{"$f":"振込月","v":0},{"$nulls":6},"月",{"$nulls":6},{"$f":"振込日","v":0},{"$nulls":6},"日",{"$nulls":6},{"$f":"郵便局","v":0},{"$nulls":16},"郵便局振込",{"$nulls":24},"男","男",null,null,"",""]
[]
[{"$nulls":11},{"$f":"IF('入力シート(新人)'!$H22=\"\",\"\",'入力シート(新人)'!$H22)","v":""},{"$nulls":5},{"$f":"IF(L43<>\"\",VLOOKUP(EM43,部員データ,3,FALSE)&\"  \"&VLOOKUP(EM43,部員データ,4,FALSE),\"\")","v":""},{"$nulls":17},{"$f":"IF(L43<>\"\",VLOOKUP(EM43,部員データ,2,FALSE),\"\")","v":""},{"$nulls":3},{"$f":"IF('入力シート(新人)'!$H23=\"\",\"\",'入力シート(新人)'!$H23)","v":""},{"$nulls":5},{"$f":"IF(AN43<>\"\",VLOOKUP(EN43,部員データ,3,FALSE)&\"  \"&VLOOKUP(EN43,部員データ,4,FALSE),\"\")","v":""},{"$nulls":17},{"$f":"IF(AN43<>\"\",VLOOKUP(EN43,部員データ,2,FALSE),\"\")","v":""},{"$nulls":8},"振込受領書貼り付け",{"$nulls":69},"男","男",null,null,{"$f":"COUNTIF($EQ$9:$ER$41,\">0\")","v":0},{"$f":"COUNTIF($EQ$9:$ER$41,\"2\")","v":0},{"$f":"COUNTIF($ES$9:$ET$39,\">0\")","v":0},{"$f":"COUNTIF($ES$9:$ET$39,\"2\")","v":0}]
[{"$nulls":147},{"$f":"COUNTIF($EQ$9:$ER$41,\"3\")","v":0},null,{"$f":"COUNTIF($ES$9:$ET$39,\"3\")","v":0}]
[{"$nulls":11},{"$f":"IF('入力シート(新人)'!$H24=\"\",\"\",'入力シート(新人)'!$H24)","v":""},{"$nulls":5},{"$f":"IF(L45<>\"\",VLOOKUP(EM45,部員データ,3,FALSE)&\"  \"&VLOOKUP(EM45,部員データ,4,FALSE),\"\")","v":""},{"$nulls":17},{"$f":"IF(L45<>\"\",VLOOKUP(EM45,部員データ,2,FALSE),\"\")","v":""},{"$nulls":3},{"$f":"IF('入力シート(新人)'!$H25=\"\",\"\",'入力シート(新人)'!$H25)","v":""},{"$nulls":5},{"$f":"IF(AN45<>\"\",VLOOKUP(EN45,部員データ,3,FALSE)&\"  \"&VLOOKUP(EN45,部員データ,4,FALSE),\"\")","v":""},{"$nulls":17},{"$f":"IF(AN45<>\"\",VLOOKUP(EN45,部員データ,2,FALSE),\"\")","v":""},{"$nulls":78},"男","男",{"$nulls":3},{"$f":"COUNTIF($EQ$9:$ER$41,\"4\")","v":0},null,{"$f":"COUNTIF($ES$9:$ET$39,\"4\")","v":0}]
[null,{"$f":"IF(L41=\"\",\"\",IF('入力シート(新人)'!$K20=\"\",\"\",format_kiroku('入力シート(新人)'!$K20,$B41)))","v":""},{"$nulls":144},{"$f":"EQ43-ER43/2","v":0},null,{"$f":"ES43-ET43/2-ET44/3-ET45/4","v":0}]
[]
[{"$nulls":11},"男子",{"$nulls":12},"女子",{"$nulls":12},"合計",{"$nulls":12},"申込料"]
[null,"個人種目",{"$nulls":9},{"$f":"COUNTIF(L9:Q38,\">=0\")+COUNTIF(AN9:AS38,\">=0\")","v":0},{"$nulls":6},"枚",{"$nulls":5},{"$f":"COUNTIF(CC9:CH30,\">=0\")+COUNTIF(DE9:DJ30,\">=0\")","v":0},{"$nulls":6},"枚",{"$nulls":5},{"$f":"L49+Y49","v":0},{"$nulls":6},"枚",{"$nulls":5},"400円",{"$nulls":5},"×",null,null,{"$f":"AL49","v":0},{"$nulls":6},"枚",null,null,"＝",null,null,{"$f":"400*BH49","v":0},{"$nulls":9},"円",{"$nulls":55},{"$f":"EI35+EJ35","v":52},{"$f":"EI49","v":52},{"$f":"EJ49*400","v":20800}]
[null,"四種競技",{"$nulls":9},{"$f":"COUNTIF(L39,\">=0\")+COUNTIF(AN39,\">=0\")","v":0},{"$nulls":6},"枚",{"$nulls":5},{"$f":"COUNTIF(CC31,\">=0\")+COUNTIF(DE31,\">=0\")","v":0},{"$nulls":6},"枚",{"$nulls":5},{"$f":"L50+Y50","v":0},{"$nulls":6},"枚",{"$nulls":5},"600円",{"$nulls":5},"×",null,null,{"$f":"AL50","v":0},{"$nulls":6},"枚",null,null,"＝",null,null,{"$f":"600*BH50","v":0},{"$nulls":9},"円",{"$nulls":55},{"$f":"EI37+EJ37","v":4},{"$f":"EI50","v":4},{"$f":"EJ50*600","v":2400}]
[null,"リレー種目",{"$nulls":9},{"$f":"IF(COUNTIF(L41:Q46,\">=0\")+COUNTIF(AN41:AS46,\">=0\")>=4,1,0)","v":0},{"$nulls":6},"チーム",{"$nulls":5},{"$f":"IF(COUNTIF(CC33:CH38,\">=0\")+COUNTIF(DE33:DJ38,\">=0\")>=4,1,0)","v":0},{"$nulls":6},"チーム",{"$nulls":5},{"$f":"L51+Y51","v":0},{"$nulls":6},"チーム",{"$nulls":5},"600円",{"$nulls":5},"×",null,null,{"$f":"AL51","v":0},{"$nulls":6},"枚",null,null,"＝",null,null,{"$f":"600*BH51","v":0},{"$nulls":9},"円",{"$nulls":55},{"$f":"EI39+EJ39","v":2},{"$f":"EI51","v":2},{"$f":"EJ51*600","v":1200}]
[null,"実参加人数",{"$nulls":9},{"$f":"D_参加数","v":0},{"$nulls":6},"人",{"$nulls":5},{"$f":"J_参加数","v":0},{"$nulls":6},"人",{"$nulls":5},{"$f":"L52+Y52","v":0},{"$nulls":6},"人",{"$nulls":5},"合計金額",{"$nulls":10},{"$f":"SUM(BU49:CD51)","v":0},{"$nulls":20},"円",{"$nulls":55},{"$f":"L52+Y52","v":0},{"$f":"EI52","v":0},{"$f":"SUM(EK49:EK51)","v":24400}]
[]
[{"$nulls":4},"上記の生徒を本校代表として、参加を認めます。また、本競技大会の参加申し込みに際し、大会要項記載内容を確認し、個人情報の取り扱いについて同意を得ています。"]
[]
[{"$nulls":4},"平成",{"$nulls":5},{"$f":"TEXT(TODAY(),\"e\")","v":"28"},{"$nulls":5},"年",{"$nulls":3},{"$f":"TEXT(TODAY(),\"m\")","v":"8"},{"$nulls":7},"月",{"$nulls":3},{"$f":"TEXT(TODAY(),\"d\")","v":"17"},{"$nulls":9},"日",{"$nulls":5},{"$f":"学校名","v":0},{"$nulls":20},"中学校",{"$nulls":11},"学校長",{"$nulls":12},{"$f":"学校長","v":"　"},{"$nulls":33},"印"]
[]
[null,null,"審判員",{"$nulls":8},"（",null,{"$f":"IF(基礎データ!$N21=TRUE,基礎データ!$N17,\"\")","v":""},{"$nulls":24},"）",{"$nulls":3},"（",null,{"$f":"IF(基礎データ!$N22=TRUE,基礎データ!$N18,\"\")","v":""},{"$nulls":24},"）",{"$nulls":3},"（",null,{"$f":"IF(基礎データ!$N23=TRUE,基礎データ!$N19,\"\")","v":""},{"$nulls":24},"）",{"$nulls":3},"（",null,{"$f":"IF(基礎データ!$N24=TRUE,基礎データ!$N20,\"\")","v":""},{"$nulls":24},"）"]
[]
[{"$nulls":3},"注　審判員が不足していますので、顧問全員の方に審判を依頼します。審判員の箇所には顧問全員の氏名を記入してください。"]

{"sheet":"送信データ(新人)","index":12,"n_rows":233,"n_cols":71,"rows_kept":233,"hidden":true}
["大会コード","性別","学年","競技種目コード","学校コード","性別1","選手コード","組","レーン","エントリ記録","当日記録","順位","条件項目","計測区分","未記録区分","大会順位"]
[{"$f":"IF('入力シート(新人)'!$H2=\"\",\"\",\"4000005\")","v":""},{"$f":"IF('入力シート(新人)'!$H2=\"\",\"\",IF('入力シート(新人)'!$B2=\"男\",0,1))","v":""},{"$f":"IF('入力シート(新人)'!$H2=\"\",\"\",'入力シート(新人)'!C2)","v":""},{"$f":"IF('入力シート(新人)'!$H2=\"\",\"\",TEXT('入力シート(新人)'!$E2,\"000\"))","v":""},{"$f":"IF('入力シート(新人)'!$H2=\"\",\"\",学校番号)","v":""},{"$f":"IF('入力シート(新人)'!$H2=\"\",\"\",B2)","v":""},{"$f":"IF('入力シート(新人)'!$H2=\"\",\"\",TEXT('入力シート(新人)'!$H2,\"00\"))","v":""},null,null,{"$f":"IF('入力シート(新人)'!$H2=\"\",\"\",IF('入力シート(新人)'!K2=\"\",\"\",'入力シート(新人)'!K2))","v":""},{"$nulls":3},{"$f":"IF('入力シート(新人)'!$H2=\"\",\"\",IF('入力シート(新人)'!L2=\"\",\"\",IF('入力シート(新人)'!L2=\"電気\",0,1)))","v":""}]
[{"$f":"IF('入力シート(新人)'!$H3=\"\",\"\",\"4000005\")","v":""},{"$f":"IF('入力シート(新人)'!$H3=\"\",\"\",IF('入力シート(新人)'!$B3=\"男\",0,1))","v":""},{"$f":"IF('入力シート(新人)'!$H3=\"\",\"\",'入力シート(新人)'!C3)","v":""},{"$f":"IF('入力シート(新人)'!$H3=\"\",\"\",TEXT('入力シート(新人)'!$E3,\"000\"))","v":""},{"$f":"IF('入力シート(新人)'!$H3=\"\",\"\",学校番号)","v":""},{"$f":"IF('入力シート(新人)'!$H3=\"\",\"\",B3)","v":""},{"$f":"IF('入力シート(新人)'!$H3=\"\",\"\",TEXT('入力シート(新人)'!$H3,\"00\"))","v":""},null,null,{"$f":"IF('入力シート(新人)'!$H3=\"\",\"\",IF('入力シート(新人)'!K3=\"\",\"\",'入力シート(新人)'!K3))","v":""},{"$nulls":3},{"$f":"IF('入力シート(新人)'!$H3=\"\",\"\",IF('入力シート(新人)'!L3=\"\",\"\",IF('入力シート(新人)'!L3=\"電気\",0,1)))","v":""}]
[{"$f":"IF('入力シート(新人)'!$H4=\"\",\"\",\"4000005\")","v":""},{"$f":"IF('入力シート(新人)'!$H4=\"\",\"\",IF('入力シート(新人)'!$B4=\"男\",0,1))","v":""},{"$f":"IF('入力シート(新人)'!$H4=\"\",\"\",'入力シート(新人)'!C4)","v":""},{"$f":"IF('入力シート(新人)'!$H4=\"\",\"\",TEXT('入力シート(新人)'!$E4,\"000\"))","v":""},{"$f":"IF('入力シート(新人)'!$H4=\"\",\"\",学校番号)","v":""},{"$f":"IF('入力シート(新人)'!$H4=\"\",\"\",B4)","v":""},{"$f":"IF('入力シート(新人)'!$H4=\"\",\"\",TEXT('入力シート(新人)'!$H4,\"00\"))","v":""},null,null,{"$f":"IF('入力シート(新人)'!$H4=\"\",\"\",IF('入力シート(新人)'!K4=\"\",\"\",'入力シート(新人)'!K4))","v":""},{"$nulls":3},{"$f":"IF('入力シート(新人)'!$H4=\"\",\"\",IF('入力シート(新人)'!L4=\"\",\"\",IF('入力シート(新人)'!L4=\"電気\",0,1)))","v":""}]
[{"$f":"IF('入力シート(新人)'!$H5=\"\",\"\",\"4000005\")","v":""},{"$f":"IF('入力シート(新人)'!$H5=\"\",\"\",IF('入力シート(新人)'!$B5=\"男\",0,1))","v":""},{"$f":"IF('入力シート(新人)'!$H5=\"\",\"\",'入力シート(新人)'!C5)","v":""},{"$f":"IF('入力シート(新人)'!$H5=\"\",\"\",TEXT('入力シート(新人)'!$E5,\"000\"))","v":""},{"$f":"IF('入力シート(新人)'!$H5=\"\",\"\",学校番号)","v":""},{"$f":"IF('入力シート(新人)'!$H5=\"\",\"\",B5)","v":""},{"$f":"IF('入力シート(新人)'!$H5=\"\",\"\",TEXT('入力シート(新人)'!$H5,\"00\"))","v":""},null,null,{"$f":"IF('入力シート(新人)'!$H5=\"\",\"\",IF('入力シート(新人)'!K5=\"\",\"\",'入力シート(新人)'!K5))","v":""},{"$nulls":3},{"$f":"IF('入力シート(新人)'!$H5=\"\",\"\",IF('入力シート(新人)'!L5=\"\",\"\",IF('入力シート(新人)'!L5=\"電気\",0,1)))","v":""}]
[{"$f":"IF('入力シート(新人)'!$H6=\"\",\"\",\"4000005\")","v":""},{"$f":"IF('入力シート(新人)'!$H6=\"\",\"\",IF('入力シート(新人)'!$B6=\"男\",0,1))","v":""},{"$f":"IF('入力シート(新人)'!$H6=\"\",\"\",'入力シート(新人)'!C6)","v":""},{"$f":"IF('入力シート(新人)'!$H6=\"\",\"\",TEXT('入力シート(新人)'!$E6,\"000\"))","v":""},{"$f":"IF('入力シート(新人)'!$H6=\"\",\"\",学校番号)","v":""},{"$f":"IF('入力シート(新人)'!$H6=\"\",\"\",B6)","v":""},{"$f":"IF('入力シート(新人)'!$H6=\"\",\"\",TEXT('入力シート(新人)'!$H6,\"00\"))","v":""},null,null,{"$f":"IF('入力シート(新人)'!$H6=\"\",\"\",IF('入力シート(新人)'!K6=\"\",\"\",'入力シート(新人)'!K6))","v":""},{"$nulls":3},{"$f":"IF('入力シート(新人)'!$H6=\"\",\"\",IF('入力シート(新人)'!L6=\"\",\"\",IF('入力シート(新人)'!L6=\"電気\",0,1)))","v":""}]
[{"$f":"IF('入力シート(新人)'!$H7=\"\",\"\",\"4000005\")","v":""},{"$f":"IF('入力シート(新人)'!$H7=\"\",\"\",IF('入力シート(新人)'!$B7=\"男\",0,1))","v":""},{"$f":"IF('入力シート(新人)'!$H7=\"\",\"\",'入力シート(新人)'!C7)","v":""},{"$f":"IF('入力シート(新人)'!$H7=\"\",\"\",TEXT('入力シート(新人)'!$E7,\"000\"))","v":""},{"$f":"IF('入力シート(新人)'!$H7=\"\",\"\",学校番号)","v":""},{"$f":"IF('入力シート(新人)'!$H7=\"\",\"\",B7)","v":""},{"$f":"IF('入力シート(新人)'!$H7=\"\",\"\",TEXT('入力シート(新人)'!$H7,\"00\"))","v":""},null,null,{"$f":"IF('入力シート(新人)'!$H7=\"\",\"\",IF('入力シート(新人)'!K7=\"\",\"\",'入力シート(新人)'!K7))","v":""},{"$nulls":3},{"$f":"IF('入力シート(新人)'!$H7=\"\",\"\",IF('入力シート(新人)'!L7=\"\",\"\",IF('入力シート(新人)'!L7=\"電気\",0,1)))","v":""}]
[{"$f":"IF('入力シート(新人)'!$H8=\"\",\"\",\"4000005\")","v":""},{"$f":"IF('入力シート(新人)'!$H8=\"\",\"\",IF('入力シート(新人)'!$B8=\"男\",0,1))","v":""},{"$f":"IF('入力シート(新人)'!$H8=\"\",\"\",'入力シート(新人)'!C8)","v":""},{"$f":"IF('入力シート(新人)'!$H8=\"\",\"\",TEXT('入力シート(新人)'!$E8,\"000\"))","v":""},{"$f":"IF('入力シート(新人)'!$H8=\"\",\"\",学校番号)","v":""},{"$f":"IF('入力シート(新人)'!$H8=\"\",\"\",B8)","v":""},{"$f":"IF('入力シート(新人)'!$H8=\"\",\"\",TEXT('入力シート(新人)'!$H8,\"00\"))","v":""},null,null,{"$f":"IF('入力シート(新人)'!$H8=\"\",\"\",IF('入力シート(新人)'!K8=\"\",\"\",'入力シート(新人)'!K8))","v":""},{"$nulls":3},{"$f":"IF('入力シート(新人)'!$H8=\"\",\"\",IF('入力シート(新人)'!L8=\"\",\"\",IF('入力シート(新人)'!L8=\"電気\",0,1)))","v":""}]
[{"$f":"IF('入力シート(新人)'!$H9=\"\",\"\",\"4000005\")","v":""},{"$f":"IF('入力シート(新人)'!$H9=\"\",\"\",IF('入力シート(新人)'!$B9=\"男\",0,1))","v":""},{"$f":"IF('入力シート(新人)'!$H9=\"\",\"\",'入力シート(新人)'!C9)","v":""},{"$f":"IF('入力シート(新人)'!$H9=\"\",\"\",TEXT('入力シート(新人)'!$E9,\"000\"))","v":""},{"$f":"IF('入力シート(新人)'!$H9=\"\",\"\",学校番号)","v":""},{"$f":"IF('入力シート(新人)'!$H9=\"\",\"\",B9)","v":""},{"$f":"IF('入力シート(新人)'!$H9=\"\",\"\",TEXT('入力シート(新人)'!$H9,\"00\"))","v":""},null,null,{"$f":"IF('入力シート(新人)'!$H9=\"\",\"\",IF('入力シート(新人)'!K9=\"\",\"\",'入力シート(新人)'!K9))","v":""},{"$nulls":3},{"$f":"IF('入力シート(新人)'!$H9=\"\",\"\",IF('入力シート(新人)'!L9=\"\",\"\",IF('入力シート(新人)'!L9=\"電気\",0,1)))","v":""}]
[{"$f":"IF('入力シート(新人)'!$H10=\"\",\"\",\"4000005\")","v":""},{"$f":"IF('入力シート(新人)'!$H10=\"\",\"\",IF('入力シート(新人)'!$B10=\"男\",0,1))","v":""},{"$f":"IF('入力シート(新人)'!$H10=\"\",\"\",'入力シート(新人)'!C10)","v":""},{"$f":"IF('入力シート(新人)'!$H10=\"\",\"\",TEXT('入力シート(新人)'!$E10,\"000\"))","v":""},{"$f":"IF('入力シート(新人)'!$H10=\"\",\"\",学校番号)","v":""},{"$f":"IF('入力シート(新人)'!$H10=\"\",\"\",B10)","v":""},{"$f":"IF('入力シート(新人)'!$H10=\"\",\"\",TEXT('入力シート(新人)'!$H10,\"00\"))","v":""},null,null,{"$f":"IF('入力シート(新人)'!$H10=\"\",\"\",IF('入力シート(新人)'!K10=\"\",\"\",'入力シート(新人)'!K10))","v":""},{"$nulls":3},{"$f":"IF('入力シート(新人)'!$H10=\"\",\"\",IF('入力シート(新人)'!L10=\"\",\"\",IF('入力シート(新人)'!L10=\"電気\",0,1)))","v":""}]
[{"$f":"IF('入力シート(新人)'!$H11=\"\",\"\",\"4000005\")","v":""},{"$f":"IF('入力シート(新人)'!$H11=\"\",\"\",IF('入力シート(新人)'!$B11=\"男\",0,1))","v":""},{"$f":"IF('入力シート(新人)'!$H11=\"\",\"\",'入力シート(新人)'!C11)","v":""},{"$f":"IF('入力シート(新人)'!$H11=\"\",\"\",TEXT('入力シート(新人)'!$E11,\"000\"))","v":""},{"$f":"IF('入力シート(新人)'!$H11=\"\",\"\",学校番号)","v":""},{"$f":"IF('入力シート(新人)'!$H11=\"\",\"\",B11)","v":""},{"$f":"IF('入力シート(新人)'!$H11=\"\",\"\",TEXT('入力シート(新人)'!$H11,\"00\"))","v":""},null,null,{"$f":"IF('入力シート(新人)'!$H11=\"\",\"\",IF('入力シート(新人)'!K11=\"\",\"\",'入力シート(新人)'!K11))","v":""},{"$nulls":3},{"$f":"IF('入力シート(新人)'!$H11=\"\",\"\",IF('入力シート(新人)'!L11=\"\",\"\",IF('入力シート(新人)'!L11=\"電気\",0,1)))","v":""}]
[{"$f":"IF('入力シート(新人)'!$H12=\"\",\"\",\"4000005\")","v":""},{"$f":"IF('入力シート(新人)'!$H12=\"\",\"\",IF('入力シート(新人)'!$B12=\"男\",0,1))","v":""},{"$f":"IF('入力シート(新人)'!$H12=\"\",\"\",'入力シート(新人)'!C12)","v":""},{"$f":"IF('入力シート(新人)'!$H12=\"\",\"\",TEXT('入力シート(新人)'!$E12,\"000\"))","v":""},{"$f":"IF('入力シート(新人)'!$H12=\"\",\"\",学校番号)","v":""},{"$f":"IF('入力シート(新人)'!$H12=\"\",\"\",B12)","v":""},{"$f":"IF('入力シート(新人)'!$H12=\"\",\"\",TEXT('入力シート(新人)'!$H12,\"00\"))","v":""},null,null,{"$f":"IF('入力シート(新人)'!$H12=\"\",\"\",IF('入力シート(新人)'!K12=\"\",\"\",'入力シート(新人)'!K12))","v":""},{"$nulls":3},{"$f":"IF('入力シート(新人)'!$H12=\"\",\"\",IF('入力シート(新人)'!L12=\"\",\"\",IF('入力シート(新人)'!L12=\"電気\",0,1)))","v":""}]
[{"$f":"IF('入力シート(新人)'!$H13=\"\",\"\",\"4000005\")","v":""},{"$f":"IF('入力シート(新人)'!$H13=\"\",\"\",IF('入力シート(新人)'!$B13=\"男\",0,1))","v":""},{"$f":"IF('入力シート(新人)'!$H13=\"\",\"\",'入力シート(新人)'!C13)","v":""},{"$f":"IF('入力シート(新人)'!$H13=\"\",\"\",TEXT('入力シート(新人)'!$E13,\"000\"))","v":""},{"$f":"IF('入力シート(新人)'!$H13=\"\",\"\",学校番号)","v":""},{"$f":"IF('入力シート(新人)'!$H13=\"\",\"\",B13)","v":""},{"$f":"IF('入力シート(新人)'!$H13=\"\",\"\",TEXT('入力シート(新人)'!$H13,\"00\"))","v":""},null,null,{"$f":"IF('入力シート(新人)'!$H13=\"\",\"\",IF('入力シート(新人)'!K13=\"\",\"\",'入力シート(新人)'!K13))","v":""},{"$nulls":3},{"$f":"IF('入力シート(新人)'!$H13=\"\",\"\",IF('入力シート(新人)'!L13=\"\",\"\",IF('入力シート(新人)'!L13=\"電気\",0,1)))","v":""}]
[{"$f":"IF('入力シート(新人)'!$H14=\"\",\"\",\"4000005\")","v":""},{"$f":"IF('入力シート(新人)'!$H14=\"\",\"\",IF('入力シート(新人)'!$B14=\"男\",0,1))","v":""},{"$f":"IF('入力シート(新人)'!$H14=\"\",\"\",'入力シート(新人)'!C14)","v":""},{"$f":"IF('入力シート(新人)'!$H14=\"\",\"\",TEXT('入力シート(新人)'!$E14,\"000\"))","v":""},{"$f":"IF('入力シート(新人)'!$H14=\"\",\"\",学校番号)","v":""},{"$f":"IF('入力シート(新人)'!$H14=\"\",\"\",B14)","v":""},{"$f":"IF('入力シート(新人)'!$H14=\"\",\"\",TEXT('入力シート(新人)'!$H14,\"00\"))","v":""},null,null,{"$f":"IF('入力シート(新人)'!$H14=\"\",\"\",IF('入力シート(新人)'!K14=\"\",\"\",'入力シート(新人)'!K14))","v":""},{"$nulls":3},{"$f":"IF('入力シート(新人)'!$H14=\"\",\"\",IF('入力シート(新人)'!L14=\"\",\"\",IF('入力シート(新人)'!L14=\"電気\",0,1)))","v":""}]
[{"$f":"IF('入力シート(新人)'!$H15=\"\",\"\",\"4000005\")","v":""},{"$f":"IF('入力シート(新人)'!$H15=\"\",\"\",IF('入力シート(新人)'!$B15=\"男\",0,1))","v":""},{"$f":"IF('入力シート(新人)'!$H15=\"\",\"\",'入力シート(新人)'!C15)","v":""},{"$f":"IF('入力シート(新人)'!$H15=\"\",\"\",TEXT('入力シート(新人)'!$E15,\"000\"))","v":""},{"$f":"IF('入力シート(新人)'!$H15=\"\",\"\",学校番号)","v":""},{"$f":"IF('入力シート(新人)'!$H15=\"\",\"\",B15)","v":""},{"$f":"IF('入力シート(新人)'!$H15=\"\",\"\",TEXT('入力シート(新人)'!$H15,\"00\"))","v":""},null,null,{"$f":"IF('入力シート(新人)'!$H15=\"\",\"\",IF('入力シート(新人)'!K15=\"\",\"\",'入力シート(新人)'!K15))","v":""},{"$nulls":3},{"$f":"IF('入力シート(新人)'!$H15=\"\",\"\",IF('入力シート(新人)'!L15=\"\",\"\",IF('入力シート(新人)'!L15=\"電気\",0,1)))","v":""}]
[{"$f":"IF('入力シート(新人)'!$H16=\"\",\"\",\"4000005\")","v":""},{"$f":"IF('入力シート(新人)'!$H16=\"\",\"\",IF('入力シート(新人)'!$B16=\"男\",0,1))","v":""},{"$f":"IF('入力シート(新人)'!$H16=\"\",\"\",'入力シート(新人)'!C16)","v":""},{"$f":"IF('入力シート(新人)'!$H16=\"\",\"\",TEXT('入力シート(新人)'!$E16,\"000\"))","v":""},{"$f":"IF('入力シート(新人)'!$H16=\"\",\"\",学校番号)","v":""},{"$f":"IF('入力シート(新人)'!$H16=\"\",\"\",B16)","v":""},{"$f":"IF('入力シート(新人)'!$H16=\"\",\"\",TEXT('入力シート(新人)'!$H16,\"00\"))","v":""},null,null,{"$f":"IF('入力シート(新人)'!$H16=\"\",\"\",IF('入力シート(新人)'!K16=\"\",\"\",'入力シート(新人)'!K16))","v":""},{"$nulls":3},{"$f":"IF('入力シート(新人)'!$H16=\"\",\"\",IF('入力シート(新人)'!L16=\"\",\"\",IF('入力シート(新人)'!L16=\"電気\",0,1)))","v":""}]
[{"$f":"IF('入力シート(新人)'!$H17=\"\",\"\",\"4000005\")","v":""},{"$f":"IF('入力シート(新人)'!$H17=\"\",\"\",IF('入力シート(新人)'!$B17=\"男\",0,1))","v":""},{"$f":"IF('入力シート(新人)'!$H17=\"\",\"\",'入力シート(新人)'!C17)","v":""},{"$f":"IF('入力シート(新人)'!$H17=\"\",\"\",TEXT('入力シート(新人)'!$E17,\"000\"))","v":""},{"$f":"IF('入力シート(新人)'!$H17=\"\",\"\",学校番号)","v":""},{"$f":"IF('入力シート(新人)'!$H17=\"\",\"\",B17)","v":""},{"$f":"IF('入力シート(新人)'!$H17=\"\",\"\",TEXT('入力シート(新人)'!$H17,\"00\"))","v":""},null,null,{"$f":"IF('入力シート(新人)'!$H17=\"\",\"\",IF('入力シート(新人)'!K17=\"\",\"\",'入力シート(新人)'!K17))","v":""},{"$nulls":3},{"$f":"IF('入力シート(新人)'!$H17=\"\",\"\",IF('入力シート(新人)'!L17=\"\",\"\",IF('入力シート(新人)'!L17=\"電気\",0,1)))","v":""}]
[{"$f":"IF('入力シート(新人)'!$H18=\"\",\"\",\"4000005\")","v":""},{"$f":"IF('入力シート(新人)'!$H18=\"\",\"\",IF('入力シート(新人)'!$B18=\"男\",0,1))","v":""},{"$f":"IF('入力シート(新人)'!$H18=\"\",\"\",'入力シート(新人)'!C18)","v":""},{"$f":"IF('入力シート(新人)'!$H18=\"\",\"\",TEXT('入力シート(新人)'!$E18,\"000\"))","v":""},{"$f":"IF('入力シート(新人)'!$H18=\"\",\"\",学校番号)","v":""},{"$f":"IF('入力シート(新人)'!$H18=\"\",\"\",B18)","v":""},{"$f":"IF('入力シート(新人)'!$H18=\"\",\"\",TEXT('入力シート(新人)'!$H18,\"00\"))","v":""},null,null,{"$f":"IF('入力シート(新人)'!$H18=\"\",\"\",IF('入力シート(新人)'!K18=\"\",\"\",'入力シート(新人)'!K18))","v":""},{"$nulls":3},{"$f":"IF('入力シート(新人)'!$H18=\"\",\"\",IF('入力シート(新人)'!L18=\"\",\"\",IF('入力シート(新人)'!L18=\"電気\",0,1)))","v":""}]
[{"$f":"IF('入力シート(新人)'!$H19=\"\",\"\",\"4000005\")","v":""},{"$f":"IF('入力シート(新人)'!$H19=\"\",\"\",IF('入力シート(新人)'!$B19=\"男\",0,1))","v":""},{"$f":"IF('入力シート(新人)'!$H19=\"\",\"\",'入力シート(新人)'!C19)","v":""},{"$f":"IF('入力シート(新人)'!$H19=\"\",\"\",TEXT('入力シート(新人)'!$E19,\"000\"))","v":""},{"$f":"IF('入力シート(新人)'!$H19=\"\",\"\",学校番号)","v":""},{"$f":"IF('入力シート(新人)'!$H19=\"\",\"\",B19)","v":""},{"$f":"IF('入力シート(新人)'!$H19=\"\",\"\",TEXT('入力シート(新人)'!$H19,\"00\"))","v":""},null,null,{"$f":"IF('入力シート(新人)'!$H19=\"\",\"\",IF('入力シート(新人)'!K19=\"\",\"\",'入力シート(新人)'!K19))","v":""},{"$nulls":3},{"$f":"IF('入力シート(新人)'!$H19=\"\",\"\",IF('入力シート(新人)'!L19=\"\",\"\",IF('入力シート(新人)'!L19=\"電気\",0,1)))","v":""}]
[{"$f":"IF('入力シート(新人)'!$H26=\"\",\"\",\"4000005\")","v":""},{"$f":"IF('入力シート(新人)'!$H26=\"\",\"\",IF('入力シート(新人)'!$B26=\"男\",0,1))","v":""},{"$f":"IF('入力シート(新人)'!$H26=\"\",\"\",'入力シート(新人)'!C26)","v":""},{"$f":"IF('入力シート(新人)'!$H26=\"\",\"\",TEXT('入力シート(新人)'!$E26,\"000\"))","v":""},{"$f":"IF('入力シート(新人)'!$H26=\"\",\"\",学校番号)","v":""},{"$f":"IF('入力シート(新人)'!$H26=\"\",\"\",B20)","v":""},{"$f":"IF('入力シート(新人)'!$H26=\"\",\"\",TEXT('入力シート(新人)'!$H26,\"00\"))","v":""},null,null,{"$f":"IF('入力シート(新人)'!$H26=\"\",\"\",IF('入力シート(新人)'!K26=\"\",\"\",'入力シート(新人)'!K26))","v":""},{"$nulls":3},{"$f":"IF('入力シート(新人)'!$H26=\"\",\"\",IF('入力シート(新人)'!L26=\"\",\"\",IF('入力シート(新人)'!L26=\"電気\",0,1)))","v":""}]
[{"$f":"IF('入力シート(新人)'!$H27=\"\",\"\",\"4000005\")","v":""},{"$f":"IF('入力シート(新人)'!$H27=\"\",\"\",IF('入力シート(新人)'!$B27=\"男\",0,1))","v":""},{"$f":"IF('入力シート(新人)'!$H27=\"\",\"\",'入力シート(新人)'!C27)","v":""},{"$f":"IF('入力シート(新人)'!$H27=\"\",\"\",TEXT('入力シート(新人)'!$E27,\"000\"))","v":""},{"$f":"IF('入力シート(新人)'!$H27=\"\",\"\",学校番号)","v":""},{"$f":"IF('入力シート(新人)'!$H27=\"\",\"\",B21)","v":""},{"$f":"IF('入力シート(新人)'!$H27=\"\",\"\",TEXT('入力シート(新人)'!$H27,\"00\"))","v":""},null,null,{"$f":"IF('入力シート(新人)'!$H27=\"\",\"\",IF('入力シート(新人)'!K27=\"\",\"\",'入力シート(新人)'!K27))","v":""},{"$nulls":3},{"$f":"IF('入力シート(新人)'!$H27=\"\",\"\",IF('入力シート(新人)'!L27=\"\",\"\",IF('入力シート(新人)'!L27=\"電気\",0,1)))","v":""}]
[{"$f":"IF('入力シート(新人)'!$H28=\"\",\"\",\"4000005\")","v":""},{"$f":"IF('入力シート(新人)'!$H28=\"\",\"\",IF('入力シート(新人)'!$B28=\"男\",0,1))","v":""},{"$f":"IF('入力シート(新人)'!$H28=\"\",\"\",'入力シート(新人)'!C28)","v":""},{"$f":"IF('入力シート(新人)'!$H28=\"\",\"\",TEXT('入力シート(新人)'!$E28,\"000\"))","v":""},{"$f":"IF('入力シート(新人)'!$H28=\"\",\"\",学校番号)","v":""},{"$f":"IF('入力シート(新人)'!$H28=\"\",\"\",B22)","v":""},{"$f":"IF('入力シート(新人)'!$H28=\"\",\"\",TEXT('入力シート(新人)'!$H28,\"00\"))","v":""},null,null,{"$f":"IF('入力シート(新人)'!$H28=\"\",\"\",IF('入力シート(新人)'!K28=\"\",\"\",'入力シート(新人)'!K28))","v":""},{"$nulls":3},{"$f":"IF('入力シート(新人)'!$H28=\"\",\"\",IF('入力シート(新人)'!L28=\"\",\"\",IF('入力シート(新人)'!L28=\"電気\",0,1)))","v":""}]
[{"$f":"IF('入力シート(新人)'!$H29=\"\",\"\",\"4000005\")","v":""},{"$f":"IF('入力シート(新人)'!$H29=\"\",\"\",IF('入力シート(新人)'!$B29=\"男\",0,1))","v":""},{"$f":"IF('入力シート(新人)'!$H29=\"\",\"\",'入力シート(新人)'!C29)","v":""},{"$f":"IF('入力シート(新人)'!$H29=\"\",\"\",TEXT('入力シート(新人)'!$E29,\"000\"))","v":""},{"$f":"IF('入力シート(新人)'!$H29=\"\",\"\",学校番号)","v":""},{"$f":"IF('入力シート(新人)'!$H29=\"\",\"\",B23)","v":""},{"$f":"IF('入力シート(新人)'!$H29=\"\",\"\",TEXT('入力シート(新人)'!$H29,\"00\"))","v":""},null,null,{"$f":"IF('入力シート(新人)'!$H29=\"\",\"\",IF('入力シート(新人)'!K29=\"\",\"\",'入力シート(新人)'!K29))","v":""},{"$nulls":3},{"$f":"IF('入力シート(新人)'!$H29=\"\",\"\",IF('入力シート(新人)'!L29=\"\",\"\",IF('入力シート(新人)'!L29=\"電気\",0,1)))","v":""}]
[{"$f":"IF('入力シート(新人)'!$H30=\"\",\"\",\"4000005\")","v":""},{"$f":"IF('入力シート(新人)'!$H30=\"\",\"\",IF('入力シート(新人)'!$B30=\"男\",0,1))","v":""},{"$f":"IF('入力シート(新人)'!$H30=\"\",\"\",'入力シート(新人)'!C30)","v":""},{"$f":"IF('入力シート(新人)'!$H30=\"\",\"\",TEXT('入力シート(新人)'!$E30,\"000\"))","v":""},{"$f":"IF('入力シート(新人)'!$H30=\"\",\"\",学校番号)","v":""},{"$f":"IF('入力シート(新人)'!$H30=\"\",\"\",B24)","v":""},{"$f":"IF('入力シート(新人)'!$H30=\"\",\"\",TEXT('入力シート(新人)'!$H30,\"00\"))","v":""},null,null,{"$f":"IF('入力シート(新人)'!$H30=\"\",\"\",IF('入力シート(新人)'!K30=\"\",\"\",'入力シート(新人)'!K30))","v":""},{"$nulls":3},{"$f":"IF('入力シート(新人)'!$H30=\"\",\"\",IF('入力シート(新人)'!L30=\"\",\"\",IF('入力シート(新人)'!L30=\"電気\",0,1)))","v":""}]
[{"$f":"IF('入力シート(新人)'!$H31=\"\",\"\",\"4000005\")","v":""},{"$f":"IF('入力シート(新人)'!$H31=\"\",\"\",IF('入力シート(新人)'!$B31=\"男\",0,1))","v":""},{"$f":"IF('入力シート(新人)'!$H31=\"\",\"\",'入力シート(新人)'!C31)","v":""},{"$f":"IF('入力シート(新人)'!$H31=\"\",\"\",TEXT('入力シート(新人)'!$E31,\"000\"))","v":""},{"$f":"IF('入力シート(新人)'!$H31=\"\",\"\",学校番号)","v":""},{"$f":"IF('入力シート(新人)'!$H31=\"\",\"\",B25)","v":""},{"$f":"IF('入力シート(新人)'!$H31=\"\",\"\",TEXT('入力シート(新人)'!$H31,\"00\"))","v":""},null,null,{"$f":"IF('入力シート(新人)'!$H31=\"\",\"\",IF('入力シート(新人)'!K31=\"\",\"\",'入力シート(新人)'!K31))","v":""},{"$nulls":3},{"$f":"IF('入力シート(新人)'!$H31=\"\",\"\",IF('入力シート(新人)'!L31=\"\",\"\",IF('入力シート(新人)'!L31=\"電気\",0,1)))","v":""}]
[{"$f":"IF('入力シート(新人)'!$H32=\"\",\"\",\"4000005\")","v":""},{"$f":"IF('入力シート(新人)'!$H32=\"\",\"\",IF('入力シート(新人)'!$B32=\"男\",0,1))","v":""},{"$f":"IF('入力シート(新人)'!$H32=\"\",\"\",'入力シート(新人)'!C32)","v":""},{"$f":"IF('入力シート(新人)'!$H32=\"\",\"\",TEXT('入力シート(新人)'!$E32,\"000\"))","v":""},{"$f":"IF('入力シート(新人)'!$H32=\"\",\"\",学校番号)","v":""},{"$f":"IF('入力シート(新人)'!$H32=\"\",\"\",B26)","v":""},{"$f":"IF('入力シート(新人)'!$H32=\"\",\"\",TEXT('入力シート(新人)'!$H32,\"00\"))","v":""},null,null,{"$f":"IF('入力シート(新人)'!$H32=\"\",\"\",IF('入力シート(新人)'!K32=\"\",\"\",'入力シート(新人)'!K32))","v":""},{"$nulls":3},{"$f":"IF('入力シート(新人)'!$H32=\"\",\"\",IF('入力シート(新人)'!L32=\"\",\"\",IF('入力シート(新人)'!L32=\"電気\",0,1)))","v":""}]
[{"$f":"IF('入力シート(新人)'!$H33=\"\",\"\",\"4000005\")","v":""},{"$f":"IF('入力シート(新人)'!$H33=\"\",\"\",IF('入力シート(新人)'!$B33=\"男\",0,1))","v":""},{"$f":"IF('入力シート(新人)'!$H33=\"\",\"\",'入力シート(新人)'!C33)","v":""},{"$f":"IF('入力シート(新人)'!$H33=\"\",\"\",TEXT('入力シート(新人)'!$E33,\"000\"))","v":""},{"$f":"IF('入力シート(新人)'!$H33=\"\",\"\",学校番号)","v":""},{"$f":"IF('入力シート(新人)'!$H33=\"\",\"\",B27)","v":""},{"$f":"IF('入力シート(新人)'!$H33=\"\",\"\",TEXT('入力シート(新人)'!$H33,\"00\"))","v":""},null,null,{"$f":"IF('入力シート(新人)'!$H33=\"\",\"\",IF('入力シート(新人)'!K33=\"\",\"\",'入力シート(新人)'!K33))","v":""},{"$nulls":3},{"$f":"IF('入力シート(新人)'!$H33=\"\",\"\",IF('入力シート(新人)'!L33=\"\",\"\",IF('入力シート(新人)'!L33=\"電気\",0,1)))","v":""}]
[{"$f":"IF('入力シート(新人)'!$H34=\"\",\"\",\"4000005\")","v":""},{"$f":"IF('入力シート(新人)'!$H34=\"\",\"\",IF('入力シート(新人)'!$B34=\"男\",0,1))","v":""},{"$f":"IF('入力シート(新人)'!$H34=\"\",\"\",'入力シート(新人)'!C34)","v":""},{"$f":"IF('入力シート(新人)'!$H34=\"\",\"\",TEXT('入力シート(新人)'!$E34,\"000\"))","v":""},{"$f":"IF('入力シート(新人)'!$H34=\"\",\"\",学校番号)","v":""},{"$f":"IF('入力シート(新人)'!$H34=\"\",\"\",B28)","v":""},{"$f":"IF('入力シート(新人)'!$H34=\"\",\"\",TEXT('入力シート(新人)'!$H34,\"00\"))","v":""},null,null,{"$f":"IF('入力シート(新人)'!$H34=\"\",\"\",IF('入力シート(新人)'!K34=\"\",\"\",'入力シート(新人)'!K34))","v":""},{"$nulls":3},{"$f":"IF('入力シート(新人)'!$H34=\"\",\"\",IF('入力シート(新人)'!L34=\"\",\"\",IF('入力シート(新人)'!L34=\"電気\",0,1)))","v":""}]
[{"$f":"IF('入力シート(新人)'!$H35=\"\",\"\",\"4000005\")","v":""},{"$f":"IF('入力シート(新人)'!$H35=\"\",\"\",IF('入力シート(新人)'!$B35=\"男\",0,1))","v":""},{"$f":"IF('入力シート(新人)'!$H35=\"\",\"\",'入力シート(新人)'!C35)","v":""},{"$f":"IF('入力シート(新人)'!$H35=\"\",\"\",TEXT('入力シート(新人)'!$E35,\"000\"))","v":""},{"$f":"IF('入力シート(新人)'!$H35=\"\",\"\",学校番号)","v":""},{"$f":"IF('入力シート(新人)'!$H35=\"\",\"\",B29)","v":""},{"$f":"IF('入力シート(新人)'!$H35=\"\",\"\",TEXT('入力シート(新人)'!$H35,\"00\"))","v":""},null,null,{"$f":"IF('入力シート(新人)'!$H35=\"\",\"\",IF('入力シート(新人)'!K35=\"\",\"\",'入力シート(新人)'!K35))","v":""},{"$nulls":3},{"$f":"IF('入力シート(新人)'!$H35=\"\",\"\",IF('入力シート(新人)'!L35=\"\",\"\",IF('入力シート(新人)'!L35=\"電気\",0,1)))","v":""}]
[{"$f":"IF('入力シート(新人)'!$H36=\"\",\"\",\"4000005\")","v":""},{"$f":"IF('入力シート(新人)'!$H36=\"\",\"\",IF('入力シート(新人)'!$B36=\"男\",0,1))","v":""},{"$f":"IF('入力シート(新人)'!$H36=\"\",\"\",'入力シート(新人)'!C36)","v":""},{"$f":"IF('入力シート(新人)'!$H36=\"\",\"\",TEXT('入力シート(新人)'!$E36,\"000\"))","v":""},{"$f":"IF('入力シート(新人)'!$H36=\"\",\"\",学校番号)","v":""},{"$f":"IF('入力シート(新人)'!$H36=\"\",\"\",B30)","v":""},{"$f":"IF('入力シート(新人)'!$H36=\"\",\"\",TEXT('入力シート(新人)'!$H36,\"00\"))","v":""},null,null,{"$f":"IF('入力シート(新人)'!$H36=\"\",\"\",IF('入力シート(新人)'!K36=\"\",\"\",'入力シート(新人)'!K36))","v":""},{"$nulls":3},{"$f":"IF('入力シート(新人)'!$H36=\"\",\"\",IF('入力シート(新人)'!L36=\"\",\"\",IF('入力シート(新人)'!L36=\"電気\",0,1)))","v":""}]
[{"$f":"IF('入力シート(新人)'!$H37=\"\",\"\",\"4000005\")","v":""},{"$f":"IF('入力シート(新人)'!$H37=\"\",\"\",IF('入力シート(新人)'!$B37=\"男\",0,1))","v":""},{"$f":"IF('入力シート(新人)'!$H37=\"\",\"\",'入力シート(新人)'!C37)","v":""},{"$f":"IF('入力シート(新人)'!$H37=\"\",\"\",TEXT('入力シート(新人)'!$E37,\"000\"))","v":""},{"$f":"IF('入力シート(新人)'!$H37=\"\",\"\",学校番号)","v":""},{"$f":"IF('入力シート(新人)'!$H37=\"\",\"\",B31)","v":""},{"$f":"IF('入力シート(新人)'!$H37=\"\",\"\",TEXT('入力シート(新人)'!$H37,\"00\"))","v":""},null,null,{"$f":"IF('入力シート(新人)'!$H37=\"\",\"\",IF('入力シート(新人)'!K37=\"\",\"\",'入力シート(新人)'!K37))","v":""},{"$nulls":3},{"$f":"IF('入力シート(新人)'!$H37=\"\",\"\",IF('入力シート(新人)'!L37=\"\",\"\",IF('入力シート(新人)'!L37=\"電気\",0,1)))","v":""}]
[{"$f":"IF('入力シート(新人)'!$H48=\"\",\"\",\"4000005\")","v":""},{"$f":"IF('入力シート(新人)'!$H48=\"\",\"\",IF('入力シート(新人)'!$B48=\"男\",0,1))","v":""},{"$f":"IF('入力シート(新人)'!$H48=\"\",\"\",'入力シート(新人)'!C48)","v":""},{"$f":"IF('入力シート(新人)'!$H48=\"\",\"\",TEXT('入力シート(新人)'!$E48,\"000\"))","v":""},{"$f":"IF('入力シート(新人)'!$H48=\"\",\"\",学校番号)","v":""},{"$f":"IF('入力シート(新人)'!$H48=\"\",\"\",B32)","v":""},{"$f":"IF('入力シート(新人)'!$H48=\"\",\"\",TEXT('入力シート(新人)'!$H48,\"00\"))","v":""},null,null,{"$f":"IF('入力シート(新人)'!$H48=\"\",\"\",IF('入力シート(新人)'!K48=\"\",\"\",'入力シート(新人)'!K48))","v":""},{"$nulls":3},{"$f":"IF('入力シート(新人)'!$H48=\"\",\"\",IF('入力シート(新人)'!L48=\"\",\"\",IF('入力シート(新人)'!L48=\"電気\",0,1)))","v":""}]
[{"$f":"IF('入力シート(新人)'!$H49=\"\",\"\",\"4000005\")","v":""},{"$f":"IF('入力シート(新人)'!$H49=\"\",\"\",IF('入力シート(新人)'!$B49=\"男\",0,1))","v":""},{"$f":"IF('入力シート(新人)'!$H49=\"\",\"\",'入力シート(新人)'!C49)","v":""},{"$f":"IF('入力シート(新人)'!$H49=\"\",\"\",TEXT('入力シート(新人)'!$E49,\"000\"))","v":""},{"$f":"IF('入力シート(新人)'!$H49=\"\",\"\",学校番号)","v":""},{"$f":"IF('入力シート(新人)'!$H49=\"\",\"\",B33)","v":""},{"$f":"IF('入力シート(新人)'!$H49=\"\",\"\",TEXT('入力シート(新人)'!$H49,\"00\"))","v":""},null,null,{"$f":"IF('入力シート(新人)'!$H49=\"\",\"\",IF('入力シート(新人)'!K49=\"\",\"\",'入力シート(新人)'!K49))","v":""},{"$nulls":3},{"$f":"IF('入力シート(新人)'!$H49=\"\",\"\",IF('入力シート(新人)'!L49=\"\",\"\",IF('入力シート(新人)'!L49=\"電気\",0,1)))","v":""}]
[{"$f":"IF('入力シート(新人)'!$H50=\"\",\"\",\"4000005\")","v":""},{"$f":"IF('入力シート(新人)'!$H50=\"\",\"\",IF('入力シート(新人)'!$B50=\"男\",0,1))","v":""},{"$f":"IF('入力シート(新人)'!$H50=\"\",\"\",'入力シート(新人)'!C50)","v":""},{"$f":"IF('入力シート(新人)'!$H50=\"\",\"\",TEXT('入力シート(新人)'!$E50,\"000\"))","v":""},{"$f":"IF('入力シート(新人)'!$H50=\"\",\"\",学校番号)","v":""},{"$f":"IF('入力シート(新人)'!$H50=\"\",\"\",B34)","v":""},{"$f":"IF('入力シート(新人)'!$H50=\"\",\"\",TEXT('入力シート(新人)'!$H50,\"00\"))","v":""},null,null,{"$f":"IF('入力シート(新人)'!$H50=\"\",\"\",IF('入力シート(新人)'!K50=\"\",\"\",'入力シート(新人)'!K50))","v":""},{"$nulls":3},{"$f":"IF('入力シート(新人)'!$H50=\"\",\"\",IF('入力シート(新人)'!L50=\"\",\"\",IF('入力シート(新人)'!L50=\"電気\",0,1)))","v":""}]
[{"$f":"IF('入力シート(新人)'!$H51=\"\",\"\",\"4000005\")","v":""},{"$f":"IF('入力シート(新人)'!$H51=\"\",\"\",IF('入力シート(新人)'!$B51=\"男\",0,1))","v":""},{"$f":"IF('入力シート(新人)'!$H51=\"\",\"\",'入力シート(新人)'!C51)","v":""},{"$f":"IF('入力シート(新人)'!$H51=\"\",\"\",TEXT('入力シート(新人)'!$E51,\"000\"))","v":""},{"$f":"IF('入力シート(新人)'!$H51=\"\",\"\",学校番号)","v":""},{"$f":"IF('入力シート(新人)'!$H51=\"\",\"\",B35)","v":""},{"$f":"IF('入力シート(新人)'!$H51=\"\",\"\",TEXT('入力シート(新人)'!$H51,\"00\"))","v":""},null,null,{"$f":"IF('入力シート(新人)'!$H51=\"\",\"\",IF('入力シート(新人)'!K51=\"\",\"\",'入力シート(新人)'!K51))","v":""},{"$nulls":3},{"$f":"IF('入力シート(新人)'!$H51=\"\",\"\",IF('入力シート(新人)'!L51=\"\",\"\",IF('入力シート(新人)'!L51=\"電気\",0,1)))","v":""}]
[{"$f":"IF('入力シート(新人)'!$H52=\"\",\"\",\"4000005\")","v":""},{"$f":"IF('入力シート(新人)'!$H52=\"\",\"\",IF('入力シート(新人)'!$B52=\"男\",0,1))","v":""},{"$f":"IF('入力シート(新人)'!$H52=\"\",\"\",'入力シート(新人)'!C52)","v":""},{"$f":"IF('入力シート(新人)'!$H52=\"\",\"\",TEXT('入力シート(新人)'!$E52,\"000\"))","v":""},{"$f":"IF('入力シート(新人)'!$H52=\"\",\"\",学校番号)","v":""},{"$f":"IF('入力シート(新人)'!$H52=\"\",\"\",B36)","v":""},{"$f":"IF('入力シート(新人)'!$H52=\"\",\"\",TEXT('入力シート(新人)'!$H52,\"00\"))","v":""},null,null,{"$f":"IF('入力シート(新人)'!$H52=\"\",\"\",IF('入力シート(新人)'!K52=\"\",\"\",'入力シート(新人)'!K52))","v":""},{"$nulls":3},{"$f":"IF('入力シート(新人)'!$H52=\"\",\"\",IF('入力シート(新人)'!L52=\"\",\"\",IF('入力シート(新人)'!L52=\"電気\",0,1)))","v":""}]
[{"$f":"IF('入力シート(新人)'!$H53=\"\",\"\",\"4000005\")","v":""},{"$f":"IF('入力シート(新人)'!$H53=\"\",\"\",IF('入力シート(新人)'!$B53=\"男\",0,1))","v":""},{"$f":"IF('入力シート(新人)'!$H53=\"\",\"\",'入力シート(新人)'!C53)","v":""},{"$f":"IF('入力シート(新人)'!$H53=\"\",\"\",TEXT('入力シート(新人)'!$E53,\"000\"))","v":""},{"$f":"IF('入力シート(新人)'!$H53=\"\",\"\",学校番号)","v":""},{"$f":"IF('入力シート(新人)'!$H53=\"\",\"\",B37)","v":""},{"$f":"IF('入力シート(新人)'!$H53=\"\",\"\",TEXT('入力シート(新人)'!$H53,\"00\"))","v":""},null,null,{"$f":"IF('入力シート(新人)'!$H53=\"\",\"\",IF('入力シート(新人)'!K53=\"\",\"\",'入力シート(新人)'!K53))","v":""},{"$nulls":3},{"$f":"IF('入力シート(新人)'!$H53=\"\",\"\",IF('入力シート(新人)'!L53=\"\",\"\",IF('入力シート(新人)'!L53=\"電気\",0,1)))","v":""}]
[{"$f":"IF('入力シート(新人)'!$H54=\"\",\"\",\"4000005\")","v":""},{"$f":"IF('入力シート(新人)'!$H54=\"\",\"\",IF('入力シート(新人)'!$B54=\"男\",0,1))","v":""},{"$f":"IF('入力シート(新人)'!$H54=\"\",\"\",'入力シート(新人)'!C54)","v":""},{"$f":"IF('入力シート(新人)'!$H54=\"\",\"\",TEXT('入力シート(新人)'!$E54,\"000\"))","v":""},{"$f":"IF('入力シート(新人)'!$H54=\"\",\"\",学校番号)","v":""},{"$f":"IF('入力シート(新人)'!$H54=\"\",\"\",B38)","v":""},{"$f":"IF('入力シート(新人)'!$H54=\"\",\"\",TEXT('入力シート(新人)'!$H54,\"00\"))","v":""},null,null,{"$f":"IF('入力シート(新人)'!$H54=\"\",\"\",IF('入力シート(新人)'!K54=\"\",\"\",'入力シート(新人)'!K54))","v":""},{"$nulls":3},{"$f":"IF('入力シート(新人)'!$H54=\"\",\"\",IF('入力シート(新人)'!L54=\"\",\"\",IF('入力シート(新人)'!L54=\"電気\",0,1)))","v":""}]
[{"$f":"IF('入力シート(新人)'!$H55=\"\",\"\",\"4000005\")","v":""},{"$f":"IF('入力シート(新人)'!$H55=\"\",\"\",IF('入力シート(新人)'!$B55=\"男\",0,1))","v":""},{"$f":"IF('入力シート(新人)'!$H55=\"\",\"\",'入力シート(新人)'!C55)","v":""},{"$f":"IF('入力シート(新人)'!$H55=\"\",\"\",TEXT('入力シート(新人)'!$E55,\"000\"))","v":""},{"$f":"IF('入力シート(新人)'!$H55=\"\",\"\",学校番号)","v":""},{"$f":"IF('入力シート(新人)'!$H55=\"\",\"\",B39)","v":""},{"$f":"IF('入力シート(新人)'!$H55=\"\",\"\",TEXT('入力シート(新人)'!$H55,\"00\"))","v":""},null,null,{"$f":"IF('入力シート(新人)'!$H55=\"\",\"\",IF('入力シート(新人)'!K55=\"\",\"\",'入力シート(新人)'!K55))","v":""},{"$nulls":3},{"$f":"IF('入力シート(新人)'!$H55=\"\",\"\",IF('入力シート(新人)'!L55=\"\",\"\",IF('入力シート(新人)'!L55=\"電気\",0,1)))","v":""}]
[{"$f":"IF('入力シート(新人)'!$H56=\"\",\"\",\"4000005\")","v":""},{"$f":"IF('入力シート(新人)'!$H56=\"\",\"\",IF('入力シート(新人)'!$B56=\"男\",0,1))","v":""},{"$f":"IF('入力シート(新人)'!$H56=\"\",\"\",'入力シート(新人)'!C56)","v":""},{"$f":"IF('入力シート(新人)'!$H56=\"\",\"\",TEXT('入力シート(新人)'!$E56,\"000\"))","v":""},{"$f":"IF('入力シート(新人)'!$H56=\"\",\"\",学校番号)","v":""},{"$f":"IF('入力シート(新人)'!$H56=\"\",\"\",B40)","v":""},{"$f":"IF('入力シート(新人)'!$H56=\"\",\"\",TEXT('入力シート(新人)'!$H56,\"00\"))","v":""},null,null,{"$f":"IF('入力シート(新人)'!$H56=\"\",\"\",IF('入力シート(新人)'!K56=\"\",\"\",'入力シート(新人)'!K56))","v":""},{"$nulls":3},{"$f":"IF('入力シート(新人)'!$H56=\"\",\"\",IF('入力シート(新人)'!L56=\"\",\"\",IF('入力シート(新人)'!L56=\"電気\",0,1)))","v":""}]
[{"$f":"IF('入力シート(新人)'!$H57=\"\",\"\",\"4000005\")","v":""},{"$f":"IF('入力シート(新人)'!$H57=\"\",\"\",IF('入力シート(新人)'!$B57=\"男\",0,1))","v":""},{"$f":"IF('入力シート(新人)'!$H57=\"\",\"\",'入力シート(新人)'!C57)","v":""},{"$f":"IF('入力シート(新人)'!$H57=\"\",\"\",TEXT('入力シート(新人)'!$E57,\"000\"))","v":""},{"$f":"IF('入力シート(新人)'!$H57=\"\",\"\",学校番号)","v":""},{"$f":"IF('入力シート(新人)'!$H57=\"\",\"\",B41)","v":""},{"$f":"IF('入力シート(新人)'!$H57=\"\",\"\",TEXT('入力シート(新人)'!$H57,\"00\"))","v":""},null,null,{"$f":"IF('入力シート(新人)'!$H57=\"\",\"\",IF('入力シート(新人)'!K57=\"\",\"\",'入力シート(新人)'!K57))","v":""},{"$nulls":3},{"$f":"IF('入力シート(新人)'!$H57=\"\",\"\",IF('入力シート(新人)'!L57=\"\",\"\",IF('入力シート(新人)'!L57=\"電気\",0,1)))","v":""}]
[{"$f":"IF('入力シート(新人)'!$H58=\"\",\"\",\"4000005\")","v":""},{"$f":"IF('入力シート(新人)'!$H58=\"\",\"\",IF('入力シート(新人)'!$B58=\"男\",0,1))","v":""},{"$f":"IF('入力シート(新人)'!$H58=\"\",\"\",'入力シート(新人)'!C58)","v":""},{"$f":"IF('入力シート(新人)'!$H58=\"\",\"\",TEXT('入力シート(新人)'!$E58,\"000\"))","v":""},{"$f":"IF('入力シート(新人)'!$H58=\"\",\"\",学校番号)","v":""},{"$f":"IF('入力シート(新人)'!$H58=\"\",\"\",B42)","v":""},{"$f":"IF('入力シート(新人)'!$H58=\"\",\"\",TEXT('入力シート(新人)'!$H58,\"00\"))","v":""},null,null,{"$f":"IF('入力シート(新人)'!$H58=\"\",\"\",IF('入力シート(新人)'!K58=\"\",\"\",'入力シート(新人)'!K58))","v":""},{"$nulls":3},{"$f":"IF('入力シート(新人)'!$H58=\"\",\"\",IF('入力シート(新人)'!L58=\"\",\"\",IF('入力シート(新人)'!L58=\"電気\",0,1)))","v":""}]
[{"$f":"IF('入力シート(新人)'!$H59=\"\",\"\",\"4000005\")","v":""},{"$f":"IF('入力シート(新人)'!$H59=\"\",\"\",IF('入力シート(新人)'!$B59=\"男\",0,1))","v":""},{"$f":"IF('入力シート(新人)'!$H59=\"\",\"\",'入力シート(新人)'!C59)","v":""},{"$f":"IF('入力シート(新人)'!$H59=\"\",\"\",TEXT('入力シート(新人)'!$E59,\"000\"))","v":""},{"$f":"IF('入力シート(新人)'!$H59=\"\",\"\",学校番号)","v":""},{"$f":"IF('入力シート(新人)'!$H59=\"\",\"\",B43)","v":""},{"$f":"IF('入力シート(新人)'!$H59=\"\",\"\",TEXT('入力シート(新人)'!$H59,\"00\"))","v":""},null,null,{"$f":"IF('入力シート(新人)'!$H59=\"\",\"\",IF('入力シート(新人)'!K59=\"\",\"\",'入力シート(新人)'!K59))","v":""},{"$nulls":3},{"$f":"IF('入力シート(新人)'!$H59=\"\",\"\",IF('入力シート(新人)'!L59=\"\",\"\",IF('入力シート(新人)'!L59=\"電気\",0,1)))","v":""}]
[{"$f":"IF('入力シート(新人)'!$H60=\"\",\"\",\"4000005\")","v":""},{"$f":"IF('入力シート(新人)'!$H60=\"\",\"\",IF('入力シート(新人)'!$B60=\"男\",0,1))","v":""},{"$f":"IF('入力シート(新人)'!$H60=\"\",\"\",'入力シート(新人)'!C60)","v":""},{"$f":"IF('入力シート(新人)'!$H60=\"\",\"\",TEXT('入力シート(新人)'!$E60,\"000\"))","v":""},{"$f":"IF('入力シート(新人)'!$H60=\"\",\"\",学校番号)","v":""},{"$f":"IF('入力シート(新人)'!$H60=\"\",\"\",B44)","v":""},{"$f":"IF('入力シート(新人)'!$H60=\"\",\"\",TEXT('入力シート(新人)'!$H60,\"00\"))","v":""},null,null,{"$f":"IF('入力シート(新人)'!$H60=\"\",\"\",IF('入力シート(新人)'!K60=\"\",\"\",'入力シート(新人)'!K60))","v":""},{"$nulls":3},{"$f":"IF('入力シート(新人)'!$H60=\"\",\"\",IF('入力シート(新人)'!L60=\"\",\"\",IF('入力シート(新人)'!L60=\"電気\",0,1)))","v":""}]
[{"$f":"IF('入力シート(新人)'!$H61=\"\",\"\",\"4000005\")","v":""},{"$f":"IF('入力シート(新人)'!$H61=\"\",\"\",IF('入力シート(新人)'!$B61=\"男\",0,1))","v":""},{"$f":"IF('入力シート(新人)'!$H61=\"\",\"\",'入力シート(新人)'!C61)","v":""},{"$f":"IF('入力シート(新人)'!$H61=\"\",\"\",TEXT('入力シート(新人)'!$E61,\"000\"))","v":""},{"$f":"IF('入力シート(新人)'!$H61=\"\",\"\",学校番号)","v":""},{"$f":"IF('入力シート(新人)'!$H61=\"\",\"\",B45)","v":""},{"$f":"IF('入力シート(新人)'!$H61=\"\",\"\",TEXT('入力シート(新人)'!$H61,\"00\"))","v":""},null,null,{"$f":"IF('入力シート(新人)'!$H61=\"\",\"\",IF('入力シート(新人)'!K61=\"\",\"\",'入力シート(新人)'!K61))","v":""},{"$nulls":3},{"$f":"IF('入力シート(新人)'!$H61=\"\",\"\",IF('入力シート(新人)'!L61=\"\",\"\",IF('入力シート(新人)'!L61=\"電気\",0,1)))","v":""}]
[{"$f":"IF('入力シート(新人)'!$H68=\"\",\"\",\"4000005\")","v":""},{"$f":"IF('入力シート(新人)'!$H68=\"\",\"\",IF('入力シート(新人)'!$B68=\"男\",0,1))","v":""},{"$f":"IF('入力シート(新人)'!$H68=\"\",\"\",'入力シート(新人)'!C68)","v":""},{"$f":"IF('入力シート(新人)'!$H68=\"\",\"\",TEXT('入力シート(新人)'!$E68,\"000\"))","v":""},{"$f":"IF('入力シート(新人)'!$H68=\"\",\"\",学校番号)","v":""},{"$f":"IF('入力シート(新人)'!$H68=\"\",\"\",B46)","v":""},{"$f":"IF('入力シート(新人)'!$H68=\"\",\"\",TEXT('入力シート(新人)'!$H68,\"00\"))","v":""},null,null,{"$f":"IF('入力シート(新人)'!$H68=\"\",\"\",IF('入力シート(新人)'!K68=\"\",\"\",'入力シート(新人)'!K68))","v":""},{"$nulls":3},{"$f":"IF('入力シート(新人)'!$H68=\"\",\"\",IF('入力シート(新人)'!L68=\"\",\"\",IF('入力シート(新人)'!L68=\"電気\",0,1)))","v":""}]
[{"$f":"IF('入力シート(新人)'!$H69=\"\",\"\",\"4000005\")","v":""},{"$f":"IF('入力シート(新人)'!$H69=\"\",\"\",IF('入力シート(新人)'!$B69=\"男\",0,1))","v":""},{"$f":"IF('入力シート(新人)'!$H69=\"\",\"\",'入力シート(新人)'!C69)","v":""},{"$f":"IF('入力シート(新人)'!$H69=\"\",\"\",TEXT('入力シート(新人)'!$E69,\"000\"))","v":""},{"$f":"IF('入力シート(新人)'!$H69=\"\",\"\",学校番号)","v":""},{"$f":"IF('入力シート(新人)'!$H69=\"\",\"\",B47)","v":""},{"$f":"IF('入力シート(新人)'!$H69=\"\",\"\",TEXT('入力シート(新人)'!$H69,\"00\"))","v":""},null,null,{"$f":"IF('入力シート(新人)'!$H69=\"\",\"\",IF('入力シート(新人)'!K69=\"\",\"\",'入力シート(新人)'!K69))","v":""},{"$nulls":3},{"$f":"IF('入力シート(新人)'!$H69=\"\",\"\",IF('入力シート(新人)'!L69=\"\",\"\",IF('入力シート(新人)'!L69=\"電気\",0,1)))","v":""}]
[{"$f":"IF('入力シート(新人)'!$H70=\"\",\"\",\"4000005\")","v":""},{"$f":"IF('入力シート(新人)'!$H70=\"\",\"\",IF('入力シート(新人)'!$B70=\"男\",0,1))","v":""},{"$f":"IF('入力シート(新人)'!$H70=\"\",\"\",'入力シート(新人)'!C70)","v":""},{"$f":"IF('入力シート(新人)'!$H70=\"\",\"\",TEXT('入力シート(新人)'!$E70,\"000\"))","v":""},{"$f":"IF('入力シート(新人)'!$H70=\"\",\"\",学校番号)","v":""},{"$f":"IF('入力シート(新人)'!$H70=\"\",\"\",B48)","v":""},{"$f":"IF('入力シート(新人)'!$H70=\"\",\"\",TEXT('入力シート(新人)'!$H70,\"00\"))","v":""},null,null,{"$f":"IF('入力シート(新人)'!$H70=\"\",\"\",IF('入力シート(新人)'!K70=\"\",\"\",'入力シート(新人)'!K70))","v":""},{"$nulls":3},{"$f":"IF('入力シート(新人)'!$H70=\"\",\"\",IF('入力シート(新人)'!L70=\"\",\"\",IF('入力シート(新人)'!L70=\"電気\",0,1)))","v":""}]
[{"$f":"IF('入力シート(新人)'!$H71=\"\",\"\",\"4000005\")","v":""},{"$f":"IF('入力シート(新人)'!$H71=\"\",\"\",IF('入力シート(新人)'!$B71=\"男\",0,1))","v":""},{"$f":"IF('入力シート(新人)'!$H71=\"\",\"\",'入力シート(新人)'!C71)","v":""},{"$f":"IF('入力シート(新人)'!$H71=\"\",\"\",TEXT('入力シート(新人)'!$E71,\"000\"))","v":""},{"$f":"IF('入力シート(新人)'!$H71=\"\",\"\",学校番号)","v":""},{"$f":"IF('入力シート(新人)'!$H71=\"\",\"\",B49)","v":""},{"$f":"IF('入力シート(新人)'!$H71=\"\",\"\",TEXT('入力シート(新人)'!$H71,\"00\"))","v":""},null,null,{"$f":"IF('入力シート(新人)'!$H71=\"\",\"\",IF('入力シート(新人)'!K71=\"\",\"\",'入力シート(新人)'!K71))","v":""},{"$nulls":3},{"$f":"IF('入力シート(新人)'!$H71=\"\",\"\",IF('入力シート(新人)'!L71=\"\",\"\",IF('入力シート(新人)'!L71=\"電気\",0,1)))","v":""}]
[{"$f":"IF('入力シート(新人)'!$H72=\"\",\"\",\"4000005\")","v":""},{"$f":"IF('入力シート(新人)'!$H72=\"\",\"\",IF('入力シート(新人)'!$B72=\"男\",0,1))","v":""},{"$f":"IF('入力シート(新人)'!$H72=\"\",\"\",'入力シート(新人)'!C72)","v":""},{"$f":"IF('入力シート(新人)'!$H72=\"\",\"\",TEXT('入力シート(新人)'!$E72,\"000\"))","v":""},{"$f":"IF('入力シート(新人)'!$H72=\"\",\"\",学校番号)","v":""},{"$f":"IF('入力シート(新人)'!$H72=\"\",\"\",B50)","v":""},{"$f":"IF('入力シート(新人)'!$H72=\"\",\"\",TEXT('入力シート(新人)'!$H72,\"00\"))","v":""},null,null,{"$f":"IF('入力シート(新人)'!$H72=\"\",\"\",IF('入力シート(新人)'!K72=\"\",\"\",'入力シート(新人)'!K72))","v":""},{"$nulls":3},{"$f":"IF('入力シート(新人)'!$H72=\"\",\"\",IF('入力シート(新人)'!L72=\"\",\"\",IF('入力シート(新人)'!L72=\"電気\",0,1)))","v":""}]
[{"$f":"IF('入力シート(新人)'!$H73=\"\",\"\",\"4000005\")","v":""},{"$f":"IF('入力シート(新人)'!$H73=\"\",\"\",IF('入力シート(新人)'!$B73=\"男\",0,1))","v":""},{"$f":"IF('入力シート(新人)'!$H73=\"\",\"\",'入力シート(新人)'!C73)","v":""},{"$f":"IF('入力シート(新人)'!$H73=\"\",\"\",TEXT('入力シート(新人)'!$E73,\"000\"))","v":""},{"$f":"IF('入力シート(新人)'!$H73=\"\",\"\",学校番号)","v":""},{"$f":"IF('入力シート(新人)'!$H73=\"\",\"\",B51)","v":""},{"$f":"IF('入力シート(新人)'!$H73=\"\",\"\",TEXT('入力シート(新人)'!$H73,\"00\"))","v":""},null,null,{"$f":"IF('入力シート(新人)'!$H73=\"\",\"\",IF('入力シート(新人)'!K73=\"\",\"\",'入力シート(新人)'!K73))","v":""},{"$nulls":3},{"$f":"IF('入力シート(新人)'!$H73=\"\",\"\",IF('入力シート(新人)'!L73=\"\",\"\",IF('入力シート(新人)'!L73=\"電気\",0,1)))","v":""}]
[{"$f":"IF('入力シート(新人)'!$H74=\"\",\"\",\"4000005\")","v":""},{"$f":"IF('入力シート(新人)'!$H74=\"\",\"\",IF('入力シート(新人)'!$B74=\"男\",0,1))","v":""},{"$f":"IF('入力シート(新人)'!$H74=\"\",\"\",'入力シート(新人)'!C74)","v":""},{"$f":"IF('入力シート(新人)'!$H74=\"\",\"\",TEXT('入力シート(新人)'!$E74,\"000\"))","v":""},{"$f":"IF('入力シート(新人)'!$H74=\"\",\"\",学校番号)","v":""},{"$f":"IF('入力シート(新人)'!$H74=\"\",\"\",B52)","v":""},{"$f":"IF('入力シート(新人)'!$H74=\"\",\"\",TEXT('入力シート(新人)'!$H74,\"00\"))","v":""},null,null,{"$f":"IF('入力シート(新人)'!$H74=\"\",\"\",IF('入力シート(新人)'!K74=\"\",\"\",'入力シート(新人)'!K74))","v":""},{"$nulls":3},{"$f":"IF('入力シート(新人)'!$H74=\"\",\"\",IF('入力シート(新人)'!L74=\"\",\"\",IF('入力シート(新人)'!L74=\"電気\",0,1)))","v":""}]
[{"$f":"IF('入力シート(新人)'!$H75=\"\",\"\",\"4000005\")","v":""},{"$f":"IF('入力シート(新人)'!$H75=\"\",\"\",IF('入力シート(新人)'!$B75=\"男\",0,1))","v":""},{"$f":"IF('入力シート(新人)'!$H75=\"\",\"\",'入力シート(新人)'!C75)","v":""},{"$f":"IF('入力シート(新人)'!$H75=\"\",\"\",TEXT('入力シート(新人)'!$E75,\"000\"))","v":""},{"$f":"IF('入力シート(新人)'!$H75=\"\",\"\",学校番号)","v":""},{"$f":"IF('入力シート(新人)'!$H75=\"\",\"\",B53)","v":""},{"$f":"IF('入力シート(新人)'!$H75=\"\",\"\",TEXT('入力シート(新人)'!$H75,\"00\"))","v":""},null,null,{"$f":"IF('入力シート(新人)'!$H75=\"\",\"\",IF('入力シート(新人)'!K75=\"\",\"\",'入力シート(新人)'!K75))","v":""},{"$nulls":3},{"$f":"IF('入力シート(新人)'!$H75=\"\",\"\",IF('入力シート(新人)'!L75=\"\",\"\",IF('入力シート(新人)'!L75=\"電気\",0,1)))","v":""}]
{"$rows_empty":46}
["大会コード","性別","学年","競技種目コード","学校コード","性別1","選手コード","エントリ記録","当日記録","順位","順番","条件項目","競技－１記録","競技－１得点","競技－１試技順番","競技－１組","競技－１条件項目","計測区分1","未記録区分１","最高記録１","公認最高記録１","三種最高記録１","最高条件項目１","公認最高条件項目１","三種最高条件項目１","競技－２記録","競技－２得点","競技－２試技順番","競技－２組","競技－２条件項目","計測区分２","未記録区分２","最高記録２","公認最高記録２","三種最高記録２","最高条件項目２","公認最高条件項目２","三種最高条件項目２","競技－３記録","競技－３得点","競技－３試技順番","競技－３組","競技－３条件項目","計測区分３","未記録区分３","最高記録３","公認最高記録３","三種最高記録３","最高条件項目３","公認最高条件項目３","三種最高条件項目３","競技－４記録","競技－４得点","競技－４試技順番","競技－４組","競技－４条件項目","計測区分４","未記録区分４","最高記録４","公認最高記録４","三種最高記録４","最高条件項目４","公認最高条件項目４","三種最高条件項目４","競技－５記録","競技－５得点","競技－５試技順番","競技－５組","競技－５条件項目","大会順位","公認記録"]
[{"$f":"IF('入力シート(新人)'!$H38=\"\",\"\",\"4000005\")","v":""},{"$f":"IF('入力シート(新人)'!$H38=\"\",\"\",IF('入力シート(新人)'!$B38=\"男\",0,1))","v":""},{"$f":"IF('入力シート(新人)'!$H38=\"\",\"\",'入力シート(新人)'!C38)","v":""},{"$f":"IF('入力シート(新人)'!$H38=\"\",\"\",TEXT('入力シート(新人)'!$E38,\"000\"))","v":""},{"$f":"IF('入力シート(新人)'!$H38=\"\",\"\",学校番号)","v":""},{"$f":"IF('入力シート(新人)'!$H38=\"\",\"\",B101)","v":""},{"$f":"IF('入力シート(新人)'!$H38=\"\",\"\",TEXT('入力シート(新人)'!$H38,\"00\"))","v":""},{"$f":"IF('入力シート(新人)'!$H38=\"\",\"\",IF('入力シート(新人)'!$K38=\"\",\"\",'入力シート(新人)'!$K38))","v":""},{"$nulls":4},{"$f":"IF('入力シート(新人)'!$H38=\"\",\"\",IF('入力シート(新人)'!$K39=\"\",\"\",'入力シート(新人)'!$K39))","v":""},{"$nulls":12},{"$f":"IF('入力シート(新人)'!$H38=\"\",\"\",IF('入力シート(新人)'!$K40=\"\",\"\",'入力シート(新人)'!$K40))","v":""},{"$nulls":12},{"$f":"IF('入力シート(新人)'!$H38=\"\",\"\",IF('入力シート(新人)'!$K41=\"\",\"\",'入力シート(新人)'!$K41))","v":""},{"$nulls":12},{"$f":"IF('入力シート(新人)'!$H38=\"\",\"\",IF('入力シート(新人)'!$K42=\"\",\"\",'入力シート(新人)'!$K42))","v":""}]
[{"$f":"IF('入力シート(新人)'!$H43=\"\",\"\",\"4000005\")","v":""},{"$f":"IF('入力シート(新人)'!$H43=\"\",\"\",IF('入力シート(新人)'!$B43=\"男\",0,1))","v":""},{"$f":"IF('入力シート(新人)'!$H43=\"\",\"\",'入力シート(新人)'!C43)","v":""},{"$f":"IF('入力シート(新人)'!$H43=\"\",\"\",TEXT('入力シート(新人)'!$E43,\"000\"))","v":""},{"$f":"IF('入力シート(新人)'!$H43=\"\",\"\",学校番号)","v":""},{"$f":"IF('入力シート(新人)'!$H43=\"\",\"\",B102)","v":""},{"$f":"IF('入力シート(新人)'!$H43=\"\",\"\",TEXT('入力シート(新人)'!$H43,\"00\"))","v":""},{"$f":"IF('入力シート(新人)'!$H43=\"\",\"\",IF('入力シート(新人)'!$K43=\"\",\"\",'入力シート(新人)'!$K43))","v":""},{"$nulls":4},{"$f":"IF('入力シート(新人)'!$H43=\"\",\"\",IF('入力シート(新人)'!$K44=\"\",\"\",'入力シート(新人)'!$K44))","v":""},{"$nulls":12},{"$f":"IF('入力シート(新人)'!$H43=\"\",\"\",IF('入力シート(新人)'!$K45=\"\",\"\",'入力シート(新人)'!$K45))","v":""},{"$nulls":12},{"$f":"IF('入力シート(新人)'!$H43=\"\",\"\",IF('入力シート(新人)'!$K46=\"\",\"\",'入力シート(新人)'!$K46))","v":""},{"$nulls":12},{"$f":"IF('入力シート(新人)'!$H43=\"\",\"\",IF('入力シート(新人)'!$K47=\"\",\"\",'入力シート(新人)'!$K47))","v":""}]
[{"$f":"IF('入力シート(新人)'!$H76=\"\",\"\",\"4000005\")","v":""},{"$f":"IF('入力シート(新人)'!$H76=\"\",\"\",IF('入力シート(新人)'!$B76=\"男\",0,1))","v":""},{"$f":"IF('入力シート(新人)'!$H76=\"\",\"\",'入力シート(新人)'!C76)","v":""},{"$f":"IF('入力シート(新人)'!$H76=\"\",\"\",TEXT('入力シート(新人)'!$E76,\"000\"))","v":""},{"$f":"IF('入力シート(新人)'!$H76=\"\",\"\",学校番号)","v":""},{"$f":"IF('入力シート(新人)'!$H76=\"\",\"\",B103)","v":""},{"$f":"IF('入力シート(新人)'!$H76=\"\",\"\",TEXT('入力シート(新人)'!$H76,\"00\"))","v":""},{"$f":"IF('入力シート(新人)'!$H76=\"\",\"\",IF('入力シート(新人)'!$K76=\"\",\"\",'入力シート(新人)'!$K76))","v":""},{"$nulls":4},{"$f":"IF('入力シート(新人)'!$H76=\"\",\"\",IF('入力シート(新人)'!$K77=\"\",\"\",'入力シート(新人)'!$K77))","v":""},{"$nulls":12},{"$f":"IF('入力シート(新人)'!$H76=\"\",\"\",IF('入力シート(新人)'!$K78=\"\",\"\",'入力シート(新人)'!$K78))","v":""},{"$nulls":12},{"$f":"IF('入力シート(新人)'!$H76=\"\",\"\",IF('入力シート(新人)'!$K79=\"\",\"\",'入力シート(新人)'!$K79))","v":""},{"$nulls":12},{"$f":"IF('入力シート(新人)'!$H76=\"\",\"\",IF('入力シート(新人)'!$K80=\"\",\"\",'入力シート(新人)'!$K80))","v":""}]
[{"$f":"IF('入力シート(新人)'!$H81=\"\",\"\",\"4000005\")","v":""},{"$f":"IF('入力シート(新人)'!$H81=\"\",\"\",IF('入力シート(新人)'!$B81=\"男\",0,1))","v":""},{"$f":"IF('入力シート(新人)'!$H81=\"\",\"\",'入力シート(新人)'!C81)","v":""},{"$f":"IF('入力シート(新人)'!$H81=\"\",\"\",TEXT('入力シート(新人)'!$E81,\"000\"))","v":""},{"$f":"IF('入力シート(新人)'!$H81=\"\",\"\",学校番号)","v":""},{"$f":"IF('入力シート(新人)'!$H81=\"\",\"\",B104)","v":""},{"$f":"IF('入力シート(新人)'!$H81=\"\",\"\",TEXT('入力シート(新人)'!$H81,\"00\"))","v":""},{"$f":"IF('入力シート(新人)'!$H81=\"\",\"\",IF('入力シート(新人)'!$K81=\"\",\"\",'入力シート(新人)'!$K81))","v":""},{"$nulls":4},{"$f":"IF('入力シート(新人)'!$H81=\"\",\"\",IF('入力シート(新人)'!$K82=\"\",\"\",'入力シート(新人)'!$K82))","v":""},{"$nulls":12},{"$f":"IF('入力シート(新人)'!$H81=\"\",\"\",IF('入力シート(新人)'!$K83=\"\",\"\",'入力シート(新人)'!$K83))","v":""},{"$nulls":12},{"$f":"IF('入力シート(新人)'!$H81=\"\",\"\",IF('入力シート(新人)'!$K84=\"\",\"\",'入力シート(新人)'!$K84))","v":""},{"$nulls":12},{"$f":"IF('入力シート(新人)'!$H81=\"\",\"\",IF('入力シート(新人)'!$K85=\"\",\"\",'入力シート(新人)'!$K85))","v":""}]
{"$rows_empty":25}
["大会コード","性別","学年","競技種目コード","組","レーン","学校コード","エントリ記録","当日記録","順位","条件項目","選手コード１","出場区分１","選手コード２","出場区分２","選手コード３","出場区分３","選手コード４","出場区分４","選手コード５","出場区分５","選手コード６","出場区分６","計測区分","未記録区分","大会順位"]
[{"$f":"IF('入力シート(新人)'!$H20=\"\",\"\",\"4000005\")","v":""},{"$f":"IF('入力シート(新人)'!$H20=\"\",\"\",IF('入力シート(新人)'!$B20=\"男\",0,1))","v":""},{"$f":"IF('入力シート(新人)'!$H20=\"\",\"\",'入力シート(新人)'!C20)","v":""},{"$f":"IF('入力シート(新人)'!$H20=\"\",\"\",TEXT('入力シート(新人)'!$E20,\"000\"))","v":""},null,null,{"$f":"IF('入力シート(新人)'!$H20=\"\",\"\",学校番号)","v":""},{"$f":"IF('入力シート(新人)'!$H20=\"\",\"\",'入力シート(新人)'!$K20)","v":""},{"$nulls":3},{"$f":"IF('入力シート(新人)'!$H20=\"\",\"\",TEXT('入力シート(新人)'!$H20,\"00\"))","v":""},null,{"$f":"IF('入力シート(新人)'!$H21=\"\",\"\",TEXT('入力シート(新人)'!$H21,\"00\"))","v":""},null,{"$f":"IF('入力シート(新人)'!$H22=\"\",\"\",TEXT('入力シート(新人)'!$H22,\"00\"))","v":""},null,{"$f":"IF('入力シート(新人)'!$H23=\"\",\"\",TEXT('入力シート(新人)'!$H23,\"00\"))","v":""},null,{"$f":"IF('入力シート(新人)'!$H24=\"\",\"\",TEXT('入力シート(新人)'!$H24,\"00\"))","v":""},null,{"$f":"IF('入力シート(新人)'!$H25=\"\",\"\",TEXT('入力シート(新人)'!$H25,\"00\"))","v":""}]
[{"$f":"IF('入力シート(新人)'!$H62=\"\",\"\",\"4000005\")","v":""},{"$f":"IF('入力シート(新人)'!$H62=\"\",\"\",IF('入力シート(新人)'!$B62=\"男\",0,1))","v":""},{"$f":"IF('入力シート(新人)'!$H62=\"\",\"\",'入力シート(新人)'!C62)","v":""},{"$f":"IF('入力シート(新人)'!$H62=\"\",\"\",TEXT('入力シート(新人)'!$E62,\"000\"))","v":""},null,null,{"$f":"IF('入力シート(新人)'!$H62=\"\",\"\",学校番号)","v":""},{"$f":"IF('入力シート(新人)'!$H62=\"\",\"\",'入力シート(新人)'!$K62)","v":""},{"$nulls":3},{"$f":"IF('入力シート(新人)'!$H62=\"\",\"\",TEXT('入力シート(新人)'!$H62,\"00\"))","v":""},null,{"$f":"IF('入力シート(新人)'!$H63=\"\",\"\",TEXT('入力シート(新人)'!$H63,\"00\"))","v":""},null,{"$f":"IF('入力シート(新人)'!$H64=\"\",\"\",TEXT('入力シート(新人)'!$H64,\"00\"))","v":""},null,{"$f":"IF('入力シート(新人)'!$H65=\"\",\"\",TEXT('入力シート(新人)'!$H65,\"00\"))","v":""},null,{"$f":"IF('入力シート(新人)'!$H66=\"\",\"\",TEXT('入力シート(新人)'!$H66,\"00\"))","v":""},null,{"$f":"IF('入力シート(新人)'!$H67=\"\",\"\",TEXT('入力シート(新人)'!$H67,\"00\"))","v":""}]
{"$rows_empty":79}
[{"$f":"IF('入力シート(新人)'!$H272=\"\",\"\",\"4000005\")","v":""},{"$f":"IF('入力シート(新人)'!$H272=\"\",\"\",IF('入力シート(新人)'!$B272=\"男\",0,1))","v":""},{"$f":"IF('入力シート(新人)'!$H272=\"\",\"\",'入力シート(新人)'!C272)","v":""},{"$f":"IF('入力シート(新人)'!$H272=\"\",\"\",'入力シート(新人)'!$E272)","v":""},{"$f":"IF('入力シート(新人)'!$H272=\"\",\"\",学校番号)","v":""},{"$f":"IF('入力シート(新人)'!$H272=\"\",\"\",B212)","v":""},{"$f":"IF('入力シート(新人)'!$H272=\"\",\"\",'入力シート(新人)'!H272)","v":""},null,null,{"$f":"IF('入力シート(新人)'!$H272=\"\",\"\",IF('入力シート(新人)'!K272=\"\",\"\",'入力シート(新人)'!K272))","v":""}]
[{"$f":"IF('入力シート(新人)'!$H273=\"\",\"\",\"4000005\")","v":""},{"$f":"IF('入力シート(新人)'!$H273=\"\",\"\",IF('入力シート(新人)'!$B273=\"男\",0,1))","v":""},{"$f":"IF('入力シート(新人)'!$H273=\"\",\"\",'入力シート(新人)'!C273)","v":""},{"$f":"IF('入力シート(新人)'!$H273=\"\",\"\",'入力シート(新人)'!$E273)","v":""},{"$f":"IF('入力シート(新人)'!$H273=\"\",\"\",学校番号)","v":""},{"$f":"IF('入力シート(新人)'!$H273=\"\",\"\",B213)","v":""},{"$f":"IF('入力シート(新人)'!$H273=\"\",\"\",'入力シート(新人)'!H273)","v":""},null,null,{"$f":"IF('入力シート(新人)'!$H273=\"\",\"\",IF('入力シート(新人)'!K273=\"\",\"\",'入力シート(新人)'!K273))","v":""}]
[{"$f":"IF('入力シート(新人)'!$H274=\"\",\"\",\"4000005\")","v":""},{"$f":"IF('入力シート(新人)'!$H274=\"\",\"\",IF('入力シート(新人)'!$B274=\"男\",0,1))","v":""},{"$f":"IF('入力シート(新人)'!$H274=\"\",\"\",'入力シート(新人)'!C274)","v":""},{"$f":"IF('入力シート(新人)'!$H274=\"\",\"\",'入力シート(新人)'!$E274)","v":""},{"$f":"IF('入力シート(新人)'!$H274=\"\",\"\",学校番号)","v":""},{"$f":"IF('入力シート(新人)'!$H274=\"\",\"\",B214)","v":""},{"$f":"IF('入力シート(新人)'!$H274=\"\",\"\",'入力シート(新人)'!H274)","v":""},null,null,{"$f":"IF('入力シート(新人)'!$H274=\"\",\"\",IF('入力シート(新人)'!K274=\"\",\"\",'入力シート(新人)'!K274))","v":""}]
[{"$f":"IF('入力シート(新人)'!$H275=\"\",\"\",\"4000005\")","v":""},{"$f":"IF('入力シート(新人)'!$H275=\"\",\"\",IF('入力シート(新人)'!$B275=\"男\",0,1))","v":""},{"$f":"IF('入力シート(新人)'!$H275=\"\",\"\",'入力シート(新人)'!C275)","v":""},{"$f":"IF('入力シート(新人)'!$H275=\"\",\"\",'入力シート(新人)'!$E275)","v":""},{"$f":"IF('入力シート(新人)'!$H275=\"\",\"\",学校番号)","v":""},{"$f":"IF('入力シート(新人)'!$H275=\"\",\"\",B215)","v":""},{"$f":"IF('入力シート(新人)'!$H275=\"\",\"\",'入力シート(新人)'!H275)","v":""},null,null,{"$f":"IF('入力シート(新人)'!$H275=\"\",\"\",IF('入力シート(新人)'!K275=\"\",\"\",'入力シート(新人)'!K275))","v":""}]
[{"$f":"IF('入力シート(新人)'!$H276=\"\",\"\",\"4000005\")","v":""},{"$f":"IF('入力シート(新人)'!$H276=\"\",\"\",IF('入力シート(新人)'!$B276=\"男\",0,1))","v":""},{"$f":"IF('入力シート(新人)'!$H276=\"\",\"\",'入力シート(新人)'!C276)","v":""},{"$f":"IF('入力シート(新人)'!$H276=\"\",\"\",'入力シート(新人)'!$E276)","v":""},{"$f":"IF('入力シート(新人)'!$H276=\"\",\"\",学校番号)","v":""},{"$f":"IF('入力シート(新人)'!$H276=\"\",\"\",B216)","v":""},{"$f":"IF('入力シート(新人)'!$H276=\"\",\"\",'入力シート(新人)'!H276)","v":""},null,null,{"$f":"IF('入力シート(新人)'!$H276=\"\",\"\",IF('入力シート(新人)'!K276=\"\",\"\",'入力シート(新人)'!K276))","v":""}]
[{"$f":"IF('入力シート(新人)'!$H277=\"\",\"\",\"4000005\")","v":""},{"$f":"IF('入力シート(新人)'!$H277=\"\",\"\",IF('入力シート(新人)'!$B277=\"男\",0,1))","v":""},{"$f":"IF('入力シート(新人)'!$H277=\"\",\"\",'入力シート(新人)'!C277)","v":""},{"$f":"IF('入力シート(新人)'!$H277=\"\",\"\",'入力シート(新人)'!$E277)","v":""},{"$f":"IF('入力シート(新人)'!$H277=\"\",\"\",学校番号)","v":""},{"$f":"IF('入力シート(新人)'!$H277=\"\",\"\",B217)","v":""},{"$f":"IF('入力シート(新人)'!$H277=\"\",\"\",'入力シート(新人)'!H277)","v":""},null,null,{"$f":"IF('入力シート(新人)'!$H277=\"\",\"\",IF('入力シート(新人)'!K277=\"\",\"\",'入力シート(新人)'!K277))","v":""}]
[{"$f":"IF('入力シート(新人)'!$H278=\"\",\"\",\"4000005\")","v":""},{"$f":"IF('入力シート(新人)'!$H278=\"\",\"\",IF('入力シート(新人)'!$B278=\"男\",0,1))","v":""},{"$f":"IF('入力シート(新人)'!$H278=\"\",\"\",'入力シート(新人)'!C278)","v":""},{"$f":"IF('入力シート(新人)'!$H278=\"\",\"\",'入力シート(新人)'!$E278)","v":""},{"$f":"IF('入力シート(新人)'!$H278=\"\",\"\",学校番号)","v":""},{"$f":"IF('入力シート(新人)'!$H278=\"\",\"\",B218)","v":""},{"$f":"IF('入力シート(新人)'!$H278=\"\",\"\",'入力シート(新人)'!H278)","v":""},null,null,{"$f":"IF('入力シート(新人)'!$H278=\"\",\"\",IF('入力シート(新人)'!K278=\"\",\"\",'入力シート(新人)'!K278))","v":""}]
[{"$f":"IF('入力シート(新人)'!$H279=\"\",\"\",\"4000005\")","v":""},{"$f":"IF('入力シート(新人)'!$H279=\"\",\"\",IF('入力シート(新人)'!$B279=\"男\",0,1))","v":""},{"$f":"IF('入力シート(新人)'!$H279=\"\",\"\",'入力シート(新人)'!C279)","v":""},{"$f":"IF('入力シート(新人)'!$H279=\"\",\"\",'入力シート(新人)'!$E279)","v":""},{"$f":"IF('入力シート(新人)'!$H279=\"\",\"\",学校番号)","v":""},{"$f":"IF('入力シート(新人)'!$H279=\"\",\"\",B219)","v":""},{"$f":"IF('入力シート(新人)'!$H279=\"\",\"\",'入力シート(新人)'!H279)","v":""},null,null,{"$f":"IF('入力シート(新人)'!$H279=\"\",\"\",IF('入力シート(新人)'!K279=\"\",\"\",'入力シート(新人)'!K279))","v":""}]
[{"$f":"IF('入力シート(新人)'!$H280=\"\",\"\",\"4000005\")","v":""},{"$f":"IF('入力シート(新人)'!$H280=\"\",\"\",IF('入力シート(新人)'!$B280=\"男\",0,1))","v":""},{"$f":"IF('入力シート(新人)'!$H280=\"\",\"\",'入力シート(新人)'!C280)","v":""},{"$f":"IF('入力シート(新人)'!$H280=\"\",\"\",'入力シート(新人)'!$E280)","v":""},{"$f":"IF('入力シート(新人)'!$H280=\"\",\"\",学校番号)","v":""},{"$f":"IF('入力シート(新人)'!$H280=\"\",\"\",B220)","v":""},{"$f":"IF('入力シート(新人)'!$H280=\"\",\"\",'入力シート(新人)'!H280)","v":""},null,null,{"$f":"IF('入力シート(新人)'!$H280=\"\",\"\",IF('入力シート(新人)'!K280=\"\",\"\",'入力シート(新人)'!K280))","v":""}]
[{"$f":"IF('入力シート(新人)'!$H281=\"\",\"\",\"4000005\")","v":""},{"$f":"IF('入力シート(新人)'!$H281=\"\",\"\",IF('入力シート(新人)'!$B281=\"男\",0,1))","v":""},{"$f":"IF('入力シート(新人)'!$H281=\"\",\"\",'入力シート(新人)'!C281)","v":""},{"$f":"IF('入力シート(新人)'!$H281=\"\",\"\",'入力シート(新人)'!$E281)","v":""},{"$f":"IF('入力シート(新人)'!$H281=\"\",\"\",学校番号)","v":""},{"$f":"IF('入力シート(新人)'!$H281=\"\",\"\",B221)","v":""},{"$f":"IF('入力シート(新人)'!$H281=\"\",\"\",'入力シート(新人)'!H281)","v":""},null,null,{"$f":"IF('入力シート(新人)'!$H281=\"\",\"\",IF('入力シート(新人)'!K281=\"\",\"\",'入力シート(新人)'!K281))","v":""}]
[{"$f":"IF('入力シート(新人)'!$H282=\"\",\"\",\"4000005\")","v":""},{"$f":"IF('入力シート(新人)'!$H282=\"\",\"\",IF('入力シート(新人)'!$B282=\"男\",0,1))","v":""},{"$f":"IF('入力シート(新人)'!$H282=\"\",\"\",'入力シート(新人)'!C282)","v":""},{"$f":"IF('入力シート(新人)'!$H282=\"\",\"\",'入力シート(新人)'!$E282)","v":""},{"$f":"IF('入力シート(新人)'!$H282=\"\",\"\",学校番号)","v":""},{"$f":"IF('入力シート(新人)'!$H282=\"\",\"\",B222)","v":""},{"$f":"IF('入力シート(新人)'!$H282=\"\",\"\",'入力シート(新人)'!H282)","v":""},null,null,{"$f":"IF('入力シート(新人)'!$H282=\"\",\"\",IF('入力シート(新人)'!K282=\"\",\"\",'入力シート(新人)'!K282))","v":""}]
[{"$f":"IF('入力シート(新人)'!$H283=\"\",\"\",\"4000005\")","v":""},{"$f":"IF('入力シート(新人)'!$H283=\"\",\"\",IF('入力シート(新人)'!$B283=\"男\",0,1))","v":""},{"$f":"IF('入力シート(新人)'!$H283=\"\",\"\",'入力シート(新人)'!C283)","v":""},{"$f":"IF('入力シート(新人)'!$H283=\"\",\"\",'入力シート(新人)'!$E283)","v":""},{"$f":"IF('入力シート(新人)'!$H283=\"\",\"\",学校番号)","v":""},{"$f":"IF('入力シート(新人)'!$H283=\"\",\"\",B223)","v":""},{"$f":"IF('入力シート(新人)'!$H283=\"\",\"\",'入力シート(新人)'!H283)","v":""},null,null,{"$f":"IF('入力シート(新人)'!$H283=\"\",\"\",IF('入力シート(新人)'!K283=\"\",\"\",'入力シート(新人)'!K283))","v":""}]
[{"$f":"IF('入力シート(新人)'!$H284=\"\",\"\",\"4000005\")","v":""},{"$f":"IF('入力シート(新人)'!$H284=\"\",\"\",IF('入力シート(新人)'!$B284=\"男\",0,1))","v":""},{"$f":"IF('入力シート(新人)'!$H284=\"\",\"\",'入力シート(新人)'!C284)","v":""},{"$f":"IF('入力シート(新人)'!$H284=\"\",\"\",'入力シート(新人)'!$E284)","v":""},{"$f":"IF('入力シート(新人)'!$H284=\"\",\"\",学校番号)","v":""},{"$f":"IF('入力シート(新人)'!$H284=\"\",\"\",B224)","v":""},{"$f":"IF('入力シート(新人)'!$H284=\"\",\"\",'入力シート(新人)'!H284)","v":""},null,null,{"$f":"IF('入力シート(新人)'!$H284=\"\",\"\",IF('入力シート(新人)'!K284=\"\",\"\",'入力シート(新人)'!K284))","v":""}]
[{"$f":"IF('入力シート(新人)'!$H285=\"\",\"\",\"4000005\")","v":""},{"$f":"IF('入力シート(新人)'!$H285=\"\",\"\",IF('入力シート(新人)'!$B285=\"男\",0,1))","v":""},{"$f":"IF('入力シート(新人)'!$H285=\"\",\"\",'入力シート(新人)'!C285)","v":""},{"$f":"IF('入力シート(新人)'!$H285=\"\",\"\",'入力シート(新人)'!$E285)","v":""},{"$f":"IF('入力シート(新人)'!$H285=\"\",\"\",学校番号)","v":""},{"$f":"IF('入力シート(新人)'!$H285=\"\",\"\",B225)","v":""},{"$f":"IF('入力シート(新人)'!$H285=\"\",\"\",'入力シート(新人)'!H285)","v":""},null,null,{"$f":"IF('入力シート(新人)'!$H285=\"\",\"\",IF('入力シート(新人)'!K285=\"\",\"\",'入力シート(新人)'!K285))","v":""}]
[{"$f":"IF('入力シート(新人)'!$H286=\"\",\"\",\"4000005\")","v":""},{"$f":"IF('入力シート(新人)'!$H286=\"\",\"\",IF('入力シート(新人)'!$B286=\"男\",0,1))","v":""},{"$f":"IF('入力シート(新人)'!$H286=\"\",\"\",'入力シート(新人)'!C286)","v":""},{"$f":"IF('入力シート(新人)'!$H286=\"\",\"\",'入力シート(新人)'!$E286)","v":""},{"$f":"IF('入力シート(新人)'!$H286=\"\",\"\",学校番号)","v":""},{"$f":"IF('入力シート(新人)'!$H286=\"\",\"\",B226)","v":""},{"$f":"IF('入力シート(新人)'!$H286=\"\",\"\",'入力シート(新人)'!H286)","v":""},null,null,{"$f":"IF('入力シート(新人)'!$H286=\"\",\"\",IF('入力シート(新人)'!K286=\"\",\"\",'入力シート(新人)'!K286))","v":""}]
[{"$f":"IF('入力シート(新人)'!$H287=\"\",\"\",\"4000005\")","v":""},{"$f":"IF('入力シート(新人)'!$H287=\"\",\"\",IF('入力シート(新人)'!$B287=\"男\",0,1))","v":""},{"$f":"IF('入力シート(新人)'!$H287=\"\",\"\",'入力シート(新人)'!C287)","v":""},{"$f":"IF('入力シート(新人)'!$H287=\"\",\"\",'入力シート(新人)'!$E287)","v":""},{"$f":"IF('入力シート(新人)'!$H287=\"\",\"\",学校番号)","v":""},{"$f":"IF('入力シート(新人)'!$H287=\"\",\"\",B227)","v":""},{"$f":"IF('入力シート(新人)'!$H287=\"\",\"\",'入力シート(新人)'!H287)","v":""},null,null,{"$f":"IF('入力シート(新人)'!$H287=\"\",\"\",IF('入力シート(新人)'!K287=\"\",\"\",'入力シート(新人)'!K287))","v":""}]
[{"$f":"IF('入力シート(新人)'!$H288=\"\",\"\",\"4000005\")","v":""},{"$f":"IF('入力シート(新人)'!$H288=\"\",\"\",IF('入力シート(新人)'!$B288=\"男\",0,1))","v":""},{"$f":"IF('入力シート(新人)'!$H288=\"\",\"\",'入力シート(新人)'!C288)","v":""},{"$f":"IF('入力シート(新人)'!$H288=\"\",\"\",'入力シート(新人)'!$E288)","v":""},{"$f":"IF('入力シート(新人)'!$H288=\"\",\"\",学校番号)","v":""},{"$f":"IF('入力シート(新人)'!$H288=\"\",\"\",B228)","v":""},{"$f":"IF('入力シート(新人)'!$H288=\"\",\"\",'入力シート(新人)'!H288)","v":""},null,null,{"$f":"IF('入力シート(新人)'!$H288=\"\",\"\",IF('入力シート(新人)'!K288=\"\",\"\",'入力シート(新人)'!K288))","v":""}]
[{"$f":"IF('入力シート(新人)'!$H289=\"\",\"\",\"4000005\")","v":""},{"$f":"IF('入力シート(新人)'!$H289=\"\",\"\",IF('入力シート(新人)'!$B289=\"男\",0,1))","v":""},{"$f":"IF('入力シート(新人)'!$H289=\"\",\"\",'入力シート(新人)'!C289)","v":""},{"$f":"IF('入力シート(新人)'!$H289=\"\",\"\",'入力シート(新人)'!$E289)","v":""},{"$f":"IF('入力シート(新人)'!$H289=\"\",\"\",学校番号)","v":""},{"$f":"IF('入力シート(新人)'!$H289=\"\",\"\",B229)","v":""},{"$f":"IF('入力シート(新人)'!$H289=\"\",\"\",'入力シート(新人)'!H289)","v":""},null,null,{"$f":"IF('入力シート(新人)'!$H289=\"\",\"\",IF('入力シート(新人)'!K289=\"\",\"\",'入力シート(新人)'!K289))","v":""}]
[{"$f":"IF('入力シート(新人)'!$H290=\"\",\"\",\"4000005\")","v":""},{"$f":"IF('入力シート(新人)'!$H290=\"\",\"\",IF('入力シート(新人)'!$B290=\"男\",0,1))","v":""},{"$f":"IF('入力シート(新人)'!$H290=\"\",\"\",'入力シート(新人)'!C290)","v":""},{"$f":"IF('入力シート(新人)'!$H290=\"\",\"\",'入力シート(新人)'!$E290)","v":""},{"$f":"IF('入力シート(新人)'!$H290=\"\",\"\",学校番号)","v":""},{"$f":"IF('入力シート(新人)'!$H290=\"\",\"\",B230)","v":""},{"$f":"IF('入力シート(新人)'!$H290=\"\",\"\",'入力シート(新人)'!H290)","v":""},null,null,{"$f":"IF('入力シート(新人)'!$H290=\"\",\"\",IF('入力シート(新人)'!K290=\"\",\"\",'入力シート(新人)'!K290))","v":""}]
[{"$f":"IF('入力シート(新人)'!$H291=\"\",\"\",\"4000005\")","v":""},{"$f":"IF('入力シート(新人)'!$H291=\"\",\"\",IF('入力シート(新人)'!$B291=\"男\",0,1))","v":""},{"$f":"IF('入力シート(新人)'!$H291=\"\",\"\",'入力シート(新人)'!C291)","v":""},{"$f":"IF('入力シート(新人)'!$H291=\"\",\"\",'入力シート(新人)'!$E291)","v":""},{"$f":"IF('入力シート(新人)'!$H291=\"\",\"\",学校番号)","v":""},{"$f":"IF('入力シート(新人)'!$H291=\"\",\"\",B231)","v":""},{"$f":"IF('入力シート(新人)'!$H291=\"\",\"\",'入力シート(新人)'!H291)","v":""},null,null,{"$f":"IF('入力シート(新人)'!$H291=\"\",\"\",IF('入力シート(新人)'!K291=\"\",\"\",'入力シート(新人)'!K291))","v":""}]
[{"$f":"IF('入力シート(新人)'!$H292=\"\",\"\",\"4000005\")","v":""},{"$f":"IF('入力シート(新人)'!$H292=\"\",\"\",IF('入力シート(新人)'!$B292=\"男\",0,1))","v":""},{"$f":"IF('入力シート(新人)'!$H292=\"\",\"\",'入力シート(新人)'!C292)","v":""},{"$f":"IF('入力シート(新人)'!$H292=\"\",\"\",'入力シート(新人)'!$E292)","v":""},{"$f":"IF('入力シート(新人)'!$H292=\"\",\"\",学校番号)","v":""},{"$f":"IF('入力シート(新人)'!$H292=\"\",\"\",B232)","v":""},{"$f":"IF('入力シート(新人)'!$H292=\"\",\"\",'入力シート(新人)'!H292)","v":""},null,null,{"$f":"IF('入力シート(新人)'!$H292=\"\",\"\",IF('入力シート(新人)'!K292=\"\",\"\",'入力シート(新人)'!K292))","v":""}]
[{"$f":"IF('入力シート(新人)'!$H293=\"\",\"\",\"4000005\")","v":""},{"$f":"IF('入力シート(新人)'!$H293=\"\",\"\",IF('入力シート(新人)'!$B293=\"男\",0,1))","v":""},{"$f":"IF('入力シート(新人)'!$H293=\"\",\"\",'入力シート(新人)'!C293)","v":""},{"$f":"IF('入力シート(新人)'!$H293=\"\",\"\",'入力シート(新人)'!$E293)","v":""},{"$f":"IF('入力シート(新人)'!$H293=\"\",\"\",学校番号)","v":""},{"$f":"IF('入力シート(新人)'!$H293=\"\",\"\",B233)","v":""},{"$f":"IF('入力シート(新人)'!$H293=\"\",\"\",'入力シート(新人)'!H293)","v":""},null,null,{"$f":"IF('入力シート(新人)'!$H293=\"\",\"\",IF('入力シート(新人)'!K293=\"\",\"\",'入力シート(新人)'!K293))","v":""}]

{"sheet":"入力シート(総体)","index":13,"n_rows":99,"n_cols":28,"rows_kept":99,"hidden":true,"merged":[[1,0,54,0],[10,10,14,12],[28,10,32,12],[46,3,49,7],[46,8,46,9],[46,12,49,12],[47,8,47,9],[48,8,48,9],[49,8,49,9],[51,3,54,7],[51,8,51,9],[51,12,54,12],[52,8,52,9],[53,8,53,9],[54,8,54,9],[55,0,98,0],[62,10,66,12],[76,10,80,12],[90,3,93,7],[90,8,90,9],[90,12,93,12],[91,8,91,9],[92,8,92,9],[93,8,93,9],[95,3,98,7],[95,8,95,9],[95,12,98,12],[96,8,96,9],[97,8,97,9],[98,8,98,9]]}
["性別","性別","種別コード","種別","種目コード","種目","学校番号","個人番号","氏名","学年","申込記録","計測区分","大会名",{"$nulls":12},1,2,3]
["男子","男",1,{"$f":"VLOOKUP(C2,出場種別,2,FALSE)","v":"１年"},"001",{"$f":"VLOOKUP(E2,種目コード,2,FALSE)","v":"１００ｍ"},{"$f":"学校番号","v":0},null,{"$f":"IF(H2=\"\",\"\",VLOOKUP(P2,部員データ,3,FALSE)&\"　\"&VLOOKUP(P2,部員データ,4,FALSE))","v":""},{"$f":"IF(H2=\"\",\"\",VLOOKUP(P2,部員データ,2,FALSE))","v":""},{"$nulls":5},{"$f":"IF(H2=\"\",\"\",B2&DBCS(TEXT(H2,\"００\")))","v":""},{"$f":"COUNTIF($P$2:$P$9,P2)+COUNTIF($P$34:$P$51,P2)+COUNTIF($P$16:$P$27,P2)","v":38},{"$f":"IF(VLOOKUP(E2,男子標準記録,C2+3,FALSE)=\"\",\"\",VLOOKUP(E2,男子標準記録,C2+3,FALSE))","v":""},{"$f":"VLOOKUP(E2,種目コード,4,FALSE)","v":10},{"$f":"IF(FIND(\".\",TEXT(K2,\"#.00\"))>3,MID(TEXT(K2,\"#.00\"),FIND(\".\",TEXT(K2,\"#.00\"))-2,2)/1,\"\")","v":""},null,{"$f":"IF(COUNTIF($P$2:P2,P2)>1,\"*\",1)","v":1},null,null,"男",{"$f":"COUNTIFS($J$2:$J$51,$Z$1,$V$2:$V$51,Z1)","v":0},{"$f":"COUNTIFS($J$2:$J$51,$AA$1,$V$2:$V$51,1)","v":0},{"$f":"COUNTIFS($J$2:$J$51,$AB$1,$V$2:$V$51,1)","v":0}]
[null,"男",1,"１年","001","１００ｍ",0,null,{"$f":"IF(H3=\"\",\"\",VLOOKUP(P3,部員データ,3,FALSE)&\"　\"&VLOOKUP(P3,部員データ,4,FALSE))","v":""},"",{"$nulls":5},"",38,"",10,{"$f":"IF(FIND(\".\",TEXT(K3,\"#.00\"))>3,MID(TEXT(K3,\"#.00\"),FIND(\".\",TEXT(K3,\"#.00\"))-2,2)/1,\"\")","v":""},null,{"$f":"IF(COUNTIF($P$2:P3,P3)>1,\"*\",1)","v":"*"},null,null,"女",{"$f":"COUNTIFS($J$56:$J$95,$Z$1,$V$56:$V$95,1)","v":0},{"$f":"COUNTIFS($J$56:$J$95,$AA$1,$V$56:$V$95,1)","v":0},{"$f":"COUNTIFS($J$56:$J$95,$AB$1,$V$56:$V$95,1)","v":0}]
[null,"男",1,"１年","015","１５００ｍ",0,null,{"$f":"IF(H4=\"\",\"\",VLOOKUP(P4,部員データ,3,FALSE)&\"　\"&VLOOKUP(P4,部員データ,4,FALSE))","v":""},"",{"$nulls":5},"",38,"",340,"",null,{"$f":"IF(COUNTIF($P$2:P4,P4)>1,\"*\",1)","v":"*"}]
[null,"男",1,"１年","015","１５００ｍ",0,null,"","",{"$nulls":5},"",38,"",340,"",null,{"$f":"IF(COUNTIF($P$2:P5,P5)>1,\"*\",1)","v":"*"}]
[null,"男",2,"２年","001","１００ｍ",0,null,"","",{"$nulls":5},"",38,"",10,"",null,{"$f":"IF(COUNTIF($P$2:P6,P6)>1,\"*\",1)","v":"*"}]
[null,"男",2,"２年","001","１００ｍ",0,null,"","",{"$nulls":5},"",38,"",10,"",null,{"$f":"IF(COUNTIF($P$2:P7,P7)>1,\"*\",1)","v":"*"}]
[null,"男",3,"３年","001","１００ｍ",0,null,"","",{"$nulls":5},"",38,"",10,"",null,{"$f":"IF(COUNTIF($P$2:P8,P8)>1,\"*\",1)","v":"*"}]
[null,"男",3,"３年","001","１００ｍ",0,null,"","",{"$nulls":5},"",38,"",10,"",null,{"$f":"IF(COUNTIF($P$2:P9,P9)>1,\"*\",1)","v":"*"}]
[null,"男",6,{"$f":"VLOOKUP(C10,出場種別,2,FALSE)","v":"低学年"},"410",{"$f":"VLOOKUP(E10,種目コード,2,FALSE)","v":"４×１００ｍＲ"},0,null,{"$f":"IF(H10=\"\",\"\",VLOOKUP(P10,部員データ,3,FALSE)&\"　\"&VLOOKUP(P10,部員データ,4,FALSE))","v":""},{"$f":"IF(H10=\"\",\"\",VLOOKUP(P10,部員データ,2,FALSE))","v":""},{"$nulls":5},{"$f":"IF(H10=\"\",\"\",B10&DBCS(TEXT(H10,\"００\")))","v":""},{"$f":"COUNTIF($P$10:$P$15,P10)+COUNTIF($P$28:$P$33,P10)","v":12},{"$f":"IF(VLOOKUP(E10,男子標準記録,C10+3,FALSE)=\"\",\"\",VLOOKUP(E10,男子標準記録,C10+3,FALSE))","v":""},{"$f":"VLOOKUP(E10,種目コード,4,FALSE)","v":38},{"$f":"IF(FIND(\".\",TEXT(K10,\"#.00\"))>3,MID(TEXT(K10,\"#.00\"),FIND(\".\",TEXT(K10,\"#.00\"))-2,2)/1,\"\")","v":""},null,{"$f":"IF(COUNTIF($P$2:P10,P10)>1,\"*\",1)","v":"*"}]
[null,"男",6,"低学年","410","４×１００ｍＲ",0,null,"","",{"$nulls":5},"",12,null,null,"",null,{"$f":"IF(COUNTIF($P$2:P11,P11)>1,\"*\",1)","v":"*"}]
[null,"男",6,"低学年","410","４×１００ｍＲ",0,null,"","",{"$nulls":5},"",12,null,null,"",null,{"$f":"IF(COUNTIF($P$2:P12,P12)>1,\"*\",1)","v":"*"}]
[null,"男",6,"低学年","410","４×１００ｍＲ",0,null,"","",{"$nulls":5},"",12,null,null,"",null,{"$f":"IF(COUNTIF($P$2:P13,P13)>1,\"*\",1)","v":"*"}]
[null,"男",6,"低学年","410","４×１００ｍＲ",0,null,"","",{"$nulls":5},"",12,null,null,"",null,{"$f":"IF(COUNTIF($P$2:P14,P14)>1,\"*\",1)","v":"*"}]
[null,"男",6,"低学年","410","４×１００ｍＲ",0,null,"","",{"$nulls":5},"",12,null,null,"",null,{"$f":"IF(COUNTIF($P$2:P15,P15)>1,\"*\",1)","v":"*"}]
[null,"男",0,"共通","002","２００ｍ",0,null,"","",{"$nulls":5},"",38,"",20.5,"",null,{"$f":"IF(COUNTIF($P$2:P16,P16)>1,\"*\",1)","v":"*"}]
[null,"男",0,"共通","002","２００ｍ",0,null,"","",{"$nulls":5},"",38,"",20.5,"",null,{"$f":"IF(COUNTIF($P$2:P17,P17)>1,\"*\",1)","v":"*"}]
[null,"男",0,"共通","004","４００ｍ",0,null,"","",{"$nulls":5},"",38,"",42,"",null,{"$f":"IF(COUNTIF($P$2:P18,P18)>1,\"*\",1)","v":"*"}]
[null,"男",0,"共通","004","４００ｍ",0,null,"","",{"$nulls":5},"",38,"",42,"",null,{"$f":"IF(COUNTIF($P$2:P19,P19)>1,\"*\",1)","v":"*"}]
[null,"男",0,"共通","008","８００ｍ",0,null,"","",{"$nulls":5},"",38,"",150,"",null,{"$f":"IF(COUNTIF($P$2:P20,P20)>1,\"*\",1)","v":"*"}]
[null,"男",0,"共通","008","８００ｍ",0,null,"","",{"$nulls":5},"",38,"",150,"",null,{"$f":"IF(COUNTIF($P$2:P21,P21)>1,\"*\",1)","v":"*"}]
[null,"男",0,{"$f":"VLOOKUP(C22,出場種別,2,FALSE)","v":"共通"},"015",{"$f":"VLOOKUP(E22,種目コード,2,FALSE)","v":"１５００ｍ"},0,null,{"$f":"IF(H22=\"\",\"\",VLOOKUP(P22,部員データ,3,FALSE)&\"　\"&VLOOKUP(P22,部員データ,4,FALSE))","v":""},{"$f":"IF(H22=\"\",\"\",VLOOKUP(P22,部員データ,2,FALSE))","v":""},{"$nulls":5},{"$f":"IF(H22=\"\",\"\",B22&DBCS(TEXT(H22,\"００\")))","v":""},38,{"$f":"IF(VLOOKUP(E22,男子標準記録,C22+3,FALSE)=\"\",\"\",VLOOKUP(E22,男子標準記録,C22+3,FALSE))","v":""},{"$f":"VLOOKUP(E22,種目コード,4,FALSE)","v":340},{"$f":"IF(FIND(\".\",TEXT(K22,\"#.00\"))>3,MID(TEXT(K22,\"#.00\"),FIND(\".\",TEXT(K22,\"#.00\"))-2,2)/1,\"\")","v":""},null,{"$f":"IF(COUNTIF($P$2:P22,P22)>1,\"*\",1)","v":"*"}]
[null,"男",0,{"$f":"VLOOKUP(C23,出場種別,2,FALSE)","v":"共通"},"015",{"$f":"VLOOKUP(E23,種目コード,2,FALSE)","v":"１５００ｍ"},0,null,{"$f":"IF(H23=\"\",\"\",VLOOKUP(P23,部員データ,3,FALSE)&\"　\"&VLOOKUP(P23,部員データ,4,FALSE))","v":""},{"$f":"IF(H23=\"\",\"\",VLOOKUP(P23,部員データ,2,FALSE))","v":""},{"$nulls":5},{"$f":"IF(H23=\"\",\"\",B23&DBCS(TEXT(H23,\"００\")))","v":""},38,{"$f":"IF(VLOOKUP(E23,男子標準記録,C23+3,FALSE)=\"\",\"\",VLOOKUP(E23,男子標準記録,C23+3,FALSE))","v":""},{"$f":"VLOOKUP(E23,種目コード,4,FALSE)","v":340},{"$f":"IF(FIND(\".\",TEXT(K23,\"#.00\"))>3,MID(TEXT(K23,\"#.00\"),FIND(\".\",TEXT(K23,\"#.00\"))-2,2)/1,\"\")","v":""},null,{"$f":"IF(COUNTIF($P$2:P23,P23)>1,\"*\",1)","v":"*"}]
[null,"男",0,"共通","030","３０００ｍ",0,null,"","",{"$nulls":5},"",38,"",800,"",null,{"$f":"IF(COUNTIF($P$2:P24,P24)>1,\"*\",1)","v":"*"}]
[null,"男",0,"共通","030","３０００ｍ",0,null,"","",{"$nulls":5},"",38,"",800,"",null,{"$f":"IF(COUNTIF($P$2:P25,P25)>1,\"*\",1)","v":"*"}]
[null,"男",0,"共通","111","１１０ｍＨ",0,null,"","",{"$nulls":5},"",38,"",12,"",null,{"$f":"IF(COUNTIF($P$2:P26,P26)>1,\"*\",1)","v":"*"}]
[null,"男",0,"共通","111","１１０ｍＨ",0,null,"","",{"$nulls":5},"",38,"",12,"",null,{"$f":"IF(COUNTIF($P$2:P27,P27)>1,\"*\",1)","v":"*"}]
[null,"男",0,"共通","410","４×１００ｍＲ",0,null,"","",{"$nulls":5},"",{"$f":"COUNTIF($P$10:$P$15,P28)+COUNTIF($P$28:$P$33,P28)","v":12},"",38,"",null,{"$f":"IF(COUNTIF($P$2:P28,P28)>1,\"*\",1)","v":"*"}]
[null,"男",0,"共通","410","４×１００ｍＲ",0,null,"","",{"$nulls":5},"",12,null,null,"",null,{"$f":"IF(COUNTIF($P$2:P29,P29)>1,\"*\",1)","v":"*"}]
[null,"男",0,"共通","410",{"$f":"VLOOKUP(E30,種目コード,2,FALSE)","v":"４×１００ｍＲ"},0,null,"","",{"$nulls":5},"",12,null,null,"",null,{"$f":"IF(COUNTIF($P$2:P30,P30)>1,\"*\",1)","v":"*"}]
[null,"男",0,"共通","410","４×１００ｍＲ",0,null,"","",{"$nulls":5},"",12,null,null,"",null,{"$f":"IF(COUNTIF($P$2:P31,P31)>1,\"*\",1)","v":"*"}]
[null,"男",0,"共通","410","４×１００ｍＲ",0,null,"","",{"$nulls":5},"",12,null,null,"",null,{"$f":"IF(COUNTIF($P$2:P32,P32)>1,\"*\",1)","v":"*"}]
[null,"男",0,"共通","410","４×１００ｍＲ",0,null,"","",{"$nulls":5},"",12,null,null,"",null,{"$f":"IF(COUNTIF($P$2:P33,P33)>1,\"*\",1)","v":"*"}]
[null,"男",0,"共通","510","走高跳",0,null,"","",{"$nulls":5},"",38,{"$f":"IF(VLOOKUP(E34,男子標準記録,C34+3,FALSE)=\"\",\"\",VLOOKUP(E34,男子標準記録,C34+3,FALSE))","v":""},{"$f":"VLOOKUP(E34,種目コード,4,FALSE)","v":2.4},"",null,{"$f":"IF(COUNTIF($P$2:P34,P34)>1,\"*\",1)","v":"*"}]
[null,"男",0,"共通","510","走高跳",0,null,"","",{"$nulls":5},"",38,"",2.4,"",null,{"$f":"IF(COUNTIF($P$2:P35,P35)>1,\"*\",1)","v":"*"}]
[null,"男",0,"共通","520","棒高跳",0,null,"","",{"$nulls":5},"",38,"",5.5,"",null,{"$f":"IF(COUNTIF($P$2:P36,P36)>1,\"*\",1)","v":"*"}]
[null,"男",0,"共通","520","棒高跳",0,null,"","",{"$nulls":5},"",38,"",5.5,"",null,{"$f":"IF(COUNTIF($P$2:P37,P37)>1,\"*\",1)","v":"*"}]
[null,"男",0,"共通","530","走幅跳",0,null,"","",{"$nulls":5},"",38,"",8,"",null,{"$f":"IF(COUNTIF($P$2:P38,P38)>1,\"*\",1)","v":"*"}]
[null,"男",0,"共通","530","走幅跳",0,null,"","",{"$nulls":5},"",38,"",8,"",null,{"$f":"IF(COUNTIF($P$2:P39,P39)>1,\"*\",1)","v":"*"}]
[null,"男",0,"共通","540","三段跳",0,null,"","",{"$nulls":5},"",38,"",17,"",null,{"$f":"IF(COUNTIF($P$2:P40,P40)>1,\"*\",1)","v":"*"}]
[null,"男",0,"共通","540","三段跳",0,null,"","",{"$nulls":5},"",38,"",17,"",null,{"$f":"IF(COUNTIF($P$2:P41,P41)>1,\"*\",1)","v":"*"}]
[null,"男",0,"共通","562","砲丸投(5.0㎏)",0,null,"","",{"$nulls":5},"",38,"",20,"",null,{"$f":"IF(COUNTIF($P$2:P42,P42)>1,\"*\",1)","v":"*"}]
[null,"男",0,"共通","562","砲丸投(5.0㎏)",0,null,"","",{"$nulls":5},"",38,"",20,"",null,{"$f":"IF(COUNTIF($P$2:P43,P43)>1,\"*\",1)","v":"*"}]
[null,"男",0,"共通","551","円盤投(1.5㎏)",0,null,"","",{"$nulls":5},"",38,"",70,"",null,{"$f":"IF(COUNTIF($P$2:P44,P44)>1,\"*\",1)","v":"*"}]
[null,"男",0,"共通","551","円盤投(1.5㎏)",0,null,"","",{"$nulls":5},"",38,"",70,"",null,{"$f":"IF(COUNTIF($P$2:P45,P45)>1,\"*\",1)","v":"*"}]
[null,"男",0,"共通","710","男子四種競技",0,null,"","",{"$nulls":5},"",38,"",3800,"",null,{"$f":"IF(COUNTIF($P$2:P46,P46)>1,\"*\",1)","v":"*"}]
[{"$nulls":8},"１１０ｍH",{"$nulls":7},0,null,null,"",null,{"$f":"IF(COUNTIF($P$2:P47,P47)>1,\"*\",1)","v":1}]
[{"$nulls":8},"砲丸投げ",{"$nulls":7},0,null,null,"",null,{"$f":"IF(COUNTIF($P$2:P48,P48)>1,\"*\",1)","v":1}]
[{"$nulls":8},"走高跳",{"$nulls":7},0,null,null,"",null,{"$f":"IF(COUNTIF($P$2:P49,P49)>1,\"*\",1)","v":1}]
[{"$nulls":8},"４００ｍ",{"$nulls":7},0,null,null,"",null,{"$f":"IF(COUNTIF($P$2:P50,P50)>1,\"*\",1)","v":1}]
[null,"男",0,{"$f":"VLOOKUP(C51,出場種別,2,FALSE)","v":"共通"},"710",{"$f":"VLOOKUP(E51,種目コード,2,FALSE)","v":"男子四種競技"},{"$f":"学校番号","v":0},null,{"$f":"IF(H51=\"\",\"\",VLOOKUP(P51,部員データ,3,FALSE)&\"　\"&VLOOKUP(P51,部員データ,4,FALSE))","v":""},{"$f":"IF(H51=\"\",\"\",VLOOKUP(P51,部員データ,2,FALSE))","v":""},{"$nulls":5},"",38,{"$f":"IF(VLOOKUP(E51,男子標準記録,C51+3,FALSE)=\"\",\"\",VLOOKUP(E51,男子標準記録,C51+3,FALSE))","v":""},{"$f":"VLOOKUP(E51,種目コード,4,FALSE)","v":3800},"",null,{"$f":"IF(COUNTIF($P$2:P51,P51)>1,\"*\",1)","v":"*"}]
[{"$nulls":8},"１１０ｍH",{"$nulls":10},"",null,{"$f":"IF(COUNTIF($P$2:P52,P52)>1,\"*\",1)","v":1}]
[{"$nulls":8},"砲丸投げ",{"$nulls":10},"",null,{"$f":"IF(COUNTIF($P$2:P53,P53)>1,\"*\",1)","v":1}]
[{"$nulls":8},"走高跳",{"$nulls":10},"",null,{"$f":"IF(COUNTIF($P$2:P54,P54)>1,\"*\",1)","v":1}]
[{"$nulls":8},"４００ｍ",{"$nulls":10},"",null,{"$f":"IF(COUNTIF($P$2:P55,P55)>1,\"*\",1)","v":1}]
["女子","女",1,{"$f":"VLOOKUP(C56,出場種別,2,FALSE)","v":"１年"},"001",{"$f":"VLOOKUP(E56,種目コード,2,FALSE)","v":"１００ｍ"},{"$f":"学校番号","v":0},null,{"$f":"IF(H56=\"\",\"\",VLOOKUP(P56,部員データ,3,FALSE)&\"　\"&VLOOKUP(P56,部員データ,4,FALSE))","v":""},{"$f":"IF(H56=\"\",\"\",VLOOKUP(P56,部員データ,2,FALSE))","v":""},{"$nulls":5},"",{"$f":"COUNTIF($P$56:$P$61,P56)+COUNTIF($P$82:$P$95,P56)+COUNTIF($P$68:$P$75,P56)","v":28},{"$f":"IF(VLOOKUP(E56,女子標準記録,C56+3,FALSE)=\"\",\"\",VLOOKUP(E56,女子標準記録,C56+3,FALSE))","v":""},{"$f":"VLOOKUP(E56,種目コード,6,FALSE)","v":11},"",null,{"$f":"IF(COUNTIF($P$2:P56,P56)>1,\"*\",1)","v":"*"}]
[null,"女",1,"１年","001","１００ｍ",0,null,"","",{"$nulls":5},"",28,"",11,"",null,{"$f":"IF(COUNTIF($P$2:P57,P57)>1,\"*\",1)","v":"*"}]
[null,"女",2,"２年","001","１００ｍ",0,null,"","",{"$nulls":5},"",28,"",11,"",null,{"$f":"IF(COUNTIF($P$2:P58,P58)>1,\"*\",1)","v":"*"}]
[null,"女",2,"２年","001","１００ｍ",0,null,"","",{"$nulls":5},"",28,"",11,"",null,{"$f":"IF(COUNTIF($P$2:P59,P59)>1,\"*\",1)","v":"*"}]
[null,"女",3,"３年","001","１００ｍ",0,null,"","",{"$nulls":5},"",28,"",11,"",null,{"$f":"IF(COUNTIF($P$2:P60,P60)>1,\"*\",1)","v":"*"}]
[null,"女",3,"３年","001","１００ｍ",0,null,"","",{"$nulls":5},"",{"$f":"COUNTIF($P$56:$P$61,P61)+COUNTIF($P$82:$P$95,P61)+COUNTIF($P$68:$P$75,P61)","v":28},"",11,"",null,{"$f":"IF(COUNTIF($P$2:P61,P61)>1,\"*\",1)","v":"*"}]
[null,"女",6,{"$f":"VLOOKUP(C62,出場種別,2,FALSE)","v":"低学年"},"410",{"$f":"VLOOKUP(E62,種目コード,2,FALSE)","v":"４×１００ｍＲ"},0,null,{"$f":"IF(H62=\"\",\"\",VLOOKUP(P62,部員データ,3,FALSE)&\"　\"&VLOOKUP(P62,部員データ,4,FALSE))","v":""},{"$f":"IF(H62=\"\",\"\",VLOOKUP(P62,部員データ,2,FALSE))","v":""},{"$nulls":5},{"$f":"IF(H62=\"\",\"\",B62&DBCS(TEXT(H62,\"００\")))","v":""},{"$f":"COUNTIF($P$62:$P$67,P62)+COUNTIF($P$76:$P$81,P62)","v":12},{"$f":"IF(VLOOKUP(E62,女子標準記録,C62+3,FALSE)=\"\",\"\",VLOOKUP(E62,女子標準記録,C62+3,FALSE))","v":""},{"$f":"VLOOKUP(E62,種目コード,6,FALSE)","v":41},{"$f":"IF(FIND(\".\",TEXT(K62,\"#.00\"))>3,MID(TEXT(K62,\"#.00\"),FIND(\".\",TEXT(K62,\"#.00\"))-2,2)/1,\"\")","v":""},null,{"$f":"IF(COUNTIF($P$2:P62,P62)>1,\"*\",1)","v":"*"}]
[null,"女",6,"低学年","410","４×１００ｍＲ",0,null,"","",{"$nulls":5},"",12,"",null,"",null,{"$f":"IF(COUNTIF($P$2:P63,P63)>1,\"*\",1)","v":"*"}]
[null,"女",6,"低学年","410","４×１００ｍＲ",0,null,"","",{"$nulls":5},"",12,"",null,"",null,{"$f":"IF(COUNTIF($P$2:P64,P64)>1,\"*\",1)","v":"*"}]
[null,"女",6,"低学年","410","４×１００ｍＲ",0,null,"","",{"$nulls":5},"",12,"",null,"",null,{"$f":"IF(COUNTIF($P$2:P65,P65)>1,\"*\",1)","v":"*"}]
[null,"女",6,"低学年","410","４×１００ｍＲ",0,null,"","",{"$nulls":5},"",12,"",null,"",null,{"$f":"IF(COUNTIF($P$2:P66,P66)>1,\"*\",1)","v":"*"}]
[null,"女",6,"低学年","410","４×１００ｍＲ",0,null,"","",{"$nulls":5},"",12,"",null,"",null,{"$f":"IF(COUNTIF($P$2:P67,P67)>1,\"*\",1)","v":"*"}]
[null,"女",0,"共通","002","２００ｍ",0,null,"","",{"$nulls":5},"",28,"",22,"",null,{"$f":"IF(COUNTIF($P$2:P68,P68)>1,\"*\",1)","v":"*"}]
[null,"女",0,"共通","002","２００ｍ",0,null,"","",{"$nulls":5},"",28,"",22,"",null,{"$f":"IF(COUNTIF($P$2:P69,P69)>1,\"*\",1)","v":"*"}]
[null,"女",0,{"$f":"VLOOKUP(C70,出場種別,2,FALSE)","v":"共通"},"008",{"$f":"VLOOKUP(E70,種目コード,2,FALSE)","v":"８００ｍ"},0,null,{"$f":"IF(H70=\"\",\"\",VLOOKUP(P70,部員データ,3,FALSE)&\"　\"&VLOOKUP(P70,部員データ,4,FALSE))","v":""},{"$f":"IF(H70=\"\",\"\",VLOOKUP(P70,部員データ,2,FALSE))","v":""},{"$nulls":5},{"$f":"IF(H70=\"\",\"\",B70&DBCS(TEXT(H70,\"００\")))","v":""},28,{"$f":"IF(VLOOKUP(E70,女子標準記録,C70+3,FALSE)=\"\",\"\",VLOOKUP(E70,女子標準記録,C70+3,FALSE))","v":""},{"$f":"VLOOKUP(E70,種目コード,6,FALSE)","v":200},{"$f":"IF(FIND(\".\",TEXT(K70,\"#.00\"))>3,MID(TEXT(K70,\"#.00\"),FIND(\".\",TEXT(K70,\"#.00\"))-2,2)/1,\"\")","v":""},null,{"$f":"IF(COUNTIF($P$2:P70,P70)>1,\"*\",1)","v":"*"}]
[null,"女",0,{"$f":"VLOOKUP(C71,出場種別,2,FALSE)","v":"共通"},"008",{"$f":"VLOOKUP(E71,種目コード,2,FALSE)","v":"８００ｍ"},0,null,{"$f":"IF(H71=\"\",\"\",VLOOKUP(P71,部員データ,3,FALSE)&\"　\"&VLOOKUP(P71,部員データ,4,FALSE))","v":""},{"$f":"IF(H71=\"\",\"\",VLOOKUP(P71,部員データ,2,FALSE))","v":""},{"$nulls":5},{"$f":"IF(H71=\"\",\"\",B71&DBCS(TEXT(H71,\"００\")))","v":""},28,{"$f":"IF(VLOOKUP(E71,女子標準記録,C71+3,FALSE)=\"\",\"\",VLOOKUP(E71,女子標準記録,C71+3,FALSE))","v":""},{"$f":"VLOOKUP(E71,種目コード,6,FALSE)","v":200},{"$f":"IF(FIND(\".\",TEXT(K71,\"#.00\"))>3,MID(TEXT(K71,\"#.00\"),FIND(\".\",TEXT(K71,\"#.00\"))-2,2)/1,\"\")","v":""},null,{"$f":"IF(COUNTIF($P$2:P71,P71)>1,\"*\",1)","v":"*"}]
[null,"女",0,"共通","015","１５００ｍ",0,null,"","",{"$nulls":5},"",28,"",400,"",null,{"$f":"IF(COUNTIF($P$2:P72,P72)>1,\"*\",1)","v":"*"}]
[null,"女",0,"共通","015","１５００ｍ",0,null,"","",{"$nulls":5},"",28,"",400,"",null,{"$f":"IF(COUNTIF($P$2:P73,P73)>1,\"*\",1)","v":"*"}]
[null,"女",0,"共通","110","１００ｍＨ",0,null,"","",{"$nulls":5},"",28,"",12,"",null,{"$f":"IF(COUNTIF($P$2:P74,P74)>1,\"*\",1)","v":"*"}]
[null,"女",0,"共通","110","１００ｍＨ",0,null,"","",{"$nulls":5},"",28,"",12,"",null,{"$f":"IF(COUNTIF($P$2:P75,P75)>1,\"*\",1)","v":"*"}]
[null,"女",0,"共通","410","４×１００ｍＲ",0,null,"","",{"$nulls":5},"",{"$f":"COUNTIF($P$62:$P$67,P76)+COUNTIF($P$76:$P$81,P76)","v":12},"",41,"",null,{"$f":"IF(COUNTIF($P$2:P76,P76)>1,\"*\",1)","v":"*"}]
[null,"女",0,"共通","410","４×１００ｍＲ",0,null,"","",{"$nulls":5},"",12,"",null,"",null,{"$f":"IF(COUNTIF($P$2:P77,P77)>1,\"*\",1)","v":"*"}]
[null,"女",0,"共通","410","４×１００ｍＲ",0,null,"","",{"$nulls":5},"",12,"",null,"",null,{"$f":"IF(COUNTIF($P$2:P78,P78)>1,\"*\",1)","v":"*"}]
[null,"女",0,"共通","410","４×１００ｍＲ",0,null,"","",{"$nulls":5},"",12,"",null,"",null,{"$f":"IF(COUNTIF($P$2:P79,P79)>1,\"*\",1)","v":"*"}]
[null,"女",0,"共通","410","４×１００ｍＲ",0,null,"","",{"$nulls":5},{"$f":"IF(H80=\"\",\"\",B80&DBCS(TEXT(H80,\"００\")))","v":""},12,"",null,"",null,{"$f":"IF(COUNTIF($P$2:P80,P80)>1,\"*\",1)","v":"*"}]
[null,"女",0,"共通","410","４×１００ｍＲ",0,null,"","",{"$nulls":5},"",12,"",null,"",null,{"$f":"IF(COUNTIF($P$2:P81,P81)>1,\"*\",1)","v":"*"}]
[null,"女",0,"共通","510","走高跳",0,null,"","",{"$nulls":5},"",28,"",{"$f":"VLOOKUP(E82,種目コード,6,FALSE)","v":1.9},"",null,{"$f":"IF(COUNTIF($P$2:P82,P82)>1,\"*\",1)","v":"*"}]
[null,"女",0,"共通","510","走高跳",0,null,"","",{"$nulls":5},"",28,"",1.9,"",null,{"$f":"IF(COUNTIF($P$2:P83,P83)>1,\"*\",1)","v":"*"}]
[null,"女",0,"共通","530","走幅跳",0,null,"","",{"$nulls":5},"",28,"",7,"",null,{"$f":"IF(COUNTIF($P$2:P84,P84)>1,\"*\",1)","v":"*"}]
[null,"女",0,"共通","530","走幅跳",0,null,"","",{"$nulls":5},"",28,"",7,{"$f":"IF(FIND(\".\",TEXT(K85,\"#.00\"))>3,MID(TEXT(K85,\"#.00\"),FIND(\".\",TEXT(K85,\"#.00\"))-2,2)/1,\"\")","v":""},null,{"$f":"IF(COUNTIF($P$2:P85,P85)>1,\"*\",1)","v":"*"}]
[null,"女",0,"共通","560","砲丸投",0,null,"","",{"$nulls":5},"",28,"",18,"",null,{"$f":"IF(COUNTIF($P$2:P86,P86)>1,\"*\",1)","v":"*"}]
[null,"女",0,"共通","560","砲丸投",0,null,"","",{"$nulls":5},"",28,"",18,"",null,{"$f":"IF(COUNTIF($P$2:P87,P87)>1,\"*\",1)","v":"*"}]
[null,"女",0,"共通","550","円盤投",0,null,"","",{"$nulls":5},"",28,"",45,"",null,{"$f":"IF(COUNTIF($P$2:P88,P88)>1,\"*\",1)","v":"*"}]
[null,"女",0,"共通","550","円盤投",0,null,"","",{"$nulls":5},"",28,"",45,"",null,{"$f":"IF(COUNTIF($P$2:P89,P89)>1,\"*\",1)","v":"*"}]
[null,"女",0,"共通","760","女子四種競技",0,null,"","",{"$nulls":5},"",28,"",4000,"",null,{"$f":"IF(COUNTIF($P$2:P90,P90)>1,\"*\",1)","v":"*"}]
[{"$nulls":8},"１００ｍH",{"$nulls":10},"",null,{"$f":"IF(COUNTIF($P$2:P91,P91)>1,\"*\",1)","v":1}]
[{"$nulls":8},"走高跳",{"$nulls":10},"",null,{"$f":"IF(COUNTIF($P$2:P92,P92)>1,\"*\",1)","v":1}]
[{"$nulls":8},"砲丸投",{"$nulls":10},"",null,{"$f":"IF(COUNTIF($P$2:P93,P93)>1,\"*\",1)","v":1}]
[{"$nulls":8},"２００ｍ",{"$nulls":10},"",null,{"$f":"IF(COUNTIF($P$2:P94,P94)>1,\"*\",1)","v":1}]
[null,"女",0,{"$f":"VLOOKUP(C95,出場種別,2,FALSE)","v":"共通"},"760",{"$f":"VLOOKUP(E95,種目コード,2,FALSE)","v":"女子四種競技"},{"$f":"学校番号","v":0},null,{"$f":"IF(H95=\"\",\"\",VLOOKUP(P95,部員データ,3,FALSE)&\"　\"&VLOOKUP(P95,部員データ,4,FALSE))","v":""},{"$f":"IF(H95=\"\",\"\",VLOOKUP(P95,部員データ,2,FALSE))","v":""},{"$nulls":5},"",28,{"$f":"IF(VLOOKUP(E95,女子標準記録,C95+3,FALSE)=\"\",\"\",VLOOKUP(E95,女子標準記録,C95+3,FALSE))","v":""},{"$f":"VLOOKUP(E95,種目コード,6,FALSE)","v":4000},"",null,{"$f":"IF(COUNTIF($P$2:P95,P95)>1,\"*\",1)","v":"*"}]
[{"$nulls":8},"１００ｍH",{"$nulls":10},""]
[{"$nulls":8},"走高跳",{"$nulls":10},""]
[{"$nulls":8},"砲丸投",{"$nulls":10},""]
[{"$nulls":8},"２００ｍ",{"$nulls":10},""]

{"sheet":"総体","index":14,"n_rows":63,"n_cols":150,"rows_kept":63,"hidden":true,"merged":[[1,1,1,135],[2,1,2,135],[3,117,3,135],[4,2,4,25],[4,74,4,83],[4,87,4,98],[4,102,4,111],[4,114,4,133],[5,2,5,25],[5,71,5,94],[7,1,7,10],[7,11,7,16],[7,17,7,34],[7,35,7,38],[7,39,7,44],[7,45,7,62],[7,63,7,66],[7,70,7,79],[7,80,7,85],[7,86,7,103],[7,104,7,107],[7,108,7,113],[7,114,7,131],[7,132,7,135],[8,1,8,10],[8,11,9,16],[8,17,8,34],[8,35,9,38],[8,39,9,44],[8,45,8,62],[8,63,9,66],[8,70,8,79],[8,80,9,85],[8,86,8,103],[8,104,9,107],[8,108,9,113],[8,114,8,131],[8,132,9,135],[9,1,9,10],[9,17,9,34],[9,45,9,62],[9,70,9,79],[9,86,9,103],[9,114,9,131],[10,1,10,10],[10,11,11,16],[10,17,10,34],[10,35,11,38],[10,39,11,44],[10,45,10,62],[10,63,11,66],[10,70,10,79],[10,80,11,85],[10,86,10,103],[10,104,11,107],[10,108,11,113],[10,114,10,131],[10,132,11,135],[11,1,11,10],[11,17,11,34],[11,45,11,62],[11,70,11,79],[11,86,11,103],[11,114,11,131],[12,1,12,10],[12,11,13,16],[12,17,12,34],[12,35,13,38],[12,39,13,44],[12,45,12,62],[12,63,13,66],[12,70,12,79],[12,80,13,85],[12,86,12,103],[12,104,13,107],[12,108,13,113],[12,114,12,131],[12,132,13,135],[13,1,13,10],[13,17,13,34],[13,45,13,62],[13,70,13,79],[13,86,13,103],[13,114,13,131],[14,1,14,10],[14,11,15,16],[14,17,14,34],[14,35,15,38],[14,39,15,44],[14,45,14,62],[14,63,15,66],[14,70,18,79],[14,80,15,85],[14,86,15,103],[14,104,15,107],[14,108,15,113],[14,114,15,131],[14,132,15,135],[15,1,15,10],[15,17,15,34],[15,45,15,62],[16,1,20,10],[16,11,17,16],[16,17,17,34],[16,35,17,38],[16,39,17,44],[16,45,17,62],[16,63,17,66],[16,80,17,85],[16,86,17,103],[16,104,17,107],[16,108,17,113],[16,114,17,131],[16,132,17,135],[18,11,19,16],[18,17,19,34],[18,35,19,38],[18,39,19,44],[18,45,19,62],[18,63,19,66],[18,80,19,85],[18,86,19,103],[18,104,19,107],[18,108,19,113],[18,114,19,131],[18,132,19,135],[19,70,19,79],[20,11,21,16],[20,17,21,34],[20,35,21,38],[20,39,21,44],[20,45,21,62],[20,63,21,66],[20,70,20,79],[20,80,21,85],[20,86,20,103],[20,104,21,107],[20,108,21,113],[20,114,20,131],[20,132,21,135],[21,1,21,10],[21,70,21,79],[21,86,21,103],[21,114,21,131],[22,1,22,10],[22,11,23,16],[22,17,22,34],[22,35,23,38],[22,39,23,44],[22,45,22,62],[22,63,23,66],[22,70,22,79],[22,80,23,85],[22,86,22,103],[22,104,23,107],[22,108,23,113],[22,114,22,131],[22,132,23,135],[23,1,23,10],[23,17,23,34],[23,45,23,62],[23,70,23,79],[23,86,23,103],[23,114,23,131],[24,1,24,10],[24,11,25,16],[24,17,24,34],[24,35,25,38],[24,39,25,44],[24,45,24,62],[24,63,25,66],[24,70,24,79],[24,80,25,85],[24,86,24,103],[24,104,25,107],[24,108,25,113],[24,114,24,131],[24,132,25,135],[25,1,25,10],[25,17,25,34],[25,45,25,62],[25,70,25,79],[25,86,25,103],[25,114,25,131],[26,1,26,10],[26,11,27,16],[26,17,26,34],[26,35,27,38],[26,39,27,44],[26,45,26,62],[26,63,27,66],[26,70,26,79],[26,80,27,85],[26,86,26,103],[26,104,27,107],[26,108,27,113],[26,114,26,131],[26,132,27,135],[27,1,27,10],[27,17,27,34],[27,45,27,62],[27,70,27,79],[27,86,27,103],[27,114,27,131],[28,1,28,10],[28,11,29,16],[28,17,28,34],[28,35,29,38],[28,39,29,44],[28,45,28,62],[28,63,29,66],[28,70,28,79],[28,80,29,85],[28,86,28,103],[28,104,29,107],[28,108,29,113],[28,114,28,131],[28,132,29,135],[29,1,29,10],[29,17,29,34],[29,45,29,62],[29,70,29,79],[29,86,29,103],[29,114,29,131],[30,1,30,10],[30,11,31,16],[30,17,30,34],[30,35,31,38],[30,39,31,44],[30,45,30,62],[30,63,31,66],[30,70,30,79],[30,80,31,85],[30,86,30,103],[30,104,31,107],[30,108,31,113],[30,114,30,131],[30,132,31,135],[31,1,31,10],[31,17,31,34],[31,45,31,62],[31,70,31,79],[31,86,31,103],[31,114,31,131],[32,1,32,10],[32,11,33,16],[32,17,32,34],[32,35,33,38],[32,39,33,44],[32,45,32,62],[32,63,33,66],[32,70,32,79],[32,80,33,85],[32,86,32,103],[32,104,33,107],[32,108,33,113],[32,114,32,131],[32,132,33,135],[33,1,33,10],[33,17,33,34],[33,45,33,62],[33,70,33,79],[33,86,33,103],[33,114,33,131],[34,1,34,10],[34,11,35,16],[34,17,34,34],[34,35,35,38],[34,39,35,44],[34,45,34,62],[34,63,35,66],[34,70,34,79],[34,80,35,85],[34,86,34,103],[34,104,35,107],[34,108,35,113],[34,114,34,131],[34,132,35,135],[35,1,35,10],[35,17,35,34],[35,45,35,62],[35,70,35,79],[35,86,35,103],[35,114,35,131],[36,1,36,10],[36,11,37,16],[36,17,36,34],[36,35,37,38],[36,39,37,44],[36,45,36,62],[36,63,37,66],[36,70,36,79],[36,80,37,85],[36,86,36,103],[36,104,37,107],[36,108,37,113],[36,114,36,131],[36,132,37,135],[37,1,37,10],[37,17,37,34],[37,45,37,62],[37,70,37,79],[37,86,37,103],[37,114,37,131],[38,1,38,10],[38,11,39,16],[38,17,38,34],[38,35,39,38],[38,39,39,44],[38,45,38,62],[38,63,39,66],[38,70,42,79],[38,80,39,85],[38,86,39,103],[38,104,39,107],[38,108,39,113],[38,114,39,131],[38,132,39,135],[39,1,39,10],[39,17,39,34],[39,45,39,62],[40,1,40,10],[40,11,41,16],[40,17,40,34],[40,35,41,38],[40,39,41,44],[40,45,40,62],[40,63,41,66],[40,80,41,85],[40,86,41,103],[40,104,41,107],[40,108,41,113],[40,114,41,131],[40,132,41,135],[41,1,41,10],[41,17,41,34],[41,45,41,62],[42,1,42,10],[42,11,43,16],[42,17,42,34],[42,35,43,38],[42,39,43,44],[42,45,42,62],[42,63,43,66],[42,80,43,85],[42,86,43,103],[42,104,43,107],[42,108,43,113],[42,114,43,131],[42,132,43,135],[43,1,43,10],[43,17,43,34],[43,45,43,62],[43,70,43,79],[44,1,44,10],[44,11,45,16],[44,17,44,34],[44,35,45,38],[44,39,45,44],[44,45,44,62],[44,63,45,66],[45,1,45,10],[45,17,45,34],[45,45,45,62],[45,80,45,90],[45,91,45,102],[46,1,46,10],[46,11,47,16],[46,17,46,34],[46,35,47,38],[46,39,47,44],[46,45,46,62],[46,63,47,66],[47,1,47,10],[47,17,47,34],[47,45,47,62],[48,1,52,10],[48,11,49,16],[48,17,49,34],[48,35,49,38],[48,39,49,44],[48,45,49,62],[48,63,49,66],[48,70,49,79],[48,80,49,90],[48,91,49,101],[48,102,49,112],[48,113,49,123],[48,124,49,135],[50,11,51,16],[50,17,51,34],[50,35,51,38],[50,39,51,44],[50,45,51,62],[50,63,51,66],[50,70,51,79],[50,80,51,90],[50,91,51,101],[50,102,51,112],[50,113,51,123],[50,124,53,135],[52,11,53,16],[52,17,53,34],[52,35,53,38],[52,39,53,44],[52,45,53,62],[52,63,53,66],[52,70,53,79],[52,80,53,90],[52,91,53,101],[52,102,53,112],[52,113,53,123],[53,1,53,10],[56,4,56,132],[58,4,58,9],[58,10,58,15],[58,16,58,19],[58,20,58,27],[58,28,58,31],[58,32,58,41],[58,42,58,45],[58,48,58,67],[58,69,58,79],[58,81,58,91],[58,94,58,125],[58,128,58,132],[60,2,60,9],[60,11,60,12],[60,13,60,37],[60,38,60,39],[60,42,60,43],[60,44,60,68],[60,69,60,70],[60,73,60,74],[60,75,60,99],[60,100,60,101],[60,104,60,105],[60,106,60,130],[60,131,60,132],[62,3,62,133]]}
[1,2,3,4,5,6,7,8,9,10,11,12,13,14,15,16,17,18,19,20,21,22,23,24,25,26,27,28,29,30,31,32,33,34,35,36,37,38,39,40,41,42,43,44,45,46,47,48,49,50,51,52,53,54,55,56,57,58,59,60,61,62,63,64,65,66,67,68,69,70,71,72,73,74,75,76,77,78,79,80,81,82,83,84,85,86,87,88,89,90,91,92,93,94,95,96,97,98,99,100,101,102,103,104,105,106,107,108,109,110,111,112,113,114,115,116,117,118,119,120,121,122,123,124,125,126,127,128,129,130,131,132,133,134,135,136,137,138,139,140]
[null,"平成28年度　中播地区中学校総合体育大会\n第60回　中播地区中学校陸上競技大会　参加申込書"]
[null,"第60回　中播地区中学校陸上競技大会　参加申込書"]
[{"$nulls":117},"2部提出"]
[null,null,"（ 共通　＝ １，２，３年種目 ）",{"$nulls":71},"学校番号",{"$nulls":11},"（",{"$f":"学校番号","v":0},{"$nulls":11},"）",null,null,"学 校 名",{"$nulls":10},"（",{"$f":"略称","v":0},{"$nulls":20},"）"]
[null,null,"〔 男　子 〕　１日目実施●",{"$nulls":68},"〔 女　子 〕　１日目実施●"]
[]
[null,"種　目",{"$nulls":9},"個人\n番号",{"$nulls":5},"名　　前",{"$nulls":17},"学年",{"$nulls":3},"個人\n番号",{"$nulls":5},"名　　前",{"$nulls":17},"学年",{"$nulls":6},"種　目",{"$nulls":9},"個人\n番号",{"$nulls":5},"名　　前",{"$nulls":17},"学年",{"$nulls":3},"個人\n番号",{"$nulls":5},"名　　前",{"$nulls":17},"学年"]
[null,"１年",{"$nulls":9},{"$f":"IF('入力シート(総体)'!$H2=\"\",\"\",'入力シート(総体)'!$H2)","v":""},{"$nulls":5},{"$f":"IF(L9<>\"\",VLOOKUP(EM9,部員データ,3,FALSE)&\"  \"&VLOOKUP(EM9,部員データ,4,FALSE),\"\")","v":""},{"$nulls":17},1,{"$nulls":3},{"$f":"IF('入力シート(総体)'!$H3=\"\",\"\",'入力シート(総体)'!$H3)","v":""},{"$nulls":5},{"$f":"IF(AN9<>\"\",VLOOKUP(EN9,部員データ,3,FALSE)&\"  \"&VLOOKUP(EN9,部員データ,4,FALSE),\"\")","v":""},{"$nulls":17},1,{"$nulls":6},"１年",{"$nulls":9},{"$f":"IF('入力シート(総体)'!$H56=\"\",\"\",'入力シート(総体)'!$H56)","v":""},{"$nulls":5},{"$f":"IF(CC9<>\"\",VLOOKUP(EO9,部員データ,3,FALSE)&\"  \"&VLOOKUP(EO9,部員データ,4,FALSE),\"\")","v":""},{"$nulls":17},1,{"$nulls":3},{"$f":"IF('入力シート(総体)'!$H57=\"\",\"\",'入力シート(総体)'!$H57)","v":""},{"$nulls":5},{"$f":"IF(DE9<>\"\",VLOOKUP(EP9,部員データ,3,FALSE)&\"  \"&VLOOKUP(EP9,部員データ,4,FALSE),\"\")","v":""},{"$nulls":17},1,{"$nulls":9},{"$f":"\"男\"&DBCS(TEXT(L9,\"00\"))","v":"男"},{"$f":"\"男\"&DBCS(TEXT(AN9,\"00\"))","v":"男"},{"$f":"\"女\"&DBCS(TEXT(CC9,\"00\"))","v":"女"},{"$f":"\"女\"&DBCS(TEXT(DE9,\"00\"))","v":"女"},{"$f":"IF(OR(EM9=\"男\",EM9=\"\"),\"\",COUNTIF($EM$9:$EN$50,EM9))","v":""},{"$f":"IF(OR(EN9=\"男\",EN9=\"\"),\"\",COUNTIF($EM$9:$EN$50,EN9))","v":""},{"$f":"IF(OR(EO9=\"女\",EO9=\"\"),\"\",COUNTIF($EO$9:$EP$47,EO9))","v":""},{"$f":"IF(OR(EP9=\"女\",EP9=\"\"),\"\",COUNTIF($EO$9:$EP$47,EP9))","v":""}]
[null,"100m",{"$nulls":15},{"$f":"IF(L9=\"\",\"\",IF('入力シート(総体)'!$K2=\"\",\"\",format_kiroku('入力シート(総体)'!$K2,$B10)))","v":""},{"$nulls":27},{"$f":"IF(AN9=\"\",\"\",IF('入力シート(総体)'!$K3=\"\",\"\",format_kiroku('入力シート(総体)'!$K3,$B10)))","v":""},{"$nulls":24},"100m",{"$nulls":15},{"$f":"IF(CC9=\"\",\"\",IF('入力シート(総体)'!$K56=\"\",\"\",format_kiroku('入力シート(総体)'!$K56,$BS10)))","v":""},{"$nulls":27},{"$f":"IF(DE9=\"\",\"\",IF('入力シート(総体)'!$K57=\"\",\"\",format_kiroku('入力シート(総体)'!$K57,$BS10)))","v":""},{"$nulls":31},"","","",""]
[null,"●１年",{"$nulls":9},{"$f":"IF('入力シート(総体)'!$H4=\"\",\"\",'入力シート(総体)'!$H4)","v":""},{"$nulls":5},{"$f":"IF(L11<>\"\",VLOOKUP(EM11,部員データ,3,FALSE)&\"  \"&VLOOKUP(EM11,部員データ,4,FALSE),\"\")","v":""},{"$nulls":17},1,{"$nulls":3},{"$f":"IF('入力シート(総体)'!$H5=\"\",\"\",'入力シート(総体)'!$H5)","v":""},{"$nulls":5},{"$f":"IF(AN11<>\"\",VLOOKUP(EN11,部員データ,3,FALSE)&\"  \"&VLOOKUP(EN11,部員データ,4,FALSE),\"\")","v":""},{"$nulls":17},1,{"$nulls":6},"●2年",{"$nulls":9},{"$f":"IF('入力シート(総体)'!$H58=\"\",\"\",'入力シート(総体)'!$H58)","v":""},{"$nulls":5},{"$f":"IF(CC11<>\"\",VLOOKUP(EO11,部員データ,3,FALSE)&\"  \"&VLOOKUP(EO11,部員データ,4,FALSE),\"\")","v":""},{"$nulls":17},2,{"$nulls":3},{"$f":"IF('入力シート(総体)'!$H59=\"\",\"\",'入力シート(総体)'!$H59)","v":""},{"$nulls":5},{"$f":"IF(DE11<>\"\",VLOOKUP(EP11,部員データ,3,FALSE)&\"  \"&VLOOKUP(EP11,部員データ,4,FALSE),\"\")","v":""},{"$nulls":17},2,{"$nulls":9},{"$f":"\"男\"&DBCS(TEXT(L11,\"00\"))","v":"男"},{"$f":"\"男\"&DBCS(TEXT(AN11,\"00\"))","v":"男"},{"$f":"\"女\"&DBCS(TEXT(CC11,\"00\"))","v":"女"},{"$f":"\"女\"&DBCS(TEXT(DE11,\"00\"))","v":"女"},"","","",""]
[null,"1500m",{"$nulls":15},{"$f":"IF(L11=\"\",\"\",IF('入力シート(総体)'!$K4=\"\",\"\",format_kiroku('入力シート(総体)'!$K4,$B12)))","v":""},{"$nulls":27},{"$f":"IF(AN11=\"\",\"\",IF('入力シート(総体)'!$K5=\"\",\"\",format_kiroku('入力シート(総体)'!$K5,$B12)))","v":""},{"$nulls":24},"100m",{"$nulls":15},{"$f":"IF(CC11=\"\",\"\",IF('入力シート(総体)'!$K58=\"\",\"\",format_kiroku('入力シート(総体)'!$K58,$BS12)))","v":""},{"$nulls":27},{"$f":"IF(DE11=\"\",\"\",IF('入力シート(総体)'!$K59=\"\",\"\",format_kiroku('入力シート(総体)'!$K59,$BS12)))","v":""},{"$nulls":31},"","","",""]
[null,"●2年",{"$nulls":9},{"$f":"IF('入力シート(総体)'!$H6=\"\",\"\",'入力シート(総体)'!$H6)","v":""},{"$nulls":5},{"$f":"IF(L13<>\"\",VLOOKUP(EM13,部員データ,3,FALSE)&\"  \"&VLOOKUP(EM13,部員データ,4,FALSE),\"\")","v":""},{"$nulls":17},2,{"$nulls":3},{"$f":"IF('入力シート(総体)'!$H7=\"\",\"\",'入力シート(総体)'!$H7)","v":""},{"$nulls":5},{"$f":"IF(AN13<>\"\",VLOOKUP(EN13,部員データ,3,FALSE)&\"  \"&VLOOKUP(EN13,部員データ,4,FALSE),\"\")","v":""},{"$nulls":17},2,{"$nulls":6},"●3年",{"$nulls":9},{"$f":"IF('入力シート(総体)'!$H60=\"\",\"\",'入力シート(総体)'!$H60)","v":""},{"$nulls":5},{"$f":"IF(CC13<>\"\",VLOOKUP(EO13,部員データ,3,FALSE)&\"  \"&VLOOKUP(EO13,部員データ,4,FALSE),\"\")","v":""},{"$nulls":17},3,{"$nulls":3},{"$f":"IF('入力シート(総体)'!$H61=\"\",\"\",'入力シート(総体)'!$H61)","v":""},{"$nulls":5},{"$f":"IF(DE13<>\"\",VLOOKUP(EP13,部員データ,3,FALSE)&\"  \"&VLOOKUP(EP13,部員データ,4,FALSE),\"\")","v":""},{"$nulls":17},3,{"$nulls":9},{"$f":"\"男\"&DBCS(TEXT(L13,\"00\"))","v":"男"},{"$f":"\"男\"&DBCS(TEXT(AN13,\"00\"))","v":"男"},{"$f":"\"女\"&DBCS(TEXT(CC13,\"00\"))","v":"女"},{"$f":"\"女\"&DBCS(TEXT(DE13,\"00\"))","v":"女"},"","","",""]
[null,"100m",{"$nulls":15},{"$f":"IF(L13=\"\",\"\",IF('入力シート(総体)'!$K6=\"\",\"\",format_kiroku('入力シート(総体)'!$K6,$B14)))","v":""},{"$nulls":27},{"$f":"IF(AN13=\"\",\"\",IF('入力シート(総体)'!$K7=\"\",\"\",format_kiroku('入力シート(総体)'!$K7,$B14)))","v":""},{"$nulls":24},"100m",{"$nulls":15},{"$f":"IF(CC13=\"\",\"\",IF('入力シート(総体)'!$K60=\"\",\"\",format_kiroku('入力シート(総体)'!$K60,$BS14)))","v":""},{"$nulls":27},{"$f":"IF(DE13=\"\",\"\",IF('入力シート(総体)'!$K61=\"\",\"\",format_kiroku('入力シート(総体)'!$K61,$BS14)))","v":""},{"$nulls":31},"","","",""]
[null,"●３年",{"$nulls":9},{"$f":"IF('入力シート(総体)'!$H8=\"\",\"\",'入力シート(総体)'!$H8)","v":""},{"$nulls":5},{"$f":"IF(L15<>\"\",VLOOKUP(EM15,部員データ,3,FALSE)&\"  \"&VLOOKUP(EM15,部員データ,4,FALSE),\"\")","v":""},{"$nulls":17},3,{"$nulls":3},{"$f":"IF('入力シート(総体)'!$H9=\"\",\"\",'入力シート(総体)'!$H9)","v":""},{"$nulls":5},{"$f":"IF(AN15<>\"\",VLOOKUP(EN15,部員データ,3,FALSE)&\"  \"&VLOOKUP(EN15,部員データ,4,FALSE),\"\")","v":""},{"$nulls":17},3,{"$nulls":6},"●低学年\n4×100mR",{"$nulls":9},{"$f":"IF('入力シート(総体)'!$H62=\"\",\"\",'入力シート(総体)'!$H62)","v":""},{"$nulls":5},{"$f":"IF(CC15<>\"\",VLOOKUP(EO15,部員データ,3,FALSE)&\"  \"&VLOOKUP(EO15,部員データ,4,FALSE),\"\")","v":""},{"$nulls":17},{"$f":"IF(CC15<>\"\",VLOOKUP(EO15,部員データ,2,FALSE),\"\")","v":""},{"$nulls":3},{"$f":"IF('入力シート(総体)'!$H63=\"\",\"\",'入力シート(総体)'!$H63)","v":""},{"$nulls":5},{"$f":"IF(DE15<>\"\",VLOOKUP(EP15,部員データ,3,FALSE)&\"  \"&VLOOKUP(EP15,部員データ,4,FALSE),\"\")","v":""},{"$nulls":17},{"$f":"IF(DE15<>\"\",VLOOKUP(EP15,部員データ,2,FALSE),\"\")","v":""},{"$nulls":9},{"$f":"\"男\"&DBCS(TEXT(L15,\"00\"))","v":"男"},{"$f":"\"男\"&DBCS(TEXT(AN15,\"00\"))","v":"男"},{"$f":"\"女\"&DBCS(TEXT(CC15,\"00\"))","v":"女"},{"$f":"\"女\"&DBCS(TEXT(DE15,\"00\"))","v":"女"},"","","",""]
[null,"100m",{"$nulls":15},{"$f":"IF(L15=\"\",\"\",IF('入力シート(総体)'!$K8=\"\",\"\",format_kiroku('入力シート(総体)'!$K8,$B16)))","v":""},{"$nulls":27},{"$f":"IF(AN15=\"\",\"\",IF('入力シート(総体)'!$K9=\"\",\"\",format_kiroku('入力シート(総体)'!$K9,$B16)))","v":""},{"$nulls":100},"","","",""]
[null,"●低学年\n4×100mR",{"$nulls":9},{"$f":"IF('入力シート(総体)'!$H10=\"\",\"\",'入力シート(総体)'!$H10)","v":""},{"$nulls":5},{"$f":"IF(L17<>\"\",VLOOKUP(EM17,部員データ,3,FALSE)&\"  \"&VLOOKUP(EM17,部員データ,4,FALSE),\"\")","v":""},{"$nulls":17},{"$f":"IF(L17<>\"\",VLOOKUP(EM17,部員データ,2,FALSE),\"\")","v":""},{"$nulls":3},{"$f":"IF('入力シート(総体)'!$H11=\"\",\"\",'入力シート(総体)'!$H11)","v":""},{"$nulls":5},{"$f":"IF(AN17<>\"\",VLOOKUP(EN17,部員データ,3,FALSE)&\"  \"&VLOOKUP(EN17,部員データ,4,FALSE),\"\")","v":""},{"$nulls":17},{"$f":"IF(AN17<>\"\",VLOOKUP(EN17,部員データ,2,FALSE),\"\")","v":""},{"$nulls":16},{"$f":"IF('入力シート(総体)'!$H64=\"\",\"\",'入力シート(総体)'!$H64)","v":""},{"$nulls":5},{"$f":"IF(CC17<>\"\",VLOOKUP(EO17,部員データ,3,FALSE)&\"  \"&VLOOKUP(EO17,部員データ,4,FALSE),\"\")","v":""},{"$nulls":17},{"$f":"IF(CC17<>\"\",VLOOKUP(EO17,部員データ,2,FALSE),\"\")","v":""},{"$nulls":3},{"$f":"IF('入力シート(総体)'!$H65=\"\",\"\",'入力シート(総体)'!$H65)","v":""},{"$nulls":5},{"$f":"IF(DE17<>\"\",VLOOKUP(EP17,部員データ,3,FALSE)&\"  \"&VLOOKUP(EP17,部員データ,4,FALSE),\"\")","v":""},{"$nulls":17},{"$f":"IF(DE17<>\"\",VLOOKUP(EP17,部員データ,2,FALSE),\"\")","v":""},{"$nulls":5},{"$f":"COUNTA(#REF!,#REF!)","v":2},{"$f":"COUNTA(#REF!,#REF!)","v":2},null,null,{"$f":"\"男\"&DBCS(TEXT(L17,\"00\"))","v":"男"},{"$f":"\"男\"&DBCS(TEXT(AN17,\"00\"))","v":"男"},{"$f":"\"女\"&DBCS(TEXT(CC17,\"00\"))","v":"女"},{"$f":"\"女\"&DBCS(TEXT(DE17,\"00\"))","v":"女"},"","","",""]
[{"$nulls":146},"","","",""]
[{"$nulls":11},{"$f":"IF('入力シート(総体)'!$H12=\"\",\"\",'入力シート(総体)'!$H12)","v":""},{"$nulls":5},{"$f":"IF(L19<>\"\",VLOOKUP(EM19,部員データ,3,FALSE)&\"  \"&VLOOKUP(EM19,部員データ,4,FALSE),\"\")","v":""},{"$nulls":17},{"$f":"IF(L19<>\"\",VLOOKUP(EM19,部員データ,2,FALSE),\"\")","v":""},{"$nulls":3},{"$f":"IF('入力シート(総体)'!$H13=\"\",\"\",'入力シート(総体)'!$H13)","v":""},{"$nulls":5},{"$f":"IF(AN19<>\"\",VLOOKUP(EN19,部員データ,3,FALSE)&\"  \"&VLOOKUP(EN19,部員データ,4,FALSE),\"\")","v":""},{"$nulls":17},{"$f":"IF(AN19<>\"\",VLOOKUP(EN19,部員データ,2,FALSE),\"\")","v":""},{"$nulls":16},{"$f":"IF('入力シート(総体)'!$H66=\"\",\"\",'入力シート(総体)'!$H66)","v":""},{"$nulls":5},{"$f":"IF(CC19<>\"\",VLOOKUP(EO19,部員データ,3,FALSE)&\"  \"&VLOOKUP(EO19,部員データ,4,FALSE),\"\")","v":""},{"$nulls":17},{"$f":"IF(CC19<>\"\",VLOOKUP(EO19,部員データ,2,FALSE),\"\")","v":""},{"$nulls":3},{"$f":"IF('入力シート(総体)'!$H67=\"\",\"\",'入力シート(総体)'!$H67)","v":""},{"$nulls":5},{"$f":"IF(DE19<>\"\",VLOOKUP(EP19,部員データ,3,FALSE)&\"  \"&VLOOKUP(EP19,部員データ,4,FALSE),\"\")","v":""},{"$nulls":17},{"$f":"IF(DE19<>\"\",VLOOKUP(EP19,部員データ,2,FALSE),\"\")","v":""},{"$nulls":5},{"$f":"COUNTA(L21,AN21)","v":2},{"$f":"COUNTA(CC13,DE13)","v":2},null,null,{"$f":"\"男\"&DBCS(TEXT(L19,\"00\"))","v":"男"},{"$f":"\"男\"&DBCS(TEXT(AN19,\"00\"))","v":"男"},{"$f":"\"女\"&DBCS(TEXT(CC19,\"00\"))","v":"女"},{"$f":"\"女\"&DBCS(TEXT(DE19,\"00\"))","v":"女"},"","","",""]
[{"$nulls":70},{"$f":"IF(CC15=\"\",\"\",IF('入力シート(総体)'!$K62=\"\",\"\",format_kiroku('入力シート(総体)'!$K62,$BS15)))","v":""},{"$nulls":75},"","","",""]
[{"$nulls":11},{"$f":"IF('入力シート(総体)'!$H14=\"\",\"\",'入力シート(総体)'!$H14)","v":""},{"$nulls":5},{"$f":"IF(L21<>\"\",VLOOKUP(EM21,部員データ,3,FALSE)&\"  \"&VLOOKUP(EM21,部員データ,4,FALSE),\"\")","v":""},{"$nulls":17},{"$f":"IF(L21<>\"\",VLOOKUP(EM21,部員データ,2,FALSE),\"\")","v":""},{"$nulls":3},{"$f":"IF('入力シート(総体)'!$H15=\"\",\"\",'入力シート(総体)'!$H15)","v":""},{"$nulls":5},{"$f":"IF(AN21<>\"\",VLOOKUP(EN21,部員データ,3,FALSE)&\"  \"&VLOOKUP(EN21,部員データ,4,FALSE),\"\")","v":""},{"$nulls":17},{"$f":"IF(AN21<>\"\",VLOOKUP(EN21,部員データ,2,FALSE),\"\")","v":""},{"$nulls":6},"共通",{"$nulls":9},{"$f":"IF('入力シート(総体)'!$H68=\"\",\"\",'入力シート(総体)'!$H68)","v":""},{"$nulls":5},{"$f":"IF(CC21<>\"\",VLOOKUP(EO21,部員データ,3,FALSE)&\"  \"&VLOOKUP(EO21,部員データ,4,FALSE),\"\")","v":""},{"$nulls":17},{"$f":"IF(CC21<>\"\",VLOOKUP(EO21,部員データ,2,FALSE),\"\")","v":""},{"$nulls":3},{"$f":"IF('入力シート(総体)'!$H69=\"\",\"\",'入力シート(総体)'!$H69)","v":""},{"$nulls":5},{"$f":"IF(DE21<>\"\",VLOOKUP(EP21,部員データ,3,FALSE)&\"  \"&VLOOKUP(EP21,部員データ,4,FALSE),\"\")","v":""},{"$nulls":17},{"$f":"IF(DE21<>\"\",VLOOKUP(EP21,部員データ,2,FALSE),\"\")","v":""},{"$nulls":9},{"$f":"\"男\"&DBCS(TEXT(L21,\"00\"))","v":"男"},{"$f":"\"男\"&DBCS(TEXT(AN21,\"00\"))","v":"男"},{"$f":"\"女\"&DBCS(TEXT(CC21,\"00\"))","v":"女"},{"$f":"\"女\"&DBCS(TEXT(DE21,\"00\"))","v":"女"},"","","",""]
[null,{"$f":"IF(L17=\"\",\"\",IF('入力シート(総体)'!$K10=\"\",\"\",format_kiroku('入力シート(総体)'!$K10,$B17)))","v":""},{"$nulls":68},"200m",{"$nulls":15},{"$f":"IF(CC21=\"\",\"\",IF('入力シート(総体)'!$K68=\"\",\"\",format_kiroku('入力シート(総体)'!$K68,$BS22)))","v":""},{"$nulls":27},{"$f":"IF(DE21=\"\",\"\",IF('入力シート(総体)'!$K69=\"\",\"\",format_kiroku('入力シート(総体)'!$K69,$BS22)))","v":""},{"$nulls":31},"","","",""]
[null,"共通",{"$nulls":9},{"$f":"IF('入力シート(総体)'!$H16=\"\",\"\",'入力シート(総体)'!$H16)","v":""},{"$nulls":5},{"$f":"IF(L23<>\"\",VLOOKUP(EM23,部員データ,3,FALSE)&\"  \"&VLOOKUP(EM23,部員データ,4,FALSE),\"\")","v":""},{"$nulls":17},{"$f":"IF(L23<>\"\",VLOOKUP(EM23,部員データ,2,FALSE),\"\")","v":""},{"$nulls":3},{"$f":"IF('入力シート(総体)'!$H17=\"\",\"\",'入力シート(総体)'!$H17)","v":""},{"$nulls":5},{"$f":"IF(AN23<>\"\",VLOOKUP(EN23,部員データ,3,FALSE)&\"  \"&VLOOKUP(EN23,部員データ,4,FALSE),\"\")","v":""},{"$nulls":17},{"$f":"IF(AN23<>\"\",VLOOKUP(EN23,部員データ,2,FALSE),\"\")","v":""},{"$nulls":6},"共通",{"$nulls":9},{"$f":"IF('入力シート(総体)'!$H70=\"\",\"\",'入力シート(総体)'!$H70)","v":""},{"$nulls":5},{"$f":"IF(CC23<>\"\",VLOOKUP(EO23,部員データ,3,FALSE)&\"  \"&VLOOKUP(EO23,部員データ,4,FALSE),\"\")","v":""},{"$nulls":17},{"$f":"IF(CC23<>\"\",VLOOKUP(EO23,部員データ,2,FALSE),\"\")","v":""},{"$nulls":3},{"$f":"IF('入力シート(総体)'!$H71=\"\",\"\",'入力シート(総体)'!$H71)","v":""},{"$nulls":5},{"$f":"IF(DE23<>\"\",VLOOKUP(EP23,部員データ,3,FALSE)&\"  \"&VLOOKUP(EP23,部員データ,4,FALSE),\"\")","v":""},{"$nulls":17},{"$f":"IF(DE23<>\"\",VLOOKUP(EP23,部員データ,2,FALSE),\"\")","v":""},{"$nulls":9},{"$f":"\"男\"&DBCS(TEXT(L23,\"00\"))","v":"男"},{"$f":"\"男\"&DBCS(TEXT(AN23,\"00\"))","v":"男"},{"$f":"\"女\"&DBCS(TEXT(CC23,\"00\"))","v":"女"},{"$f":"\"女\"&DBCS(TEXT(DE23,\"00\"))","v":"女"},"","","",""]
[null,"200m",{"$nulls":15},{"$f":"IF(L23=\"\",\"\",IF('入力シート(総体)'!$K16=\"\",\"\",format_kiroku('入力シート(総体)'!$K16,$B24)))","v":""},{"$nulls":27},{"$f":"IF(AN23=\"\",\"\",IF('入力シート(総体)'!$K17=\"\",\"\",format_kiroku('入力シート(総体)'!$K17,$B24)))","v":""},{"$nulls":24},"800m",{"$nulls":15},{"$f":"IF(CC23=\"\",\"\",IF('入力シート(総体)'!$K70=\"\",\"\",format_kiroku('入力シート(総体)'!$K70,$BS24)))","v":""},{"$nulls":27},{"$f":"IF(DE23=\"\",\"\",IF('入力シート(総体)'!$K71=\"\",\"\",format_kiroku('入力シート(総体)'!$K71,$BS24)))","v":""},{"$nulls":31},"","","",""]
[null,"●共通",{"$nulls":9},{"$f":"IF('入力シート(総体)'!$H18=\"\",\"\",'入力シート(総体)'!$H18)","v":""},{"$nulls":5},{"$f":"IF(L25<>\"\",VLOOKUP(EM25,部員データ,3,FALSE)&\"  \"&VLOOKUP(EM25,部員データ,4,FALSE),\"\")","v":""},{"$nulls":17},{"$f":"IF(L25<>\"\",VLOOKUP(EM25,部員データ,2,FALSE),\"\")","v":""},{"$nulls":3},{"$f":"IF('入力シート(総体)'!$H19=\"\",\"\",'入力シート(総体)'!$H19)","v":""},{"$nulls":5},{"$f":"IF(AN25<>\"\",VLOOKUP(EN25,部員データ,3,FALSE)&\"  \"&VLOOKUP(EN25,部員データ,4,FALSE),\"\")","v":""},{"$nulls":17},{"$f":"IF(AN25<>\"\",VLOOKUP(EN25,部員データ,2,FALSE),\"\")","v":""},{"$nulls":6},"●共通",{"$nulls":9},{"$f":"IF('入力シート(総体)'!$H72=\"\",\"\",'入力シート(総体)'!$H72)","v":""},{"$nulls":5},{"$f":"IF(CC25<>\"\",VLOOKUP(EO25,部員データ,3,FALSE)&\"  \"&VLOOKUP(EO25,部員データ,4,FALSE),\"\")","v":""},{"$nulls":17},{"$f":"IF(CC25<>\"\",VLOOKUP(EO25,部員データ,2,FALSE),\"\")","v":""},{"$nulls":3},{"$f":"IF('入力シート(総体)'!$H73=\"\",\"\",'入力シート(総体)'!$H73)","v":""},{"$nulls":5},{"$f":"IF(DE25<>\"\",VLOOKUP(EP25,部員データ,3,FALSE)&\"  \"&VLOOKUP(EP25,部員データ,4,FALSE),\"\")","v":""},{"$nulls":17},{"$f":"IF(DE25<>\"\",VLOOKUP(EP25,部員データ,2,FALSE),\"\")","v":""},{"$nulls":9},{"$f":"\"男\"&DBCS(TEXT(L25,\"00\"))","v":"男"},{"$f":"\"男\"&DBCS(TEXT(AN25,\"00\"))","v":"男"},{"$f":"\"女\"&DBCS(TEXT(CC25,\"00\"))","v":"女"},{"$f":"\"女\"&DBCS(TEXT(DE25,\"00\"))","v":"女"},"","","",""]
[null,"400ｍ",{"$nulls":15},{"$f":"IF(L25=\"\",\"\",IF('入力シート(総体)'!$K18=\"\",\"\",format_kiroku('入力シート(総体)'!$K18,$B26)))","v":""},{"$nulls":27},{"$f":"IF(AN25=\"\",\"\",IF('入力シート(総体)'!$K19=\"\",\"\",format_kiroku('入力シート(総体)'!$K19,$B26)))","v":""},{"$nulls":24},"1500m",{"$nulls":15},{"$f":"IF(CC25=\"\",\"\",IF('入力シート(総体)'!$K72=\"\",\"\",format_kiroku('入力シート(総体)'!$K72,$BS26)))","v":""},{"$nulls":27},{"$f":"IF(DE25=\"\",\"\",IF('入力シート(総体)'!$K73=\"\",\"\",format_kiroku('入力シート(総体)'!$K73,$BS26)))","v":""},{"$nulls":31},"","","",""]
[null,"共通",{"$nulls":9},{"$f":"IF('入力シート(総体)'!$H20=\"\",\"\",'入力シート(総体)'!$H20)","v":""},{"$nulls":5},{"$f":"IF(L27<>\"\",VLOOKUP(EM27,部員データ,3,FALSE)&\"  \"&VLOOKUP(EM27,部員データ,4,FALSE),\"\")","v":""},{"$nulls":17},{"$f":"IF(L27<>\"\",VLOOKUP(EM27,部員データ,2,FALSE),\"\")","v":""},{"$nulls":3},{"$f":"IF('入力シート(総体)'!$H21=\"\",\"\",'入力シート(総体)'!$H21)","v":""},{"$nulls":5},{"$f":"IF(AN27<>\"\",VLOOKUP(EN27,部員データ,3,FALSE)&\"  \"&VLOOKUP(EN27,部員データ,4,FALSE),\"\")","v":""},{"$nulls":17},{"$f":"IF(AN27<>\"\",VLOOKUP(EN27,部員データ,2,FALSE),\"\")","v":""},{"$nulls":6},"共通",{"$nulls":9},{"$f":"IF('入力シート(総体)'!$H74=\"\",\"\",'入力シート(総体)'!$H74)","v":""},{"$nulls":5},{"$f":"IF(CC27<>\"\",VLOOKUP(EO27,部員データ,3,FALSE)&\"  \"&VLOOKUP(EO27,部員データ,4,FALSE),\"\")","v":""},{"$nulls":17},{"$f":"IF(CC27<>\"\",VLOOKUP(EO27,部員データ,2,FALSE),\"\")","v":""},{"$nulls":3},{"$f":"IF('入力シート(総体)'!$H75=\"\",\"\",'入力シート(総体)'!$H75)","v":""},{"$nulls":5},{"$f":"IF(DE27<>\"\",VLOOKUP(EP27,部員データ,3,FALSE)&\"  \"&VLOOKUP(EP27,部員データ,4,FALSE),\"\")","v":""},{"$nulls":17},{"$f":"IF(DE27<>\"\",VLOOKUP(EP27,部員データ,2,FALSE),\"\")","v":""},{"$nulls":9},{"$f":"\"男\"&DBCS(TEXT(L27,\"00\"))","v":"男"},{"$f":"\"男\"&DBCS(TEXT(AN27,\"00\"))","v":"男"},{"$f":"\"女\"&DBCS(TEXT(CC27,\"00\"))","v":"女"},{"$f":"\"女\"&DBCS(TEXT(DE27,\"00\"))","v":"女"},"","","",""]
[null,"800m",{"$nulls":15},{"$f":"IF(L27=\"\",\"\",IF('入力シート(総体)'!$K20=\"\",\"\",format_kiroku('入力シート(総体)'!$K20,$B28)))","v":""},{"$nulls":27},{"$f":"IF(AN27=\"\",\"\",IF('入力シート(総体)'!$K21=\"\",\"\",format_kiroku('入力シート(総体)'!$K21,$B28)))","v":""},{"$nulls":24},"100mH",{"$nulls":15},{"$f":"IF(CC27=\"\",\"\",IF('入力シート(総体)'!$K74=\"\",\"\",format_kiroku('入力シート(総体)'!$K74,$BS28)))","v":""},{"$nulls":27},{"$f":"IF(DE27=\"\",\"\",IF('入力シート(総体)'!$K75=\"\",\"\",format_kiroku('入力シート(総体)'!$K75,$BS28)))","v":""},{"$nulls":31},"","","",""]
[null,"●共通",{"$nulls":9},{"$f":"IF('入力シート(総体)'!$H22=\"\",\"\",'入力シート(総体)'!$H22)","v":""},{"$nulls":5},{"$f":"IF(L29<>\"\",VLOOKUP(EM29,部員データ,3,FALSE)&\"  \"&VLOOKUP(EM29,部員データ,4,FALSE),\"\")","v":""},{"$nulls":17},{"$f":"IF(L29<>\"\",VLOOKUP(EM29,部員データ,2,FALSE),\"\")","v":""},{"$nulls":3},{"$f":"IF('入力シート(総体)'!$H23=\"\",\"\",'入力シート(総体)'!$H23)","v":""},{"$nulls":5},{"$f":"IF(AN29<>\"\",VLOOKUP(EN29,部員データ,3,FALSE)&\"  \"&VLOOKUP(EN29,部員データ,4,FALSE),\"\")","v":""},{"$nulls":17},{"$f":"IF(AN29<>\"\",VLOOKUP(EN29,部員データ,2,FALSE),\"\")","v":""},{"$nulls":6},"共通",{"$nulls":9},{"$f":"IF('入力シート(総体)'!$H82=\"\",\"\",'入力シート(総体)'!$H82)","v":""},{"$nulls":5},{"$f":"IF(CC29<>\"\",VLOOKUP(EO29,部員データ,3,FALSE)&\"  \"&VLOOKUP(EO29,部員データ,4,FALSE),\"\")","v":""},{"$nulls":17},{"$f":"IF(CC29<>\"\",VLOOKUP(EO29,部員データ,2,FALSE),\"\")","v":""},{"$nulls":3},{"$f":"IF('入力シート(総体)'!$H83=\"\",\"\",'入力シート(総体)'!$H83)","v":""},{"$nulls":5},{"$f":"IF(DE29<>\"\",VLOOKUP(EP29,部員データ,3,FALSE)&\"  \"&VLOOKUP(EP29,部員データ,4,FALSE),\"\")","v":""},{"$nulls":17},{"$f":"IF(DE29<>\"\",VLOOKUP(EP29,部員データ,2,FALSE),\"\")","v":""},{"$nulls":9},{"$f":"\"男\"&DBCS(TEXT(L29,\"00\"))","v":"男"},{"$f":"\"男\"&DBCS(TEXT(AN29,\"00\"))","v":"男"},{"$f":"\"女\"&DBCS(TEXT(CC29,\"00\"))","v":"女"},{"$f":"\"女\"&DBCS(TEXT(DE29,\"00\"))","v":"女"},"","","",""]
[null,"1500m",{"$nulls":15},{"$f":"IF(L29=\"\",\"\",IF('入力シート(総体)'!$K22=\"\",\"\",format_kiroku('入力シート(総体)'!$K22,$B30)))","v":""},{"$nulls":27},{"$f":"IF(AN29=\"\",\"\",IF('入力シート(総体)'!$K23=\"\",\"\",format_kiroku('入力シート(総体)'!$K23,$B30)))","v":""},{"$nulls":24},"走高跳",{"$nulls":15},{"$f":"IF(CC29=\"\",\"\",IF('入力シート(総体)'!$K82=\"\",\"\",format_kiroku('入力シート(総体)'!$K82,$BS30)))","v":""},{"$nulls":27},{"$f":"IF(DE29=\"\",\"\",IF('入力シート(総体)'!$K83=\"\",\"\",format_kiroku('入力シート(総体)'!$K83,$BS30)))","v":""},{"$nulls":31},"","","",""]
[null,"共通",{"$nulls":9},{"$f":"IF('入力シート(総体)'!$H24=\"\",\"\",'入力シート(総体)'!$H24)","v":""},{"$nulls":5},{"$f":"IF(L31<>\"\",VLOOKUP(EM31,部員データ,3,FALSE)&\"  \"&VLOOKUP(EM31,部員データ,4,FALSE),\"\")","v":""},{"$nulls":17},{"$f":"IF(L31<>\"\",VLOOKUP(EM31,部員データ,2,FALSE),\"\")","v":""},{"$nulls":3},{"$f":"IF('入力シート(総体)'!$H25=\"\",\"\",'入力シート(総体)'!$H25)","v":""},{"$nulls":5},{"$f":"IF(AN31<>\"\",VLOOKUP(EN31,部員データ,3,FALSE)&\"  \"&VLOOKUP(EN31,部員データ,4,FALSE),\"\")","v":""},{"$nulls":17},{"$f":"IF(AN31<>\"\",VLOOKUP(EN31,部員データ,2,FALSE),\"\")","v":""},{"$nulls":6},"●共通",{"$nulls":9},{"$f":"IF('入力シート(総体)'!$H84=\"\",\"\",'入力シート(総体)'!$H84)","v":""},{"$nulls":5},{"$f":"IF(CC31<>\"\",VLOOKUP(EO31,部員データ,3,FALSE)&\"  \"&VLOOKUP(EO31,部員データ,4,FALSE),\"\")","v":""},{"$nulls":17},{"$f":"IF(CC31<>\"\",VLOOKUP(EO31,部員データ,2,FALSE),\"\")","v":""},{"$nulls":3},{"$f":"IF('入力シート(総体)'!$H85=\"\",\"\",'入力シート(総体)'!$H85)","v":""},{"$nulls":5},{"$f":"IF(DE31<>\"\",VLOOKUP(EP31,部員データ,3,FALSE)&\"  \"&VLOOKUP(EP31,部員データ,4,FALSE),\"\")","v":""},{"$nulls":17},{"$f":"IF(DE31<>\"\",VLOOKUP(EP31,部員データ,2,FALSE),\"\")","v":""},{"$nulls":9},{"$f":"\"男\"&DBCS(TEXT(L31,\"00\"))","v":"男"},{"$f":"\"男\"&DBCS(TEXT(AN31,\"00\"))","v":"男"},{"$f":"\"女\"&DBCS(TEXT(CC31,\"00\"))","v":"女"},{"$f":"\"女\"&DBCS(TEXT(DE31,\"00\"))","v":"女"},"","","",""]
[null,"3000m",{"$nulls":15},{"$f":"IF(L31=\"\",\"\",IF('入力シート(総体)'!$K24=\"\",\"\",format_kiroku('入力シート(総体)'!$K24,$B32)))","v":""},{"$nulls":27},{"$f":"IF(AN31=\"\",\"\",IF('入力シート(総体)'!$K25=\"\",\"\",format_kiroku('入力シート(総体)'!$K25,$B32)))","v":""},{"$nulls":24},"走幅跳",{"$nulls":15},{"$f":"IF(CC31=\"\",\"\",IF('入力シート(総体)'!$K84=\"\",\"\",format_kiroku('入力シート(総体)'!$K84,$BS32)))","v":""},{"$nulls":27},{"$f":"IF(DE31=\"\",\"\",IF('入力シート(総体)'!$K85=\"\",\"\",format_kiroku('入力シート(総体)'!$K85,$BS32)))","v":""},{"$nulls":31},"","","",""]
[null,"共通",{"$nulls":9},{"$f":"IF('入力シート(総体)'!$H26=\"\",\"\",'入力シート(総体)'!$H26)","v":""},{"$nulls":5},{"$f":"IF(L33<>\"\",VLOOKUP(EM33,部員データ,3,FALSE)&\"  \"&VLOOKUP(EM33,部員データ,4,FALSE),\"\")","v":""},{"$nulls":17},{"$f":"IF(L33<>\"\",VLOOKUP(EM33,部員データ,2,FALSE),\"\")","v":""},{"$nulls":3},{"$f":"IF('入力シート(総体)'!$H27=\"\",\"\",'入力シート(総体)'!$H27)","v":""},{"$nulls":5},{"$f":"IF(AN33<>\"\",VLOOKUP(EN33,部員データ,3,FALSE)&\"  \"&VLOOKUP(EN33,部員データ,4,FALSE),\"\")","v":""},{"$nulls":17},{"$f":"IF(AN33<>\"\",VLOOKUP(EN33,部員データ,2,FALSE),\"\")","v":""},{"$nulls":6},"共通",{"$nulls":9},{"$f":"IF('入力シート(総体)'!$H86=\"\",\"\",'入力シート(総体)'!$H86)","v":""},{"$nulls":5},{"$f":"IF(CC33<>\"\",VLOOKUP(EO33,部員データ,3,FALSE)&\"  \"&VLOOKUP(EO33,部員データ,4,FALSE),\"\")","v":""},{"$nulls":17},{"$f":"IF(CC33<>\"\",VLOOKUP(EO33,部員データ,2,FALSE),\"\")","v":""},{"$nulls":3},{"$f":"IF('入力シート(総体)'!$H87=\"\",\"\",'入力シート(総体)'!$H87)","v":""},{"$nulls":5},{"$f":"IF(DE33<>\"\",VLOOKUP(EP33,部員データ,3,FALSE)&\"  \"&VLOOKUP(EP33,部員データ,4,FALSE),\"\")","v":""},{"$nulls":17},{"$f":"IF(DE33<>\"\",VLOOKUP(EP33,部員データ,2,FALSE),\"\")","v":""},{"$nulls":9},{"$f":"\"男\"&DBCS(TEXT(L33,\"00\"))","v":"男"},{"$f":"\"男\"&DBCS(TEXT(AN33,\"00\"))","v":"男"},"女","女","","","",""]
[null,"110mＨ",{"$nulls":15},{"$f":"IF(L33=\"\",\"\",IF('入力シート(総体)'!$K26=\"\",\"\",format_kiroku('入力シート(総体)'!$K26,$B34)))","v":""},{"$nulls":27},{"$f":"IF(AN33=\"\",\"\",IF('入力シート(総体)'!$K27=\"\",\"\",format_kiroku('入力シート(総体)'!$K27,$B34)))","v":""},{"$nulls":24},"砲丸投",{"$nulls":15},{"$f":"IF(CC33=\"\",\"\",IF('入力シート(総体)'!$K86=\"\",\"\",format_kiroku('入力シート(総体)'!$K86,$BS34)))","v":""},{"$nulls":27},{"$f":"IF(DE33=\"\",\"\",IF('入力シート(総体)'!$K87=\"\",\"\",format_kiroku('入力シート(総体)'!$K87,$BS34)))","v":""},{"$nulls":31},"","","",""]
[null,"共通",{"$nulls":9},{"$f":"IF('入力シート(総体)'!$H34=\"\",\"\",'入力シート(総体)'!$H34)","v":""},{"$nulls":5},{"$f":"IF(L35<>\"\",VLOOKUP(EM35,部員データ,3,FALSE)&\"  \"&VLOOKUP(EM35,部員データ,4,FALSE),\"\")","v":""},{"$nulls":17},{"$f":"IF(L35<>\"\",VLOOKUP(EM35,部員データ,2,FALSE),\"\")","v":""},{"$nulls":3},{"$f":"IF('入力シート(総体)'!$H35=\"\",\"\",'入力シート(総体)'!$H35)","v":""},{"$nulls":5},{"$f":"IF(AN35<>\"\",VLOOKUP(EN35,部員データ,3,FALSE)&\"  \"&VLOOKUP(EN35,部員データ,4,FALSE),\"\")","v":""},{"$nulls":17},{"$f":"IF(AN35<>\"\",VLOOKUP(EN35,部員データ,2,FALSE),\"\")","v":""},{"$nulls":6},"●共通",{"$nulls":9},{"$f":"IF('入力シート(総体)'!$H88=\"\",\"\",'入力シート(総体)'!$H88)","v":""},{"$nulls":5},{"$f":"IF(CC35<>\"\",VLOOKUP(EO35,部員データ,3,FALSE)&\"  \"&VLOOKUP(EO35,部員データ,4,FALSE),\"\")","v":""},{"$nulls":17},{"$f":"IF(CC35<>\"\",VLOOKUP(EO35,部員データ,2,FALSE),\"\")","v":""},{"$nulls":3},{"$f":"IF('入力シート(総体)'!$H89=\"\",\"\",'入力シート(総体)'!$H89)","v":""},{"$nulls":5},{"$f":"IF(DE35<>\"\",VLOOKUP(EP35,部員データ,3,FALSE)&\"  \"&VLOOKUP(EP35,部員データ,4,FALSE),\"\")","v":""},{"$nulls":17},{"$f":"IF(DE35<>\"\",VLOOKUP(EP35,部員データ,2,FALSE),\"\")","v":""},{"$nulls":9},{"$f":"\"男\"&DBCS(TEXT(L35,\"00\"))","v":"男"},{"$f":"\"男\"&DBCS(TEXT(AN35,\"00\"))","v":"男"},"女","女","","","",""]
[null,"走高跳",{"$nulls":15},{"$f":"IF(L35=\"\",\"\",IF('入力シート(総体)'!$K34=\"\",\"\",format_kiroku('入力シート(総体)'!$K34,$B36)))","v":""},{"$nulls":27},{"$f":"IF(AN35=\"\",\"\",IF('入力シート(総体)'!$K35=\"\",\"\",format_kiroku('入力シート(総体)'!$K35,$B36)))","v":""},{"$nulls":24},"円盤投",{"$nulls":15},{"$f":"IF(CC35=\"\",\"\",IF('入力シート(総体)'!$K88=\"\",\"\",format_kiroku('入力シート(総体)'!$K88,$BS36)))","v":""},{"$nulls":27},{"$f":"IF(DE35=\"\",\"\",IF('入力シート(総体)'!$K89=\"\",\"\",format_kiroku('入力シート(総体)'!$K89,$BS36)))","v":""},{"$nulls":31},"","","",""]
[null,"●共通",{"$nulls":9},{"$f":"IF('入力シート(総体)'!$H36=\"\",\"\",'入力シート(総体)'!$H36)","v":""},{"$nulls":5},{"$f":"IF(L37<>\"\",VLOOKUP(EM37,部員データ,3,FALSE)&\"  \"&VLOOKUP(EM37,部員データ,4,FALSE),\"\")","v":""},{"$nulls":17},{"$f":"IF(L37<>\"\",VLOOKUP(EM37,部員データ,2,FALSE),\"\")","v":""},{"$nulls":3},{"$f":"IF('入力シート(総体)'!$H37=\"\",\"\",'入力シート(総体)'!$H37)","v":""},{"$nulls":5},{"$f":"IF(AN37<>\"\",VLOOKUP(EN37,部員データ,3,FALSE)&\"  \"&VLOOKUP(EN37,部員データ,4,FALSE),\"\")","v":""},{"$nulls":17},{"$f":"IF(AN37<>\"\",VLOOKUP(EN37,部員データ,2,FALSE),\"\")","v":""},{"$nulls":6},"●共通",{"$nulls":9},{"$f":"IF('入力シート(総体)'!$H90=\"\",\"\",'入力シート(総体)'!$H90)","v":""},{"$nulls":5},{"$f":"IF(CC37<>\"\",VLOOKUP(EO37,部員データ,3,FALSE)&\"  \"&VLOOKUP(EO37,部員データ,4,FALSE),\"\")","v":""},{"$nulls":17},{"$f":"IF(CC37<>\"\",VLOOKUP(EO37,部員データ,2,FALSE),\"\")","v":""},{"$nulls":3},{"$f":"IF('入力シート(総体)'!$H95=\"\",\"\",'入力シート(総体)'!$H95)","v":""},{"$nulls":5},{"$f":"IF(DE37<>\"\",VLOOKUP(EP37,部員データ,3,FALSE)&\"  \"&VLOOKUP(EP37,部員データ,4,FALSE),\"\")","v":""},{"$nulls":17},{"$f":"IF(DE37<>\"\",VLOOKUP(EP37,部員データ,2,FALSE),\"\")","v":""},{"$nulls":9},{"$f":"\"男\"&DBCS(TEXT(L37,\"00\"))","v":"男"},{"$f":"\"男\"&DBCS(TEXT(AN37,\"00\"))","v":"男"},"女","女","","","",""]
[null,"棒高跳",{"$nulls":15},{"$f":"IF(L37=\"\",\"\",IF('入力シート(総体)'!$K36=\"\",\"\",format_kiroku('入力シート(総体)'!$K36,$B38)))","v":""},{"$nulls":27},{"$f":"IF(AN37=\"\",\"\",IF('入力シート(総体)'!$K37=\"\",\"\",format_kiroku('入力シート(総体)'!$K37,$B38)))","v":""},{"$nulls":24},"四種競技",{"$nulls":15},{"$f":"IF(CC37=\"\",\"\",IF('入力シート(総体)'!$K90=\"\",\"\",format_kiroku('入力シート(総体)'!$K90,$BS38)))","v":""},{"$nulls":27},{"$f":"IF(DE37=\"\",\"\",IF('入力シート(総体)'!$K95=\"\",\"\",format_kiroku('入力シート(総体)'!$K95,$BS38)))","v":""},{"$nulls":31},"","","",""]
[null,"●共通",{"$nulls":9},{"$f":"IF('入力シート(総体)'!$H38=\"\",\"\",'入力シート(総体)'!$H38)","v":""},{"$nulls":5},{"$f":"IF(L39<>\"\",VLOOKUP(EM39,部員データ,3,FALSE)&\"  \"&VLOOKUP(EM39,部員データ,4,FALSE),\"\")","v":""},{"$nulls":17},{"$f":"IF(L39<>\"\",VLOOKUP(EM39,部員データ,2,FALSE),\"\")","v":""},{"$nulls":3},{"$f":"IF('入力シート(総体)'!$H39=\"\",\"\",'入力シート(総体)'!$H39)","v":""},{"$nulls":5},{"$f":"IF(AN39<>\"\",VLOOKUP(EN39,部員データ,3,FALSE)&\"  \"&VLOOKUP(EN39,部員データ,4,FALSE),\"\")","v":""},{"$nulls":17},{"$f":"IF(AN39<>\"\",VLOOKUP(EN39,部員データ,2,FALSE),\"\")","v":""},{"$nulls":6},"共通\n4×100mR",{"$nulls":9},{"$f":"IF('入力シート(総体)'!$H76=\"\",\"\",'入力シート(総体)'!$H76)","v":""},{"$nulls":5},{"$f":"IF(CC39<>\"\",VLOOKUP(EO39,部員データ,3,FALSE)&\"  \"&VLOOKUP(EO39,部員データ,4,FALSE),\"\")","v":""},{"$nulls":17},{"$f":"IF(CC39<>\"\",VLOOKUP(EO39,部員データ,2,FALSE),\"\")","v":""},{"$nulls":3},{"$f":"IF('入力シート(総体)'!$H77=\"\",\"\",'入力シート(総体)'!$H77)","v":""},{"$nulls":5},{"$f":"IF(DE39<>\"\",VLOOKUP(EP39,部員データ,3,FALSE)&\"  \"&VLOOKUP(EP39,部員データ,4,FALSE),\"\")","v":""},{"$nulls":17},{"$f":"IF(DE39<>\"\",VLOOKUP(EP39,部員データ,2,FALSE),\"\")","v":""},{"$nulls":9},{"$f":"\"男\"&DBCS(TEXT(L39,\"00\"))","v":"男"},{"$f":"\"男\"&DBCS(TEXT(AN39,\"00\"))","v":"男"},"女","女","","","",""]
[null,"走幅跳",{"$nulls":15},{"$f":"IF(L39=\"\",\"\",IF('入力シート(総体)'!$K38=\"\",\"\",format_kiroku('入力シート(総体)'!$K38,$B40)))","v":""},{"$nulls":27},{"$f":"IF(AN39=\"\",\"\",IF('入力シート(総体)'!$K39=\"\",\"\",format_kiroku('入力シート(総体)'!$K39,$B40)))","v":""},{"$nulls":100},"","","",""]
[null,"共通",{"$nulls":9},{"$f":"IF('入力シート(総体)'!$H40=\"\",\"\",'入力シート(総体)'!$H40)","v":""},{"$nulls":5},{"$f":"IF(L41<>\"\",VLOOKUP(EM41,部員データ,3,FALSE)&\"  \"&VLOOKUP(EM41,部員データ,4,FALSE),\"\")","v":""},{"$nulls":17},{"$f":"IF(L41<>\"\",VLOOKUP(EM41,部員データ,2,FALSE),\"\")","v":""},{"$nulls":3},{"$f":"IF('入力シート(総体)'!$H41=\"\",\"\",'入力シート(総体)'!$H41)","v":""},{"$nulls":5},{"$f":"IF(AN41<>\"\",VLOOKUP(EN41,部員データ,3,FALSE)&\"  \"&VLOOKUP(EN41,部員データ,4,FALSE),\"\")","v":""},{"$nulls":17},{"$f":"IF(AN41<>\"\",VLOOKUP(EN41,部員データ,2,FALSE),\"\")","v":""},{"$nulls":16},{"$f":"IF('入力シート(総体)'!$H78=\"\",\"\",'入力シート(総体)'!$H78)","v":""},{"$nulls":5},{"$f":"IF(CC41<>\"\",VLOOKUP(EO41,部員データ,3,FALSE)&\"  \"&VLOOKUP(EO41,部員データ,4,FALSE),\"\")","v":""},{"$nulls":17},{"$f":"IF(CC41<>\"\",VLOOKUP(EO41,部員データ,2,FALSE),\"\")","v":""},{"$nulls":3},{"$f":"IF('入力シート(総体)'!$H79=\"\",\"\",'入力シート(総体)'!$H79)","v":""},{"$nulls":5},{"$f":"IF(DE41<>\"\",VLOOKUP(EP41,部員データ,3,FALSE)&\"  \"&VLOOKUP(EP41,部員データ,4,FALSE),\"\")","v":""},{"$nulls":17},{"$f":"IF(DE41<>\"\",VLOOKUP(EP41,部員データ,2,FALSE),\"\")","v":""},{"$nulls":9},{"$f":"\"男\"&DBCS(TEXT(L41,\"00\"))","v":"男"},{"$f":"\"男\"&DBCS(TEXT(AN41,\"00\"))","v":"男"},"女","女","","","",""]
[null,"三段跳",{"$nulls":15},{"$f":"IF(L41=\"\",\"\",IF('入力シート(総体)'!$K40=\"\",\"\",format_kiroku('入力シート(総体)'!$K40,$B42)))","v":""},{"$nulls":27},{"$f":"IF(AN41=\"\",\"\",IF('入力シート(総体)'!$K41=\"\",\"\",format_kiroku('入力シート(総体)'!$K41,$B42)))","v":""},{"$nulls":100},"","","",""]
[null,"共通",{"$nulls":9},{"$f":"IF('入力シート(総体)'!$H42=\"\",\"\",'入力シート(総体)'!$H42)","v":""},{"$nulls":5},{"$f":"IF(L43<>\"\",VLOOKUP(EM43,部員データ,3,FALSE)&\"  \"&VLOOKUP(EM43,部員データ,4,FALSE),\"\")","v":""},{"$nulls":17},{"$f":"IF(L43<>\"\",VLOOKUP(EM43,部員データ,2,FALSE),\"\")","v":""},{"$nulls":3},{"$f":"IF('入力シート(総体)'!$H43=\"\",\"\",'入力シート(総体)'!$H43)","v":""},{"$nulls":5},{"$f":"IF(AN43<>\"\",VLOOKUP(EN43,部員データ,3,FALSE)&\"  \"&VLOOKUP(EN43,部員データ,4,FALSE),\"\")","v":""},{"$nulls":17},{"$f":"IF(AN43<>\"\",VLOOKUP(EN43,部員データ,2,FALSE),\"\")","v":""},{"$nulls":16},{"$f":"IF('入力シート(総体)'!$H80=\"\",\"\",'入力シート(総体)'!$H80)","v":""},{"$nulls":5},{"$f":"IF(CC43<>\"\",VLOOKUP(EO43,部員データ,3,FALSE)&\"  \"&VLOOKUP(EO43,部員データ,4,FALSE),\"\")","v":""},{"$nulls":17},{"$f":"IF(CC43<>\"\",VLOOKUP(EO43,部員データ,2,FALSE),\"\")","v":""},{"$nulls":3},{"$f":"IF('入力シート(総体)'!$H81=\"\",\"\",'入力シート(総体)'!$H81)","v":""},{"$nulls":5},{"$f":"IF(DE43<>\"\",VLOOKUP(EP43,部員データ,3,FALSE)&\"  \"&VLOOKUP(EP43,部員データ,4,FALSE),\"\")","v":""},{"$nulls":17},{"$f":"IF(DE43<>\"\",VLOOKUP(EP43,部員データ,2,FALSE),\"\")","v":""},{"$nulls":5},{"$f":"COUNTA(L9:Q45,AN9:AS45)","v":38},{"$f":"COUNTA(CC9:CH30,DE9:DJ30)","v":22},null,null,{"$f":"\"男\"&DBCS(TEXT(L43,\"00\"))","v":"男"},{"$f":"\"男\"&DBCS(TEXT(AN43,\"00\"))","v":"男"},"女","女","","","",""]
[null,"砲丸投",{"$nulls":15},{"$f":"IF(L43=\"\",\"\",IF('入力シート(総体)'!$K42=\"\",\"\",format_kiroku('入力シート(総体)'!$K42,$B44)))","v":""},{"$nulls":27},{"$f":"IF(AN43=\"\",\"\",IF('入力シート(総体)'!$K43=\"\",\"\",format_kiroku('入力シート(総体)'!$K43,$B44)))","v":""},{"$nulls":24},{"$f":"IF(CC39=\"\",\"\",IF('入力シート(総体)'!$K76=\"\",\"\",format_kiroku('入力シート(総体)'!$K76,$BS39)))","v":""},{"$nulls":75},"","","",""]
[null,"●共通",{"$nulls":9},{"$f":"IF('入力シート(総体)'!$H44=\"\",\"\",'入力シート(総体)'!$H44)","v":""},{"$nulls":5},{"$f":"IF(L45<>\"\",VLOOKUP(EM45,部員データ,3,FALSE)&\"  \"&VLOOKUP(EM45,部員データ,4,FALSE),\"\")","v":""},{"$nulls":17},{"$f":"IF(L45<>\"\",VLOOKUP(EM45,部員データ,2,FALSE),\"\")","v":""},{"$nulls":3},{"$f":"IF('入力シート(総体)'!$H45=\"\",\"\",'入力シート(総体)'!$H45)","v":""},{"$nulls":5},{"$f":"IF(AN45<>\"\",VLOOKUP(EN45,部員データ,3,FALSE)&\"  \"&VLOOKUP(EN45,部員データ,4,FALSE),\"\")","v":""},{"$nulls":17},{"$f":"IF(AN45<>\"\",VLOOKUP(EN45,部員データ,2,FALSE),\"\")","v":""},{"$nulls":74},{"$f":"COUNTA(L47,AN47)","v":2},{"$f":"COUNTA(CC37,DE37)","v":2},null,null,{"$f":"\"男\"&DBCS(TEXT(L45,\"00\"))","v":"男"},{"$f":"\"男\"&DBCS(TEXT(AN45,\"00\"))","v":"男"},null,null,"","","",""]
[null,"円盤投",{"$nulls":15},{"$f":"IF(L45=\"\",\"\",IF('入力シート(総体)'!$K44=\"\",\"\",format_kiroku('入力シート(総体)'!$K44,$B46)))","v":""},{"$nulls":27},{"$f":"IF(AN45=\"\",\"\",IF('入力シート(総体)'!$K45=\"\",\"\",format_kiroku('入力シート(総体)'!$K45,$B46)))","v":""},{"$nulls":100},"","","",""]
[null,"●共通",{"$nulls":9},{"$f":"IF('入力シート(総体)'!$H46=\"\",\"\",'入力シート(総体)'!$H46)","v":""},{"$nulls":5},{"$f":"IF(L47<>\"\",VLOOKUP(EM47,部員データ,3,FALSE)&\"  \"&VLOOKUP(EM47,部員データ,4,FALSE),\"\")","v":""},{"$nulls":17},{"$f":"IF(L47<>\"\",VLOOKUP(EM47,部員データ,2,FALSE),\"\")","v":""},{"$nulls":3},{"$f":"IF('入力シート(総体)'!$H51=\"\",\"\",'入力シート(総体)'!$H51)","v":""},{"$nulls":5},{"$f":"IF(AN47<>\"\",VLOOKUP(EN47,部員データ,3,FALSE)&\"  \"&VLOOKUP(EN47,部員データ,4,FALSE),\"\")","v":""},{"$nulls":17},{"$f":"IF(AN47<>\"\",VLOOKUP(EN47,部員データ,2,FALSE),\"\")","v":""},{"$nulls":74},{"$f":"COUNTA(L49)","v":1},{"$f":"COUNTA(CC39)","v":1},null,null,{"$f":"\"男\"&DBCS(TEXT(L47,\"00\"))","v":"男"},{"$f":"\"男\"&DBCS(TEXT(AN47,\"00\"))","v":"男"},null,null,"","","",""]
[null,"四種競技",{"$nulls":15},{"$f":"IF(L47=\"\",\"\",IF('入力シート(総体)'!$K46=\"\",\"\",format_kiroku('入力シート(総体)'!$K46,$B48)))","v":""},{"$nulls":27},{"$f":"IF(AN47=\"\",\"\",IF('入力シート(総体)'!$K51=\"\",\"\",format_kiroku('入力シート(総体)'!$K51,$B48)))","v":""},{"$nulls":100},"",""]
[null,"共通\n4×100mR",{"$nulls":9},{"$f":"IF('入力シート(総体)'!$H28=\"\",\"\",'入力シート(総体)'!$H28)","v":""},{"$nulls":5},{"$f":"IF(L49<>\"\",VLOOKUP(EM49,部員データ,3,FALSE)&\"  \"&VLOOKUP(EM49,部員データ,4,FALSE),\"\")","v":""},{"$nulls":17},{"$f":"IF(L49<>\"\",VLOOKUP(EM49,部員データ,2,FALSE),\"\")","v":""},{"$nulls":3},{"$f":"IF('入力シート(総体)'!$H29=\"\",\"\",'入力シート(総体)'!$H29)","v":""},{"$nulls":5},{"$f":"IF(AN49<>\"\",VLOOKUP(EN49,部員データ,3,FALSE)&\"  \"&VLOOKUP(EN49,部員データ,4,FALSE),\"\")","v":""},{"$nulls":17},{"$f":"IF(AN49<>\"\",VLOOKUP(EN49,部員データ,2,FALSE),\"\")","v":""},{"$nulls":6},"実参加人数",{"$nulls":9},"１年",{"$nulls":10},"２年",{"$nulls":10},"３年",{"$nulls":10},"合計",{"$nulls":10},"総合計",{"$nulls":17},{"$f":"\"男\"&DBCS(TEXT(L49,\"00\"))","v":"男"},{"$f":"\"男\"&DBCS(TEXT(AN49,\"00\"))","v":"男"},null,null,"",""]
[]
[{"$nulls":11},{"$f":"IF('入力シート(総体)'!$H30=\"\",\"\",'入力シート(総体)'!$H30)","v":""},{"$nulls":5},{"$f":"IF(L51<>\"\",VLOOKUP(EM51,部員データ,3,FALSE)&\"  \"&VLOOKUP(EM51,部員データ,4,FALSE),\"\")","v":""},{"$nulls":17},{"$f":"IF(L51<>\"\",VLOOKUP(EM51,部員データ,2,FALSE),\"\")","v":""},{"$nulls":3},{"$f":"IF('入力シート(総体)'!$H31=\"\",\"\",'入力シート(総体)'!$H31)","v":""},{"$nulls":5},{"$f":"IF(AN51<>\"\",VLOOKUP(EN51,部員データ,3,FALSE)&\"  \"&VLOOKUP(EN51,部員データ,4,FALSE),\"\")","v":""},{"$nulls":17},{"$f":"IF(AN51<>\"\",VLOOKUP(EN51,部員データ,2,FALSE),\"\")","v":""},{"$nulls":6},"男子",{"$nulls":9},{"$f":"'入力シート(総体)'!Z2","v":0},{"$nulls":10},{"$f":"'入力シート(総体)'!AA2","v":0},{"$nulls":10},{"$f":"'入力シート(総体)'!AB2","v":0},{"$nulls":10},{"$f":"SUM(CC51:DI52)","v":0},{"$nulls":10},{"$f":"SUM(DJ51:DT54)","v":0},{"$nulls":17},{"$f":"\"男\"&DBCS(TEXT(L51,\"00\"))","v":"男"},{"$f":"\"男\"&DBCS(TEXT(AN51,\"00\"))","v":"男"},null,null,{"$f":"COUNTIF($EQ$9:$ER$49,\">0\")","v":0},{"$f":"COUNTIF($EQ$9:$ER$49,\"2\")","v":0},{"$f":"COUNTIF($ES$9:$ET$47,\">0\")","v":0},{"$f":"COUNTIF($ES$9:$ET$47,\"2\")","v":0}]
[{"$nulls":147},{"$f":"COUNTIF($EQ$9:$ER$49,\"3\")","v":0},null,{"$f":"COUNTIF($ES$9:$ET$47,\"3\")","v":0}]
[{"$nulls":11},{"$f":"IF('入力シート(総体)'!$H32=\"\",\"\",'入力シート(総体)'!$H32)","v":""},{"$nulls":5},{"$f":"IF(L53<>\"\",VLOOKUP(EM53,部員データ,3,FALSE)&\"  \"&VLOOKUP(EM53,部員データ,4,FALSE),\"\")","v":""},{"$nulls":17},{"$f":"IF(L53<>\"\",VLOOKUP(EM53,部員データ,2,FALSE),\"\")","v":""},{"$nulls":3},{"$f":"IF('入力シート(総体)'!$H33=\"\",\"\",'入力シート(総体)'!$H33)","v":""},{"$nulls":5},{"$f":"IF(AN53<>\"\",VLOOKUP(EN53,部員データ,3,FALSE)&\"  \"&VLOOKUP(EN53,部員データ,4,FALSE),\"\")","v":""},{"$nulls":17},{"$f":"IF(AN53<>\"\",VLOOKUP(EN53,部員データ,2,FALSE),\"\")","v":""},{"$nulls":6},"女子",{"$nulls":9},{"$f":"'入力シート(総体)'!Z3","v":0},{"$nulls":10},{"$f":"'入力シート(総体)'!AA3","v":0},{"$nulls":10},{"$f":"'入力シート(総体)'!AB3","v":0},{"$nulls":10},{"$f":"SUM(CC53:DI54)","v":0},{"$nulls":28},{"$f":"\"男\"&DBCS(TEXT(L53,\"00\"))","v":"男"},{"$f":"\"男\"&DBCS(TEXT(AN53,\"00\"))","v":"男"},{"$nulls":3},{"$f":"COUNTIF($EQ$9:$ER$49,\"4\")","v":0},null,{"$f":"COUNTIF($ES$9:$ET$47,\"4\")","v":0}]
[null,{"$f":"IF(L49=\"\",\"\",IF('入力シート(総体)'!$K28=\"\",\"\",format_kiroku('入力シート(総体)'!$K28,$B49)))","v":""},{"$nulls":144},{"$f":"EQ51-ER51/2","v":0},null,{"$f":"ES51-ET51/2-ET52/3-ET53/4","v":0}]
[]
[]
[{"$nulls":4},"上記の生徒を本校代表として、参加を認めます。また、本競技大会の参加申し込みに際し、大会要項記載内容を確認し、個人情報の取り扱いについて同意を得ています。"]
[]
[{"$nulls":4},"平成",{"$nulls":5},{"$f":"TEXT(TODAY(),\"e\")","v":"28"},{"$nulls":5},"年",{"$nulls":3},{"$f":"TEXT(TODAY(),\"m\")","v":"8"},{"$nulls":7},"月",{"$nulls":3},{"$f":"TEXT(TODAY(),\"d\")","v":"17"},{"$nulls":9},"日",{"$nulls":5},{"$f":"学校名","v":0},{"$nulls":20},"中学校",{"$nulls":11},"学校長",{"$nulls":12},{"$f":"学校長","v":"　"},{"$nulls":33},"印"]
[]
[null,null,"審判員",{"$nulls":8},"（",null,{"$f":"IF(基礎データ!$N21=TRUE,基礎データ!$N17,\"\")","v":""},{"$nulls":24},"）",{"$nulls":3},"（",null,{"$f":"IF(基礎データ!$N22=TRUE,基礎データ!$N18,\"\")","v":""},{"$nulls":24},"）",{"$nulls":3},"（",null,{"$f":"IF(基礎データ!$N23=TRUE,基礎データ!$N19,\"\")","v":""},{"$nulls":24},"）",{"$nulls":3},"（",null,{"$f":"IF(基礎データ!$N24=TRUE,基礎データ!$N20,\"\")","v":""},{"$nulls":24},"）"]
[]
[{"$nulls":3},"注　審判員が不足していますので、顧問全員の方に審判を依頼します。審判員の箇所には顧問全員の氏名を記入してください。"]

{"sheet":"送信データ(総体)","index":15,"n_rows":360,"n_cols":71,"rows_kept":360,"hidden":true}
["大会コード","性別","学年","競技種目コード","学校コード","性別1","選手コード","組","レーン","エントリ記録","当日記録","順位","条件項目","計測区分","未記録区分","大会順位"]
[{"$f":"IF('入力シート(総体)'!$H2=\"\",\"\",大会コード)","v":""},{"$f":"IF('入力シート(総体)'!$H2=\"\",\"\",IF('入力シート(総体)'!$B2=\"男\",0,1))","v":""},{"$f":"IF('入力シート(総体)'!$H2=\"\",\"\",'入力シート(総体)'!C2)","v":""},{"$f":"IF('入力シート(総体)'!$H2=\"\",\"\",TEXT('入力シート(総体)'!$E2,\"000\"))","v":""},{"$f":"IF('入力シート(総体)'!$H2=\"\",\"\",学校番号)","v":""},{"$f":"IF('入力シート(総体)'!$H2=\"\",\"\",B2)","v":""},{"$f":"IF('入力シート(総体)'!$H2=\"\",\"\",TEXT('入力シート(総体)'!$H2,\"00\"))","v":""},null,null,{"$f":"IF('入力シート(総体)'!$H2=\"\",\"\",IF('入力シート(総体)'!K2=\"\",\"\",'入力シート(総体)'!K2))","v":""},{"$nulls":3},{"$f":"IF('入力シート(総体)'!$H2=\"\",\"\",IF('入力シート(総体)'!L2=\"\",\"\",IF('入力シート(総体)'!L2=\"電気\",0,1)))","v":""}]
[{"$f":"IF('入力シート(総体)'!$H3=\"\",\"\",大会コード)","v":""},{"$f":"IF('入力シート(総体)'!$H3=\"\",\"\",IF('入力シート(総体)'!$B3=\"男\",0,1))","v":""},{"$f":"IF('入力シート(総体)'!$H3=\"\",\"\",'入力シート(総体)'!C3)","v":""},{"$f":"IF('入力シート(総体)'!$H3=\"\",\"\",TEXT('入力シート(総体)'!$E3,\"000\"))","v":""},{"$f":"IF('入力シート(総体)'!$H3=\"\",\"\",学校番号)","v":""},{"$f":"IF('入力シート(総体)'!$H3=\"\",\"\",B3)","v":""},{"$f":"IF('入力シート(総体)'!$H3=\"\",\"\",TEXT('入力シート(総体)'!$H3,\"00\"))","v":""},null,null,{"$f":"IF('入力シート(総体)'!$H3=\"\",\"\",IF('入力シート(総体)'!K3=\"\",\"\",'入力シート(総体)'!K3))","v":""},{"$nulls":3},{"$f":"IF('入力シート(総体)'!$H3=\"\",\"\",IF('入力シート(総体)'!L3=\"\",\"\",IF('入力シート(総体)'!L3=\"電気\",0,1)))","v":""}]
[{"$f":"IF('入力シート(総体)'!$H4=\"\",\"\",大会コード)","v":""},{"$f":"IF('入力シート(総体)'!$H4=\"\",\"\",IF('入力シート(総体)'!$B4=\"男\",0,1))","v":""},{"$f":"IF('入力シート(総体)'!$H4=\"\",\"\",'入力シート(総体)'!C4)","v":""},{"$f":"IF('入力シート(総体)'!$H4=\"\",\"\",TEXT('入力シート(総体)'!$E4,\"000\"))","v":""},{"$f":"IF('入力シート(総体)'!$H4=\"\",\"\",学校番号)","v":""},{"$f":"IF('入力シート(総体)'!$H4=\"\",\"\",B4)","v":""},{"$f":"IF('入力シート(総体)'!$H4=\"\",\"\",TEXT('入力シート(総体)'!$H4,\"00\"))","v":""},null,null,{"$f":"IF('入力シート(総体)'!$H4=\"\",\"\",IF('入力シート(総体)'!K4=\"\",\"\",'入力シート(総体)'!K4))","v":""},{"$nulls":3},{"$f":"IF('入力シート(総体)'!$H4=\"\",\"\",IF('入力シート(総体)'!L4=\"\",\"\",IF('入力シート(総体)'!L4=\"電気\",0,1)))","v":""}]
[{"$f":"IF('入力シート(総体)'!$H5=\"\",\"\",大会コード)","v":""},{"$f":"IF('入力シート(総体)'!$H5=\"\",\"\",IF('入力シート(総体)'!$B5=\"男\",0,1))","v":""},{"$f":"IF('入力シート(総体)'!$H5=\"\",\"\",'入力シート(総体)'!C5)","v":""},{"$f":"IF('入力シート(総体)'!$H5=\"\",\"\",TEXT('入力シート(総体)'!$E5,\"000\"))","v":""},{"$f":"IF('入力シート(総体)'!$H5=\"\",\"\",学校番号)","v":""},{"$f":"IF('入力シート(総体)'!$H5=\"\",\"\",B5)","v":""},{"$f":"IF('入力シート(総体)'!$H5=\"\",\"\",TEXT('入力シート(総体)'!$H5,\"00\"))","v":""},null,null,{"$f":"IF('入力シート(総体)'!$H5=\"\",\"\",IF('入力シート(総体)'!K5=\"\",\"\",'入力シート(総体)'!K5))","v":""},{"$nulls":3},{"$f":"IF('入力シート(総体)'!$H5=\"\",\"\",IF('入力シート(総体)'!L5=\"\",\"\",IF('入力シート(総体)'!L5=\"電気\",0,1)))","v":""}]
[{"$f":"IF('入力シート(総体)'!$H6=\"\",\"\",大会コード)","v":""},{"$f":"IF('入力シート(総体)'!$H6=\"\",\"\",IF('入力シート(総体)'!$B6=\"男\",0,1))","v":""},{"$f":"IF('入力シート(総体)'!$H6=\"\",\"\",'入力シート(総体)'!C6)","v":""},{"$f":"IF('入力シート(総体)'!$H6=\"\",\"\",TEXT('入力シート(総体)'!$E6,\"000\"))","v":""},{"$f":"IF('入力シート(総体)'!$H6=\"\",\"\",学校番号)","v":""},{"$f":"IF('入力シート(総体)'!$H6=\"\",\"\",B6)","v":""},{"$f":"IF('入力シート(総体)'!$H6=\"\",\"\",TEXT('入力シート(総体)'!$H6,\"00\"))","v":""},null,null,{"$f":"IF('入力シート(総体)'!$H6=\"\",\"\",IF('入力シート(総体)'!K6=\"\",\"\",'入力シート(総体)'!K6))","v":""},{"$nulls":3},{"$f":"IF('入力シート(総体)'!$H6=\"\",\"\",IF('入力シート(総体)'!L6=\"\",\"\",IF('入力シート(総体)'!L6=\"電気\",0,1)))","v":""}]
[{"$f":"IF('入力シート(総体)'!$H7=\"\",\"\",大会コード)","v":""},{"$f":"IF('入力シート(総体)'!$H7=\"\",\"\",IF('入力シート(総体)'!$B7=\"男\",0,1))","v":""},{"$f":"IF('入力シート(総体)'!$H7=\"\",\"\",'入力シート(総体)'!C7)","v":""},{"$f":"IF('入力シート(総体)'!$H7=\"\",\"\",TEXT('入力シート(総体)'!$E7,\"000\"))","v":""},{"$f":"IF('入力シート(総体)'!$H7=\"\",\"\",学校番号)","v":""},{"$f":"IF('入力シート(総体)'!$H7=\"\",\"\",B7)","v":""},{"$f":"IF('入力シート(総体)'!$H7=\"\",\"\",TEXT('入力シート(総体)'!$H7,\"00\"))","v":""},null,null,{"$f":"IF('入力シート(総体)'!$H7=\"\",\"\",IF('入力シート(総体)'!K7=\"\",\"\",'入力シート(総体)'!K7))","v":""},{"$nulls":3},{"$f":"IF('入力シート(総体)'!$H7=\"\",\"\",IF('入力シート(総体)'!L7=\"\",\"\",IF('入力シート(総体)'!L7=\"電気\",0,1)))","v":""}]
[{"$f":"IF('入力シート(総体)'!$H8=\"\",\"\",大会コード)","v":""},{"$f":"IF('入力シート(総体)'!$H8=\"\",\"\",IF('入力シート(総体)'!$B8=\"男\",0,1))","v":""},{"$f":"IF('入力シート(総体)'!$H8=\"\",\"\",'入力シート(総体)'!C8)","v":""},{"$f":"IF('入力シート(総体)'!$H8=\"\",\"\",TEXT('入力シート(総体)'!$E8,\"000\"))","v":""},{"$f":"IF('入力シート(総体)'!$H8=\"\",\"\",学校番号)","v":""},{"$f":"IF('入力シート(総体)'!$H8=\"\",\"\",B8)","v":""},{"$f":"IF('入力シート(総体)'!$H8=\"\",\"\",TEXT('入力シート(総体)'!$H8,\"00\"))","v":""},null,null,{"$f":"IF('入力シート(総体)'!$H8=\"\",\"\",IF('入力シート(総体)'!K8=\"\",\"\",'入力シート(総体)'!K8))","v":""},{"$nulls":3},{"$f":"IF('入力シート(総体)'!$H8=\"\",\"\",IF('入力シート(総体)'!L8=\"\",\"\",IF('入力シート(総体)'!L8=\"電気\",0,1)))","v":""}]
[{"$f":"IF('入力シート(総体)'!$H9=\"\",\"\",大会コード)","v":""},{"$f":"IF('入力シート(総体)'!$H9=\"\",\"\",IF('入力シート(総体)'!$B9=\"男\",0,1))","v":""},{"$f":"IF('入力シート(総体)'!$H9=\"\",\"\",'入力シート(総体)'!C9)","v":""},{"$f":"IF('入力シート(総体)'!$H9=\"\",\"\",TEXT('入力シート(総体)'!$E9,\"000\"))","v":""},{"$f":"IF('入力シート(総体)'!$H9=\"\",\"\",学校番号)","v":""},{"$f":"IF('入力シート(総体)'!$H9=\"\",\"\",B9)","v":""},{"$f":"IF('入力シート(総体)'!$H9=\"\",\"\",TEXT('入力シート(総体)'!$H9,\"00\"))","v":""},null,null,{"$f":"IF('入力シート(総体)'!$H9=\"\",\"\",IF('入力シート(総体)'!K9=\"\",\"\",'入力シート(総体)'!K9))","v":""},{"$nulls":3},{"$f":"IF('入力シート(総体)'!$H9=\"\",\"\",IF('入力シート(総体)'!L9=\"\",\"\",IF('入力シート(総体)'!L9=\"電気\",0,1)))","v":""}]
[{"$f":"IF('入力シート(総体)'!$H16=\"\",\"\",大会コード)","v":""},{"$f":"IF('入力シート(総体)'!$H16=\"\",\"\",IF('入力シート(総体)'!$B16=\"男\",0,1))","v":""},{"$f":"IF('入力シート(総体)'!$H16=\"\",\"\",'入力シート(総体)'!C16)","v":""},{"$f":"IF('入力シート(総体)'!$H16=\"\",\"\",TEXT('入力シート(総体)'!$E16,\"000\"))","v":""},{"$f":"IF('入力シート(総体)'!$H16=\"\",\"\",学校番号)","v":""},{"$f":"IF('入力シート(総体)'!$H16=\"\",\"\",B10)","v":""},{"$f":"IF('入力シート(総体)'!$H16=\"\",\"\",TEXT('入力シート(総体)'!$H16,\"00\"))","v":""},null,null,{"$f":"IF('入力シート(総体)'!$H16=\"\",\"\",IF('入力シート(総体)'!K16=\"\",\"\",'入力シート(総体)'!K16))","v":""},{"$nulls":3},{"$f":"IF('入力シート(総体)'!$H16=\"\",\"\",IF('入力シート(総体)'!L16=\"\",\"\",IF('入力シート(総体)'!L16=\"電気\",0,1)))","v":""}]
[{"$f":"IF('入力シート(総体)'!$H17=\"\",\"\",大会コード)","v":""},{"$f":"IF('入力シート(総体)'!$H17=\"\",\"\",IF('入力シート(総体)'!$B17=\"男\",0,1))","v":""},{"$f":"IF('入力シート(総体)'!$H17=\"\",\"\",'入力シート(総体)'!C17)","v":""},{"$f":"IF('入力シート(総体)'!$H17=\"\",\"\",TEXT('入力シート(総体)'!$E17,\"000\"))","v":""},{"$f":"IF('入力シート(総体)'!$H17=\"\",\"\",学校番号)","v":""},{"$f":"IF('入力シート(総体)'!$H17=\"\",\"\",B11)","v":""},{"$f":"IF('入力シート(総体)'!$H17=\"\",\"\",TEXT('入力シート(総体)'!$H17,\"00\"))","v":""},null,null,{"$f":"IF('入力シート(総体)'!$H17=\"\",\"\",IF('入力シート(総体)'!K17=\"\",\"\",'入力シート(総体)'!K17))","v":""},{"$nulls":3},{"$f":"IF('入力シート(総体)'!$H17=\"\",\"\",IF('入力シート(総体)'!L17=\"\",\"\",IF('入力シート(総体)'!L17=\"電気\",0,1)))","v":""}]
[{"$f":"IF('入力シート(総体)'!$H18=\"\",\"\",大会コード)","v":""},{"$f":"IF('入力シート(総体)'!$H18=\"\",\"\",IF('入力シート(総体)'!$B18=\"男\",0,1))","v":""},{"$f":"IF('入力シート(総体)'!$H18=\"\",\"\",'入力シート(総体)'!C18)","v":""},{"$f":"IF('入力シート(総体)'!$H18=\"\",\"\",TEXT('入力シート(総体)'!$E18,\"000\"))","v":""},{"$f":"IF('入力シート(総体)'!$H18=\"\",\"\",学校番号)","v":""},{"$f":"IF('入力シート(総体)'!$H18=\"\",\"\",B12)","v":""},{"$f":"IF('入力シート(総体)'!$H18=\"\",\"\",TEXT('入力シート(総体)'!$H18,\"00\"))","v":""},null,null,{"$f":"IF('入力シート(総体)'!$H18=\"\",\"\",IF('入力シート(総体)'!K18=\"\",\"\",'入力シート(総体)'!K18))","v":""},{"$nulls":3},{"$f":"IF('入力シート(総体)'!$H18=\"\",\"\",IF('入力シート(総体)'!L18=\"\",\"\",IF('入力シート(総体)'!L18=\"電気\",0,1)))","v":""}]
[{"$f":"IF('入力シート(総体)'!$H19=\"\",\"\",大会コード)","v":""},{"$f":"IF('入力シート(総体)'!$H19=\"\",\"\",IF('入力シート(総体)'!$B19=\"男\",0,1))","v":""},{"$f":"IF('入力シート(総体)'!$H19=\"\",\"\",'入力シート(総体)'!C19)","v":""},{"$f":"IF('入力シート(総体)'!$H19=\"\",\"\",TEXT('入力シート(総体)'!$E19,\"000\"))","v":""},{"$f":"IF('入力シート(総体)'!$H19=\"\",\"\",学校番号)","v":""},{"$f":"IF('入力シート(総体)'!$H19=\"\",\"\",B13)","v":""},{"$f":"IF('入力シート(総体)'!$H19=\"\",\"\",TEXT('入力シート(総体)'!$H19,\"00\"))","v":""},null,null,{"$f":"IF('入力シート(総体)'!$H19=\"\",\"\",IF('入力シート(総体)'!K19=\"\",\"\",'入力シート(総体)'!K19))","v":""},{"$nulls":3},{"$f":"IF('入力シート(総体)'!$H19=\"\",\"\",IF('入力シート(総体)'!L19=\"\",\"\",IF('入力シート(総体)'!L19=\"電気\",0,1)))","v":""}]
[{"$f":"IF('入力シート(総体)'!$H20=\"\",\"\",大会コード)","v":""},{"$f":"IF('入力シート(総体)'!$H20=\"\",\"\",IF('入力シート(総体)'!$B20=\"男\",0,1))","v":""},{"$f":"IF('入力シート(総体)'!$H20=\"\",\"\",'入力シート(総体)'!C20)","v":""},{"$f":"IF('入力シート(総体)'!$H20=\"\",\"\",TEXT('入力シート(総体)'!$E20,\"000\"))","v":""},{"$f":"IF('入力シート(総体)'!$H20=\"\",\"\",学校番号)","v":""},{"$f":"IF('入力シート(総体)'!$H20=\"\",\"\",B14)","v":""},{"$f":"IF('入力シート(総体)'!$H20=\"\",\"\",TEXT('入力シート(総体)'!$H20,\"00\"))","v":""},null,null,{"$f":"IF('入力シート(総体)'!$H20=\"\",\"\",IF('入力シート(総体)'!K20=\"\",\"\",'入力シート(総体)'!K20))","v":""},{"$nulls":3},{"$f":"IF('入力シート(総体)'!$H20=\"\",\"\",IF('入力シート(総体)'!L20=\"\",\"\",IF('入力シート(総体)'!L20=\"電気\",0,1)))","v":""}]
[{"$f":"IF('入力シート(総体)'!$H21=\"\",\"\",大会コード)","v":""},{"$f":"IF('入力シート(総体)'!$H21=\"\",\"\",IF('入力シート(総体)'!$B21=\"男\",0,1))","v":""},{"$f":"IF('入力シート(総体)'!$H21=\"\",\"\",'入力シート(総体)'!C21)","v":""},{"$f":"IF('入力シート(総体)'!$H21=\"\",\"\",TEXT('入力シート(総体)'!$E21,\"000\"))","v":""},{"$f":"IF('入力シート(総体)'!$H21=\"\",\"\",学校番号)","v":""},{"$f":"IF('入力シート(総体)'!$H21=\"\",\"\",B15)","v":""},{"$f":"IF('入力シート(総体)'!$H21=\"\",\"\",TEXT('入力シート(総体)'!$H21,\"00\"))","v":""},null,null,{"$f":"IF('入力シート(総体)'!$H21=\"\",\"\",IF('入力シート(総体)'!K21=\"\",\"\",'入力シート(総体)'!K21))","v":""},{"$nulls":3},{"$f":"IF('入力シート(総体)'!$H21=\"\",\"\",IF('入力シート(総体)'!L21=\"\",\"\",IF('入力シート(総体)'!L21=\"電気\",0,1)))","v":""}]
[{"$f":"IF('入力シート(総体)'!$H22=\"\",\"\",大会コード)","v":""},{"$f":"IF('入力シート(総体)'!$H22=\"\",\"\",IF('入力シート(総体)'!$B22=\"男\",0,1))","v":""},{"$f":"IF('入力シート(総体)'!$H22=\"\",\"\",'入力シート(総体)'!C22)","v":""},{"$f":"IF('入力シート(総体)'!$H22=\"\",\"\",TEXT('入力シート(総体)'!$E22,\"000\"))","v":""},{"$f":"IF('入力シート(総体)'!$H22=\"\",\"\",学校番号)","v":""},{"$f":"IF('入力シート(総体)'!$H22=\"\",\"\",B16)","v":""},{"$f":"IF('入力シート(総体)'!$H22=\"\",\"\",TEXT('入力シート(総体)'!$H22,\"00\"))","v":""},null,null,{"$f":"IF('入力シート(総体)'!$H22=\"\",\"\",IF('入力シート(総体)'!K22=\"\",\"\",'入力シート(総体)'!K22))","v":""},{"$nulls":3},{"$f":"IF('入力シート(総体)'!$H22=\"\",\"\",IF('入力シート(総体)'!L22=\"\",\"\",IF('入力シート(総体)'!L22=\"電気\",0,1)))","v":""}]
[{"$f":"IF('入力シート(総体)'!$H23=\"\",\"\",大会コード)","v":""},{"$f":"IF('入力シート(総体)'!$H23=\"\",\"\",IF('入力シート(総体)'!$B23=\"男\",0,1))","v":""},{"$f":"IF('入力シート(総体)'!$H23=\"\",\"\",'入力シート(総体)'!C23)","v":""},{"$f":"IF('入力シート(総体)'!$H23=\"\",\"\",TEXT('入力シート(総体)'!$E23,\"000\"))","v":""},{"$f":"IF('入力シート(総体)'!$H23=\"\",\"\",学校番号)","v":""},{"$f":"IF('入力シート(総体)'!$H23=\"\",\"\",B17)","v":""},{"$f":"IF('入力シート(総体)'!$H23=\"\",\"\",TEXT('入力シート(総体)'!$H23,\"00\"))","v":""},null,null,{"$f":"IF('入力シート(総体)'!$H23=\"\",\"\",IF('入力シート(総体)'!K23=\"\",\"\",'入力シート(総体)'!K23))","v":""},{"$nulls":3},{"$f":"IF('入力シート(総体)'!$H23=\"\",\"\",IF('入力シート(総体)'!L23=\"\",\"\",IF('入力シート(総体)'!L23=\"電気\",0,1)))","v":""}]
[{"$f":"IF('入力シート(総体)'!$H24=\"\",\"\",大会コード)","v":""},{"$f":"IF('入力シート(総体)'!$H24=\"\",\"\",IF('入力シート(総体)'!$B24=\"男\",0,1))","v":""},{"$f":"IF('入力シート(総体)'!$H24=\"\",\"\",'入力シート(総体)'!C24)","v":""},{"$f":"IF('入力シート(総体)'!$H24=\"\",\"\",TEXT('入力シート(総体)'!$E24,\"000\"))","v":""},{"$f":"IF('入力シート(総体)'!$H24=\"\",\"\",学校番号)","v":""},{"$f":"IF('入力シート(総体)'!$H24=\"\",\"\",B18)","v":""},{"$f":"IF('入力シート(総体)'!$H24=\"\",\"\",TEXT('入力シート(総体)'!$H24,\"00\"))","v":""},null,null,{"$f":"IF('入力シート(総体)'!$H24=\"\",\"\",IF('入力シート(総体)'!K24=\"\",\"\",'入力シート(総体)'!K24))","v":""},{"$nulls":3},{"$f":"IF('入力シート(総体)'!$H24=\"\",\"\",IF('入力シート(総体)'!L24=\"\",\"\",IF('入力シート(総体)'!L24=\"電気\",0,1)))","v":""}]
[{"$f":"IF('入力シート(総体)'!$H25=\"\",\"\",大会コード)","v":""},{"$f":"IF('入力シート(総体)'!$H25=\"\",\"\",IF('入力シート(総体)'!$B25=\"男\",0,1))","v":""},{"$f":"IF('入力シート(総体)'!$H25=\"\",\"\",'入力シート(総体)'!C25)","v":""},{"$f":"IF('入力シート(総体)'!$H25=\"\",\"\",TEXT('入力シート(総体)'!$E25,\"000\"))","v":""},{"$f":"IF('入力シート(総体)'!$H25=\"\",\"\",学校番号)","v":""},{"$f":"IF('入力シート(総体)'!$H25=\"\",\"\",B19)","v":""},{"$f":"IF('入力シート(総体)'!$H25=\"\",\"\",TEXT('入力シート(総体)'!$H25,\"00\"))","v":""},null,null,{"$f":"IF('入力シート(総体)'!$H25=\"\",\"\",IF('入力シート(総体)'!K25=\"\",\"\",'入力シート(総体)'!K25))","v":""},{"$nulls":3},{"$f":"IF('入力シート(総体)'!$H25=\"\",\"\",IF('入力シート(総体)'!L25=\"\",\"\",IF('入力シート(総体)'!L25=\"電気\",0,1)))","v":""}]
[{"$f":"IF('入力シート(総体)'!$H26=\"\",\"\",大会コード)","v":""},{"$f":"IF('入力シート(総体)'!$H26=\"\",\"\",IF('入力シート(総体)'!$B26=\"男\",0,1))","v":""},{"$f":"IF('入力シート(総体)'!$H26=\"\",\"\",'入力シート(総体)'!C26)","v":""},{"$f":"IF('入力シート(総体)'!$H26=\"\",\"\",TEXT('入力シート(総体)'!$E26,\"000\"))","v":""},{"$f":"IF('入力シート(総体)'!$H26=\"\",\"\",学校番号)","v":""},{"$f":"IF('入力シート(総体)'!$H26=\"\",\"\",B20)","v":""},{"$f":"IF('入力シート(総体)'!$H26=\"\",\"\",TEXT('入力シート(総体)'!$H26,\"00\"))","v":""},null,null,{"$f":"IF('入力シート(総体)'!$H26=\"\",\"\",IF('入力シート(総体)'!K26=\"\",\"\",'入力シート(総体)'!K26))","v":""},{"$nulls":3},{"$f":"IF('入力シート(総体)'!$H26=\"\",\"\",IF('入力シート(総体)'!L26=\"\",\"\",IF('入力シート(総体)'!L26=\"電気\",0,1)))","v":""}]
[{"$f":"IF('入力シート(総体)'!$H27=\"\",\"\",大会コード)","v":""},{"$f":"IF('入力シート(総体)'!$H27=\"\",\"\",IF('入力シート(総体)'!$B27=\"男\",0,1))","v":""},{"$f":"IF('入力シート(総体)'!$H27=\"\",\"\",'入力シート(総体)'!C27)","v":""},{"$f":"IF('入力シート(総体)'!$H27=\"\",\"\",TEXT('入力シート(総体)'!$E27,\"000\"))","v":""},{"$f":"IF('入力シート(総体)'!$H27=\"\",\"\",学校番号)","v":""},{"$f":"IF('入力シート(総体)'!$H27=\"\",\"\",B21)","v":""},{"$f":"IF('入力シート(総体)'!$H27=\"\",\"\",TEXT('入力シート(総体)'!$H27,\"00\"))","v":""},null,null,{"$f":"IF('入力シート(総体)'!$H27=\"\",\"\",IF('入力シート(総体)'!K27=\"\",\"\",'入力シート(総体)'!K27))","v":""},{"$nulls":3},{"$f":"IF('入力シート(総体)'!$H27=\"\",\"\",IF('入力シート(総体)'!L27=\"\",\"\",IF('入力シート(総体)'!L27=\"電気\",0,1)))","v":""}]
[{"$f":"IF('入力シート(総体)'!$H34=\"\",\"\",大会コード)","v":""},{"$f":"IF('入力シート(総体)'!$H34=\"\",\"\",IF('入力シート(総体)'!$B34=\"男\",0,1))","v":""},{"$f":"IF('入力シート(総体)'!$H34=\"\",\"\",'入力シート(総体)'!C34)","v":""},{"$f":"IF('入力シート(総体)'!$H34=\"\",\"\",TEXT('入力シート(総体)'!$E34,\"000\"))","v":""},{"$f":"IF('入力シート(総体)'!$H34=\"\",\"\",学校番号)","v":""},{"$f":"IF('入力シート(総体)'!$H34=\"\",\"\",B22)","v":""},{"$f":"IF('入力シート(総体)'!$H34=\"\",\"\",TEXT('入力シート(総体)'!$H34,\"00\"))","v":""},null,null,{"$f":"IF('入力シート(総体)'!$H34=\"\",\"\",IF('入力シート(総体)'!K34=\"\",\"\",'入力シート(総体)'!K34))","v":""},{"$nulls":3},{"$f":"IF('入力シート(総体)'!$H34=\"\",\"\",IF('入力シート(総体)'!L34=\"\",\"\",IF('入力シート(総体)'!L34=\"電気\",0,1)))","v":""}]
[{"$f":"IF('入力シート(総体)'!$H35=\"\",\"\",大会コード)","v":""},{"$f":"IF('入力シート(総体)'!$H35=\"\",\"\",IF('入力シート(総体)'!$B35=\"男\",0,1))","v":""},{"$f":"IF('入力シート(総体)'!$H35=\"\",\"\",'入力シート(総体)'!C35)","v":""},{"$f":"IF('入力シート(総体)'!$H35=\"\",\"\",TEXT('入力シート(総体)'!$E35,\"000\"))","v":""},{"$f":"IF('入力シート(総体)'!$H35=\"\",\"\",学校番号)","v":""},{"$f":"IF('入力シート(総体)'!$H35=\"\",\"\",B23)","v":""},{"$f":"IF('入力シート(総体)'!$H35=\"\",\"\",TEXT('入力シート(総体)'!$H35,\"00\"))","v":""},null,null,{"$f":"IF('入力シート(総体)'!$H35=\"\",\"\",IF('入力シート(総体)'!K35=\"\",\"\",'入力シート(総体)'!K35))","v":""},{"$nulls":3},{"$f":"IF('入力シート(総体)'!$H35=\"\",\"\",IF('入力シート(総体)'!L35=\"\",\"\",IF('入力シート(総体)'!L35=\"電気\",0,1)))","v":""}]
[{"$f":"IF('入力シート(総体)'!$H36=\"\",\"\",大会コード)","v":""},{"$f":"IF('入力シート(総体)'!$H36=\"\",\"\",IF('入力シート(総体)'!$B36=\"男\",0,1))","v":""},{"$f":"IF('入力シート(総体)'!$H36=\"\",\"\",'入力シート(総体)'!C36)","v":""},{"$f":"IF('入力シート(総体)'!$H36=\"\",\"\",TEXT('入力シート(総体)'!$E36,\"000\"))","v":""},{"$f":"IF('入力シート(総体)'!$H36=\"\",\"\",学校番号)","v":""},{"$f":"IF('入力シート(総体)'!$H36=\"\",\"\",B24)","v":""},{"$f":"IF('入力シート(総体)'!$H36=\"\",\"\",TEXT('入力シート(総体)'!$H36,\"00\"))","v":""},null,null,{"$f":"IF('入力シート(総体)'!$H36=\"\",\"\",IF('入力シート(総体)'!K36=\"\",\"\",'入力シート(総体)'!K36))","v":""},{"$nulls":3},{"$f":"IF('入力シート(総体)'!$H36=\"\",\"\",IF('入力シート(総体)'!L36=\"\",\"\",IF('入力シート(総体)'!L36=\"電気\",0,1)))","v":""}]
[{"$f":"IF('入力シート(総体)'!$H37=\"\",\"\",大会コード)","v":""},{"$f":"IF('入力シート(総体)'!$H37=\"\",\"\",IF('入力シート(総体)'!$B37=\"男\",0,1))","v":""},{"$f":"IF('入力シート(総体)'!$H37=\"\",\"\",'入力シート(総体)'!C37)","v":""},{"$f":"IF('入力シート(総体)'!$H37=\"\",\"\",TEXT('入力シート(総体)'!$E37,\"000\"))","v":""},{"$f":"IF('入力シート(総体)'!$H37=\"\",\"\",学校番号)","v":""},{"$f":"IF('入力シート(総体)'!$H37=\"\",\"\",B25)","v":""},{"$f":"IF('入力シート(総体)'!$H37=\"\",\"\",TEXT('入力シート(総体)'!$H37,\"00\"))","v":""},null,null,{"$f":"IF('入力シート(総体)'!$H37=\"\",\"\",IF('入力シート(総体)'!K37=\"\",\"\",'入力シート(総体)'!K37))","v":""},{"$nulls":3},{"$f":"IF('入力シート(総体)'!$H37=\"\",\"\",IF('入力シート(総体)'!L37=\"\",\"\",IF('入力シート(総体)'!L37=\"電気\",0,1)))","v":""}]
[{"$f":"IF('入力シート(総体)'!$H38=\"\",\"\",大会コード)","v":""},{"$f":"IF('入力シート(総体)'!$H38=\"\",\"\",IF('入力シート(総体)'!$B38=\"男\",0,1))","v":""},{"$f":"IF('入力シート(総体)'!$H38=\"\",\"\",'入力シート(総体)'!C38)","v":""},{"$f":"IF('入力シート(総体)'!$H38=\"\",\"\",TEXT('入力シート(総体)'!$E38,\"000\"))","v":""},{"$f":"IF('入力シート(総体)'!$H38=\"\",\"\",学校番号)","v":""},{"$f":"IF('入力シート(総体)'!$H38=\"\",\"\",B26)","v":""},{"$f":"IF('入力シート(総体)'!$H38=\"\",\"\",TEXT('入力シート(総体)'!$H38,\"00\"))","v":""},null,null,{"$f":"IF('入力シート(総体)'!$H38=\"\",\"\",IF('入力シート(総体)'!K38=\"\",\"\",'入力シート(総体)'!K38))","v":""},{"$nulls":3},{"$f":"IF('入力シート(総体)'!$H38=\"\",\"\",IF('入力シート(総体)'!L38=\"\",\"\",IF('入力シート(総体)'!L38=\"電気\",0,1)))","v":""}]
[{"$f":"IF('入力シート(総体)'!$H39=\"\",\"\",大会コード)","v":""},{"$f":"IF('入力シート(総体)'!$H39=\"\",\"\",IF('入力シート(総体)'!$B39=\"男\",0,1))","v":""},{"$f":"IF('入力シート(総体)'!$H39=\"\",\"\",'入力シート(総体)'!C39)","v":""},{"$f":"IF('入力シート(総体)'!$H39=\"\",\"\",TEXT('入力シート(総体)'!$E39,\"000\"))","v":""},{"$f":"IF('入力シート(総体)'!$H39=\"\",\"\",学校番号)","v":""},{"$f":"IF('入力シート(総体)'!$H39=\"\",\"\",B27)","v":""},{"$f":"IF('入力シート(総体)'!$H39=\"\",\"\",TEXT('入力シート(総体)'!$H39,\"00\"))","v":""},null,null,{"$f":"IF('入力シート(総体)'!$H39=\"\",\"\",IF('入力シート(総体)'!K39=\"\",\"\",'入力シート(総体)'!K39))","v":""},{"$nulls":3},{"$f":"IF('入力シート(総体)'!$H39=\"\",\"\",IF('入力シート(総体)'!L39=\"\",\"\",IF('入力シート(総体)'!L39=\"電気\",0,1)))","v":""}]
[{"$f":"IF('入力シート(総体)'!$H40=\"\",\"\",大会コード)","v":""},{"$f":"IF('入力シート(総体)'!$H40=\"\",\"\",IF('入力シート(総体)'!$B40=\"男\",0,1))","v":""},{"$f":"IF('入力シート(総体)'!$H40=\"\",\"\",'入力シート(総体)'!C40)","v":""},{"$f":"IF('入力シート(総体)'!$H40=\"\",\"\",TEXT('入力シート(総体)'!$E40,\"000\"))","v":""},{"$f":"IF('入力シート(総体)'!$H40=\"\",\"\",学校番号)","v":""},{"$f":"IF('入力シート(総体)'!$H40=\"\",\"\",B28)","v":""},{"$f":"IF('入力シート(総体)'!$H40=\"\",\"\",TEXT('入力シート(総体)'!$H40,\"00\"))","v":""},null,null,{"$f":"IF('入力シート(総体)'!$H40=\"\",\"\",IF('入力シート(総体)'!K40=\"\",\"\",'入力シート(総体)'!K40))","v":""},{"$nulls":3},{"$f":"IF('入力シート(総体)'!$H40=\"\",\"\",IF('入力シート(総体)'!L40=\"\",\"\",IF('入力シート(総体)'!L40=\"電気\",0,1)))","v":""}]
[{"$f":"IF('入力シート(総体)'!$H41=\"\",\"\",大会コード)","v":""},{"$f":"IF('入力シート(総体)'!$H41=\"\",\"\",IF('入力シート(総体)'!$B41=\"男\",0,1))","v":""},{"$f":"IF('入力シート(総体)'!$H41=\"\",\"\",'入力シート(総体)'!C41)","v":""},{"$f":"IF('入力シート(総体)'!$H41=\"\",\"\",TEXT('入力シート(総体)'!$E41,\"000\"))","v":""},{"$f":"IF('入力シート(総体)'!$H41=\"\",\"\",学校番号)","v":""},{"$f":"IF('入力シート(総体)'!$H41=\"\",\"\",B29)","v":""},{"$f":"IF('入力シート(総体)'!$H41=\"\",\"\",TEXT('入力シート(総体)'!$H41,\"00\"))","v":""},null,null,{"$f":"IF('入力シート(総体)'!$H41=\"\",\"\",IF('入力シート(総体)'!K41=\"\",\"\",'入力シート(総体)'!K41))","v":""},{"$nulls":3},{"$f":"IF('入力シート(総体)'!$H41=\"\",\"\",IF('入力シート(総体)'!L41=\"\",\"\",IF('入力シート(総体)'!L41=\"電気\",0,1)))","v":""}]
[{"$f":"IF('入力シート(総体)'!$H42=\"\",\"\",大会コード)","v":""},{"$f":"IF('入力シート(総体)'!$H42=\"\",\"\",IF('入力シート(総体)'!$B42=\"男\",0,1))","v":""},{"$f":"IF('入力シート(総体)'!$H42=\"\",\"\",'入力シート(総体)'!C42)","v":""},{"$f":"IF('入力シート(総体)'!$H42=\"\",\"\",TEXT('入力シート(総体)'!$E42,\"000\"))","v":""},{"$f":"IF('入力シート(総体)'!$H42=\"\",\"\",学校番号)","v":""},{"$f":"IF('入力シート(総体)'!$H42=\"\",\"\",B30)","v":""},{"$f":"IF('入力シート(総体)'!$H42=\"\",\"\",TEXT('入力シート(総体)'!$H42,\"00\"))","v":""},null,null,{"$f":"IF('入力シート(総体)'!$H42=\"\",\"\",IF('入力シート(総体)'!K42=\"\",\"\",'入力シート(総体)'!K42))","v":""},{"$nulls":3},{"$f":"IF('入力シート(総体)'!$H42=\"\",\"\",IF('入力シート(総体)'!L42=\"\",\"\",IF('入力シート(総体)'!L42=\"電気\",0,1)))","v":""}]
[{"$f":"IF('入力シート(総体)'!$H43=\"\",\"\",大会コード)","v":""},{"$f":"IF('入力シート(総体)'!$H43=\"\",\"\",IF('入力シート(総体)'!$B43=\"男\",0,1))","v":""},{"$f":"IF('入力シート(総体)'!$H43=\"\",\"\",'入力シート(総体)'!C43)","v":""},{"$f":"IF('入力シート(総体)'!$H43=\"\",\"\",TEXT('入力シート(総体)'!$E43,\"000\"))","v":""},{"$f":"IF('入力シート(総体)'!$H43=\"\",\"\",学校番号)","v":""},{"$f":"IF('入力シート(総体)'!$H43=\"\",\"\",B31)","v":""},{"$f":"IF('入力シート(総体)'!$H43=\"\",\"\",TEXT('入力シート(総体)'!$H43,\"00\"))","v":""},null,null,{"$f":"IF('入力シート(総体)'!$H43=\"\",\"\",IF('入力シート(総体)'!K43=\"\",\"\",'入力シート(総体)'!K43))","v":""},{"$nulls":3},{"$f":"IF('入力シート(総体)'!$H43=\"\",\"\",IF('入力シート(総体)'!L43=\"\",\"\",IF('入力シート(総体)'!L43=\"電気\",0,1)))","v":""}]
[{"$f":"IF('入力シート(総体)'!$H44=\"\",\"\",大会コード)","v":""},{"$f":"IF('入力シート(総体)'!$H44=\"\",\"\",IF('入力シート(総体)'!$B44=\"男\",0,1))","v":""},{"$f":"IF('入力シート(総体)'!$H44=\"\",\"\",'入力シート(総体)'!C44)","v":""},{"$f":"IF('入力シート(総体)'!$H44=\"\",\"\",TEXT('入力シート(総体)'!$E44,\"000\"))","v":""},{"$f":"IF('入力シート(総体)'!$H44=\"\",\"\",学校番号)","v":""},{"$f":"IF('入力シート(総体)'!$H44=\"\",\"\",B32)","v":""},{"$f":"IF('入力シート(総体)'!$H44=\"\",\"\",TEXT('入力シート(総体)'!$H44,\"00\"))","v":""},null,null,{"$f":"IF('入力シート(総体)'!$H44=\"\",\"\",IF('入力シート(総体)'!K44=\"\",\"\",'入力シート(総体)'!K44))","v":""},{"$nulls":3},{"$f":"IF('入力シート(総体)'!$H44=\"\",\"\",IF('入力シート(総体)'!L44=\"\",\"\",IF('入力シート(総体)'!L44=\"電気\",0,1)))","v":""}]
[{"$f":"IF('入力シート(総体)'!$H45=\"\",\"\",大会コード)","v":""},{"$f":"IF('入力シート(総体)'!$H45=\"\",\"\",IF('入力シート(総体)'!$B45=\"男\",0,1))","v":""},{"$f":"IF('入力シート(総体)'!$H45=\"\",\"\",'入力シート(総体)'!C45)","v":""},{"$f":"IF('入力シート(総体)'!$H45=\"\",\"\",TEXT('入力シート(総体)'!$E45,\"000\"))","v":""},{"$f":"IF('入力シート(総体)'!$H45=\"\",\"\",学校番号)","v":""},{"$f":"IF('入力シート(総体)'!$H45=\"\",\"\",B33)","v":""},{"$f":"IF('入力シート(総体)'!$H45=\"\",\"\",TEXT('入力シート(総体)'!$H45,\"00\"))","v":""},null,null,{"$f":"IF('入力シート(総体)'!$H45=\"\",\"\",IF('入力シート(総体)'!K45=\"\",\"\",'入力シート(総体)'!K45))","v":""},{"$nulls":3},{"$f":"IF('入力シート(総体)'!$H45=\"\",\"\",IF('入力シート(総体)'!L45=\"\",\"\",IF('入力シート(総体)'!L45=\"電気\",0,1)))","v":""}]
[{"$f":"IF('入力シート(総体)'!$H56=\"\",\"\",大会コード)","v":""},{"$f":"IF('入力シート(総体)'!$H56=\"\",\"\",IF('入力シート(総体)'!$B56=\"男\",0,1))","v":""},{"$f":"IF('入力シート(総体)'!$H56=\"\",\"\",'入力シート(総体)'!C56)","v":""},{"$f":"IF('入力シート(総体)'!$H56=\"\",\"\",TEXT('入力シート(総体)'!$E56,\"000\"))","v":""},{"$f":"IF('入力シート(総体)'!$H56=\"\",\"\",学校番号)","v":""},{"$f":"IF('入力シート(総体)'!$H56=\"\",\"\",B34)","v":""},{"$f":"IF('入力シート(総体)'!$H56=\"\",\"\",TEXT('入力シート(総体)'!$H56,\"00\"))","v":""},null,null,{"$f":"IF('入力シート(総体)'!$H56=\"\",\"\",IF('入力シート(総体)'!K56=\"\",\"\",'入力シート(総体)'!K56))","v":""},{"$nulls":3},{"$f":"IF('入力シート(総体)'!$H56=\"\",\"\",IF('入力シート(総体)'!L56=\"\",\"\",IF('入力シート(総体)'!L56=\"電気\",0,1)))","v":""}]
[{"$f":"IF('入力シート(総体)'!$H57=\"\",\"\",大会コード)","v":""},{"$f":"IF('入力シート(総体)'!$H57=\"\",\"\",IF('入力シート(総体)'!$B57=\"男\",0,1))","v":""},{"$f":"IF('入力シート(総体)'!$H57=\"\",\"\",'入力シート(総体)'!C57)","v":""},{"$f":"IF('入力シート(総体)'!$H57=\"\",\"\",TEXT('入力シート(総体)'!$E57,\"000\"))","v":""},{"$f":"IF('入力シート(総体)'!$H57=\"\",\"\",学校番号)","v":""},{"$f":"IF('入力シート(総体)'!$H57=\"\",\"\",B35)","v":""},{"$f":"IF('入力シート(総体)'!$H57=\"\",\"\",TEXT('入力シート(総体)'!$H57,\"00\"))","v":""},null,null,{"$f":"IF('入力シート(総体)'!$H57=\"\",\"\",IF('入力シート(総体)'!K57=\"\",\"\",'入力シート(総体)'!K57))","v":""},{"$nulls":3},{"$f":"IF('入力シート(総体)'!$H57=\"\",\"\",IF('入力シート(総体)'!L57=\"\",\"\",IF('入力シート(総体)'!L57=\"電気\",0,1)))","v":""}]
[{"$f":"IF('入力シート(総体)'!$H58=\"\",\"\",大会コード)","v":""},{"$f":"IF('入力シート(総体)'!$H58=\"\",\"\",IF('入力シート(総体)'!$B58=\"男\",0,1))","v":""},{"$f":"IF('入力シート(総体)'!$H58=\"\",\"\",'入力シート(総体)'!C58)","v":""},{"$f":"IF('入力シート(総体)'!$H58=\"\",\"\",TEXT('入力シート(総体)'!$E58,\"000\"))","v":""},{"$f":"IF('入力シート(総体)'!$H58=\"\",\"\",学校番号)","v":""},{"$f":"IF('入力シート(総体)'!$H58=\"\",\"\",B36)","v":""},{"$f":"IF('入力シート(総体)'!$H58=\"\",\"\",TEXT('入力シート(総体)'!$H58,\"00\"))","v":""},null,null,{"$f":"IF('入力シート(総体)'!$H58=\"\",\"\",IF('入力シート(総体)'!K58=\"\",\"\",'入力シート(総体)'!K58))","v":""},{"$nulls":3},{"$f":"IF('入力シート(総体)'!$H58=\"\",\"\",IF('入力シート(総体)'!L58=\"\",\"\",IF('入力シート(総体)'!L58=\"電気\",0,1)))","v":""}]
[{"$f":"IF('入力シート(総体)'!$H59=\"\",\"\",大会コード)","v":""},{"$f":"IF('入力シート(総体)'!$H59=\"\",\"\",IF('入力シート(総体)'!$B59=\"男\",0,1))","v":""},{"$f":"IF('入力シート(総体)'!$H59=\"\",\"\",'入力シート(総体)'!C59)","v":""},{"$f":"IF('入力シート(総体)'!$H59=\"\",\"\",TEXT('入力シート(総体)'!$E59,\"000\"))","v":""},{"$f":"IF('入力シート(総体)'!$H59=\"\",\"\",学校番号)","v":""},{"$f":"IF('入力シート(総体)'!$H59=\"\",\"\",B37)","v":""},{"$f":"IF('入力シート(総体)'!$H59=\"\",\"\",TEXT('入力シート(総体)'!$H59,\"00\"))","v":""},null,null,{"$f":"IF('入力シート(総体)'!$H59=\"\",\"\",IF('入力シート(総体)'!K59=\"\",\"\",'入力シート(総体)'!K59))","v":""},{"$nulls":3},{"$f":"IF('入力シート(総体)'!$H59=\"\",\"\",IF('入力シート(総体)'!L59=\"\",\"\",IF('入力シート(総体)'!L59=\"電気\",0,1)))","v":""}]
[{"$f":"IF('入力シート(総体)'!$H60=\"\",\"\",大会コード)","v":""},{"$f":"IF('入力シート(総体)'!$H60=\"\",\"\",IF('入力シート(総体)'!$B60=\"男\",0,1))","v":""},{"$f":"IF('入力シート(総体)'!$H60=\"\",\"\",'入力シート(総体)'!C60)","v":""},{"$f":"IF('入力シート(総体)'!$H60=\"\",\"\",TEXT('入力シート(総体)'!$E60,\"000\"))","v":""},{"$f":"IF('入力シート(総体)'!$H60=\"\",\"\",学校番号)","v":""},{"$f":"IF('入力シート(総体)'!$H60=\"\",\"\",B38)","v":""},{"$f":"IF('入力シート(総体)'!$H60=\"\",\"\",TEXT('入力シート(総体)'!$H60,\"00\"))","v":""},null,null,{"$f":"IF('入力シート(総体)'!$H60=\"\",\"\",IF('入力シート(総体)'!K60=\"\",\"\",'入力シート(総体)'!K60))","v":""},{"$nulls":3},{"$f":"IF('入力シート(総体)'!$H60=\"\",\"\",IF('入力シート(総体)'!L60=\"\",\"\",IF('入力シート(総体)'!L60=\"電気\",0,1)))","v":""}]
[{"$f":"IF('入力シート(総体)'!$H61=\"\",\"\",大会コード)","v":""},{"$f":"IF('入力シート(総体)'!$H61=\"\",\"\",IF('入力シート(総体)'!$B61=\"男\",0,1))","v":""},{"$f":"IF('入力シート(総体)'!$H61=\"\",\"\",'入力シート(総体)'!C61)","v":""},{"$f":"IF('入力シート(総体)'!$H61=\"\",\"\",TEXT('入力シート(総体)'!$E61,\"000\"))","v":""},{"$f":"IF('入力シート(総体)'!$H61=\"\",\"\",学校番号)","v":""},{"$f":"IF('入力シート(総体)'!$H61=\"\",\"\",B39)","v":""},{"$f":"IF('入力シート(総体)'!$H61=\"\",\"\",TEXT('入力シート(総体)'!$H61,\"00\"))","v":""},null,null,{"$f":"IF('入力シート(総体)'!$H61=\"\",\"\",IF('入力シート(総体)'!K61=\"\",\"\",'入力シート(総体)'!K61))","v":""},{"$nulls":3},{"$f":"IF('入力シート(総体)'!$H61=\"\",\"\",IF('入力シート(総体)'!L61=\"\",\"\",IF('入力シート(総体)'!L61=\"電気\",0,1)))","v":""}]
[{"$f":"IF('入力シート(総体)'!$H68=\"\",\"\",大会コード)","v":""},{"$f":"IF('入力シート(総体)'!$H68=\"\",\"\",IF('入力シート(総体)'!$B68=\"男\",0,1))","v":""},{"$f":"IF('入力シート(総体)'!$H68=\"\",\"\",'入力シート(総体)'!C68)","v":""},{"$f":"IF('入力シート(総体)'!$H68=\"\",\"\",TEXT('入力シート(総体)'!$E68,\"000\"))","v":""},{"$f":"IF('入力シート(総体)'!$H68=\"\",\"\",学校番号)","v":""},{"$f":"IF('入力シート(総体)'!$H68=\"\",\"\",B40)","v":""},{"$f":"IF('入力シート(総体)'!$H68=\"\",\"\",TEXT('入力シート(総体)'!$H68,\"00\"))","v":""},null,null,{"$f":"IF('入力シート(総体)'!$H68=\"\",\"\",IF('入力シート(総体)'!K68=\"\",\"\",'入力シート(総体)'!K68))","v":""},{"$nulls":3},{"$f":"IF('入力シート(総体)'!$H68=\"\",\"\",IF('入力シート(総体)'!L68=\"\",\"\",IF('入力シート(総体)'!L68=\"電気\",0,1)))","v":""}]
[{"$f":"IF('入力シート(総体)'!$H69=\"\",\"\",大会コード)","v":""},{"$f":"IF('入力シート(総体)'!$H69=\"\",\"\",IF('入力シート(総体)'!$B69=\"男\",0,1))","v":""},{"$f":"IF('入力シート(総体)'!$H69=\"\",\"\",'入力シート(総体)'!C69)","v":""},{"$f":"IF('入力シート(総体)'!$H69=\"\",\"\",TEXT('入力シート(総体)'!$E69,\"000\"))","v":""},{"$f":"IF('入力シート(総体)'!$H69=\"\",\"\",学校番号)","v":""},{"$f":"IF('入力シート(総体)'!$H69=\"\",\"\",B41)","v":""},{"$f":"IF('入力シート(総体)'!$H69=\"\",\"\",TEXT('入力シート(総体)'!$H69,\"00\"))","v":""},null,null,{"$f":"IF('入力シート(総体)'!$H69=\"\",\"\",IF('入力シート(総体)'!K69=\"\",\"\",'入力シート(総体)'!K69))","v":""},{"$nulls":3},{"$f":"IF('入力シート(総体)'!$H69=\"\",\"\",IF('入力シート(総体)'!L69=\"\",\"\",IF('入力シート(総体)'!L69=\"電気\",0,1)))","v":""}]
[{"$f":"IF('入力シート(総体)'!$H70=\"\",\"\",大会コード)","v":""},{"$f":"IF('入力シート(総体)'!$H70=\"\",\"\",IF('入力シート(総体)'!$B70=\"男\",0,1))","v":""},{"$f":"IF('入力シート(総体)'!$H70=\"\",\"\",'入力シート(総体)'!C70)","v":""},{"$f":"IF('入力シート(総体)'!$H70=\"\",\"\",TEXT('入力シート(総体)'!$E70,\"000\"))","v":""},{"$f":"IF('入力シート(総体)'!$H70=\"\",\"\",学校番号)","v":""},{"$f":"IF('入力シート(総体)'!$H70=\"\",\"\",B42)","v":""},{"$f":"IF('入力シート(総体)'!$H70=\"\",\"\",TEXT('入力シート(総体)'!$H70,\"00\"))","v":""},null,null,{"$f":"IF('入力シート(総体)'!$H70=\"\",\"\",IF('入力シート(総体)'!K70=\"\",\"\",'入力シート(総体)'!K70))","v":""},{"$nulls":3},{"$f":"IF('入力シート(総体)'!$H70=\"\",\"\",IF('入力シート(総体)'!L70=\"\",\"\",IF('入力シート(総体)'!L70=\"電気\",0,1)))","v":""}]
[{"$f":"IF('入力シート(総体)'!$H71=\"\",\"\",大会コード)","v":""},{"$f":"IF('入力シート(総体)'!$H71=\"\",\"\",IF('入力シート(総体)'!$B71=\"男\",0,1))","v":""},{"$f":"IF('入力シート(総体)'!$H71=\"\",\"\",'入力シート(総体)'!C71)","v":""},{"$f":"IF('入力シート(総体)'!$H71=\"\",\"\",TEXT('入力シート(総体)'!$E71,\"000\"))","v":""},{"$f":"IF('入力シート(総体)'!$H71=\"\",\"\",学校番号)","v":""},{"$f":"IF('入力シート(総体)'!$H71=\"\",\"\",B43)","v":""},{"$f":"IF('入力シート(総体)'!$H71=\"\",\"\",TEXT('入力シート(総体)'!$H71,\"00\"))","v":""},null,null,{"$f":"IF('入力シート(総体)'!$H71=\"\",\"\",IF('入力シート(総体)'!K71=\"\",\"\",'入力シート(総体)'!K71))","v":""},{"$nulls":3},{"$f":"IF('入力シート(総体)'!$H71=\"\",\"\",IF('入力シート(総体)'!L71=\"\",\"\",IF('入力シート(総体)'!L71=\"電気\",0,1)))","v":""}]
[{"$f":"IF('入力シート(総体)'!$H72=\"\",\"\",大会コード)","v":""},{"$f":"IF('入力シート(総体)'!$H72=\"\",\"\",IF('入力シート(総体)'!$B72=\"男\",0,1))","v":""},{"$f":"IF('入力シート(総体)'!$H72=\"\",\"\",'入力シート(総体)'!C72)","v":""},{"$f":"IF('入力シート(総体)'!$H72=\"\",\"\",TEXT('入力シート(総体)'!$E72,\"000\"))","v":""},{"$f":"IF('入力シート(総体)'!$H72=\"\",\"\",学校番号)","v":""},{"$f":"IF('入力シート(総体)'!$H72=\"\",\"\",B44)","v":""},{"$f":"IF('入力シート(総体)'!$H72=\"\",\"\",TEXT('入力シート(総体)'!$H72,\"00\"))","v":""},null,null,{"$f":"IF('入力シート(総体)'!$H72=\"\",\"\",IF('入力シート(総体)'!K72=\"\",\"\",'入力シート(総体)'!K72))","v":""},{"$nulls":3},{"$f":"IF('入力シート(総体)'!$H72=\"\",\"\",IF('入力シート(総体)'!L72=\"\",\"\",IF('入力シート(総体)'!L72=\"電気\",0,1)))","v":""}]
[{"$f":"IF('入力シート(総体)'!$H73=\"\",\"\",大会コード)","v":""},{"$f":"IF('入力シート(総体)'!$H73=\"\",\"\",IF('入力シート(総体)'!$B73=\"男\",0,1))","v":""},{"$f":"IF('入力シート(総体)'!$H73=\"\",\"\",'入力シート(総体)'!C73)","v":""},{"$f":"IF('入力シート(総体)'!$H73=\"\",\"\",TEXT('入力シート(総体)'!$E73,\"000\"))","v":""},{"$f":"IF('入力シート(総体)'!$H73=\"\",\"\",学校番号)","v":""},{"$f":"IF('入力シート(総体)'!$H73=\"\",\"\",B45)","v":""},{"$f":"IF('入力シート(総体)'!$H73=\"\",\"\",TEXT('入力シート(総体)'!$H73,\"00\"))","v":""},null,null,{"$f":"IF('入力シート(総体)'!$H73=\"\",\"\",IF('入力シート(総体)'!K73=\"\",\"\",'入力シート(総体)'!K73))","v":""},{"$nulls":3},{"$f":"IF('入力シート(総体)'!$H73=\"\",\"\",IF('入力シート(総体)'!L73=\"\",\"\",IF('入力シート(総体)'!L73=\"電気\",0,1)))","v":""}]
[{"$f":"IF('入力シート(総体)'!$H74=\"\",\"\",大会コード)","v":""},{"$f":"IF('入力シート(総体)'!$H74=\"\",\"\",IF('入力シート(総体)'!$B74=\"男\",0,1))","v":""},{"$f":"IF('入力シート(総体)'!$H74=\"\",\"\",'入力シート(総体)'!C74)","v":""},{"$f":"IF('入力シート(総体)'!$H74=\"\",\"\",TEXT('入力シート(総体)'!$E74,\"000\"))","v":""},{"$f":"IF('入力シート(総体)'!$H74=\"\",\"\",学校番号)","v":""},{"$f":"IF('入力シート(総体)'!$H74=\"\",\"\",B46)","v":""},{"$f":"IF('入力シート(総体)'!$H74=\"\",\"\",TEXT('入力シート(総体)'!$H74,\"00\"))","v":""},null,null,{"$f":"IF('入力シート(総体)'!$H74=\"\",\"\",IF('入力シート(総体)'!K74=\"\",\"\",'入力シート(総体)'!K74))","v":""},{"$nulls":3},{"$f":"IF('入力シート(総体)'!$H74=\"\",\"\",IF('入力シート(総体)'!L74=\"\",\"\",IF('入力シート(総体)'!L74=\"電気\",0,1)))","v":""}]
[{"$f":"IF('入力シート(総体)'!$H75=\"\",\"\",大会コード)","v":""},{"$f":"IF('入力シート(総体)'!$H75=\"\",\"\",IF('入力シート(総体)'!$B75=\"男\",0,1))","v":""},{"$f":"IF('入力シート(総体)'!$H75=\"\",\"\",'入力シート(総体)'!C75)","v":""},{"$f":"IF('入力シート(総体)'!$H75=\"\",\"\",TEXT('入力シート(総体)'!$E75,\"000\"))","v":""},{"$f":"IF('入力シート(総体)'!$H75=\"\",\"\",学校番号)","v":""},{"$f":"IF('入力シート(総体)'!$H75=\"\",\"\",B47)","v":""},{"$f":"IF('入力シート(総体)'!$H75=\"\",\"\",TEXT('入力シート(総体)'!$H75,\"00\"))","v":""},null,null,{"$f":"IF('入力シート(総体)'!$H75=\"\",\"\",IF('入力シート(総体)'!K75=\"\",\"\",'入力シート(総体)'!K75))","v":""},{"$nulls":3},{"$f":"IF('入力シート(総体)'!$H75=\"\",\"\",IF('入力シート(総体)'!L75=\"\",\"\",IF('入力シート(総体)'!L75=\"電気\",0,1)))","v":""}]
[{"$f":"IF('入力シート(総体)'!$H82=\"\",\"\",大会コード)","v":""},{"$f":"IF('入力シート(総体)'!$H82=\"\",\"\",IF('入力シート(総体)'!$B82=\"男\",0,1))","v":""},{"$f":"IF('入力シート(総体)'!$H82=\"\",\"\",'入力シート(総体)'!C82)","v":""},{"$f":"IF('入力シート(総体)'!$H82=\"\",\"\",TEXT('入力シート(総体)'!$E82,\"000\"))","v":""},{"$f":"IF('入力シート(総体)'!$H82=\"\",\"\",学校番号)","v":""},{"$f":"IF('入力シート(総体)'!$H82=\"\",\"\",B48)","v":""},{"$f":"IF('入力シート(総体)'!$H82=\"\",\"\",TEXT('入力シート(総体)'!$H82,\"00\"))","v":""},null,null,{"$f":"IF('入力シート(総体)'!$H82=\"\",\"\",IF('入力シート(総体)'!K82=\"\",\"\",'入力シート(総体)'!K82))","v":""},{"$nulls":3},{"$f":"IF('入力シート(総体)'!$H82=\"\",\"\",IF('入力シート(総体)'!L82=\"\",\"\",IF('入力シート(総体)'!L82=\"電気\",0,1)))","v":""}]
[{"$f":"IF('入力シート(総体)'!$H83=\"\",\"\",大会コード)","v":""},{"$f":"IF('入力シート(総体)'!$H83=\"\",\"\",IF('入力シート(総体)'!$B83=\"男\",0,1))","v":""},{"$f":"IF('入力シート(総体)'!$H83=\"\",\"\",'入力シート(総体)'!C83)","v":""},{"$f":"IF('入力シート(総体)'!$H83=\"\",\"\",TEXT('入力シート(総体)'!$E83,\"000\"))","v":""},{"$f":"IF('入力シート(総体)'!$H83=\"\",\"\",学校番号)","v":""},{"$f":"IF('入力シート(総体)'!$H83=\"\",\"\",B49)","v":""},{"$f":"IF('入力シート(総体)'!$H83=\"\",\"\",TEXT('入力シート(総体)'!$H83,\"00\"))","v":""},null,null,{"$f":"IF('入力シート(総体)'!$H83=\"\",\"\",IF('入力シート(総体)'!K83=\"\",\"\",'入力シート(総体)'!K83))","v":""},{"$nulls":3},{"$f":"IF('入力シート(総体)'!$H83=\"\",\"\",IF('入力シート(総体)'!L83=\"\",\"\",IF('入力シート(総体)'!L83=\"電気\",0,1)))","v":""}]
[{"$f":"IF('入力シート(総体)'!$H84=\"\",\"\",大会コード)","v":""},{"$f":"IF('入力シート(総体)'!$H84=\"\",\"\",IF('入力シート(総体)'!$B84=\"男\",0,1))","v":""},{"$f":"IF('入力シート(総体)'!$H84=\"\",\"\",'入力シート(総体)'!C84)","v":""},{"$f":"IF('入力シート(総体)'!$H84=\"\",\"\",TEXT('入力シート(総体)'!$E84,\"000\"))","v":""},{"$f":"IF('入力シート(総体)'!$H84=\"\",\"\",学校番号)","v":""},{"$f":"IF('入力シート(総体)'!$H84=\"\",\"\",B50)","v":""},{"$f":"IF('入力シート(総体)'!$H84=\"\",\"\",TEXT('入力シート(総体)'!$H84,\"00\"))","v":""},null,null,{"$f":"IF('入力シート(総体)'!$H84=\"\",\"\",IF('入力シート(総体)'!K84=\"\",\"\",'入力シート(総体)'!K84))","v":""},{"$nulls":3},{"$f":"IF('入力シート(総体)'!$H84=\"\",\"\",IF('入力シート(総体)'!L84=\"\",\"\",IF('入力シート(総体)'!L84=\"電気\",0,1)))","v":""}]
[{"$f":"IF('入力シート(総体)'!$H85=\"\",\"\",大会コード)","v":""},{"$f":"IF('入力シート(総体)'!$H85=\"\",\"\",IF('入力シート(総体)'!$B85=\"男\",0,1))","v":""},{"$f":"IF('入力シート(総体)'!$H85=\"\",\"\",'入力シート(総体)'!C85)","v":""},{"$f":"IF('入力シート(総体)'!$H85=\"\",\"\",TEXT('入力シート(総体)'!$E85,\"000\"))","v":""},{"$f":"IF('入力シート(総体)'!$H85=\"\",\"\",学校番号)","v":""},{"$f":"IF('入力シート(総体)'!$H85=\"\",\"\",B51)","v":""},{"$f":"IF('入力シート(総体)'!$H85=\"\",\"\",TEXT('入力シート(総体)'!$H85,\"00\"))","v":""},null,null,{"$f":"IF('入力シート(総体)'!$H85=\"\",\"\",IF('入力シート(総体)'!K85=\"\",\"\",'入力シート(総体)'!K85))","v":""},{"$nulls":3},{"$f":"IF('入力シート(総体)'!$H85=\"\",\"\",IF('入力シート(総体)'!L85=\"\",\"\",IF('入力シート(総体)'!L85=\"電気\",0,1)))","v":""}]
[{"$f":"IF('入力シート(総体)'!$H86=\"\",\"\",大会コード)","v":""},{"$f":"IF('入力シート(総体)'!$H86=\"\",\"\",IF('入力シート(総体)'!$B86=\"男\",0,1))","v":""},{"$f":"IF('入力シート(総体)'!$H86=\"\",\"\",'入力シート(総体)'!C86)","v":""},{"$f":"IF('入力シート(総体)'!$H86=\"\",\"\",TEXT('入力シート(総体)'!$E86,\"000\"))","v":""},{"$f":"IF('入力シート(総体)'!$H86=\"\",\"\",学校番号)","v":""},{"$f":"IF('入力シート(総体)'!$H86=\"\",\"\",B52)","v":""},{"$f":"IF('入力シート(総体)'!$H86=\"\",\"\",TEXT('入力シート(総体)'!$H86,\"00\"))","v":""},null,null,{"$f":"IF('入力シート(総体)'!$H86=\"\",\"\",IF('入力シート(総体)'!K86=\"\",\"\",'入力シート(総体)'!K86))","v":""},{"$nulls":3},{"$f":"IF('入力シート(総体)'!$H86=\"\",\"\",IF('入力シート(総体)'!L86=\"\",\"\",IF('入力シート(総体)'!L86=\"電気\",0,1)))","v":""}]
[{"$f":"IF('入力シート(総体)'!$H87=\"\",\"\",大会コード)","v":""},{"$f":"IF('入力シート(総体)'!$H87=\"\",\"\",IF('入力シート(総体)'!$B87=\"男\",0,1))","v":""},{"$f":"IF('入力シート(総体)'!$H87=\"\",\"\",'入力シート(総体)'!C87)","v":""},{"$f":"IF('入力シート(総体)'!$H87=\"\",\"\",TEXT('入力シート(総体)'!$E87,\"000\"))","v":""},{"$f":"IF('入力シート(総体)'!$H87=\"\",\"\",学校番号)","v":""},{"$f":"IF('入力シート(総体)'!$H87=\"\",\"\",B53)","v":""},{"$f":"IF('入力シート(総体)'!$H87=\"\",\"\",TEXT('入力シート(総体)'!$H87,\"00\"))","v":""},null,null,{"$f":"IF('入力シート(総体)'!$H87=\"\",\"\",IF('入力シート(総体)'!K87=\"\",\"\",'入力シート(総体)'!K87))","v":""},{"$nulls":3},{"$f":"IF('入力シート(総体)'!$H87=\"\",\"\",IF('入力シート(総体)'!L87=\"\",\"\",IF('入力シート(総体)'!L87=\"電気\",0,1)))","v":""}]
[{"$f":"IF('入力シート(総体)'!$H88=\"\",\"\",大会コード)","v":""},{"$f":"IF('入力シート(総体)'!$H88=\"\",\"\",IF('入力シート(総体)'!$B88=\"男\",0,1))","v":""},{"$f":"IF('入力シート(総体)'!$H88=\"\",\"\",'入力シート(総体)'!C88)","v":""},{"$f":"IF('入力シート(総体)'!$H88=\"\",\"\",TEXT('入力シート(総体)'!$E88,\"000\"))","v":""},{"$f":"IF('入力シート(総体)'!$H88=\"\",\"\",学校番号)","v":""},{"$f":"IF('入力シート(総体)'!$H88=\"\",\"\",B54)","v":""},{"$f":"IF('入力シート(総体)'!$H88=\"\",\"\",TEXT('入力シート(総体)'!$H88,\"00\"))","v":""},null,null,{"$f":"IF('入力シート(総体)'!$H88=\"\",\"\",IF('入力シート(総体)'!K88=\"\",\"\",'入力シート(総体)'!K88))","v":""},{"$nulls":3},{"$f":"IF('入力シート(総体)'!$H88=\"\",\"\",IF('入力シート(総体)'!L88=\"\",\"\",IF('入力シート(総体)'!L88=\"電気\",0,1)))","v":""}]
[{"$f":"IF('入力シート(総体)'!$H89=\"\",\"\",大会コード)","v":""},{"$f":"IF('入力シート(総体)'!$H89=\"\",\"\",IF('入力シート(総体)'!$B89=\"男\",0,1))","v":""},{"$f":"IF('入力シート(総体)'!$H89=\"\",\"\",'入力シート(総体)'!C89)","v":""},{"$f":"IF('入力シート(総体)'!$H89=\"\",\"\",TEXT('入力シート(総体)'!$E89,\"000\"))","v":""},{"$f":"IF('入力シート(総体)'!$H89=\"\",\"\",学校番号)","v":""},{"$f":"IF('入力シート(総体)'!$H89=\"\",\"\",B55)","v":""},{"$f":"IF('入力シート(総体)'!$H89=\"\",\"\",TEXT('入力シート(総体)'!$H89,\"00\"))","v":""},null,null,{"$f":"IF('入力シート(総体)'!$H89=\"\",\"\",IF('入力シート(総体)'!K89=\"\",\"\",'入力シート(総体)'!K89))","v":""},{"$nulls":3},{"$f":"IF('入力シート(総体)'!$H89=\"\",\"\",IF('入力シート(総体)'!L89=\"\",\"\",IF('入力シート(総体)'!L89=\"電気\",0,1)))","v":""}]
[{"$f":"IF('入力シート(総体)'!$H96=\"\",\"\",大会コード)","v":""},{"$f":"IF('入力シート(総体)'!$H96=\"\",\"\",IF('入力シート(総体)'!$B96=\"男\",0,1))","v":""},{"$f":"IF('入力シート(総体)'!$H96=\"\",\"\",'入力シート(総体)'!C96)","v":""},{"$f":"IF('入力シート(総体)'!$H96=\"\",\"\",TEXT('入力シート(総体)'!$E96,\"000\"))","v":""},{"$f":"IF('入力シート(総体)'!$H96=\"\",\"\",学校番号)","v":""},{"$f":"IF('入力シート(総体)'!$H96=\"\",\"\",B56)","v":""},{"$f":"IF('入力シート(総体)'!$H96=\"\",\"\",TEXT('入力シート(総体)'!$H96,\"00\"))","v":""},null,null,{"$f":"IF('入力シート(総体)'!$H96=\"\",\"\",IF('入力シート(総体)'!K96=\"\",\"\",'入力シート(総体)'!K96))","v":""},{"$nulls":3},{"$f":"IF('入力シート(総体)'!$H96=\"\",\"\",IF('入力シート(総体)'!L96=\"\",\"\",IF('入力シート(総体)'!L96=\"電気\",0,1)))","v":""}]
[{"$f":"IF('入力シート(総体)'!$H97=\"\",\"\",大会コード)","v":""},{"$f":"IF('入力シート(総体)'!$H97=\"\",\"\",IF('入力シート(総体)'!$B97=\"男\",0,1))","v":""},{"$f":"IF('入力シート(総体)'!$H97=\"\",\"\",'入力シート(総体)'!C97)","v":""},{"$f":"IF('入力シート(総体)'!$H97=\"\",\"\",TEXT('入力シート(総体)'!$E97,\"000\"))","v":""},{"$f":"IF('入力シート(総体)'!$H97=\"\",\"\",学校番号)","v":""},{"$f":"IF('入力シート(総体)'!$H97=\"\",\"\",B57)","v":""},{"$f":"IF('入力シート(総体)'!$H97=\"\",\"\",TEXT('入力シート(総体)'!$H97,\"00\"))","v":""},null,null,{"$f":"IF('入力シート(総体)'!$H97=\"\",\"\",IF('入力シート(総体)'!K97=\"\",\"\",'入力シート(総体)'!K97))","v":""},{"$nulls":3},{"$f":"IF('入力シート(総体)'!$H97=\"\",\"\",IF('入力シート(総体)'!L97=\"\",\"\",IF('入力シート(総体)'!L97=\"電気\",0,1)))","v":""}]
[{"$f":"IF('入力シート(総体)'!$H98=\"\",\"\",大会コード)","v":""},{"$f":"IF('入力シート(総体)'!$H98=\"\",\"\",IF('入力シート(総体)'!$B98=\"男\",0,1))","v":""},{"$f":"IF('入力シート(総体)'!$H98=\"\",\"\",'入力シート(総体)'!C98)","v":""},{"$f":"IF('入力シート(総体)'!$H98=\"\",\"\",TEXT('入力シート(総体)'!$E98,\"000\"))","v":""},{"$f":"IF('入力シート(総体)'!$H98=\"\",\"\",学校番号)","v":""},{"$f":"IF('入力シート(総体)'!$H98=\"\",\"\",B58)","v":""},{"$f":"IF('入力シート(総体)'!$H98=\"\",\"\",TEXT('入力シート(総体)'!$H98,\"00\"))","v":""},null,null,{"$f":"IF('入力シート(総体)'!$H98=\"\",\"\",IF('入力シート(総体)'!K98=\"\",\"\",'入力シート(総体)'!K98))","v":""},{"$nulls":3},{"$f":"IF('入力シート(総体)'!$H98=\"\",\"\",IF('入力シート(総体)'!L98=\"\",\"\",IF('入力シート(総体)'!L98=\"電気\",0,1)))","v":""}]
{"$rows_empty":41}
["大会コード","性別","学年","競技種目コード","学校コード","性別1","選手コード","エントリ記録","当日記録","順位","順番","条件項目","競技－１記録","競技－１得点","競技－１試技順番","競技－１組","競技－１条件項目","計測区分1","未記録区分１","最高記録１","公認最高記録１","三種最高記録１","最高条件項目１","公認最高条件項目１","三種最高条件項目１","競技－２記録","競技－２得点","競技－２試技順番","競技－２組","競技－２条件項目","計測区分２","未記録区分２","最高記録２","公認最高記録２","三種最高記録２","最高条件項目２","公認最高条件項目２","三種最高条件項目２","競技－３記録","競技－３得点","競技－３試技順番","競技－３組","競技－３条件項目","計測区分３","未記録区分３","最高記録３","公認最高記録３","三種最高記録３","最高条件項目３","公認最高条件項目３","三種最高条件項目３","競技－４記録","競技－４得点","競技－４試技順番","競技－４組","競技－４条件項目","計測区分４","未記録区分４","最高記録４","公認最高記録４","三種最高記録４","最高条件項目４","公認最高条件項目４","三種最高条件項目４","競技－５記録","競技－５得点","競技－５試技順番","競技－５組","競技－５条件項目","大会順位","公認記録"]
[{"$f":"IF('入力シート(総体)'!$H46=\"\",\"\",大会コード)","v":""},{"$f":"IF('入力シート(総体)'!$H46=\"\",\"\",IF('入力シート(総体)'!$B46=\"男\",0,1))","v":""},{"$f":"IF('入力シート(総体)'!$H46=\"\",\"\",'入力シート(総体)'!C46)","v":""},{"$f":"IF('入力シート(総体)'!$H46=\"\",\"\",TEXT('入力シート(総体)'!$E46,\"000\"))","v":""},{"$f":"IF('入力シート(総体)'!$H46=\"\",\"\",学校番号)","v":""},{"$f":"IF('入力シート(総体)'!$H46=\"\",\"\",B101)","v":""},{"$f":"IF('入力シート(総体)'!$H46=\"\",\"\",TEXT('入力シート(総体)'!$H46,\"00\"))","v":""},{"$f":"IF('入力シート(総体)'!$H46=\"\",\"\",IF('入力シート(総体)'!$K46=\"\",\"\",'入力シート(総体)'!$K46))","v":""},{"$nulls":4},{"$f":"IF('入力シート(総体)'!$H46=\"\",\"\",IF('入力シート(総体)'!$K47=\"\",\"\",'入力シート(総体)'!$K47))","v":""},{"$nulls":12},{"$f":"IF('入力シート(総体)'!$H46=\"\",\"\",IF('入力シート(総体)'!$K48=\"\",\"\",'入力シート(総体)'!$K48))","v":""},{"$nulls":12},{"$f":"IF('入力シート(総体)'!$H46=\"\",\"\",IF('入力シート(総体)'!$K49=\"\",\"\",'入力シート(総体)'!$K49))","v":""},{"$nulls":12},{"$f":"IF('入力シート(総体)'!$H46=\"\",\"\",IF('入力シート(総体)'!$K50=\"\",\"\",'入力シート(総体)'!$K50))","v":""}]
[{"$f":"IF('入力シート(総体)'!$H51=\"\",\"\",大会コード)","v":""},{"$f":"IF('入力シート(総体)'!$H51=\"\",\"\",IF('入力シート(総体)'!$B51=\"男\",0,1))","v":""},{"$f":"IF('入力シート(総体)'!$H51=\"\",\"\",'入力シート(総体)'!C51)","v":""},{"$f":"IF('入力シート(総体)'!$H51=\"\",\"\",TEXT('入力シート(総体)'!$E51,\"000\"))","v":""},{"$f":"IF('入力シート(総体)'!$H51=\"\",\"\",学校番号)","v":""},{"$f":"IF('入力シート(総体)'!$H51=\"\",\"\",B102)","v":""},{"$f":"IF('入力シート(総体)'!$H51=\"\",\"\",TEXT('入力シート(総体)'!$H51,\"00\"))","v":""},{"$f":"IF('入力シート(総体)'!$H51=\"\",\"\",IF('入力シート(総体)'!$K51=\"\",\"\",'入力シート(総体)'!$K51))","v":""},{"$nulls":4},{"$f":"IF('入力シート(総体)'!$H51=\"\",\"\",IF('入力シート(総体)'!$K52=\"\",\"\",'入力シート(総体)'!$K52))","v":""},{"$nulls":12},{"$f":"IF('入力シート(総体)'!$H51=\"\",\"\",IF('入力シート(総体)'!$K53=\"\",\"\",'入力シート(総体)'!$K53))","v":""},{"$nulls":12},{"$f":"IF('入力シート(総体)'!$H51=\"\",\"\",IF('入力シート(総体)'!$K54=\"\",\"\",'入力シート(総体)'!$K54))","v":""},{"$nulls":12},{"$f":"IF('入力シート(総体)'!$H51=\"\",\"\",IF('入力シート(総体)'!$K55=\"\",\"\",'入力シート(総体)'!$K55))","v":""}]
[{"$f":"IF('入力シート(総体)'!$H90=\"\",\"\",大会コード)","v":""},{"$f":"IF('入力シート(総体)'!$H90=\"\",\"\",IF('入力シート(総体)'!$B90=\"男\",0,1))","v":""},{"$f":"IF('入力シート(総体)'!$H90=\"\",\"\",'入力シート(総体)'!C90)","v":""},{"$f":"IF('入力シート(総体)'!$H90=\"\",\"\",TEXT('入力シート(総体)'!$E90,\"000\"))","v":""},{"$f":"IF('入力シート(総体)'!$H90=\"\",\"\",学校番号)","v":""},{"$f":"IF('入力シート(総体)'!$H90=\"\",\"\",B103)","v":""},{"$f":"IF('入力シート(総体)'!$H90=\"\",\"\",TEXT('入力シート(総体)'!$H90,\"00\"))","v":""},{"$f":"IF('入力シート(総体)'!$H90=\"\",\"\",IF('入力シート(総体)'!$K90=\"\",\"\",'入力シート(総体)'!$K90))","v":""},{"$nulls":4},{"$f":"IF('入力シート(総体)'!$H90=\"\",\"\",IF('入力シート(総体)'!$K91=\"\",\"\",'入力シート(総体)'!$K91))","v":""},{"$nulls":12},{"$f":"IF('入力シート(総体)'!$H90=\"\",\"\",IF('入力シート(総体)'!$K92=\"\",\"\",'入力シート(総体)'!$K92))","v":""},{"$nulls":12},{"$f":"IF('入力シート(総体)'!$H90=\"\",\"\",IF('入力シート(総体)'!$K93=\"\",\"\",'入力シート(総体)'!$K93))","v":""},{"$nulls":12},{"$f":"IF('入力シート(総体)'!$H90=\"\",\"\",IF('入力シート(総体)'!$K94=\"\",\"\",'入力シート(総体)'!$K94))","v":""}]
[{"$f":"IF('入力シート(総体)'!$H95=\"\",\"\",大会コード)","v":""},{"$f":"IF('入力シート(総体)'!$H95=\"\",\"\",IF('入力シート(総体)'!$B95=\"男\",0,1))","v":""},{"$f":"IF('入力シート(総体)'!$H95=\"\",\"\",'入力シート(総体)'!C95)","v":""},{"$f":"IF('入力シート(総体)'!$H95=\"\",\"\",TEXT('入力シート(総体)'!$E95,\"000\"))","v":""},{"$f":"IF('入力シート(総体)'!$H95=\"\",\"\",学校番号)","v":""},{"$f":"IF('入力シート(総体)'!$H95=\"\",\"\",B104)","v":""},{"$f":"IF('入力シート(総体)'!$H95=\"\",\"\",TEXT('入力シート(総体)'!$H95,\"00\"))","v":""},{"$f":"IF('入力シート(総体)'!$H95=\"\",\"\",IF('入力シート(総体)'!$K95=\"\",\"\",'入力シート(総体)'!$K95))","v":""},{"$nulls":4},{"$f":"IF('入力シート(総体)'!$H95=\"\",\"\",IF('入力シート(総体)'!$K96=\"\",\"\",'入力シート(総体)'!$K96))","v":""},{"$nulls":12},{"$f":"IF('入力シート(総体)'!$H95=\"\",\"\",IF('入力シート(総体)'!$K97=\"\",\"\",'入力シート(総体)'!$K97))","v":""},{"$nulls":12},{"$f":"IF('入力シート(総体)'!$H95=\"\",\"\",IF('入力シート(総体)'!$K98=\"\",\"\",'入力シート(総体)'!$K98))","v":""},{"$nulls":12},{"$f":"IF('入力シート(総体)'!$H95=\"\",\"\",IF('入力シート(総体)'!$K99=\"\",\"\",'入力シート(総体)'!$K99))","v":""}]
{"$rows_empty":25}
["大会コード","性別","学年","競技種目コード","組","レーン","学校コード","エントリ記録","当日記録","順位","条件項目","選手コード１","出場区分１","選手コード２","出場区分２","選手コード３","出場区分３","選手コード４","出場区分４","選手コード５","出場区分５","選手コード６","出場区分６","計測区分","未記録区分","大会順位"]
[{"$f":"IF('入力シート(総体)'!$H10=\"\",\"\",大会コード)","v":""},{"$f":"IF('入力シート(総体)'!$H10=\"\",\"\",IF('入力シート(総体)'!$B10=\"男\",0,1))","v":""},{"$f":"IF('入力シート(総体)'!$H10=\"\",\"\",'入力シート(総体)'!C10)","v":""},{"$f":"IF('入力シート(総体)'!$H10=\"\",\"\",TEXT('入力シート(総体)'!$E10,\"000\"))","v":""},null,null,{"$f":"IF('入力シート(総体)'!$H10=\"\",\"\",学校番号)","v":""},{"$f":"IF('入力シート(総体)'!$H10=\"\",\"\",'入力シート(総体)'!$K10)","v":""},{"$nulls":3},{"$f":"IF('入力シート(総体)'!$H10=\"\",\"\",TEXT('入力シート(総体)'!$H10,\"00\"))","v":""},null,{"$f":"IF('入力シート(総体)'!$H11=\"\",\"\",TEXT('入力シート(総体)'!$H11,\"00\"))","v":""},null,{"$f":"IF('入力シート(総体)'!$H12=\"\",\"\",TEXT('入力シート(総体)'!$H12,\"00\"))","v":""},null,{"$f":"IF('入力シート(総体)'!$H13=\"\",\"\",TEXT('入力シート(総体)'!$H13,\"00\"))","v":""},null,{"$f":"IF('入力シート(総体)'!$H14=\"\",\"\",TEXT('入力シート(総体)'!$H14,\"00\"))","v":""},null,{"$f":"IF('入力シート(総体)'!$H15=\"\",\"\",TEXT('入力シート(総体)'!$H15,\"00\"))","v":""}]
[{"$f":"IF('入力シート(総体)'!$H28=\"\",\"\",大会コード)","v":""},{"$f":"IF('入力シート(総体)'!$H28=\"\",\"\",IF('入力シート(総体)'!$B28=\"男\",0,1))","v":""},{"$f":"IF('入力シート(総体)'!$H28=\"\",\"\",'入力シート(総体)'!C28)","v":""},{"$f":"IF('入力シート(総体)'!$H28=\"\",\"\",TEXT('入力シート(総体)'!$E28,\"000\"))","v":""},null,null,{"$f":"IF('入力シート(総体)'!$H28=\"\",\"\",学校番号)","v":""},{"$f":"IF('入力シート(総体)'!$H28=\"\",\"\",'入力シート(総体)'!$K28)","v":""},{"$nulls":3},{"$f":"IF('入力シート(総体)'!$H28=\"\",\"\",TEXT('入力シート(総体)'!$H28,\"00\"))","v":""},null,{"$f":"IF('入力シート(総体)'!$H29=\"\",\"\",TEXT('入力シート(総体)'!$H29,\"00\"))","v":""},null,{"$f":"IF('入力シート(総体)'!$H30=\"\",\"\",TEXT('入力シート(総体)'!$H30,\"00\"))","v":""},null,{"$f":"IF('入力シート(総体)'!$H31=\"\",\"\",TEXT('入力シート(総体)'!$H31,\"00\"))","v":""},null,{"$f":"IF('入力シート(総体)'!$H32=\"\",\"\",TEXT('入力シート(総体)'!$H32,\"00\"))","v":""},null,{"$f":"IF('入力シート(総体)'!$H33=\"\",\"\",TEXT('入力シート(総体)'!$H33,\"00\"))","v":""}]
[{"$f":"IF('入力シート(総体)'!$H62=\"\",\"\",大会コード)","v":""},{"$f":"IF('入力シート(総体)'!$H62=\"\",\"\",IF('入力シート(総体)'!$B62=\"男\",0,1))","v":""},{"$f":"IF('入力シート(総体)'!$H62=\"\",\"\",'入力シート(総体)'!C62)","v":""},{"$f":"IF('入力シート(総体)'!$H62=\"\",\"\",TEXT('入力シート(総体)'!$E62,\"000\"))","v":""},null,null,{"$f":"IF('入力シート(総体)'!$H62=\"\",\"\",学校番号)","v":""},{"$f":"IF('入力シート(総体)'!$H62=\"\",\"\",'入力シート(総体)'!$K62)","v":""},{"$nulls":3},{"$f":"IF('入力シート(総体)'!$H62=\"\",\"\",TEXT('入力シート(総体)'!$H62,\"00\"))","v":""},null,{"$f":"IF('入力シート(総体)'!$H63=\"\",\"\",TEXT('入力シート(総体)'!$H63,\"00\"))","v":""},null,{"$f":"IF('入力シート(総体)'!$H64=\"\",\"\",TEXT('入力シート(総体)'!$H64,\"00\"))","v":""},null,{"$f":"IF('入力シート(総体)'!$H65=\"\",\"\",TEXT('入力シート(総体)'!$H65,\"00\"))","v":""},null,{"$f":"IF('入力シート(総体)'!$H66=\"\",\"\",TEXT('入力シート(総体)'!$H66,\"00\"))","v":""},null,{"$f":"IF('入力シート(総体)'!$H67=\"\",\"\",TEXT('入力シート(総体)'!$H67,\"00\"))","v":""}]
[{"$f":"IF('入力シート(総体)'!$H76=\"\",\"\",大会コード)","v":""},{"$f":"IF('入力シート(総体)'!$H76=\"\",\"\",IF('入力シート(総体)'!$B76=\"男\",0,1))","v":""},{"$f":"IF('入力シート(総体)'!$H76=\"\",\"\",'入力シート(総体)'!C76)","v":""},{"$f":"IF('入力シート(総体)'!$H76=\"\",\"\",TEXT('入力シート(総体)'!$E76,\"000\"))","v":""},null,null,{"$f":"IF('入力シート(総体)'!$H76=\"\",\"\",学校番号)","v":""},{"$f":"IF('入力シート(総体)'!$H76=\"\",\"\",'入力シート(総体)'!$K76)","v":""},{"$nulls":3},{"$f":"IF('入力シート(総体)'!$H76=\"\",\"\",TEXT('入力シート(総体)'!$H76,\"00\"))","v":""},null,{"$f":"IF('入力シート(総体)'!$H77=\"\",\"\",TEXT('入力シート(総体)'!$H77,\"00\"))","v":""},null,{"$f":"IF('入力シート(総体)'!$H78=\"\",\"\",TEXT('入力シート(総体)'!$H78,\"00\"))","v":""},null,{"$f":"IF('入力シート(総体)'!$H79=\"\",\"\",TEXT('入力シート(総体)'!$H79,\"00\"))","v":""},null,{"$f":"IF('入力シート(総体)'!$H80=\"\",\"\",TEXT('入力シート(総体)'!$H80,\"00\"))","v":""},null,{"$f":"IF('入力シート(総体)'!$H81=\"\",\"\",TEXT('入力シート(総体)'!$H81,\"00\"))","v":""}]
[{"$f":"IF('入力シート(総体)'!$H104=\"\",\"\",大会コード)","v":""},{"$f":"IF('入力シート(総体)'!$H104=\"\",\"\",IF('入力シート(総体)'!$B104=\"男\",0,1))","v":""},{"$f":"IF('入力シート(総体)'!$H104=\"\",\"\",'入力シート(総体)'!C104)","v":""},{"$f":"IF('入力シート(総体)'!$H104=\"\",\"\",TEXT('入力シート(総体)'!$E104,\"000\"))","v":""},null,null,{"$f":"IF('入力シート(総体)'!$H104=\"\",\"\",学校番号)","v":""},{"$f":"IF('入力シート(総体)'!$H104=\"\",\"\",'入力シート(総体)'!$K104)","v":""},{"$nulls":3},{"$f":"IF('入力シート(総体)'!$H104=\"\",\"\",TEXT('入力シート(総体)'!$H104,\"00\"))","v":""},null,{"$f":"IF('入力シート(総体)'!$H105=\"\",\"\",TEXT('入力シート(総体)'!$H105,\"00\"))","v":""},null,{"$f":"IF('入力シート(総体)'!$H106=\"\",\"\",TEXT('入力シート(総体)'!$H106,\"00\"))","v":""},null,{"$f":"IF('入力シート(総体)'!$H107=\"\",\"\",TEXT('入力シート(総体)'!$H107,\"00\"))","v":""},null,{"$f":"IF('入力シート(総体)'!$H108=\"\",\"\",TEXT('入力シート(総体)'!$H108,\"00\"))","v":""},null,{"$f":"IF('入力シート(総体)'!$H109=\"\",\"\",TEXT('入力シート(総体)'!$H109,\"00\"))","v":""}]
[{"$f":"IF('入力シート(総体)'!$H105=\"\",\"\",大会コード)","v":""},{"$f":"IF('入力シート(総体)'!$H105=\"\",\"\",IF('入力シート(総体)'!$B105=\"男\",0,1))","v":""},{"$f":"IF('入力シート(総体)'!$H105=\"\",\"\",'入力シート(総体)'!C105)","v":""},{"$f":"IF('入力シート(総体)'!$H105=\"\",\"\",TEXT('入力シート(総体)'!$E105,\"000\"))","v":""},null,null,{"$f":"IF('入力シート(総体)'!$H105=\"\",\"\",学校番号)","v":""},{"$f":"IF('入力シート(総体)'!$H105=\"\",\"\",'入力シート(総体)'!$K105)","v":""},{"$nulls":3},{"$f":"IF('入力シート(総体)'!$H105=\"\",\"\",TEXT('入力シート(総体)'!$H105,\"00\"))","v":""},null,{"$f":"IF('入力シート(総体)'!$H106=\"\",\"\",TEXT('入力シート(総体)'!$H106,\"00\"))","v":""},null,{"$f":"IF('入力シート(総体)'!$H107=\"\",\"\",TEXT('入力シート(総体)'!$H107,\"00\"))","v":""},null,{"$f":"IF('入力シート(総体)'!$H108=\"\",\"\",TEXT('入力シート(総体)'!$H108,\"00\"))","v":""},null,{"$f":"IF('入力シート(総体)'!$H109=\"\",\"\",TEXT('入力シート(総体)'!$H109,\"00\"))","v":""},null,{"$f":"IF('入力シート(総体)'!$H110=\"\",\"\",TEXT('入力シート(総体)'!$H110,\"00\"))","v":""}]
[{"$f":"IF('入力シート(総体)'!$H106=\"\",\"\",大会コード)","v":""},{"$f":"IF('入力シート(総体)'!$H106=\"\",\"\",IF('入力シート(総体)'!$B106=\"男\",0,1))","v":""},{"$f":"IF('入力シート(総体)'!$H106=\"\",\"\",'入力シート(総体)'!C106)","v":""},{"$f":"IF('入力シート(総体)'!$H106=\"\",\"\",TEXT('入力シート(総体)'!$E106,\"000\"))","v":""},null,null,{"$f":"IF('入力シート(総体)'!$H106=\"\",\"\",学校番号)","v":""},{"$f":"IF('入力シート(総体)'!$H106=\"\",\"\",'入力シート(総体)'!$K106)","v":""},{"$nulls":3},{"$f":"IF('入力シート(総体)'!$H106=\"\",\"\",TEXT('入力シート(総体)'!$H106,\"00\"))","v":""},null,{"$f":"IF('入力シート(総体)'!$H107=\"\",\"\",TEXT('入力シート(総体)'!$H107,\"00\"))","v":""},null,{"$f":"IF('入力シート(総体)'!$H108=\"\",\"\",TEXT('入力シート(総体)'!$H108,\"00\"))","v":""},null,{"$f":"IF('入力シート(総体)'!$H109=\"\",\"\",TEXT('入力シート(総体)'!$H109,\"00\"))","v":""},null,{"$f":"IF('入力シート(総体)'!$H110=\"\",\"\",TEXT('入力シート(総体)'!$H110,\"00\"))","v":""},null,{"$f":"IF('入力シート(総体)'!$H111=\"\",\"\",TEXT('入力シート(総体)'!$H111,\"00\"))","v":""}]
[{"$f":"IF('入力シート(総体)'!$H107=\"\",\"\",大会コード)","v":""},{"$f":"IF('入力シート(総体)'!$H107=\"\",\"\",IF('入力シート(総体)'!$B107=\"男\",0,1))","v":""},{"$f":"IF('入力シート(総体)'!$H107=\"\",\"\",'入力シート(総体)'!C107)","v":""},{"$f":"IF('入力シート(総体)'!$H107=\"\",\"\",TEXT('入力シート(総体)'!$E107,\"000\"))","v":""},null,null,{"$f":"IF('入力シート(総体)'!$H107=\"\",\"\",学校番号)","v":""},{"$f":"IF('入力シート(総体)'!$H107=\"\",\"\",'入力シート(総体)'!$K107)","v":""},{"$nulls":3},{"$f":"IF('入力シート(総体)'!$H107=\"\",\"\",TEXT('入力シート(総体)'!$H107,\"00\"))","v":""},null,{"$f":"IF('入力シート(総体)'!$H108=\"\",\"\",TEXT('入力シート(総体)'!$H108,\"00\"))","v":""},null,{"$f":"IF('入力シート(総体)'!$H109=\"\",\"\",TEXT('入力シート(総体)'!$H109,\"00\"))","v":""},null,{"$f":"IF('入力シート(総体)'!$H110=\"\",\"\",TEXT('入力シート(総体)'!$H110,\"00\"))","v":""},null,{"$f":"IF('入力シート(総体)'!$H111=\"\",\"\",TEXT('入力シート(総体)'!$H111,\"00\"))","v":""},null,{"$f":"IF('入力シート(総体)'!$H112=\"\",\"\",TEXT('入力シート(総体)'!$H112,\"00\"))","v":""}]
[{"$f":"IF('入力シート(総体)'!$H108=\"\",\"\",大会コード)","v":""},{"$f":"IF('入力シート(総体)'!$H108=\"\",\"\",IF('入力シート(総体)'!$B108=\"男\",0,1))","v":""},{"$f":"IF('入力シート(総体)'!$H108=\"\",\"\",'入力シート(総体)'!C108)","v":""},{"$f":"IF('入力シート(総体)'!$H108=\"\",\"\",TEXT('入力シート(総体)'!$E108,\"000\"))","v":""},null,null,{"$f":"IF('入力シート(総体)'!$H108=\"\",\"\",学校番号)","v":""},{"$f":"IF('入力シート(総体)'!$H108=\"\",\"\",'入力シート(総体)'!$K108)","v":""},{"$nulls":3},{"$f":"IF('入力シート(総体)'!$H108=\"\",\"\",TEXT('入力シート(総体)'!$H108,\"00\"))","v":""},null,{"$f":"IF('入力シート(総体)'!$H109=\"\",\"\",TEXT('入力シート(総体)'!$H109,\"00\"))","v":""},null,{"$f":"IF('入力シート(総体)'!$H110=\"\",\"\",TEXT('入力シート(総体)'!$H110,\"00\"))","v":""},null,{"$f":"IF('入力シート(総体)'!$H111=\"\",\"\",TEXT('入力シート(総体)'!$H111,\"00\"))","v":""},null,{"$f":"IF('入力シート(総体)'!$H112=\"\",\"\",TEXT('入力シート(総体)'!$H112,\"00\"))","v":""},null,{"$f":"IF('入力シート(総体)'!$H113=\"\",\"\",TEXT('入力シート(総体)'!$H113,\"00\"))","v":""}]
[{"$f":"IF('入力シート(総体)'!$H109=\"\",\"\",大会コード)","v":""},{"$f":"IF('入力シート(総体)'!$H109=\"\",\"\",IF('入力シート(総体)'!$B109=\"男\",0,1))","v":""},{"$f":"IF('入力シート(総体)'!$H109=\"\",\"\",'入力シート(総体)'!C109)","v":""},{"$f":"IF('入力シート(総体)'!$H109=\"\",\"\",TEXT('入力シート(総体)'!$E109,\"000\"))","v":""},null,null,{"$f":"IF('入力シート(総体)'!$H109=\"\",\"\",学校番号)","v":""},{"$f":"IF('入力シート(総体)'!$H109=\"\",\"\",'入力シート(総体)'!$K109)","v":""},{"$nulls":3},{"$f":"IF('入力シート(総体)'!$H109=\"\",\"\",TEXT('入力シート(総体)'!$H109,\"00\"))","v":""},null,{"$f":"IF('入力シート(総体)'!$H110=\"\",\"\",TEXT('入力シート(総体)'!$H110,\"00\"))","v":""},null,{"$f":"IF('入力シート(総体)'!$H111=\"\",\"\",TEXT('入力シート(総体)'!$H111,\"00\"))","v":""},null,{"$f":"IF('入力シート(総体)'!$H112=\"\",\"\",TEXT('入力シート(総体)'!$H112,\"00\"))","v":""},null,{"$f":"IF('入力シート(総体)'!$H113=\"\",\"\",TEXT('入力シート(総体)'!$H113,\"00\"))","v":""},null,{"$f":"IF('入力シート(総体)'!$H114=\"\",\"\",TEXT('入力シート(総体)'!$H114,\"00\"))","v":""}]
[{"$f":"IF('入力シート(総体)'!$H110=\"\",\"\",大会コード)","v":""},{"$f":"IF('入力シート(総体)'!$H110=\"\",\"\",IF('入力シート(総体)'!$B110=\"男\",0,1))","v":""},{"$f":"IF('入力シート(総体)'!$H110=\"\",\"\",'入力シート(総体)'!C110)","v":""},{"$f":"IF('入力シート(総体)'!$H110=\"\",\"\",TEXT('入力シート(総体)'!$E110,\"000\"))","v":""},null,null,{"$f":"IF('入力シート(総体)'!$H110=\"\",\"\",学校番号)","v":""},{"$f":"IF('入力シート(総体)'!$H110=\"\",\"\",'入力シート(総体)'!$K110)","v":""},{"$nulls":3},{"$f":"IF('入力シート(総体)'!$H110=\"\",\"\",TEXT('入力シート(総体)'!$H110,\"00\"))","v":""},null,{"$f":"IF('入力シート(総体)'!$H111=\"\",\"\",TEXT('入力シート(総体)'!$H111,\"00\"))","v":""},null,{"$f":"IF('入力シート(総体)'!$H112=\"\",\"\",TEXT('入力シート(総体)'!$H112,\"00\"))","v":""},null,{"$f":"IF('入力シート(総体)'!$H113=\"\",\"\",TEXT('入力シート(総体)'!$H113,\"00\"))","v":""},null,{"$f":"IF('入力シート(総体)'!$H114=\"\",\"\",TEXT('入力シート(総体)'!$H114,\"00\"))","v":""},null,{"$f":"IF('入力シート(総体)'!$H115=\"\",\"\",TEXT('入力シート(総体)'!$H115,\"00\"))","v":""}]
[{"$f":"IF('入力シート(総体)'!$H111=\"\",\"\",大会コード)","v":""},{"$f":"IF('入力シート(総体)'!$H111=\"\",\"\",IF('入力シート(総体)'!$B111=\"男\",0,1))","v":""},{"$f":"IF('入力シート(総体)'!$H111=\"\",\"\",'入力シート(総体)'!C111)","v":""},{"$f":"IF('入力シート(総体)'!$H111=\"\",\"\",TEXT('入力シート(総体)'!$E111,\"000\"))","v":""},null,null,{"$f":"IF('入力シート(総体)'!$H111=\"\",\"\",学校番号)","v":""},{"$f":"IF('入力シート(総体)'!$H111=\"\",\"\",'入力シート(総体)'!$K111)","v":""},{"$nulls":3},{"$f":"IF('入力シート(総体)'!$H111=\"\",\"\",TEXT('入力シート(総体)'!$H111,\"00\"))","v":""},null,{"$f":"IF('入力シート(総体)'!$H112=\"\",\"\",TEXT('入力シート(総体)'!$H112,\"00\"))","v":""},null,{"$f":"IF('入力シート(総体)'!$H113=\"\",\"\",TEXT('入力シート(総体)'!$H113,\"00\"))","v":""},null,{"$f":"IF('入力シート(総体)'!$H114=\"\",\"\",TEXT('入力シート(総体)'!$H114,\"00\"))","v":""},null,{"$f":"IF('入力シート(総体)'!$H115=\"\",\"\",TEXT('入力シート(総体)'!$H115,\"00\"))","v":""},null,{"$f":"IF('入力シート(総体)'!$H116=\"\",\"\",TEXT('入力シート(総体)'!$H116,\"00\"))","v":""}]
[{"$f":"IF('入力シート(総体)'!$H112=\"\",\"\",大会コード)","v":""},{"$f":"IF('入力シート(総体)'!$H112=\"\",\"\",IF('入力シート(総体)'!$B112=\"男\",0,1))","v":""},{"$f":"IF('入力シート(総体)'!$H112=\"\",\"\",'入力シート(総体)'!C112)","v":""},{"$f":"IF('入力シート(総体)'!$H112=\"\",\"\",TEXT('入力シート(総体)'!$E112,\"000\"))","v":""},null,null,{"$f":"IF('入力シート(総体)'!$H112=\"\",\"\",学校番号)","v":""},{"$f":"IF('入力シート(総体)'!$H112=\"\",\"\",'入力シート(総体)'!$K112)","v":""},{"$nulls":3},{"$f":"IF('入力シート(総体)'!$H112=\"\",\"\",TEXT('入力シート(総体)'!$H112,\"00\"))","v":""},null,{"$f":"IF('入力シート(総体)'!$H113=\"\",\"\",TEXT('入力シート(総体)'!$H113,\"00\"))","v":""},null,{"$f":"IF('入力シート(総体)'!$H114=\"\",\"\",TEXT('入力シート(総体)'!$H114,\"00\"))","v":""},null,{"$f":"IF('入力シート(総体)'!$H115=\"\",\"\",TEXT('入力シート(総体)'!$H115,\"00\"))","v":""},null,{"$f":"IF('入力シート(総体)'!$H116=\"\",\"\",TEXT('入力シート(総体)'!$H116,\"00\"))","v":""},null,{"$f":"IF('入力シート(総体)'!$H117=\"\",\"\",TEXT('入力シート(総体)'!$H117,\"00\"))","v":""}]
[{"$f":"IF('入力シート(総体)'!$H113=\"\",\"\",大会コード)","v":""},{"$f":"IF('入力シート(総体)'!$H113=\"\",\"\",IF('入力シート(総体)'!$B113=\"男\",0,1))","v":""},{"$f":"IF('入力シート(総体)'!$H113=\"\",\"\",'入力シート(総体)'!C113)","v":""},{"$f":"IF('入力シート(総体)'!$H113=\"\",\"\",TEXT('入力シート(総体)'!$E113,\"000\"))","v":""},null,null,{"$f":"IF('入力シート(総体)'!$H113=\"\",\"\",学校番号)","v":""},{"$f":"IF('入力シート(総体)'!$H113=\"\",\"\",'入力シート(総体)'!$K113)","v":""},{"$nulls":3},{"$f":"IF('入力シート(総体)'!$H113=\"\",\"\",TEXT('入力シート(総体)'!$H113,\"00\"))","v":""},null,{"$f":"IF('入力シート(総体)'!$H114=\"\",\"\",TEXT('入力シート(総体)'!$H114,\"00\"))","v":""},null,{"$f":"IF('入力シート(総体)'!$H115=\"\",\"\",TEXT('入力シート(総体)'!$H115,\"00\"))","v":""},null,{"$f":"IF('入力シート(総体)'!$H116=\"\",\"\",TEXT('入力シート(総体)'!$H116,\"00\"))","v":""},null,{"$f":"IF('入力シート(総体)'!$H117=\"\",\"\",TEXT('入力シート(総体)'!$H117,\"00\"))","v":""},null,{"$f":"IF('入力シート(総体)'!$H118=\"\",\"\",TEXT('入力シート(総体)'!$H118,\"00\"))","v":""}]
[{"$f":"IF('入力シート(総体)'!$H114=\"\",\"\",大会コード)","v":""},{"$f":"IF('入力シート(総体)'!$H114=\"\",\"\",IF('入力シート(総体)'!$B114=\"男\",0,1))","v":""},{"$f":"IF('入力シート(総体)'!$H114=\"\",\"\",'入力シート(総体)'!C114)","v":""},{"$f":"IF('入力シート(総体)'!$H114=\"\",\"\",TEXT('入力シート(総体)'!$E114,\"000\"))","v":""},null,null,{"$f":"IF('入力シート(総体)'!$H114=\"\",\"\",学校番号)","v":""},{"$f":"IF('入力シート(総体)'!$H114=\"\",\"\",'入力シート(総体)'!$K114)","v":""},{"$nulls":3},{"$f":"IF('入力シート(総体)'!$H114=\"\",\"\",TEXT('入力シート(総体)'!$H114,\"00\"))","v":""},null,{"$f":"IF('入力シート(総体)'!$H115=\"\",\"\",TEXT('入力シート(総体)'!$H115,\"00\"))","v":""},null,{"$f":"IF('入力シート(総体)'!$H116=\"\",\"\",TEXT('入力シート(総体)'!$H116,\"00\"))","v":""},null,{"$f":"IF('入力シート(総体)'!$H117=\"\",\"\",TEXT('入力シート(総体)'!$H117,\"00\"))","v":""},null,{"$f":"IF('入力シート(総体)'!$H118=\"\",\"\",TEXT('入力シート(総体)'!$H118,\"00\"))","v":""},null,{"$f":"IF('入力シート(総体)'!$H119=\"\",\"\",TEXT('入力シート(総体)'!$H119,\"00\"))","v":""}]
[{"$f":"IF('入力シート(総体)'!$H115=\"\",\"\",大会コード)","v":""},{"$f":"IF('入力シート(総体)'!$H115=\"\",\"\",IF('入力シート(総体)'!$B115=\"男\",0,1))","v":""},{"$f":"IF('入力シート(総体)'!$H115=\"\",\"\",'入力シート(総体)'!C115)","v":""},{"$f":"IF('入力シート(総体)'!$H115=\"\",\"\",TEXT('入力シート(総体)'!$E115,\"000\"))","v":""},null,null,{"$f":"IF('入力シート(総体)'!$H115=\"\",\"\",学校番号)","v":""},{"$f":"IF('入力シート(総体)'!$H115=\"\",\"\",'入力シート(総体)'!$K115)","v":""},{"$nulls":3},{"$f":"IF('入力シート(総体)'!$H115=\"\",\"\",TEXT('入力シート(総体)'!$H115,\"00\"))","v":""},null,{"$f":"IF('入力シート(総体)'!$H116=\"\",\"\",TEXT('入力シート(総体)'!$H116,\"00\"))","v":""},null,{"$f":"IF('入力シート(総体)'!$H117=\"\",\"\",TEXT('入力シート(総体)'!$H117,\"00\"))","v":""},null,{"$f":"IF('入力シート(総体)'!$H118=\"\",\"\",TEXT('入力シート(総体)'!$H118,\"00\"))","v":""},null,{"$f":"IF('入力シート(総体)'!$H119=\"\",\"\",TEXT('入力シート(総体)'!$H119,\"00\"))","v":""},null,{"$f":"IF('入力シート(総体)'!$H120=\"\",\"\",TEXT('入力シート(総体)'!$H120,\"00\"))","v":""}]
[{"$f":"IF('入力シート(総体)'!$H116=\"\",\"\",大会コード)","v":""},{"$f":"IF('入力シート(総体)'!$H116=\"\",\"\",IF('入力シート(総体)'!$B116=\"男\",0,1))","v":""},{"$f":"IF('入力シート(総体)'!$H116=\"\",\"\",'入力シート(総体)'!C116)","v":""},{"$f":"IF('入力シート(総体)'!$H116=\"\",\"\",TEXT('入力シート(総体)'!$E116,\"000\"))","v":""},null,null,{"$f":"IF('入力シート(総体)'!$H116=\"\",\"\",学校番号)","v":""},{"$f":"IF('入力シート(総体)'!$H116=\"\",\"\",'入力シート(総体)'!$K116)","v":""},{"$nulls":3},{"$f":"IF('入力シート(総体)'!$H116=\"\",\"\",TEXT('入力シート(総体)'!$H116,\"00\"))","v":""},null,{"$f":"IF('入力シート(総体)'!$H117=\"\",\"\",TEXT('入力シート(総体)'!$H117,\"00\"))","v":""},null,{"$f":"IF('入力シート(総体)'!$H118=\"\",\"\",TEXT('入力シート(総体)'!$H118,\"00\"))","v":""},null,{"$f":"IF('入力シート(総体)'!$H119=\"\",\"\",TEXT('入力シート(総体)'!$H119,\"00\"))","v":""},null,{"$f":"IF('入力シート(総体)'!$H120=\"\",\"\",TEXT('入力シート(総体)'!$H120,\"00\"))","v":""},null,{"$f":"IF('入力シート(総体)'!$H121=\"\",\"\",TEXT('入力シート(総体)'!$H121,\"00\"))","v":""}]
[{"$f":"IF('入力シート(総体)'!$H117=\"\",\"\",大会コード)","v":""},{"$f":"IF('入力シート(総体)'!$H117=\"\",\"\",IF('入力シート(総体)'!$B117=\"男\",0,1))","v":""},{"$f":"IF('入力シート(総体)'!$H117=\"\",\"\",'入力シート(総体)'!C117)","v":""},{"$f":"IF('入力シート(総体)'!$H117=\"\",\"\",TEXT('入力シート(総体)'!$E117,\"000\"))","v":""},null,null,{"$f":"IF('入力シート(総体)'!$H117=\"\",\"\",学校番号)","v":""},{"$f":"IF('入力シート(総体)'!$H117=\"\",\"\",'入力シート(総体)'!$K117)","v":""},{"$nulls":3},{"$f":"IF('入力シート(総体)'!$H117=\"\",\"\",TEXT('入力シート(総体)'!$H117,\"00\"))","v":""},null,{"$f":"IF('入力シート(総体)'!$H118=\"\",\"\",TEXT('入力シート(総体)'!$H118,\"00\"))","v":""},null,{"$f":"IF('入力シート(総体)'!$H119=\"\",\"\",TEXT('入力シート(総体)'!$H119,\"00\"))","v":""},null,{"$f":"IF('入力シート(総体)'!$H120=\"\",\"\",TEXT('入力シート(総体)'!$H120,\"00\"))","v":""},null,{"$f":"IF('入力シート(総体)'!$H121=\"\",\"\",TEXT('入力シート(総体)'!$H121,\"00\"))","v":""},null,{"$f":"IF('入力シート(総体)'!$H122=\"\",\"\",TEXT('入力シート(総体)'!$H122,\"00\"))","v":""}]
[{"$f":"IF('入力シート(総体)'!$H118=\"\",\"\",大会コード)","v":""},{"$f":"IF('入力シート(総体)'!$H118=\"\",\"\",IF('入力シート(総体)'!$B118=\"男\",0,1))","v":""},{"$f":"IF('入力シート(総体)'!$H118=\"\",\"\",'入力シート(総体)'!C118)","v":""},{"$f":"IF('入力シート(総体)'!$H118=\"\",\"\",TEXT('入力シート(総体)'!$E118,\"000\"))","v":""},null,null,{"$f":"IF('入力シート(総体)'!$H118=\"\",\"\",学校番号)","v":""},{"$f":"IF('入力シート(総体)'!$H118=\"\",\"\",'入力シート(総体)'!$K118)","v":""},{"$nulls":3},{"$f":"IF('入力シート(総体)'!$H118=\"\",\"\",TEXT('入力シート(総体)'!$H118,\"00\"))","v":""},null,{"$f":"IF('入力シート(総体)'!$H119=\"\",\"\",TEXT('入力シート(総体)'!$H119,\"00\"))","v":""},null,{"$f":"IF('入力シート(総体)'!$H120=\"\",\"\",TEXT('入力シート(総体)'!$H120,\"00\"))","v":""},null,{"$f":"IF('入力シート(総体)'!$H121=\"\",\"\",TEXT('入力シート(総体)'!$H121,\"00\"))","v":""},null,{"$f":"IF('入力シート(総体)'!$H122=\"\",\"\",TEXT('入力シート(総体)'!$H122,\"00\"))","v":""},null,{"$f":"IF('入力シート(総体)'!$H123=\"\",\"\",TEXT('入力シート(総体)'!$H123,\"00\"))","v":""}]
[{"$f":"IF('入力シート(総体)'!$H119=\"\",\"\",大会コード)","v":""},{"$f":"IF('入力シート(総体)'!$H119=\"\",\"\",IF('入力シート(総体)'!$B119=\"男\",0,1))","v":""},{"$f":"IF('入力シート(総体)'!$H119=\"\",\"\",'入力シート(総体)'!C119)","v":""},{"$f":"IF('入力シート(総体)'!$H119=\"\",\"\",TEXT('入力シート(総体)'!$E119,\"000\"))","v":""},null,null,{"$f":"IF('入力シート(総体)'!$H119=\"\",\"\",学校番号)","v":""},{"$f":"IF('入力シート(総体)'!$H119=\"\",\"\",'入力シート(総体)'!$K119)","v":""},{"$nulls":3},{"$f":"IF('入力シート(総体)'!$H119=\"\",\"\",TEXT('入力シート(総体)'!$H119,\"00\"))","v":""},null,{"$f":"IF('入力シート(総体)'!$H120=\"\",\"\",TEXT('入力シート(総体)'!$H120,\"00\"))","v":""},null,{"$f":"IF('入力シート(総体)'!$H121=\"\",\"\",TEXT('入力シート(総体)'!$H121,\"00\"))","v":""},null,{"$f":"IF('入力シート(総体)'!$H122=\"\",\"\",TEXT('入力シート(総体)'!$H122,\"00\"))","v":""},null,{"$f":"IF('入力シート(総体)'!$H123=\"\",\"\",TEXT('入力シート(総体)'!$H123,\"00\"))","v":""},null,{"$f":"IF('入力シート(総体)'!$H124=\"\",\"\",TEXT('入力シート(総体)'!$H124,\"00\"))","v":""}]
[{"$f":"IF('入力シート(総体)'!$H120=\"\",\"\",大会コード)","v":""},{"$f":"IF('入力シート(総体)'!$H120=\"\",\"\",IF('入力シート(総体)'!$B120=\"男\",0,1))","v":""},{"$f":"IF('入力シート(総体)'!$H120=\"\",\"\",'入力シート(総体)'!C120)","v":""},{"$f":"IF('入力シート(総体)'!$H120=\"\",\"\",TEXT('入力シート(総体)'!$E120,\"000\"))","v":""},null,null,{"$f":"IF('入力シート(総体)'!$H120=\"\",\"\",学校番号)","v":""},{"$f":"IF('入力シート(総体)'!$H120=\"\",\"\",'入力シート(総体)'!$K120)","v":""},{"$nulls":3},{"$f":"IF('入力シート(総体)'!$H120=\"\",\"\",TEXT('入力シート(総体)'!$H120,\"00\"))","v":""},null,{"$f":"IF('入力シート(総体)'!$H121=\"\",\"\",TEXT('入力シート(総体)'!$H121,\"00\"))","v":""},null,{"$f":"IF('入力シート(総体)'!$H122=\"\",\"\",TEXT('入力シート(総体)'!$H122,\"00\"))","v":""},null,{"$f":"IF('入力シート(総体)'!$H123=\"\",\"\",TEXT('入力シート(総体)'!$H123,\"00\"))","v":""},null,{"$f":"IF('入力シート(総体)'!$H124=\"\",\"\",TEXT('入力シート(総体)'!$H124,\"00\"))","v":""},null,{"$f":"IF('入力シート(総体)'!$H125=\"\",\"\",TEXT('入力シート(総体)'!$H125,\"00\"))","v":""}]
[{"$f":"IF('入力シート(総体)'!$H121=\"\",\"\",大会コード)","v":""},{"$f":"IF('入力シート(総体)'!$H121=\"\",\"\",IF('入力シート(総体)'!$B121=\"男\",0,1))","v":""},{"$f":"IF('入力シート(総体)'!$H121=\"\",\"\",'入力シート(総体)'!C121)","v":""},{"$f":"IF('入力シート(総体)'!$H121=\"\",\"\",TEXT('入力シート(総体)'!$E121,\"000\"))","v":""},null,null,{"$f":"IF('入力シート(総体)'!$H121=\"\",\"\",学校番号)","v":""},{"$f":"IF('入力シート(総体)'!$H121=\"\",\"\",'入力シート(総体)'!$K121)","v":""},{"$nulls":3},{"$f":"IF('入力シート(総体)'!$H121=\"\",\"\",TEXT('入力シート(総体)'!$H121,\"00\"))","v":""},null,{"$f":"IF('入力シート(総体)'!$H122=\"\",\"\",TEXT('入力シート(総体)'!$H122,\"00\"))","v":""},null,{"$f":"IF('入力シート(総体)'!$H123=\"\",\"\",TEXT('入力シート(総体)'!$H123,\"00\"))","v":""},null,{"$f":"IF('入力シート(総体)'!$H124=\"\",\"\",TEXT('入力シート(総体)'!$H124,\"00\"))","v":""},null,{"$f":"IF('入力シート(総体)'!$H125=\"\",\"\",TEXT('入力シート(総体)'!$H125,\"00\"))","v":""},null,{"$f":"IF('入力シート(総体)'!$H126=\"\",\"\",TEXT('入力シート(総体)'!$H126,\"00\"))","v":""}]
[{"$f":"IF('入力シート(総体)'!$H122=\"\",\"\",大会コード)","v":""},{"$f":"IF('入力シート(総体)'!$H122=\"\",\"\",IF('入力シート(総体)'!$B122=\"男\",0,1))","v":""},{"$f":"IF('入力シート(総体)'!$H122=\"\",\"\",'入力シート(総体)'!C122)","v":""},{"$f":"IF('入力シート(総体)'!$H122=\"\",\"\",TEXT('入力シート(総体)'!$E122,\"000\"))","v":""},null,null,{"$f":"IF('入力シート(総体)'!$H122=\"\",\"\",学校番号)","v":""},{"$f":"IF('入力シート(総体)'!$H122=\"\",\"\",'入力シート(総体)'!$K122)","v":""},{"$nulls":3},{"$f":"IF('入力シート(総体)'!$H122=\"\",\"\",TEXT('入力シート(総体)'!$H122,\"00\"))","v":""},null,{"$f":"IF('入力シート(総体)'!$H123=\"\",\"\",TEXT('入力シート(総体)'!$H123,\"00\"))","v":""},null,{"$f":"IF('入力シート(総体)'!$H124=\"\",\"\",TEXT('入力シート(総体)'!$H124,\"00\"))","v":""},null,{"$f":"IF('入力シート(総体)'!$H125=\"\",\"\",TEXT('入力シート(総体)'!$H125,\"00\"))","v":""},null,{"$f":"IF('入力シート(総体)'!$H126=\"\",\"\",TEXT('入力シート(総体)'!$H126,\"00\"))","v":""},null,{"$f":"IF('入力シート(総体)'!$H127=\"\",\"\",TEXT('入力シート(総体)'!$H127,\"00\"))","v":""}]
[{"$f":"IF('入力シート(総体)'!$H123=\"\",\"\",大会コード)","v":""},{"$f":"IF('入力シート(総体)'!$H123=\"\",\"\",IF('入力シート(総体)'!$B123=\"男\",0,1))","v":""},{"$f":"IF('入力シート(総体)'!$H123=\"\",\"\",'入力シート(総体)'!C123)","v":""},{"$f":"IF('入力シート(総体)'!$H123=\"\",\"\",TEXT('入力シート(総体)'!$E123,\"000\"))","v":""},null,null,{"$f":"IF('入力シート(総体)'!$H123=\"\",\"\",学校番号)","v":""},{"$f":"IF('入力シート(総体)'!$H123=\"\",\"\",'入力シート(総体)'!$K123)","v":""},{"$nulls":3},{"$f":"IF('入力シート(総体)'!$H123=\"\",\"\",TEXT('入力シート(総体)'!$H123,\"00\"))","v":""},null,{"$f":"IF('入力シート(総体)'!$H124=\"\",\"\",TEXT('入力シート(総体)'!$H124,\"00\"))","v":""},null,{"$f":"IF('入力シート(総体)'!$H125=\"\",\"\",TEXT('入力シート(総体)'!$H125,\"00\"))","v":""},null,{"$f":"IF('入力シート(総体)'!$H126=\"\",\"\",TEXT('入力シート(総体)'!$H126,\"00\"))","v":""},null,{"$f":"IF('入力シート(総体)'!$H127=\"\",\"\",TEXT('入力シート(総体)'!$H127,\"00\"))","v":""},null,{"$f":"IF('入力シート(総体)'!$H128=\"\",\"\",TEXT('入力シート(総体)'!$H128,\"00\"))","v":""}]
[{"$f":"IF('入力シート(総体)'!$H124=\"\",\"\",大会コード)","v":""},{"$f":"IF('入力シート(総体)'!$H124=\"\",\"\",IF('入力シート(総体)'!$B124=\"男\",0,1))","v":""},{"$f":"IF('入力シート(総体)'!$H124=\"\",\"\",'入力シート(総体)'!C124)","v":""},{"$f":"IF('入力シート(総体)'!$H124=\"\",\"\",TEXT('入力シート(総体)'!$E124,\"000\"))","v":""},null,null,{"$f":"IF('入力シート(総体)'!$H124=\"\",\"\",学校番号)","v":""},{"$f":"IF('入力シート(総体)'!$H124=\"\",\"\",'入力シート(総体)'!$K124)","v":""},{"$nulls":3},{"$f":"IF('入力シート(総体)'!$H124=\"\",\"\",TEXT('入力シート(総体)'!$H124,\"00\"))","v":""},null,{"$f":"IF('入力シート(総体)'!$H125=\"\",\"\",TEXT('入力シート(総体)'!$H125,\"00\"))","v":""},null,{"$f":"IF('入力シート(総体)'!$H126=\"\",\"\",TEXT('入力シート(総体)'!$H126,\"00\"))","v":""},null,{"$f":"IF('入力シート(総体)'!$H127=\"\",\"\",TEXT('入力シート(総体)'!$H127,\"00\"))","v":""},null,{"$f":"IF('入力シート(総体)'!$H128=\"\",\"\",TEXT('入力シート(総体)'!$H128,\"00\"))","v":""},null,{"$f":"IF('入力シート(総体)'!$H129=\"\",\"\",TEXT('入力シート(総体)'!$H129,\"00\"))","v":""}]
[{"$f":"IF('入力シート(総体)'!$H125=\"\",\"\",大会コード)","v":""},{"$f":"IF('入力シート(総体)'!$H125=\"\",\"\",IF('入力シート(総体)'!$B125=\"男\",0,1))","v":""},{"$f":"IF('入力シート(総体)'!$H125=\"\",\"\",'入力シート(総体)'!C125)","v":""},{"$f":"IF('入力シート(総体)'!$H125=\"\",\"\",TEXT('入力シート(総体)'!$E125,\"000\"))","v":""},null,null,{"$f":"IF('入力シート(総体)'!$H125=\"\",\"\",学校番号)","v":""},{"$f":"IF('入力シート(総体)'!$H125=\"\",\"\",'入力シート(総体)'!$K125)","v":""},{"$nulls":3},{"$f":"IF('入力シート(総体)'!$H125=\"\",\"\",TEXT('入力シート(総体)'!$H125,\"00\"))","v":""},null,{"$f":"IF('入力シート(総体)'!$H126=\"\",\"\",TEXT('入力シート(総体)'!$H126,\"00\"))","v":""},null,{"$f":"IF('入力シート(総体)'!$H127=\"\",\"\",TEXT('入力シート(総体)'!$H127,\"00\"))","v":""},null,{"$f":"IF('入力シート(総体)'!$H128=\"\",\"\",TEXT('入力シート(総体)'!$H128,\"00\"))","v":""},null,{"$f":"IF('入力シート(総体)'!$H129=\"\",\"\",TEXT('入力シート(総体)'!$H129,\"00\"))","v":""},null,{"$f":"IF('入力シート(総体)'!$H130=\"\",\"\",TEXT('入力シート(総体)'!$H130,\"00\"))","v":""}]
[{"$f":"IF('入力シート(総体)'!$H126=\"\",\"\",大会コード)","v":""},{"$f":"IF('入力シート(総体)'!$H126=\"\",\"\",IF('入力シート(総体)'!$B126=\"男\",0,1))","v":""},{"$f":"IF('入力シート(総体)'!$H126=\"\",\"\",'入力シート(総体)'!C126)","v":""},{"$f":"IF('入力シート(総体)'!$H126=\"\",\"\",TEXT('入力シート(総体)'!$E126,\"000\"))","v":""},null,null,{"$f":"IF('入力シート(総体)'!$H126=\"\",\"\",学校番号)","v":""},{"$f":"IF('入力シート(総体)'!$H126=\"\",\"\",'入力シート(総体)'!$K126)","v":""},{"$nulls":3},{"$f":"IF('入力シート(総体)'!$H126=\"\",\"\",TEXT('入力シート(総体)'!$H126,\"00\"))","v":""},null,{"$f":"IF('入力シート(総体)'!$H127=\"\",\"\",TEXT('入力シート(総体)'!$H127,\"00\"))","v":""},null,{"$f":"IF('入力シート(総体)'!$H128=\"\",\"\",TEXT('入力シート(総体)'!$H128,\"00\"))","v":""},null,{"$f":"IF('入力シート(総体)'!$H129=\"\",\"\",TEXT('入力シート(総体)'!$H129,\"00\"))","v":""},null,{"$f":"IF('入力シート(総体)'!$H130=\"\",\"\",TEXT('入力シート(総体)'!$H130,\"00\"))","v":""},null,{"$f":"IF('入力シート(総体)'!$H131=\"\",\"\",TEXT('入力シート(総体)'!$H131,\"00\"))","v":""}]
[{"$f":"IF('入力シート(総体)'!$H127=\"\",\"\",大会コード)","v":""},{"$f":"IF('入力シート(総体)'!$H127=\"\",\"\",IF('入力シート(総体)'!$B127=\"男\",0,1))","v":""},{"$f":"IF('入力シート(総体)'!$H127=\"\",\"\",'入力シート(総体)'!C127)","v":""},{"$f":"IF('入力シート(総体)'!$H127=\"\",\"\",TEXT('入力シート(総体)'!$E127,\"000\"))","v":""},null,null,{"$f":"IF('入力シート(総体)'!$H127=\"\",\"\",学校番号)","v":""},{"$f":"IF('入力シート(総体)'!$H127=\"\",\"\",'入力シート(総体)'!$K127)","v":""},{"$nulls":3},{"$f":"IF('入力シート(総体)'!$H127=\"\",\"\",TEXT('入力シート(総体)'!$H127,\"00\"))","v":""},null,{"$f":"IF('入力シート(総体)'!$H128=\"\",\"\",TEXT('入力シート(総体)'!$H128,\"00\"))","v":""},null,{"$f":"IF('入力シート(総体)'!$H129=\"\",\"\",TEXT('入力シート(総体)'!$H129,\"00\"))","v":""},null,{"$f":"IF('入力シート(総体)'!$H130=\"\",\"\",TEXT('入力シート(総体)'!$H130,\"00\"))","v":""},null,{"$f":"IF('入力シート(総体)'!$H131=\"\",\"\",TEXT('入力シート(総体)'!$H131,\"00\"))","v":""},null,{"$f":"IF('入力シート(総体)'!$H132=\"\",\"\",TEXT('入力シート(総体)'!$H132,\"00\"))","v":""}]
[{"$f":"IF('入力シート(総体)'!$H128=\"\",\"\",大会コード)","v":""},{"$f":"IF('入力シート(総体)'!$H128=\"\",\"\",IF('入力シート(総体)'!$B128=\"男\",0,1))","v":""},{"$f":"IF('入力シート(総体)'!$H128=\"\",\"\",'入力シート(総体)'!C128)","v":""},{"$f":"IF('入力シート(総体)'!$H128=\"\",\"\",TEXT('入力シート(総体)'!$E128,\"000\"))","v":""},null,null,{"$f":"IF('入力シート(総体)'!$H128=\"\",\"\",学校番号)","v":""},{"$f":"IF('入力シート(総体)'!$H128=\"\",\"\",'入力シート(総体)'!$K128)","v":""},{"$nulls":3},{"$f":"IF('入力シート(総体)'!$H128=\"\",\"\",TEXT('入力シート(総体)'!$H128,\"00\"))","v":""},null,{"$f":"IF('入力シート(総体)'!$H129=\"\",\"\",TEXT('入力シート(総体)'!$H129,\"00\"))","v":""},null,{"$f":"IF('入力シート(総体)'!$H130=\"\",\"\",TEXT('入力シート(総体)'!$H130,\"00\"))","v":""},null,{"$f":"IF('入力シート(総体)'!$H131=\"\",\"\",TEXT('入力シート(総体)'!$H131,\"00\"))","v":""},null,{"$f":"IF('入力シート(総体)'!$H132=\"\",\"\",TEXT('入力シート(総体)'!$H132,\"00\"))","v":""},null,{"$f":"IF('入力シート(総体)'!$H133=\"\",\"\",TEXT('入力シート(総体)'!$H133,\"00\"))","v":""}]
[{"$f":"IF('入力シート(総体)'!$H129=\"\",\"\",大会コード)","v":""},{"$f":"IF('入力シート(総体)'!$H129=\"\",\"\",IF('入力シート(総体)'!$B129=\"男\",0,1))","v":""},{"$f":"IF('入力シート(総体)'!$H129=\"\",\"\",'入力シート(総体)'!C129)","v":""},{"$f":"IF('入力シート(総体)'!$H129=\"\",\"\",TEXT('入力シート(総体)'!$E129,\"000\"))","v":""},null,null,{"$f":"IF('入力シート(総体)'!$H129=\"\",\"\",学校番号)","v":""},{"$f":"IF('入力シート(総体)'!$H129=\"\",\"\",'入力シート(総体)'!$K129)","v":""},{"$nulls":3},{"$f":"IF('入力シート(総体)'!$H129=\"\",\"\",TEXT('入力シート(総体)'!$H129,\"00\"))","v":""},null,{"$f":"IF('入力シート(総体)'!$H130=\"\",\"\",TEXT('入力シート(総体)'!$H130,\"00\"))","v":""},null,{"$f":"IF('入力シート(総体)'!$H131=\"\",\"\",TEXT('入力シート(総体)'!$H131,\"00\"))","v":""},null,{"$f":"IF('入力シート(総体)'!$H132=\"\",\"\",TEXT('入力シート(総体)'!$H132,\"00\"))","v":""},null,{"$f":"IF('入力シート(総体)'!$H133=\"\",\"\",TEXT('入力シート(総体)'!$H133,\"00\"))","v":""},null,{"$f":"IF('入力シート(総体)'!$H134=\"\",\"\",TEXT('入力シート(総体)'!$H134,\"00\"))","v":""}]
[{"$f":"IF('入力シート(総体)'!$H130=\"\",\"\",大会コード)","v":""},{"$f":"IF('入力シート(総体)'!$H130=\"\",\"\",IF('入力シート(総体)'!$B130=\"男\",0,1))","v":""},{"$f":"IF('入力シート(総体)'!$H130=\"\",\"\",'入力シート(総体)'!C130)","v":""},{"$f":"IF('入力シート(総体)'!$H130=\"\",\"\",TEXT('入力シート(総体)'!$E130,\"000\"))","v":""},null,null,{"$f":"IF('入力シート(総体)'!$H130=\"\",\"\",学校番号)","v":""},{"$f":"IF('入力シート(総体)'!$H130=\"\",\"\",'入力シート(総体)'!$K130)","v":""},{"$nulls":3},{"$f":"IF('入力シート(総体)'!$H130=\"\",\"\",TEXT('入力シート(総体)'!$H130,\"00\"))","v":""},null,{"$f":"IF('入力シート(総体)'!$H131=\"\",\"\",TEXT('入力シート(総体)'!$H131,\"00\"))","v":""},null,{"$f":"IF('入力シート(総体)'!$H132=\"\",\"\",TEXT('入力シート(総体)'!$H132,\"00\"))","v":""},null,{"$f":"IF('入力シート(総体)'!$H133=\"\",\"\",TEXT('入力シート(総体)'!$H133,\"00\"))","v":""},null,{"$f":"IF('入力シート(総体)'!$H134=\"\",\"\",TEXT('入力シート(総体)'!$H134,\"00\"))","v":""},null,{"$f":"IF('入力シート(総体)'!$H135=\"\",\"\",TEXT('入力シート(総体)'!$H135,\"00\"))","v":""}]
[{"$f":"IF('入力シート(総体)'!$H131=\"\",\"\",大会コード)","v":""},{"$f":"IF('入力シート(総体)'!$H131=\"\",\"\",IF('入力シート(総体)'!$B131=\"男\",0,1))","v":""},{"$f":"IF('入力シート(総体)'!$H131=\"\",\"\",'入力シート(総体)'!C131)","v":""},{"$f":"IF('入力シート(総体)'!$H131=\"\",\"\",TEXT('入力シート(総体)'!$E131,\"000\"))","v":""},null,null,{"$f":"IF('入力シート(総体)'!$H131=\"\",\"\",学校番号)","v":""},{"$f":"IF('入力シート(総体)'!$H131=\"\",\"\",'入力シート(総体)'!$K131)","v":""},{"$nulls":3},{"$f":"IF('入力シート(総体)'!$H131=\"\",\"\",TEXT('入力シート(総体)'!$H131,\"00\"))","v":""},null,{"$f":"IF('入力シート(総体)'!$H132=\"\",\"\",TEXT('入力シート(総体)'!$H132,\"00\"))","v":""},null,{"$f":"IF('入力シート(総体)'!$H133=\"\",\"\",TEXT('入力シート(総体)'!$H133,\"00\"))","v":""},null,{"$f":"IF('入力シート(総体)'!$H134=\"\",\"\",TEXT('入力シート(総体)'!$H134,\"00\"))","v":""},null,{"$f":"IF('入力シート(総体)'!$H135=\"\",\"\",TEXT('入力シート(総体)'!$H135,\"00\"))","v":""},null,{"$f":"IF('入力シート(総体)'!$H136=\"\",\"\",TEXT('入力シート(総体)'!$H136,\"00\"))","v":""}]
[{"$f":"IF('入力シート(総体)'!$H132=\"\",\"\",大会コード)","v":""},{"$f":"IF('入力シート(総体)'!$H132=\"\",\"\",IF('入力シート(総体)'!$B132=\"男\",0,1))","v":""},{"$f":"IF('入力シート(総体)'!$H132=\"\",\"\",'入力シート(総体)'!C132)","v":""},{"$f":"IF('入力シート(総体)'!$H132=\"\",\"\",TEXT('入力シート(総体)'!$E132,\"000\"))","v":""},null,null,{"$f":"IF('入力シート(総体)'!$H132=\"\",\"\",学校番号)","v":""},{"$f":"IF('入力シート(総体)'!$H132=\"\",\"\",'入力シート(総体)'!$K132)","v":""},{"$nulls":3},{"$f":"IF('入力シート(総体)'!$H132=\"\",\"\",TEXT('入力シート(総体)'!$H132,\"00\"))","v":""},null,{"$f":"IF('入力シート(総体)'!$H133=\"\",\"\",TEXT('入力シート(総体)'!$H133,\"00\"))","v":""},null,{"$f":"IF('入力シート(総体)'!$H134=\"\",\"\",TEXT('入力シート(総体)'!$H134,\"00\"))","v":""},null,{"$f":"IF('入力シート(総体)'!$H135=\"\",\"\",TEXT('入力シート(総体)'!$H135,\"00\"))","v":""},null,{"$f":"IF('入力シート(総体)'!$H136=\"\",\"\",TEXT('入力シート(総体)'!$H136,\"00\"))","v":""},null,{"$f":"IF('入力シート(総体)'!$H137=\"\",\"\",TEXT('入力シート(総体)'!$H137,\"00\"))","v":""}]
[{"$f":"IF('入力シート(総体)'!$H133=\"\",\"\",大会コード)","v":""},{"$f":"IF('入力シート(総体)'!$H133=\"\",\"\",IF('入力シート(総体)'!$B133=\"男\",0,1))","v":""},{"$f":"IF('入力シート(総体)'!$H133=\"\",\"\",'入力シート(総体)'!C133)","v":""},{"$f":"IF('入力シート(総体)'!$H133=\"\",\"\",TEXT('入力シート(総体)'!$E133,\"000\"))","v":""},null,null,{"$f":"IF('入力シート(総体)'!$H133=\"\",\"\",学校番号)","v":""},{"$f":"IF('入力シート(総体)'!$H133=\"\",\"\",'入力シート(総体)'!$K133)","v":""},{"$nulls":3},{"$f":"IF('入力シート(総体)'!$H133=\"\",\"\",TEXT('入力シート(総体)'!$H133,\"00\"))","v":""},null,{"$f":"IF('入力シート(総体)'!$H134=\"\",\"\",TEXT('入力シート(総体)'!$H134,\"00\"))","v":""},null,{"$f":"IF('入力シート(総体)'!$H135=\"\",\"\",TEXT('入力シート(総体)'!$H135,\"00\"))","v":""},null,{"$f":"IF('入力シート(総体)'!$H136=\"\",\"\",TEXT('入力シート(総体)'!$H136,\"00\"))","v":""},null,{"$f":"IF('入力シート(総体)'!$H137=\"\",\"\",TEXT('入力シート(総体)'!$H137,\"00\"))","v":""},null,{"$f":"IF('入力シート(総体)'!$H138=\"\",\"\",TEXT('入力シート(総体)'!$H138,\"00\"))","v":""}]
[{"$f":"IF('入力シート(総体)'!$H134=\"\",\"\",大会コード)","v":""},{"$f":"IF('入力シート(総体)'!$H134=\"\",\"\",IF('入力シート(総体)'!$B134=\"男\",0,1))","v":""},{"$f":"IF('入力シート(総体)'!$H134=\"\",\"\",'入力シート(総体)'!C134)","v":""},{"$f":"IF('入力シート(総体)'!$H134=\"\",\"\",TEXT('入力シート(総体)'!$E134,\"000\"))","v":""},null,null,{"$f":"IF('入力シート(総体)'!$H134=\"\",\"\",学校番号)","v":""},{"$f":"IF('入力シート(総体)'!$H134=\"\",\"\",'入力シート(総体)'!$K134)","v":""},{"$nulls":3},{"$f":"IF('入力シート(総体)'!$H134=\"\",\"\",TEXT('入力シート(総体)'!$H134,\"00\"))","v":""},null,{"$f":"IF('入力シート(総体)'!$H135=\"\",\"\",TEXT('入力シート(総体)'!$H135,\"00\"))","v":""},null,{"$f":"IF('入力シート(総体)'!$H136=\"\",\"\",TEXT('入力シート(総体)'!$H136,\"00\"))","v":""},null,{"$f":"IF('入力シート(総体)'!$H137=\"\",\"\",TEXT('入力シート(総体)'!$H137,\"00\"))","v":""},null,{"$f":"IF('入力シート(総体)'!$H138=\"\",\"\",TEXT('入力シート(総体)'!$H138,\"00\"))","v":""},null,{"$f":"IF('入力シート(総体)'!$H139=\"\",\"\",TEXT('入力シート(総体)'!$H139,\"00\"))","v":""}]
[{"$f":"IF('入力シート(総体)'!$H135=\"\",\"\",大会コード)","v":""},{"$f":"IF('入力シート(総体)'!$H135=\"\",\"\",IF('入力シート(総体)'!$B135=\"男\",0,1))","v":""},{"$f":"IF('入力シート(総体)'!$H135=\"\",\"\",'入力シート(総体)'!C135)","v":""},{"$f":"IF('入力シート(総体)'!$H135=\"\",\"\",TEXT('入力シート(総体)'!$E135,\"000\"))","v":""},null,null,{"$f":"IF('入力シート(総体)'!$H135=\"\",\"\",学校番号)","v":""},{"$f":"IF('入力シート(総体)'!$H135=\"\",\"\",'入力シート(総体)'!$K135)","v":""},{"$nulls":3},{"$f":"IF('入力シート(総体)'!$H135=\"\",\"\",TEXT('入力シート(総体)'!$H135,\"00\"))","v":""},null,{"$f":"IF('入力シート(総体)'!$H136=\"\",\"\",TEXT('入力シート(総体)'!$H136,\"00\"))","v":""},null,{"$f":"IF('入力シート(総体)'!$H137=\"\",\"\",TEXT('入力シート(総体)'!$H137,\"00\"))","v":""},null,{"$f":"IF('入力シート(総体)'!$H138=\"\",\"\",TEXT('入力シート(総体)'!$H138,\"00\"))","v":""},null,{"$f":"IF('入力シート(総体)'!$H139=\"\",\"\",TEXT('入力シート(総体)'!$H139,\"00\"))","v":""},null,{"$f":"IF('入力シート(総体)'!$H140=\"\",\"\",TEXT('入力シート(総体)'!$H140,\"00\"))","v":""}]
[{"$f":"IF('入力シート(総体)'!$H136=\"\",\"\",大会コード)","v":""},{"$f":"IF('入力シート(総体)'!$H136=\"\",\"\",IF('入力シート(総体)'!$B136=\"男\",0,1))","v":""},{"$f":"IF('入力シート(総体)'!$H136=\"\",\"\",'入力シート(総体)'!C136)","v":""},{"$f":"IF('入力シート(総体)'!$H136=\"\",\"\",TEXT('入力シート(総体)'!$E136,\"000\"))","v":""},null,null,{"$f":"IF('入力シート(総体)'!$H136=\"\",\"\",学校番号)","v":""},{"$f":"IF('入力シート(総体)'!$H136=\"\",\"\",'入力シート(総体)'!$K136)","v":""},{"$nulls":3},{"$f":"IF('入力シート(総体)'!$H136=\"\",\"\",TEXT('入力シート(総体)'!$H136,\"00\"))","v":""},null,{"$f":"IF('入力シート(総体)'!$H137=\"\",\"\",TEXT('入力シート(総体)'!$H137,\"00\"))","v":""},null,{"$f":"IF('入力シート(総体)'!$H138=\"\",\"\",TEXT('入力シート(総体)'!$H138,\"00\"))","v":""},null,{"$f":"IF('入力シート(総体)'!$H139=\"\",\"\",TEXT('入力シート(総体)'!$H139,\"00\"))","v":""},null,{"$f":"IF('入力シート(総体)'!$H140=\"\",\"\",TEXT('入力シート(総体)'!$H140,\"00\"))","v":""},null,{"$f":"IF('入力シート(総体)'!$H141=\"\",\"\",TEXT('入力シート(総体)'!$H141,\"00\"))","v":""}]
[{"$f":"IF('入力シート(総体)'!$H137=\"\",\"\",大会コード)","v":""},{"$f":"IF('入力シート(総体)'!$H137=\"\",\"\",IF('入力シート(総体)'!$B137=\"男\",0,1))","v":""},{"$f":"IF('入力シート(総体)'!$H137=\"\",\"\",'入力シート(総体)'!C137)","v":""},{"$f":"IF('入力シート(総体)'!$H137=\"\",\"\",TEXT('入力シート(総体)'!$E137,\"000\"))","v":""},null,null,{"$f":"IF('入力シート(総体)'!$H137=\"\",\"\",学校番号)","v":""},{"$f":"IF('入力シート(総体)'!$H137=\"\",\"\",'入力シート(総体)'!$K137)","v":""},{"$nulls":3},{"$f":"IF('入力シート(総体)'!$H137=\"\",\"\",TEXT('入力シート(総体)'!$H137,\"00\"))","v":""},null,{"$f":"IF('入力シート(総体)'!$H138=\"\",\"\",TEXT('入力シート(総体)'!$H138,\"00\"))","v":""},null,{"$f":"IF('入力シート(総体)'!$H139=\"\",\"\",TEXT('入力シート(総体)'!$H139,\"00\"))","v":""},null,{"$f":"IF('入力シート(総体)'!$H140=\"\",\"\",TEXT('入力シート(総体)'!$H140,\"00\"))","v":""},null,{"$f":"IF('入力シート(総体)'!$H141=\"\",\"\",TEXT('入力シート(総体)'!$H141,\"00\"))","v":""},null,{"$f":"IF('入力シート(総体)'!$H142=\"\",\"\",TEXT('入力シート(総体)'!$H142,\"00\"))","v":""}]
[{"$f":"IF('入力シート(総体)'!$H138=\"\",\"\",大会コード)","v":""},{"$f":"IF('入力シート(総体)'!$H138=\"\",\"\",IF('入力シート(総体)'!$B138=\"男\",0,1))","v":""},{"$f":"IF('入力シート(総体)'!$H138=\"\",\"\",'入力シート(総体)'!C138)","v":""},{"$f":"IF('入力シート(総体)'!$H138=\"\",\"\",TEXT('入力シート(総体)'!$E138,\"000\"))","v":""},null,null,{"$f":"IF('入力シート(総体)'!$H138=\"\",\"\",学校番号)","v":""},{"$f":"IF('入力シート(総体)'!$H138=\"\",\"\",'入力シート(総体)'!$K138)","v":""},{"$nulls":3},{"$f":"IF('入力シート(総体)'!$H138=\"\",\"\",TEXT('入力シート(総体)'!$H138,\"00\"))","v":""},null,{"$f":"IF('入力シート(総体)'!$H139=\"\",\"\",TEXT('入力シート(総体)'!$H139,\"00\"))","v":""},null,{"$f":"IF('入力シート(総体)'!$H140=\"\",\"\",TEXT('入力シート(総体)'!$H140,\"00\"))","v":""},null,{"$f":"IF('入力シート(総体)'!$H141=\"\",\"\",TEXT('入力シート(総体)'!$H141,\"00\"))","v":""},null,{"$f":"IF('入力シート(総体)'!$H142=\"\",\"\",TEXT('入力シート(総体)'!$H142,\"00\"))","v":""},null,{"$f":"IF('入力シート(総体)'!$H143=\"\",\"\",TEXT('入力シート(総体)'!$H143,\"00\"))","v":""}]
[{"$f":"IF('入力シート(総体)'!$H139=\"\",\"\",大会コード)","v":""},{"$f":"IF('入力シート(総体)'!$H139=\"\",\"\",IF('入力シート(総体)'!$B139=\"男\",0,1))","v":""},{"$f":"IF('入力シート(総体)'!$H139=\"\",\"\",'入力シート(総体)'!C139)","v":""},{"$f":"IF('入力シート(総体)'!$H139=\"\",\"\",TEXT('入力シート(総体)'!$E139,\"000\"))","v":""},null,null,{"$f":"IF('入力シート(総体)'!$H139=\"\",\"\",学校番号)","v":""},{"$f":"IF('入力シート(総体)'!$H139=\"\",\"\",'入力シート(総体)'!$K139)","v":""},{"$nulls":3},{"$f":"IF('入力シート(総体)'!$H139=\"\",\"\",TEXT('入力シート(総体)'!$H139,\"00\"))","v":""},null,{"$f":"IF('入力シート(総体)'!$H140=\"\",\"\",TEXT('入力シート(総体)'!$H140,\"00\"))","v":""},null,{"$f":"IF('入力シート(総体)'!$H141=\"\",\"\",TEXT('入力シート(総体)'!$H141,\"00\"))","v":""},null,{"$f":"IF('入力シート(総体)'!$H142=\"\",\"\",TEXT('入力シート(総体)'!$H142,\"00\"))","v":""},null,{"$f":"IF('入力シート(総体)'!$H143=\"\",\"\",TEXT('入力シート(総体)'!$H143,\"00\"))","v":""},null,{"$f":"IF('入力シート(総体)'!$H144=\"\",\"\",TEXT('入力シート(総体)'!$H144,\"00\"))","v":""}]
[{"$f":"IF('入力シート(総体)'!$H140=\"\",\"\",大会コード)","v":""},{"$f":"IF('入力シート(総体)'!$H140=\"\",\"\",IF('入力シート(総体)'!$B140=\"男\",0,1))","v":""},{"$f":"IF('入力シート(総体)'!$H140=\"\",\"\",'入力シート(総体)'!C140)","v":""},{"$f":"IF('入力シート(総体)'!$H140=\"\",\"\",TEXT('入力シート(総体)'!$E140,\"000\"))","v":""},null,null,{"$f":"IF('入力シート(総体)'!$H140=\"\",\"\",学校番号)","v":""},{"$f":"IF('入力シート(総体)'!$H140=\"\",\"\",'入力シート(総体)'!$K140)","v":""},{"$nulls":3},{"$f":"IF('入力シート(総体)'!$H140=\"\",\"\",TEXT('入力シート(総体)'!$H140,\"00\"))","v":""},null,{"$f":"IF('入力シート(総体)'!$H141=\"\",\"\",TEXT('入力シート(総体)'!$H141,\"00\"))","v":""},null,{"$f":"IF('入力シート(総体)'!$H142=\"\",\"\",TEXT('入力シート(総体)'!$H142,\"00\"))","v":""},null,{"$f":"IF('入力シート(総体)'!$H143=\"\",\"\",TEXT('入力シート(総体)'!$H143,\"00\"))","v":""},null,{"$f":"IF('入力シート(総体)'!$H144=\"\",\"\",TEXT('入力シート(総体)'!$H144,\"00\"))","v":""},null,{"$f":"IF('入力シート(総体)'!$H145=\"\",\"\",TEXT('入力シート(総体)'!$H145,\"00\"))","v":""}]
[{"$f":"IF('入力シート(総体)'!$H141=\"\",\"\",大会コード)","v":""},{"$f":"IF('入力シート(総体)'!$H141=\"\",\"\",IF('入力シート(総体)'!$B141=\"男\",0,1))","v":""},{"$f":"IF('入力シート(総体)'!$H141=\"\",\"\",'入力シート(総体)'!C141)","v":""},{"$f":"IF('入力シート(総体)'!$H141=\"\",\"\",TEXT('入力シート(総体)'!$E141,\"000\"))","v":""},null,null,{"$f":"IF('入力シート(総体)'!$H141=\"\",\"\",学校番号)","v":""},{"$f":"IF('入力シート(総体)'!$H141=\"\",\"\",'入力シート(総体)'!$K141)","v":""},{"$nulls":3},{"$f":"IF('入力シート(総体)'!$H141=\"\",\"\",TEXT('入力シート(総体)'!$H141,\"00\"))","v":""},null,{"$f":"IF('入力シート(総体)'!$H142=\"\",\"\",TEXT('入力シート(総体)'!$H142,\"00\"))","v":""},null,{"$f":"IF('入力シート(総体)'!$H143=\"\",\"\",TEXT('入力シート(総体)'!$H143,\"00\"))","v":""},null,{"$f":"IF('入力シート(総体)'!$H144=\"\",\"\",TEXT('入力シート(総体)'!$H144,\"00\"))","v":""},null,{"$f":"IF('入力シート(総体)'!$H145=\"\",\"\",TEXT('入力シート(総体)'!$H145,\"00\"))","v":""},null,{"$f":"IF('入力シート(総体)'!$H146=\"\",\"\",TEXT('入力シート(総体)'!$H146,\"00\"))","v":""}]
[{"$f":"IF('入力シート(総体)'!$H142=\"\",\"\",大会コード)","v":""},{"$f":"IF('入力シート(総体)'!$H142=\"\",\"\",IF('入力シート(総体)'!$B142=\"男\",0,1))","v":""},{"$f":"IF('入力シート(総体)'!$H142=\"\",\"\",'入力シート(総体)'!C142)","v":""},{"$f":"IF('入力シート(総体)'!$H142=\"\",\"\",TEXT('入力シート(総体)'!$E142,\"000\"))","v":""},null,null,{"$f":"IF('入力シート(総体)'!$H142=\"\",\"\",学校番号)","v":""},{"$f":"IF('入力シート(総体)'!$H142=\"\",\"\",'入力シート(総体)'!$K142)","v":""},{"$nulls":3},{"$f":"IF('入力シート(総体)'!$H142=\"\",\"\",TEXT('入力シート(総体)'!$H142,\"00\"))","v":""},null,{"$f":"IF('入力シート(総体)'!$H143=\"\",\"\",TEXT('入力シート(総体)'!$H143,\"00\"))","v":""},null,{"$f":"IF('入力シート(総体)'!$H144=\"\",\"\",TEXT('入力シート(総体)'!$H144,\"00\"))","v":""},null,{"$f":"IF('入力シート(総体)'!$H145=\"\",\"\",TEXT('入力シート(総体)'!$H145,\"00\"))","v":""},null,{"$f":"IF('入力シート(総体)'!$H146=\"\",\"\",TEXT('入力シート(総体)'!$H146,\"00\"))","v":""},null,{"$f":"IF('入力シート(総体)'!$H147=\"\",\"\",TEXT('入力シート(総体)'!$H147,\"00\"))","v":""}]
[{"$f":"IF('入力シート(総体)'!$H143=\"\",\"\",大会コード)","v":""},{"$f":"IF('入力シート(総体)'!$H143=\"\",\"\",IF('入力シート(総体)'!$B143=\"男\",0,1))","v":""},{"$f":"IF('入力シート(総体)'!$H143=\"\",\"\",'入力シート(総体)'!C143)","v":""},{"$f":"IF('入力シート(総体)'!$H143=\"\",\"\",TEXT('入力シート(総体)'!$E143,\"000\"))","v":""},null,null,{"$f":"IF('入力シート(総体)'!$H143=\"\",\"\",学校番号)","v":""},{"$f":"IF('入力シート(総体)'!$H143=\"\",\"\",'入力シート(総体)'!$K143)","v":""},{"$nulls":3},{"$f":"IF('入力シート(総体)'!$H143=\"\",\"\",TEXT('入力シート(総体)'!$H143,\"00\"))","v":""},null,{"$f":"IF('入力シート(総体)'!$H144=\"\",\"\",TEXT('入力シート(総体)'!$H144,\"00\"))","v":""},null,{"$f":"IF('入力シート(総体)'!$H145=\"\",\"\",TEXT('入力シート(総体)'!$H145,\"00\"))","v":""},null,{"$f":"IF('入力シート(総体)'!$H146=\"\",\"\",TEXT('入力シート(総体)'!$H146,\"00\"))","v":""},null,{"$f":"IF('入力シート(総体)'!$H147=\"\",\"\",TEXT('入力シート(総体)'!$H147,\"00\"))","v":""},null,{"$f":"IF('入力シート(総体)'!$H148=\"\",\"\",TEXT('入力シート(総体)'!$H148,\"00\"))","v":""}]
[{"$f":"IF('入力シート(総体)'!$H144=\"\",\"\",大会コード)","v":""},{"$f":"IF('入力シート(総体)'!$H144=\"\",\"\",IF('入力シート(総体)'!$B144=\"男\",0,1))","v":""},{"$f":"IF('入力シート(総体)'!$H144=\"\",\"\",'入力シート(総体)'!C144)","v":""},{"$f":"IF('入力シート(総体)'!$H144=\"\",\"\",TEXT('入力シート(総体)'!$E144,\"000\"))","v":""},null,null,{"$f":"IF('入力シート(総体)'!$H144=\"\",\"\",学校番号)","v":""},{"$f":"IF('入力シート(総体)'!$H144=\"\",\"\",'入力シート(総体)'!$K144)","v":""},{"$nulls":3},{"$f":"IF('入力シート(総体)'!$H144=\"\",\"\",TEXT('入力シート(総体)'!$H144,\"00\"))","v":""},null,{"$f":"IF('入力シート(総体)'!$H145=\"\",\"\",TEXT('入力シート(総体)'!$H145,\"00\"))","v":""},null,{"$f":"IF('入力シート(総体)'!$H146=\"\",\"\",TEXT('入力シート(総体)'!$H146,\"00\"))","v":""},null,{"$f":"IF('入力シート(総体)'!$H147=\"\",\"\",TEXT('入力シート(総体)'!$H147,\"00\"))","v":""},null,{"$f":"IF('入力シート(総体)'!$H148=\"\",\"\",TEXT('入力シート(総体)'!$H148,\"00\"))","v":""},null,{"$f":"IF('入力シート(総体)'!$H149=\"\",\"\",TEXT('入力シート(総体)'!$H149,\"00\"))","v":""}]
[{"$f":"IF('入力シート(総体)'!$H145=\"\",\"\",大会コード)","v":""},{"$f":"IF('入力シート(総体)'!$H145=\"\",\"\",IF('入力シート(総体)'!$B145=\"男\",0,1))","v":""},{"$f":"IF('入力シート(総体)'!$H145=\"\",\"\",'入力シート(総体)'!C145)","v":""},{"$f":"IF('入力シート(総体)'!$H145=\"\",\"\",TEXT('入力シート(総体)'!$E145,\"000\"))","v":""},null,null,{"$f":"IF('入力シート(総体)'!$H145=\"\",\"\",学校番号)","v":""},{"$f":"IF('入力シート(総体)'!$H145=\"\",\"\",'入力シート(総体)'!$K145)","v":""},{"$nulls":3},{"$f":"IF('入力シート(総体)'!$H145=\"\",\"\",TEXT('入力シート(総体)'!$H145,\"00\"))","v":""},null,{"$f":"IF('入力シート(総体)'!$H146=\"\",\"\",TEXT('入力シート(総体)'!$H146,\"00\"))","v":""},null,{"$f":"IF('入力シート(総体)'!$H147=\"\",\"\",TEXT('入力シート(総体)'!$H147,\"00\"))","v":""},null,{"$f":"IF('入力シート(総体)'!$H148=\"\",\"\",TEXT('入力シート(総体)'!$H148,\"00\"))","v":""},null,{"$f":"IF('入力シート(総体)'!$H149=\"\",\"\",TEXT('入力シート(総体)'!$H149,\"00\"))","v":""},null,{"$f":"IF('入力シート(総体)'!$H150=\"\",\"\",TEXT('入力シート(総体)'!$H150,\"00\"))","v":""}]
[{"$f":"IF('入力シート(総体)'!$H146=\"\",\"\",大会コード)","v":""},{"$f":"IF('入力シート(総体)'!$H146=\"\",\"\",IF('入力シート(総体)'!$B146=\"男\",0,1))","v":""},{"$f":"IF('入力シート(総体)'!$H146=\"\",\"\",'入力シート(総体)'!C146)","v":""},{"$f":"IF('入力シート(総体)'!$H146=\"\",\"\",TEXT('入力シート(総体)'!$E146,\"000\"))","v":""},null,null,{"$f":"IF('入力シート(総体)'!$H146=\"\",\"\",学校番号)","v":""},{"$f":"IF('入力シート(総体)'!$H146=\"\",\"\",'入力シート(総体)'!$K146)","v":""},{"$nulls":3},{"$f":"IF('入力シート(総体)'!$H146=\"\",\"\",TEXT('入力シート(総体)'!$H146,\"00\"))","v":""},null,{"$f":"IF('入力シート(総体)'!$H147=\"\",\"\",TEXT('入力シート(総体)'!$H147,\"00\"))","v":""},null,{"$f":"IF('入力シート(総体)'!$H148=\"\",\"\",TEXT('入力シート(総体)'!$H148,\"00\"))","v":""},null,{"$f":"IF('入力シート(総体)'!$H149=\"\",\"\",TEXT('入力シート(総体)'!$H149,\"00\"))","v":""},null,{"$f":"IF('入力シート(総体)'!$H150=\"\",\"\",TEXT('入力シート(総体)'!$H150,\"00\"))","v":""},null,{"$f":"IF('入力シート(総体)'!$H151=\"\",\"\",TEXT('入力シート(総体)'!$H151,\"00\"))","v":""}]
[{"$f":"IF('入力シート(総体)'!$H147=\"\",\"\",大会コード)","v":""},{"$f":"IF('入力シート(総体)'!$H147=\"\",\"\",IF('入力シート(総体)'!$B147=\"男\",0,1))","v":""},{"$f":"IF('入力シート(総体)'!$H147=\"\",\"\",'入力シート(総体)'!C147)","v":""},{"$f":"IF('入力シート(総体)'!$H147=\"\",\"\",TEXT('入力シート(総体)'!$E147,\"000\"))","v":""},null,null,{"$f":"IF('入力シート(総体)'!$H147=\"\",\"\",学校番号)","v":""},{"$f":"IF('入力シート(総体)'!$H147=\"\",\"\",'入力シート(総体)'!$K147)","v":""},{"$nulls":3},{"$f":"IF('入力シート(総体)'!$H147=\"\",\"\",TEXT('入力シート(総体)'!$H147,\"00\"))","v":""},null,{"$f":"IF('入力シート(総体)'!$H148=\"\",\"\",TEXT('入力シート(総体)'!$H148,\"00\"))","v":""},null,{"$f":"IF('入力シート(総体)'!$H149=\"\",\"\",TEXT('入力シート(総体)'!$H149,\"00\"))","v":""},null,{"$f":"IF('入力シート(総体)'!$H150=\"\",\"\",TEXT('入力シート(総体)'!$H150,\"00\"))","v":""},null,{"$f":"IF('入力シート(総体)'!$H151=\"\",\"\",TEXT('入力シート(総体)'!$H151,\"00\"))","v":""},null,{"$f":"IF('入力シート(総体)'!$H152=\"\",\"\",TEXT('入力シート(総体)'!$H152,\"00\"))","v":""}]
[{"$f":"IF('入力シート(総体)'!$H148=\"\",\"\",大会コード)","v":""},{"$f":"IF('入力シート(総体)'!$H148=\"\",\"\",IF('入力シート(総体)'!$B148=\"男\",0,1))","v":""},{"$f":"IF('入力シート(総体)'!$H148=\"\",\"\",'入力シート(総体)'!C148)","v":""},{"$f":"IF('入力シート(総体)'!$H148=\"\",\"\",TEXT('入力シート(総体)'!$E148,\"000\"))","v":""},null,null,{"$f":"IF('入力シート(総体)'!$H148=\"\",\"\",学校番号)","v":""},{"$f":"IF('入力シート(総体)'!$H148=\"\",\"\",'入力シート(総体)'!$K148)","v":""},{"$nulls":3},{"$f":"IF('入力シート(総体)'!$H148=\"\",\"\",TEXT('入力シート(総体)'!$H148,\"00\"))","v":""},null,{"$f":"IF('入力シート(総体)'!$H149=\"\",\"\",TEXT('入力シート(総体)'!$H149,\"00\"))","v":""},null,{"$f":"IF('入力シート(総体)'!$H150=\"\",\"\",TEXT('入力シート(総体)'!$H150,\"00\"))","v":""},null,{"$f":"IF('入力シート(総体)'!$H151=\"\",\"\",TEXT('入力シート(総体)'!$H151,\"00\"))","v":""},null,{"$f":"IF('入力シート(総体)'!$H152=\"\",\"\",TEXT('入力シート(総体)'!$H152,\"00\"))","v":""},null,{"$f":"IF('入力シート(総体)'!$H153=\"\",\"\",TEXT('入力シート(総体)'!$H153,\"00\"))","v":""}]
[{"$f":"IF('入力シート(総体)'!$H149=\"\",\"\",大会コード)","v":""},{"$f":"IF('入力シート(総体)'!$H149=\"\",\"\",IF('入力シート(総体)'!$B149=\"男\",0,1))","v":""},{"$f":"IF('入力シート(総体)'!$H149=\"\",\"\",'入力シート(総体)'!C149)","v":""},{"$f":"IF('入力シート(総体)'!$H149=\"\",\"\",TEXT('入力シート(総体)'!$E149,\"000\"))","v":""},null,null,{"$f":"IF('入力シート(総体)'!$H149=\"\",\"\",学校番号)","v":""},{"$f":"IF('入力シート(総体)'!$H149=\"\",\"\",'入力シート(総体)'!$K149)","v":""},{"$nulls":3},{"$f":"IF('入力シート(総体)'!$H149=\"\",\"\",TEXT('入力シート(総体)'!$H149,\"00\"))","v":""},null,{"$f":"IF('入力シート(総体)'!$H150=\"\",\"\",TEXT('入力シート(総体)'!$H150,\"00\"))","v":""},null,{"$f":"IF('入力シート(総体)'!$H151=\"\",\"\",TEXT('入力シート(総体)'!$H151,\"00\"))","v":""},null,{"$f":"IF('入力シート(総体)'!$H152=\"\",\"\",TEXT('入力シート(総体)'!$H152,\"00\"))","v":""},null,{"$f":"IF('入力シート(総体)'!$H153=\"\",\"\",TEXT('入力シート(総体)'!$H153,\"00\"))","v":""},null,{"$f":"IF('入力シート(総体)'!$H154=\"\",\"\",TEXT('入力シート(総体)'!$H154,\"00\"))","v":""}]
[{"$f":"IF('入力シート(総体)'!$H150=\"\",\"\",大会コード)","v":""},{"$f":"IF('入力シート(総体)'!$H150=\"\",\"\",IF('入力シート(総体)'!$B150=\"男\",0,1))","v":""},{"$f":"IF('入力シート(総体)'!$H150=\"\",\"\",'入力シート(総体)'!C150)","v":""},{"$f":"IF('入力シート(総体)'!$H150=\"\",\"\",TEXT('入力シート(総体)'!$E150,\"000\"))","v":""},null,null,{"$f":"IF('入力シート(総体)'!$H150=\"\",\"\",学校番号)","v":""},{"$f":"IF('入力シート(総体)'!$H150=\"\",\"\",'入力シート(総体)'!$K150)","v":""},{"$nulls":3},{"$f":"IF('入力シート(総体)'!$H150=\"\",\"\",TEXT('入力シート(総体)'!$H150,\"00\"))","v":""},null,{"$f":"IF('入力シート(総体)'!$H151=\"\",\"\",TEXT('入力シート(総体)'!$H151,\"00\"))","v":""},null,{"$f":"IF('入力シート(総体)'!$H152=\"\",\"\",TEXT('入力シート(総体)'!$H152,\"00\"))","v":""},null,{"$f":"IF('入力シート(総体)'!$H153=\"\",\"\",TEXT('入力シート(総体)'!$H153,\"00\"))","v":""},null,{"$f":"IF('入力シート(総体)'!$H154=\"\",\"\",TEXT('入力シート(総体)'!$H154,\"00\"))","v":""},null,{"$f":"IF('入力シート(総体)'!$H155=\"\",\"\",TEXT('入力シート(総体)'!$H155,\"00\"))","v":""}]
[{"$f":"IF('入力シート(総体)'!$H151=\"\",\"\",大会コード)","v":""},{"$f":"IF('入力シート(総体)'!$H151=\"\",\"\",IF('入力シート(総体)'!$B151=\"男\",0,1))","v":""},{"$f":"IF('入力シート(総体)'!$H151=\"\",\"\",'入力シート(総体)'!C151)","v":""},{"$f":"IF('入力シート(総体)'!$H151=\"\",\"\",TEXT('入力シート(総体)'!$E151,\"000\"))","v":""},null,null,{"$f":"IF('入力シート(総体)'!$H151=\"\",\"\",学校番号)","v":""},{"$f":"IF('入力シート(総体)'!$H151=\"\",\"\",'入力シート(総体)'!$K151)","v":""},{"$nulls":3},{"$f":"IF('入力シート(総体)'!$H151=\"\",\"\",TEXT('入力シート(総体)'!$H151,\"00\"))","v":""},null,{"$f":"IF('入力シート(総体)'!$H152=\"\",\"\",TEXT('入力シート(総体)'!$H152,\"00\"))","v":""},null,{"$f":"IF('入力シート(総体)'!$H153=\"\",\"\",TEXT('入力シート(総体)'!$H153,\"00\"))","v":""},null,{"$f":"IF('入力シート(総体)'!$H154=\"\",\"\",TEXT('入力シート(総体)'!$H154,\"00\"))","v":""},null,{"$f":"IF('入力シート(総体)'!$H155=\"\",\"\",TEXT('入力シート(総体)'!$H155,\"00\"))","v":""},null,{"$f":"IF('入力シート(総体)'!$H156=\"\",\"\",TEXT('入力シート(総体)'!$H156,\"00\"))","v":""}]
[{"$f":"IF('入力シート(総体)'!$H152=\"\",\"\",大会コード)","v":""},{"$f":"IF('入力シート(総体)'!$H152=\"\",\"\",IF('入力シート(総体)'!$B152=\"男\",0,1))","v":""},{"$f":"IF('入力シート(総体)'!$H152=\"\",\"\",'入力シート(総体)'!C152)","v":""},{"$f":"IF('入力シート(総体)'!$H152=\"\",\"\",TEXT('入力シート(総体)'!$E152,\"000\"))","v":""},null,null,{"$f":"IF('入力シート(総体)'!$H152=\"\",\"\",学校番号)","v":""},{"$f":"IF('入力シート(総体)'!$H152=\"\",\"\",'入力シート(総体)'!$K152)","v":""},{"$nulls":3},{"$f":"IF('入力シート(総体)'!$H152=\"\",\"\",TEXT('入力シート(総体)'!$H152,\"00\"))","v":""},null,{"$f":"IF('入力シート(総体)'!$H153=\"\",\"\",TEXT('入力シート(総体)'!$H153,\"00\"))","v":""},null,{"$f":"IF('入力シート(総体)'!$H154=\"\",\"\",TEXT('入力シート(総体)'!$H154,\"00\"))","v":""},null,{"$f":"IF('入力シート(総体)'!$H155=\"\",\"\",TEXT('入力シート(総体)'!$H155,\"00\"))","v":""},null,{"$f":"IF('入力シート(総体)'!$H156=\"\",\"\",TEXT('入力シート(総体)'!$H156,\"00\"))","v":""},null,{"$f":"IF('入力シート(総体)'!$H157=\"\",\"\",TEXT('入力シート(総体)'!$H157,\"00\"))","v":""}]
[{"$f":"IF('入力シート(総体)'!$H153=\"\",\"\",大会コード)","v":""},{"$f":"IF('入力シート(総体)'!$H153=\"\",\"\",IF('入力シート(総体)'!$B153=\"男\",0,1))","v":""},{"$f":"IF('入力シート(総体)'!$H153=\"\",\"\",'入力シート(総体)'!C153)","v":""},{"$f":"IF('入力シート(総体)'!$H153=\"\",\"\",TEXT('入力シート(総体)'!$E153,\"000\"))","v":""},null,null,{"$f":"IF('入力シート(総体)'!$H153=\"\",\"\",学校番号)","v":""},{"$f":"IF('入力シート(総体)'!$H153=\"\",\"\",'入力シート(総体)'!$K153)","v":""},{"$nulls":3},{"$f":"IF('入力シート(総体)'!$H153=\"\",\"\",TEXT('入力シート(総体)'!$H153,\"00\"))","v":""},null,{"$f":"IF('入力シート(総体)'!$H154=\"\",\"\",TEXT('入力シート(総体)'!$H154,\"00\"))","v":""},null,{"$f":"IF('入力シート(総体)'!$H155=\"\",\"\",TEXT('入力シート(総体)'!$H155,\"00\"))","v":""},null,{"$f":"IF('入力シート(総体)'!$H156=\"\",\"\",TEXT('入力シート(総体)'!$H156,\"00\"))","v":""},null,{"$f":"IF('入力シート(総体)'!$H157=\"\",\"\",TEXT('入力シート(総体)'!$H157,\"00\"))","v":""},null,{"$f":"IF('入力シート(総体)'!$H158=\"\",\"\",TEXT('入力シート(総体)'!$H158,\"00\"))","v":""}]
[{"$f":"IF('入力シート(総体)'!$H154=\"\",\"\",大会コード)","v":""},{"$f":"IF('入力シート(総体)'!$H154=\"\",\"\",IF('入力シート(総体)'!$B154=\"男\",0,1))","v":""},{"$f":"IF('入力シート(総体)'!$H154=\"\",\"\",'入力シート(総体)'!C154)","v":""},{"$f":"IF('入力シート(総体)'!$H154=\"\",\"\",TEXT('入力シート(総体)'!$E154,\"000\"))","v":""},null,null,{"$f":"IF('入力シート(総体)'!$H154=\"\",\"\",学校番号)","v":""},{"$f":"IF('入力シート(総体)'!$H154=\"\",\"\",'入力シート(総体)'!$K154)","v":""},{"$nulls":3},{"$f":"IF('入力シート(総体)'!$H154=\"\",\"\",TEXT('入力シート(総体)'!$H154,\"00\"))","v":""},null,{"$f":"IF('入力シート(総体)'!$H155=\"\",\"\",TEXT('入力シート(総体)'!$H155,\"00\"))","v":""},null,{"$f":"IF('入力シート(総体)'!$H156=\"\",\"\",TEXT('入力シート(総体)'!$H156,\"00\"))","v":""},null,{"$f":"IF('入力シート(総体)'!$H157=\"\",\"\",TEXT('入力シート(総体)'!$H157,\"00\"))","v":""},null,{"$f":"IF('入力シート(総体)'!$H158=\"\",\"\",TEXT('入力シート(総体)'!$H158,\"00\"))","v":""},null,{"$f":"IF('入力シート(総体)'!$H159=\"\",\"\",TEXT('入力シート(総体)'!$H159,\"00\"))","v":""}]
[{"$f":"IF('入力シート(総体)'!$H155=\"\",\"\",大会コード)","v":""},{"$f":"IF('入力シート(総体)'!$H155=\"\",\"\",IF('入力シート(総体)'!$B155=\"男\",0,1))","v":""},{"$f":"IF('入力シート(総体)'!$H155=\"\",\"\",'入力シート(総体)'!C155)","v":""},{"$f":"IF('入力シート(総体)'!$H155=\"\",\"\",TEXT('入力シート(総体)'!$E155,\"000\"))","v":""},null,null,{"$f":"IF('入力シート(総体)'!$H155=\"\",\"\",学校番号)","v":""},{"$f":"IF('入力シート(総体)'!$H155=\"\",\"\",'入力シート(総体)'!$K155)","v":""},{"$nulls":3},{"$f":"IF('入力シート(総体)'!$H155=\"\",\"\",TEXT('入力シート(総体)'!$H155,\"00\"))","v":""},null,{"$f":"IF('入力シート(総体)'!$H156=\"\",\"\",TEXT('入力シート(総体)'!$H156,\"00\"))","v":""},null,{"$f":"IF('入力シート(総体)'!$H157=\"\",\"\",TEXT('入力シート(総体)'!$H157,\"00\"))","v":""},null,{"$f":"IF('入力シート(総体)'!$H158=\"\",\"\",TEXT('入力シート(総体)'!$H158,\"00\"))","v":""},null,{"$f":"IF('入力シート(総体)'!$H159=\"\",\"\",TEXT('入力シート(総体)'!$H159,\"00\"))","v":""},null,{"$f":"IF('入力シート(総体)'!$H160=\"\",\"\",TEXT('入力シート(総体)'!$H160,\"00\"))","v":""}]
[{"$f":"IF('入力シート(総体)'!$H156=\"\",\"\",大会コード)","v":""},{"$f":"IF('入力シート(総体)'!$H156=\"\",\"\",IF('入力シート(総体)'!$B156=\"男\",0,1))","v":""},{"$f":"IF('入力シート(総体)'!$H156=\"\",\"\",'入力シート(総体)'!C156)","v":""},{"$f":"IF('入力シート(総体)'!$H156=\"\",\"\",TEXT('入力シート(総体)'!$E156,\"000\"))","v":""},null,null,{"$f":"IF('入力シート(総体)'!$H156=\"\",\"\",学校番号)","v":""},{"$f":"IF('入力シート(総体)'!$H156=\"\",\"\",'入力シート(総体)'!$K156)","v":""},{"$nulls":3},{"$f":"IF('入力シート(総体)'!$H156=\"\",\"\",TEXT('入力シート(総体)'!$H156,\"00\"))","v":""},null,{"$f":"IF('入力シート(総体)'!$H157=\"\",\"\",TEXT('入力シート(総体)'!$H157,\"00\"))","v":""},null,{"$f":"IF('入力シート(総体)'!$H158=\"\",\"\",TEXT('入力シート(総体)'!$H158,\"00\"))","v":""},null,{"$f":"IF('入力シート(総体)'!$H159=\"\",\"\",TEXT('入力シート(総体)'!$H159,\"00\"))","v":""},null,{"$f":"IF('入力シート(総体)'!$H160=\"\",\"\",TEXT('入力シート(総体)'!$H160,\"00\"))","v":""},null,{"$f":"IF('入力シート(総体)'!$H161=\"\",\"\",TEXT('入力シート(総体)'!$H161,\"00\"))","v":""}]
[{"$f":"IF('入力シート(総体)'!$H157=\"\",\"\",大会コード)","v":""},{"$f":"IF('入力シート(総体)'!$H157=\"\",\"\",IF('入力シート(総体)'!$B157=\"男\",0,1))","v":""},{"$f":"IF('入力シート(総体)'!$H157=\"\",\"\",'入力シート(総体)'!C157)","v":""},{"$f":"IF('入力シート(総体)'!$H157=\"\",\"\",TEXT('入力シート(総体)'!$E157,\"000\"))","v":""},null,null,{"$f":"IF('入力シート(総体)'!$H157=\"\",\"\",学校番号)","v":""},{"$f":"IF('入力シート(総体)'!$H157=\"\",\"\",'入力シート(総体)'!$K157)","v":""},{"$nulls":3},{"$f":"IF('入力シート(総体)'!$H157=\"\",\"\",TEXT('入力シート(総体)'!$H157,\"00\"))","v":""},null,{"$f":"IF('入力シート(総体)'!$H158=\"\",\"\",TEXT('入力シート(総体)'!$H158,\"00\"))","v":""},null,{"$f":"IF('入力シート(総体)'!$H159=\"\",\"\",TEXT('入力シート(総体)'!$H159,\"00\"))","v":""},null,{"$f":"IF('入力シート(総体)'!$H160=\"\",\"\",TEXT('入力シート(総体)'!$H160,\"00\"))","v":""},null,{"$f":"IF('入力シート(総体)'!$H161=\"\",\"\",TEXT('入力シート(総体)'!$H161,\"00\"))","v":""},null,{"$f":"IF('入力シート(総体)'!$H162=\"\",\"\",TEXT('入力シート(総体)'!$H162,\"00\"))","v":""}]
[{"$f":"IF('入力シート(総体)'!$H158=\"\",\"\",大会コード)","v":""},{"$f":"IF('入力シート(総体)'!$H158=\"\",\"\",IF('入力シート(総体)'!$B158=\"男\",0,1))","v":""},{"$f":"IF('入力シート(総体)'!$H158=\"\",\"\",'入力シート(総体)'!C158)","v":""},{"$f":"IF('入力シート(総体)'!$H158=\"\",\"\",TEXT('入力シート(総体)'!$E158,\"000\"))","v":""},null,null,{"$f":"IF('入力シート(総体)'!$H158=\"\",\"\",学校番号)","v":""},{"$f":"IF('入力シート(総体)'!$H158=\"\",\"\",'入力シート(総体)'!$K158)","v":""},{"$nulls":3},{"$f":"IF('入力シート(総体)'!$H158=\"\",\"\",TEXT('入力シート(総体)'!$H158,\"00\"))","v":""},null,{"$f":"IF('入力シート(総体)'!$H159=\"\",\"\",TEXT('入力シート(総体)'!$H159,\"00\"))","v":""},null,{"$f":"IF('入力シート(総体)'!$H160=\"\",\"\",TEXT('入力シート(総体)'!$H160,\"00\"))","v":""},null,{"$f":"IF('入力シート(総体)'!$H161=\"\",\"\",TEXT('入力シート(総体)'!$H161,\"00\"))","v":""},null,{"$f":"IF('入力シート(総体)'!$H162=\"\",\"\",TEXT('入力シート(総体)'!$H162,\"00\"))","v":""},null,{"$f":"IF('入力シート(総体)'!$H163=\"\",\"\",TEXT('入力シート(総体)'!$H163,\"00\"))","v":""}]
[{"$f":"IF('入力シート(総体)'!$H159=\"\",\"\",大会コード)","v":""},{"$f":"IF('入力シート(総体)'!$H159=\"\",\"\",IF('入力シート(総体)'!$B159=\"男\",0,1))","v":""},{"$f":"IF('入力シート(総体)'!$H159=\"\",\"\",'入力シート(総体)'!C159)","v":""},{"$f":"IF('入力シート(総体)'!$H159=\"\",\"\",TEXT('入力シート(総体)'!$E159,\"000\"))","v":""},null,null,{"$f":"IF('入力シート(総体)'!$H159=\"\",\"\",学校番号)","v":""},{"$f":"IF('入力シート(総体)'!$H159=\"\",\"\",'入力シート(総体)'!$K159)","v":""},{"$nulls":3},{"$f":"IF('入力シート(総体)'!$H159=\"\",\"\",TEXT('入力シート(総体)'!$H159,\"00\"))","v":""},null,{"$f":"IF('入力シート(総体)'!$H160=\"\",\"\",TEXT('入力シート(総体)'!$H160,\"00\"))","v":""},null,{"$f":"IF('入力シート(総体)'!$H161=\"\",\"\",TEXT('入力シート(総体)'!$H161,\"00\"))","v":""},null,{"$f":"IF('入力シート(総体)'!$H162=\"\",\"\",TEXT('入力シート(総体)'!$H162,\"00\"))","v":""},null,{"$f":"IF('入力シート(総体)'!$H163=\"\",\"\",TEXT('入力シート(総体)'!$H163,\"00\"))","v":""},null,{"$f":"IF('入力シート(総体)'!$H164=\"\",\"\",TEXT('入力シート(総体)'!$H164,\"00\"))","v":""}]
[{"$f":"IF('入力シート(総体)'!$H160=\"\",\"\",大会コード)","v":""},{"$f":"IF('入力シート(総体)'!$H160=\"\",\"\",IF('入力シート(総体)'!$B160=\"男\",0,1))","v":""},{"$f":"IF('入力シート(総体)'!$H160=\"\",\"\",'入力シート(総体)'!C160)","v":""},{"$f":"IF('入力シート(総体)'!$H160=\"\",\"\",TEXT('入力シート(総体)'!$E160,\"000\"))","v":""},null,null,{"$f":"IF('入力シート(総体)'!$H160=\"\",\"\",学校番号)","v":""},{"$f":"IF('入力シート(総体)'!$H160=\"\",\"\",'入力シート(総体)'!$K160)","v":""},{"$nulls":3},{"$f":"IF('入力シート(総体)'!$H160=\"\",\"\",TEXT('入力シート(総体)'!$H160,\"00\"))","v":""},null,{"$f":"IF('入力シート(総体)'!$H161=\"\",\"\",TEXT('入力シート(総体)'!$H161,\"00\"))","v":""},null,{"$f":"IF('入力シート(総体)'!$H162=\"\",\"\",TEXT('入力シート(総体)'!$H162,\"00\"))","v":""},null,{"$f":"IF('入力シート(総体)'!$H163=\"\",\"\",TEXT('入力シート(総体)'!$H163,\"00\"))","v":""},null,{"$f":"IF('入力シート(総体)'!$H164=\"\",\"\",TEXT('入力シート(総体)'!$H164,\"00\"))","v":""},null,{"$f":"IF('入力シート(総体)'!$H165=\"\",\"\",TEXT('入力シート(総体)'!$H165,\"00\"))","v":""}]
[{"$f":"IF('入力シート(総体)'!$H161=\"\",\"\",大会コード)","v":""},{"$f":"IF('入力シート(総体)'!$H161=\"\",\"\",IF('入力シート(総体)'!$B161=\"男\",0,1))","v":""},{"$f":"IF('入力シート(総体)'!$H161=\"\",\"\",'入力シート(総体)'!C161)","v":""},{"$f":"IF('入力シート(総体)'!$H161=\"\",\"\",TEXT('入力シート(総体)'!$E161,\"000\"))","v":""},null,null,{"$f":"IF('入力シート(総体)'!$H161=\"\",\"\",学校番号)","v":""},{"$f":"IF('入力シート(総体)'!$H161=\"\",\"\",'入力シート(総体)'!$K161)","v":""},{"$nulls":3},{"$f":"IF('入力シート(総体)'!$H161=\"\",\"\",TEXT('入力シート(総体)'!$H161,\"00\"))","v":""},null,{"$f":"IF('入力シート(総体)'!$H162=\"\",\"\",TEXT('入力シート(総体)'!$H162,\"00\"))","v":""},null,{"$f":"IF('入力シート(総体)'!$H163=\"\",\"\",TEXT('入力シート(総体)'!$H163,\"00\"))","v":""},null,{"$f":"IF('入力シート(総体)'!$H164=\"\",\"\",TEXT('入力シート(総体)'!$H164,\"00\"))","v":""},null,{"$f":"IF('入力シート(総体)'!$H165=\"\",\"\",TEXT('入力シート(総体)'!$H165,\"00\"))","v":""},null,{"$f":"IF('入力シート(総体)'!$H166=\"\",\"\",TEXT('入力シート(総体)'!$H166,\"00\"))","v":""}]
[{"$f":"IF('入力シート(総体)'!$H162=\"\",\"\",大会コード)","v":""},{"$f":"IF('入力シート(総体)'!$H162=\"\",\"\",IF('入力シート(総体)'!$B162=\"男\",0,1))","v":""},{"$f":"IF('入力シート(総体)'!$H162=\"\",\"\",'入力シート(総体)'!C162)","v":""},{"$f":"IF('入力シート(総体)'!$H162=\"\",\"\",TEXT('入力シート(総体)'!$E162,\"000\"))","v":""},null,null,{"$f":"IF('入力シート(総体)'!$H162=\"\",\"\",学校番号)","v":""},{"$f":"IF('入力シート(総体)'!$H162=\"\",\"\",'入力シート(総体)'!$K162)","v":""},{"$nulls":3},{"$f":"IF('入力シート(総体)'!$H162=\"\",\"\",TEXT('入力シート(総体)'!$H162,\"00\"))","v":""},null,{"$f":"IF('入力シート(総体)'!$H163=\"\",\"\",TEXT('入力シート(総体)'!$H163,\"00\"))","v":""},null,{"$f":"IF('入力シート(総体)'!$H164=\"\",\"\",TEXT('入力シート(総体)'!$H164,\"00\"))","v":""},null,{"$f":"IF('入力シート(総体)'!$H165=\"\",\"\",TEXT('入力シート(総体)'!$H165,\"00\"))","v":""},null,{"$f":"IF('入力シート(総体)'!$H166=\"\",\"\",TEXT('入力シート(総体)'!$H166,\"00\"))","v":""},null,{"$f":"IF('入力シート(総体)'!$H167=\"\",\"\",TEXT('入力シート(総体)'!$H167,\"00\"))","v":""}]
[{"$f":"IF('入力シート(総体)'!$H163=\"\",\"\",大会コード)","v":""},{"$f":"IF('入力シート(総体)'!$H163=\"\",\"\",IF('入力シート(総体)'!$B163=\"男\",0,1))","v":""},{"$f":"IF('入力シート(総体)'!$H163=\"\",\"\",'入力シート(総体)'!C163)","v":""},{"$f":"IF('入力シート(総体)'!$H163=\"\",\"\",TEXT('入力シート(総体)'!$E163,\"000\"))","v":""},null,null,{"$f":"IF('入力シート(総体)'!$H163=\"\",\"\",学校番号)","v":""},{"$f":"IF('入力シート(総体)'!$H163=\"\",\"\",'入力シート(総体)'!$K163)","v":""},{"$nulls":3},{"$f":"IF('入力シート(総体)'!$H163=\"\",\"\",TEXT('入力シート(総体)'!$H163,\"00\"))","v":""},null,{"$f":"IF('入力シート(総体)'!$H164=\"\",\"\",TEXT('入力シート(総体)'!$H164,\"00\"))","v":""},null,{"$f":"IF('入力シート(総体)'!$H165=\"\",\"\",TEXT('入力シート(総体)'!$H165,\"00\"))","v":""},null,{"$f":"IF('入力シート(総体)'!$H166=\"\",\"\",TEXT('入力シート(総体)'!$H166,\"00\"))","v":""},null,{"$f":"IF('入力シート(総体)'!$H167=\"\",\"\",TEXT('入力シート(総体)'!$H167,\"00\"))","v":""},null,{"$f":"IF('入力シート(総体)'!$H168=\"\",\"\",TEXT('入力シート(総体)'!$H168,\"00\"))","v":""}]
[{"$f":"IF('入力シート(総体)'!$H164=\"\",\"\",大会コード)","v":""},{"$f":"IF('入力シート(総体)'!$H164=\"\",\"\",IF('入力シート(総体)'!$B164=\"男\",0,1))","v":""},{"$f":"IF('入力シート(総体)'!$H164=\"\",\"\",'入力シート(総体)'!C164)","v":""},{"$f":"IF('入力シート(総体)'!$H164=\"\",\"\",TEXT('入力シート(総体)'!$E164,\"000\"))","v":""},null,null,{"$f":"IF('入力シート(総体)'!$H164=\"\",\"\",学校番号)","v":""},{"$f":"IF('入力シート(総体)'!$H164=\"\",\"\",'入力シート(総体)'!$K164)","v":""},{"$nulls":3},{"$f":"IF('入力シート(総体)'!$H164=\"\",\"\",TEXT('入力シート(総体)'!$H164,\"00\"))","v":""},null,{"$f":"IF('入力シート(総体)'!$H165=\"\",\"\",TEXT('入力シート(総体)'!$H165,\"00\"))","v":""},null,{"$f":"IF('入力シート(総体)'!$H166=\"\",\"\",TEXT('入力シート(総体)'!$H166,\"00\"))","v":""},null,{"$f":"IF('入力シート(総体)'!$H167=\"\",\"\",TEXT('入力シート(総体)'!$H167,\"00\"))","v":""},null,{"$f":"IF('入力シート(総体)'!$H168=\"\",\"\",TEXT('入力シート(総体)'!$H168,\"00\"))","v":""},null,{"$f":"IF('入力シート(総体)'!$H169=\"\",\"\",TEXT('入力シート(総体)'!$H169,\"00\"))","v":""}]
[{"$f":"IF('入力シート(総体)'!$H165=\"\",\"\",大会コード)","v":""},{"$f":"IF('入力シート(総体)'!$H165=\"\",\"\",IF('入力シート(総体)'!$B165=\"男\",0,1))","v":""},{"$f":"IF('入力シート(総体)'!$H165=\"\",\"\",'入力シート(総体)'!C165)","v":""},{"$f":"IF('入力シート(総体)'!$H165=\"\",\"\",TEXT('入力シート(総体)'!$E165,\"000\"))","v":""},null,null,{"$f":"IF('入力シート(総体)'!$H165=\"\",\"\",学校番号)","v":""},{"$f":"IF('入力シート(総体)'!$H165=\"\",\"\",'入力シート(総体)'!$K165)","v":""},{"$nulls":3},{"$f":"IF('入力シート(総体)'!$H165=\"\",\"\",TEXT('入力シート(総体)'!$H165,\"00\"))","v":""},null,{"$f":"IF('入力シート(総体)'!$H166=\"\",\"\",TEXT('入力シート(総体)'!$H166,\"00\"))","v":""},null,{"$f":"IF('入力シート(総体)'!$H167=\"\",\"\",TEXT('入力シート(総体)'!$H167,\"00\"))","v":""},null,{"$f":"IF('入力シート(総体)'!$H168=\"\",\"\",TEXT('入力シート(総体)'!$H168,\"00\"))","v":""},null,{"$f":"IF('入力シート(総体)'!$H169=\"\",\"\",TEXT('入力シート(総体)'!$H169,\"00\"))","v":""},null,{"$f":"IF('入力シート(総体)'!$H170=\"\",\"\",TEXT('入力シート(総体)'!$H170,\"00\"))","v":""}]
[{"$f":"IF('入力シート(総体)'!$H166=\"\",\"\",大会コード)","v":""},{"$f":"IF('入力シート(総体)'!$H166=\"\",\"\",IF('入力シート(総体)'!$B166=\"男\",0,1))","v":""},{"$f":"IF('入力シート(総体)'!$H166=\"\",\"\",'入力シート(総体)'!C166)","v":""},{"$f":"IF('入力シート(総体)'!$H166=\"\",\"\",TEXT('入力シート(総体)'!$E166,\"000\"))","v":""},null,null,{"$f":"IF('入力シート(総体)'!$H166=\"\",\"\",学校番号)","v":""},{"$f":"IF('入力シート(総体)'!$H166=\"\",\"\",'入力シート(総体)'!$K166)","v":""},{"$nulls":3},{"$f":"IF('入力シート(総体)'!$H166=\"\",\"\",TEXT('入力シート(総体)'!$H166,\"00\"))","v":""},null,{"$f":"IF('入力シート(総体)'!$H167=\"\",\"\",TEXT('入力シート(総体)'!$H167,\"00\"))","v":""},null,{"$f":"IF('入力シート(総体)'!$H168=\"\",\"\",TEXT('入力シート(総体)'!$H168,\"00\"))","v":""},null,{"$f":"IF('入力シート(総体)'!$H169=\"\",\"\",TEXT('入力シート(総体)'!$H169,\"00\"))","v":""},null,{"$f":"IF('入力シート(総体)'!$H170=\"\",\"\",TEXT('入力シート(総体)'!$H170,\"00\"))","v":""},null,{"$f":"IF('入力シート(総体)'!$H171=\"\",\"\",TEXT('入力シート(総体)'!$H171,\"00\"))","v":""}]
[{"$f":"IF('入力シート(総体)'!$H167=\"\",\"\",大会コード)","v":""},{"$f":"IF('入力シート(総体)'!$H167=\"\",\"\",IF('入力シート(総体)'!$B167=\"男\",0,1))","v":""},{"$f":"IF('入力シート(総体)'!$H167=\"\",\"\",'入力シート(総体)'!C167)","v":""},{"$f":"IF('入力シート(総体)'!$H167=\"\",\"\",TEXT('入力シート(総体)'!$E167,\"000\"))","v":""},null,null,{"$f":"IF('入力シート(総体)'!$H167=\"\",\"\",学校番号)","v":""},{"$f":"IF('入力シート(総体)'!$H167=\"\",\"\",'入力シート(総体)'!$K167)","v":""},{"$nulls":3},{"$f":"IF('入力シート(総体)'!$H167=\"\",\"\",TEXT('入力シート(総体)'!$H167,\"00\"))","v":""},null,{"$f":"IF('入力シート(総体)'!$H168=\"\",\"\",TEXT('入力シート(総体)'!$H168,\"00\"))","v":""},null,{"$f":"IF('入力シート(総体)'!$H169=\"\",\"\",TEXT('入力シート(総体)'!$H169,\"00\"))","v":""},null,{"$f":"IF('入力シート(総体)'!$H170=\"\",\"\",TEXT('入力シート(総体)'!$H170,\"00\"))","v":""},null,{"$f":"IF('入力シート(総体)'!$H171=\"\",\"\",TEXT('入力シート(総体)'!$H171,\"00\"))","v":""},null,{"$f":"IF('入力シート(総体)'!$H172=\"\",\"\",TEXT('入力シート(総体)'!$H172,\"00\"))","v":""}]
[{"$f":"IF('入力シート(総体)'!$H168=\"\",\"\",大会コード)","v":""},{"$f":"IF('入力シート(総体)'!$H168=\"\",\"\",IF('入力シート(総体)'!$B168=\"男\",0,1))","v":""},{"$f":"IF('入力シート(総体)'!$H168=\"\",\"\",'入力シート(総体)'!C168)","v":""},{"$f":"IF('入力シート(総体)'!$H168=\"\",\"\",TEXT('入力シート(総体)'!$E168,\"000\"))","v":""},null,null,{"$f":"IF('入力シート(総体)'!$H168=\"\",\"\",学校番号)","v":""},{"$f":"IF('入力シート(総体)'!$H168=\"\",\"\",'入力シート(総体)'!$K168)","v":""},{"$nulls":3},{"$f":"IF('入力シート(総体)'!$H168=\"\",\"\",TEXT('入力シート(総体)'!$H168,\"00\"))","v":""},null,{"$f":"IF('入力シート(総体)'!$H169=\"\",\"\",TEXT('入力シート(総体)'!$H169,\"00\"))","v":""},null,{"$f":"IF('入力シート(総体)'!$H170=\"\",\"\",TEXT('入力シート(総体)'!$H170,\"00\"))","v":""},null,{"$f":"IF('入力シート(総体)'!$H171=\"\",\"\",TEXT('入力シート(総体)'!$H171,\"00\"))","v":""},null,{"$f":"IF('入力シート(総体)'!$H172=\"\",\"\",TEXT('入力シート(総体)'!$H172,\"00\"))","v":""},null,{"$f":"IF('入力シート(総体)'!$H173=\"\",\"\",TEXT('入力シート(総体)'!$H173,\"00\"))","v":""}]
[{"$f":"IF('入力シート(総体)'!$H169=\"\",\"\",大会コード)","v":""},{"$f":"IF('入力シート(総体)'!$H169=\"\",\"\",IF('入力シート(総体)'!$B169=\"男\",0,1))","v":""},{"$f":"IF('入力シート(総体)'!$H169=\"\",\"\",'入力シート(総体)'!C169)","v":""},{"$f":"IF('入力シート(総体)'!$H169=\"\",\"\",TEXT('入力シート(総体)'!$E169,\"000\"))","v":""},null,null,{"$f":"IF('入力シート(総体)'!$H169=\"\",\"\",学校番号)","v":""},{"$f":"IF('入力シート(総体)'!$H169=\"\",\"\",'入力シート(総体)'!$K169)","v":""},{"$nulls":3},{"$f":"IF('入力シート(総体)'!$H169=\"\",\"\",TEXT('入力シート(総体)'!$H169,\"00\"))","v":""},null,{"$f":"IF('入力シート(総体)'!$H170=\"\",\"\",TEXT('入力シート(総体)'!$H170,\"00\"))","v":""},null,{"$f":"IF('入力シート(総体)'!$H171=\"\",\"\",TEXT('入力シート(総体)'!$H171,\"00\"))","v":""},null,{"$f":"IF('入力シート(総体)'!$H172=\"\",\"\",TEXT('入力シート(総体)'!$H172,\"00\"))","v":""},null,{"$f":"IF('入力シート(総体)'!$H173=\"\",\"\",TEXT('入力シート(総体)'!$H173,\"00\"))","v":""},null,{"$f":"IF('入力シート(総体)'!$H174=\"\",\"\",TEXT('入力シート(総体)'!$H174,\"00\"))","v":""}]
[{"$f":"IF('入力シート(総体)'!$H170=\"\",\"\",大会コード)","v":""},{"$f":"IF('入力シート(総体)'!$H170=\"\",\"\",IF('入力シート(総体)'!$B170=\"男\",0,1))","v":""},{"$f":"IF('入力シート(総体)'!$H170=\"\",\"\",'入力シート(総体)'!C170)","v":""},{"$f":"IF('入力シート(総体)'!$H170=\"\",\"\",TEXT('入力シート(総体)'!$E170,\"000\"))","v":""},null,null,{"$f":"IF('入力シート(総体)'!$H170=\"\",\"\",学校番号)","v":""},{"$f":"IF('入力シート(総体)'!$H170=\"\",\"\",'入力シート(総体)'!$K170)","v":""},{"$nulls":3},{"$f":"IF('入力シート(総体)'!$H170=\"\",\"\",TEXT('入力シート(総体)'!$H170,\"00\"))","v":""},null,{"$f":"IF('入力シート(総体)'!$H171=\"\",\"\",TEXT('入力シート(総体)'!$H171,\"00\"))","v":""},null,{"$f":"IF('入力シート(総体)'!$H172=\"\",\"\",TEXT('入力シート(総体)'!$H172,\"00\"))","v":""},null,{"$f":"IF('入力シート(総体)'!$H173=\"\",\"\",TEXT('入力シート(総体)'!$H173,\"00\"))","v":""},null,{"$f":"IF('入力シート(総体)'!$H174=\"\",\"\",TEXT('入力シート(総体)'!$H174,\"00\"))","v":""},null,{"$f":"IF('入力シート(総体)'!$H175=\"\",\"\",TEXT('入力シート(総体)'!$H175,\"00\"))","v":""}]
[{"$f":"IF('入力シート(総体)'!$H171=\"\",\"\",大会コード)","v":""},{"$f":"IF('入力シート(総体)'!$H171=\"\",\"\",IF('入力シート(総体)'!$B171=\"男\",0,1))","v":""},{"$f":"IF('入力シート(総体)'!$H171=\"\",\"\",'入力シート(総体)'!C171)","v":""},{"$f":"IF('入力シート(総体)'!$H171=\"\",\"\",TEXT('入力シート(総体)'!$E171,\"000\"))","v":""},null,null,{"$f":"IF('入力シート(総体)'!$H171=\"\",\"\",学校番号)","v":""},{"$f":"IF('入力シート(総体)'!$H171=\"\",\"\",'入力シート(総体)'!$K171)","v":""},{"$nulls":3},{"$f":"IF('入力シート(総体)'!$H171=\"\",\"\",TEXT('入力シート(総体)'!$H171,\"00\"))","v":""},null,{"$f":"IF('入力シート(総体)'!$H172=\"\",\"\",TEXT('入力シート(総体)'!$H172,\"00\"))","v":""},null,{"$f":"IF('入力シート(総体)'!$H173=\"\",\"\",TEXT('入力シート(総体)'!$H173,\"00\"))","v":""},null,{"$f":"IF('入力シート(総体)'!$H174=\"\",\"\",TEXT('入力シート(総体)'!$H174,\"00\"))","v":""},null,{"$f":"IF('入力シート(総体)'!$H175=\"\",\"\",TEXT('入力シート(総体)'!$H175,\"00\"))","v":""},null,{"$f":"IF('入力シート(総体)'!$H176=\"\",\"\",TEXT('入力シート(総体)'!$H176,\"00\"))","v":""}]
[{"$f":"IF('入力シート(総体)'!$H172=\"\",\"\",大会コード)","v":""},{"$f":"IF('入力シート(総体)'!$H172=\"\",\"\",IF('入力シート(総体)'!$B172=\"男\",0,1))","v":""},{"$f":"IF('入力シート(総体)'!$H172=\"\",\"\",'入力シート(総体)'!C172)","v":""},{"$f":"IF('入力シート(総体)'!$H172=\"\",\"\",TEXT('入力シート(総体)'!$E172,\"000\"))","v":""},null,null,{"$f":"IF('入力シート(総体)'!$H172=\"\",\"\",学校番号)","v":""},{"$f":"IF('入力シート(総体)'!$H172=\"\",\"\",'入力シート(総体)'!$K172)","v":""},{"$nulls":3},{"$f":"IF('入力シート(総体)'!$H172=\"\",\"\",TEXT('入力シート(総体)'!$H172,\"00\"))","v":""},null,{"$f":"IF('入力シート(総体)'!$H173=\"\",\"\",TEXT('入力シート(総体)'!$H173,\"00\"))","v":""},null,{"$f":"IF('入力シート(総体)'!$H174=\"\",\"\",TEXT('入力シート(総体)'!$H174,\"00\"))","v":""},null,{"$f":"IF('入力シート(総体)'!$H175=\"\",\"\",TEXT('入力シート(総体)'!$H175,\"00\"))","v":""},null,{"$f":"IF('入力シート(総体)'!$H176=\"\",\"\",TEXT('入力シート(総体)'!$H176,\"00\"))","v":""},null,{"$f":"IF('入力シート(総体)'!$H177=\"\",\"\",TEXT('入力シート(総体)'!$H177,\"00\"))","v":""}]
[{"$f":"IF('入力シート(総体)'!$H173=\"\",\"\",大会コード)","v":""},{"$f":"IF('入力シート(総体)'!$H173=\"\",\"\",IF('入力シート(総体)'!$B173=\"男\",0,1))","v":""},{"$f":"IF('入力シート(総体)'!$H173=\"\",\"\",'入力シート(総体)'!C173)","v":""},{"$f":"IF('入力シート(総体)'!$H173=\"\",\"\",TEXT('入力シート(総体)'!$E173,\"000\"))","v":""},null,null,{"$f":"IF('入力シート(総体)'!$H173=\"\",\"\",学校番号)","v":""},{"$f":"IF('入力シート(総体)'!$H173=\"\",\"\",'入力シート(総体)'!$K173)","v":""},{"$nulls":3},{"$f":"IF('入力シート(総体)'!$H173=\"\",\"\",TEXT('入力シート(総体)'!$H173,\"00\"))","v":""},null,{"$f":"IF('入力シート(総体)'!$H174=\"\",\"\",TEXT('入力シート(総体)'!$H174,\"00\"))","v":""},null,{"$f":"IF('入力シート(総体)'!$H175=\"\",\"\",TEXT('入力シート(総体)'!$H175,\"00\"))","v":""},null,{"$f":"IF('入力シート(総体)'!$H176=\"\",\"\",TEXT('入力シート(総体)'!$H176,\"00\"))","v":""},null,{"$f":"IF('入力シート(総体)'!$H177=\"\",\"\",TEXT('入力シート(総体)'!$H177,\"00\"))","v":""},null,{"$f":"IF('入力シート(総体)'!$H178=\"\",\"\",TEXT('入力シート(総体)'!$H178,\"00\"))","v":""}]
[{"$f":"IF('入力シート(総体)'!$H174=\"\",\"\",大会コード)","v":""},{"$f":"IF('入力シート(総体)'!$H174=\"\",\"\",IF('入力シート(総体)'!$B174=\"男\",0,1))","v":""},{"$f":"IF('入力シート(総体)'!$H174=\"\",\"\",'入力シート(総体)'!C174)","v":""},{"$f":"IF('入力シート(総体)'!$H174=\"\",\"\",TEXT('入力シート(総体)'!$E174,\"000\"))","v":""},null,null,{"$f":"IF('入力シート(総体)'!$H174=\"\",\"\",学校番号)","v":""},{"$f":"IF('入力シート(総体)'!$H174=\"\",\"\",'入力シート(総体)'!$K174)","v":""},{"$nulls":3},{"$f":"IF('入力シート(総体)'!$H174=\"\",\"\",TEXT('入力シート(総体)'!$H174,\"00\"))","v":""},null,{"$f":"IF('入力シート(総体)'!$H175=\"\",\"\",TEXT('入力シート(総体)'!$H175,\"00\"))","v":""},null,{"$f":"IF('入力シート(総体)'!$H176=\"\",\"\",TEXT('入力シート(総体)'!$H176,\"00\"))","v":""},null,{"$f":"IF('入力シート(総体)'!$H177=\"\",\"\",TEXT('入力シート(総体)'!$H177,\"00\"))","v":""},null,{"$f":"IF('入力シート(総体)'!$H178=\"\",\"\",TEXT('入力シート(総体)'!$H178,\"00\"))","v":""},null,{"$f":"IF('入力シート(総体)'!$H179=\"\",\"\",TEXT('入力シート(総体)'!$H179,\"00\"))","v":""}]
[{"$f":"IF('入力シート(総体)'!$H175=\"\",\"\",大会コード)","v":""},{"$f":"IF('入力シート(総体)'!$H175=\"\",\"\",IF('入力シート(総体)'!$B175=\"男\",0,1))","v":""},{"$f":"IF('入力シート(総体)'!$H175=\"\",\"\",'入力シート(総体)'!C175)","v":""},{"$f":"IF('入力シート(総体)'!$H175=\"\",\"\",TEXT('入力シート(総体)'!$E175,\"000\"))","v":""},null,null,{"$f":"IF('入力シート(総体)'!$H175=\"\",\"\",学校番号)","v":""},{"$f":"IF('入力シート(総体)'!$H175=\"\",\"\",'入力シート(総体)'!$K175)","v":""},{"$nulls":3},{"$f":"IF('入力シート(総体)'!$H175=\"\",\"\",TEXT('入力シート(総体)'!$H175,\"00\"))","v":""},null,{"$f":"IF('入力シート(総体)'!$H176=\"\",\"\",TEXT('入力シート(総体)'!$H176,\"00\"))","v":""},null,{"$f":"IF('入力シート(総体)'!$H177=\"\",\"\",TEXT('入力シート(総体)'!$H177,\"00\"))","v":""},null,{"$f":"IF('入力シート(総体)'!$H178=\"\",\"\",TEXT('入力シート(総体)'!$H178,\"00\"))","v":""},null,{"$f":"IF('入力シート(総体)'!$H179=\"\",\"\",TEXT('入力シート(総体)'!$H179,\"00\"))","v":""},null,{"$f":"IF('入力シート(総体)'!$H180=\"\",\"\",TEXT('入力シート(総体)'!$H180,\"00\"))","v":""}]
[{"$f":"IF('入力シート(総体)'!$H176=\"\",\"\",大会コード)","v":""},{"$f":"IF('入力シート(総体)'!$H176=\"\",\"\",IF('入力シート(総体)'!$B176=\"男\",0,1))","v":""},{"$f":"IF('入力シート(総体)'!$H176=\"\",\"\",'入力シート(総体)'!C176)","v":""},{"$f":"IF('入力シート(総体)'!$H176=\"\",\"\",TEXT('入力シート(総体)'!$E176,\"000\"))","v":""},null,null,{"$f":"IF('入力シート(総体)'!$H176=\"\",\"\",学校番号)","v":""},{"$f":"IF('入力シート(総体)'!$H176=\"\",\"\",'入力シート(総体)'!$K176)","v":""},{"$nulls":3},{"$f":"IF('入力シート(総体)'!$H176=\"\",\"\",TEXT('入力シート(総体)'!$H176,\"00\"))","v":""},null,{"$f":"IF('入力シート(総体)'!$H177=\"\",\"\",TEXT('入力シート(総体)'!$H177,\"00\"))","v":""},null,{"$f":"IF('入力シート(総体)'!$H178=\"\",\"\",TEXT('入力シート(総体)'!$H178,\"00\"))","v":""},null,{"$f":"IF('入力シート(総体)'!$H179=\"\",\"\",TEXT('入力シート(総体)'!$H179,\"00\"))","v":""},null,{"$f":"IF('入力シート(総体)'!$H180=\"\",\"\",TEXT('入力シート(総体)'!$H180,\"00\"))","v":""},null,{"$f":"IF('入力シート(総体)'!$H181=\"\",\"\",TEXT('入力シート(総体)'!$H181,\"00\"))","v":""}]
[{"$f":"IF('入力シート(総体)'!$H177=\"\",\"\",大会コード)","v":""},{"$f":"IF('入力シート(総体)'!$H177=\"\",\"\",IF('入力シート(総体)'!$B177=\"男\",0,1))","v":""},{"$f":"IF('入力シート(総体)'!$H177=\"\",\"\",'入力シート(総体)'!C177)","v":""},{"$f":"IF('入力シート(総体)'!$H177=\"\",\"\",TEXT('入力シート(総体)'!$E177,\"000\"))","v":""},null,null,{"$f":"IF('入力シート(総体)'!$H177=\"\",\"\",学校番号)","v":""},{"$f":"IF('入力シート(総体)'!$H177=\"\",\"\",'入力シート(総体)'!$K177)","v":""},{"$nulls":3},{"$f":"IF('入力シート(総体)'!$H177=\"\",\"\",TEXT('入力シート(総体)'!$H177,\"00\"))","v":""},null,{"$f":"IF('入力シート(総体)'!$H178=\"\",\"\",TEXT('入力シート(総体)'!$H178,\"00\"))","v":""},null,{"$f":"IF('入力シート(総体)'!$H179=\"\",\"\",TEXT('入力シート(総体)'!$H179,\"00\"))","v":""},null,{"$f":"IF('入力シート(総体)'!$H180=\"\",\"\",TEXT('入力シート(総体)'!$H180,\"00\"))","v":""},null,{"$f":"IF('入力シート(総体)'!$H181=\"\",\"\",TEXT('入力シート(総体)'!$H181,\"00\"))","v":""},null,{"$f":"IF('入力シート(総体)'!$H182=\"\",\"\",TEXT('入力シート(総体)'!$H182,\"00\"))","v":""}]
[{"$f":"IF('入力シート(総体)'!$H178=\"\",\"\",大会コード)","v":""},{"$f":"IF('入力シート(総体)'!$H178=\"\",\"\",IF('入力シート(総体)'!$B178=\"男\",0,1))","v":""},{"$f":"IF('入力シート(総体)'!$H178=\"\",\"\",'入力シート(総体)'!C178)","v":""},{"$f":"IF('入力シート(総体)'!$H178=\"\",\"\",TEXT('入力シート(総体)'!$E178,\"000\"))","v":""},null,null,{"$f":"IF('入力シート(総体)'!$H178=\"\",\"\",学校番号)","v":""},{"$f":"IF('入力シート(総体)'!$H178=\"\",\"\",'入力シート(総体)'!$K178)","v":""},{"$nulls":3},{"$f":"IF('入力シート(総体)'!$H178=\"\",\"\",TEXT('入力シート(総体)'!$H178,\"00\"))","v":""},null,{"$f":"IF('入力シート(総体)'!$H179=\"\",\"\",TEXT('入力シート(総体)'!$H179,\"00\"))","v":""},null,{"$f":"IF('入力シート(総体)'!$H180=\"\",\"\",TEXT('入力シート(総体)'!$H180,\"00\"))","v":""},null,{"$f":"IF('入力シート(総体)'!$H181=\"\",\"\",TEXT('入力シート(総体)'!$H181,\"00\"))","v":""},null,{"$f":"IF('入力シート(総体)'!$H182=\"\",\"\",TEXT('入力シート(総体)'!$H182,\"00\"))","v":""},null,{"$f":"IF('入力シート(総体)'!$H183=\"\",\"\",TEXT('入力シート(総体)'!$H183,\"00\"))","v":""}]
[{"$f":"IF('入力シート(総体)'!$H179=\"\",\"\",大会コード)","v":""},{"$f":"IF('入力シート(総体)'!$H179=\"\",\"\",IF('入力シート(総体)'!$B179=\"男\",0,1))","v":""},{"$f":"IF('入力シート(総体)'!$H179=\"\",\"\",'入力シート(総体)'!C179)","v":""},{"$f":"IF('入力シート(総体)'!$H179=\"\",\"\",TEXT('入力シート(総体)'!$E179,\"000\"))","v":""},null,null,{"$f":"IF('入力シート(総体)'!$H179=\"\",\"\",学校番号)","v":""},{"$f":"IF('入力シート(総体)'!$H179=\"\",\"\",'入力シート(総体)'!$K179)","v":""},{"$nulls":3},{"$f":"IF('入力シート(総体)'!$H179=\"\",\"\",TEXT('入力シート(総体)'!$H179,\"00\"))","v":""},null,{"$f":"IF('入力シート(総体)'!$H180=\"\",\"\",TEXT('入力シート(総体)'!$H180,\"00\"))","v":""},null,{"$f":"IF('入力シート(総体)'!$H181=\"\",\"\",TEXT('入力シート(総体)'!$H181,\"00\"))","v":""},null,{"$f":"IF('入力シート(総体)'!$H182=\"\",\"\",TEXT('入力シート(総体)'!$H182,\"00\"))","v":""},null,{"$f":"IF('入力シート(総体)'!$H183=\"\",\"\",TEXT('入力シート(総体)'!$H183,\"00\"))","v":""},null,{"$f":"IF('入力シート(総体)'!$H184=\"\",\"\",TEXT('入力シート(総体)'!$H184,\"00\"))","v":""}]
[{"$f":"IF('入力シート(総体)'!$H180=\"\",\"\",大会コード)","v":""},{"$f":"IF('入力シート(総体)'!$H180=\"\",\"\",IF('入力シート(総体)'!$B180=\"男\",0,1))","v":""},{"$f":"IF('入力シート(総体)'!$H180=\"\",\"\",'入力シート(総体)'!C180)","v":""},{"$f":"IF('入力シート(総体)'!$H180=\"\",\"\",TEXT('入力シート(総体)'!$E180,\"000\"))","v":""},null,null,{"$f":"IF('入力シート(総体)'!$H180=\"\",\"\",学校番号)","v":""},{"$f":"IF('入力シート(総体)'!$H180=\"\",\"\",'入力シート(総体)'!$K180)","v":""},{"$nulls":3},{"$f":"IF('入力シート(総体)'!$H180=\"\",\"\",TEXT('入力シート(総体)'!$H180,\"00\"))","v":""},null,{"$f":"IF('入力シート(総体)'!$H181=\"\",\"\",TEXT('入力シート(総体)'!$H181,\"00\"))","v":""},null,{"$f":"IF('入力シート(総体)'!$H182=\"\",\"\",TEXT('入力シート(総体)'!$H182,\"00\"))","v":""},null,{"$f":"IF('入力シート(総体)'!$H183=\"\",\"\",TEXT('入力シート(総体)'!$H183,\"00\"))","v":""},null,{"$f":"IF('入力シート(総体)'!$H184=\"\",\"\",TEXT('入力シート(総体)'!$H184,\"00\"))","v":""},null,{"$f":"IF('入力シート(総体)'!$H185=\"\",\"\",TEXT('入力シート(総体)'!$H185,\"00\"))","v":""}]
[{"$f":"IF('入力シート(総体)'!$H181=\"\",\"\",大会コード)","v":""},{"$f":"IF('入力シート(総体)'!$H181=\"\",\"\",IF('入力シート(総体)'!$B181=\"男\",0,1))","v":""},{"$f":"IF('入力シート(総体)'!$H181=\"\",\"\",'入力シート(総体)'!C181)","v":""},{"$f":"IF('入力シート(総体)'!$H181=\"\",\"\",TEXT('入力シート(総体)'!$E181,\"000\"))","v":""},null,null,{"$f":"IF('入力シート(総体)'!$H181=\"\",\"\",学校番号)","v":""},{"$f":"IF('入力シート(総体)'!$H181=\"\",\"\",'入力シート(総体)'!$K181)","v":""},{"$nulls":3},{"$f":"IF('入力シート(総体)'!$H181=\"\",\"\",TEXT('入力シート(総体)'!$H181,\"00\"))","v":""},null,{"$f":"IF('入力シート(総体)'!$H182=\"\",\"\",TEXT('入力シート(総体)'!$H182,\"00\"))","v":""},null,{"$f":"IF('入力シート(総体)'!$H183=\"\",\"\",TEXT('入力シート(総体)'!$H183,\"00\"))","v":""},null,{"$f":"IF('入力シート(総体)'!$H184=\"\",\"\",TEXT('入力シート(総体)'!$H184,\"00\"))","v":""},null,{"$f":"IF('入力シート(総体)'!$H185=\"\",\"\",TEXT('入力シート(総体)'!$H185,\"00\"))","v":""},null,{"$f":"IF('入力シート(総体)'!$H186=\"\",\"\",TEXT('入力シート(総体)'!$H186,\"00\"))","v":""}]
[{"$f":"IF('入力シート(総体)'!$H182=\"\",\"\",大会コード)","v":""},{"$f":"IF('入力シート(総体)'!$H182=\"\",\"\",IF('入力シート(総体)'!$B182=\"男\",0,1))","v":""},{"$f":"IF('入力シート(総体)'!$H182=\"\",\"\",'入力シート(総体)'!C182)","v":""},{"$f":"IF('入力シート(総体)'!$H182=\"\",\"\",TEXT('入力シート(総体)'!$E182,\"000\"))","v":""},null,null,{"$f":"IF('入力シート(総体)'!$H182=\"\",\"\",学校番号)","v":""},{"$f":"IF('入力シート(総体)'!$H182=\"\",\"\",'入力シート(総体)'!$K182)","v":""},{"$nulls":3},{"$f":"IF('入力シート(総体)'!$H182=\"\",\"\",TEXT('入力シート(総体)'!$H182,\"00\"))","v":""},null,{"$f":"IF('入力シート(総体)'!$H183=\"\",\"\",TEXT('入力シート(総体)'!$H183,\"00\"))","v":""},null,{"$f":"IF('入力シート(総体)'!$H184=\"\",\"\",TEXT('入力シート(総体)'!$H184,\"00\"))","v":""},null,{"$f":"IF('入力シート(総体)'!$H185=\"\",\"\",TEXT('入力シート(総体)'!$H185,\"00\"))","v":""},null,{"$f":"IF('入力シート(総体)'!$H186=\"\",\"\",TEXT('入力シート(総体)'!$H186,\"00\"))","v":""},null,{"$f":"IF('入力シート(総体)'!$H187=\"\",\"\",TEXT('入力シート(総体)'!$H187,\"00\"))","v":""}]
[{"$f":"IF('入力シート(総体)'!$H183=\"\",\"\",大会コード)","v":""},{"$f":"IF('入力シート(総体)'!$H183=\"\",\"\",IF('入力シート(総体)'!$B183=\"男\",0,1))","v":""},{"$f":"IF('入力シート(総体)'!$H183=\"\",\"\",'入力シート(総体)'!C183)","v":""},{"$f":"IF('入力シート(総体)'!$H183=\"\",\"\",TEXT('入力シート(総体)'!$E183,\"000\"))","v":""},null,null,{"$f":"IF('入力シート(総体)'!$H183=\"\",\"\",学校番号)","v":""},{"$f":"IF('入力シート(総体)'!$H183=\"\",\"\",'入力シート(総体)'!$K183)","v":""},{"$nulls":3},{"$f":"IF('入力シート(総体)'!$H183=\"\",\"\",TEXT('入力シート(総体)'!$H183,\"00\"))","v":""},null,{"$f":"IF('入力シート(総体)'!$H184=\"\",\"\",TEXT('入力シート(総体)'!$H184,\"00\"))","v":""},null,{"$f":"IF('入力シート(総体)'!$H185=\"\",\"\",TEXT('入力シート(総体)'!$H185,\"00\"))","v":""},null,{"$f":"IF('入力シート(総体)'!$H186=\"\",\"\",TEXT('入力シート(総体)'!$H186,\"00\"))","v":""},null,{"$f":"IF('入力シート(総体)'!$H187=\"\",\"\",TEXT('入力シート(総体)'!$H187,\"00\"))","v":""},null,{"$f":"IF('入力シート(総体)'!$H188=\"\",\"\",TEXT('入力シート(総体)'!$H188,\"00\"))","v":""}]
[{"$f":"IF('入力シート(総体)'!$H184=\"\",\"\",大会コード)","v":""},{"$f":"IF('入力シート(総体)'!$H184=\"\",\"\",IF('入力シート(総体)'!$B184=\"男\",0,1))","v":""},{"$f":"IF('入力シート(総体)'!$H184=\"\",\"\",'入力シート(総体)'!C184)","v":""},{"$f":"IF('入力シート(総体)'!$H184=\"\",\"\",TEXT('入力シート(総体)'!$E184,\"000\"))","v":""},null,null,{"$f":"IF('入力シート(総体)'!$H184=\"\",\"\",学校番号)","v":""},{"$f":"IF('入力シート(総体)'!$H184=\"\",\"\",'入力シート(総体)'!$K184)","v":""},{"$nulls":3},{"$f":"IF('入力シート(総体)'!$H184=\"\",\"\",TEXT('入力シート(総体)'!$H184,\"00\"))","v":""},null,{"$f":"IF('入力シート(総体)'!$H185=\"\",\"\",TEXT('入力シート(総体)'!$H185,\"00\"))","v":""},null,{"$f":"IF('入力シート(総体)'!$H186=\"\",\"\",TEXT('入力シート(総体)'!$H186,\"00\"))","v":""},null,{"$f":"IF('入力シート(総体)'!$H187=\"\",\"\",TEXT('入力シート(総体)'!$H187,\"00\"))","v":""},null,{"$f":"IF('入力シート(総体)'!$H188=\"\",\"\",TEXT('入力シート(総体)'!$H188,\"00\"))","v":""},null,{"$f":"IF('入力シート(総体)'!$H189=\"\",\"\",TEXT('入力シート(総体)'!$H189,\"00\"))","v":""}]
[{"$f":"IF('入力シート(総体)'!$H185=\"\",\"\",大会コード)","v":""},{"$f":"IF('入力シート(総体)'!$H185=\"\",\"\",IF('入力シート(総体)'!$B185=\"男\",0,1))","v":""},{"$f":"IF('入力シート(総体)'!$H185=\"\",\"\",'入力シート(総体)'!C185)","v":""},{"$f":"IF('入力シート(総体)'!$H185=\"\",\"\",TEXT('入力シート(総体)'!$E185,\"000\"))","v":""},null,null,{"$f":"IF('入力シート(総体)'!$H185=\"\",\"\",学校番号)","v":""},{"$f":"IF('入力シート(総体)'!$H185=\"\",\"\",'入力シート(総体)'!$K185)","v":""},{"$nulls":3},{"$f":"IF('入力シート(総体)'!$H185=\"\",\"\",TEXT('入力シート(総体)'!$H185,\"00\"))","v":""},null,{"$f":"IF('入力シート(総体)'!$H186=\"\",\"\",TEXT('入力シート(総体)'!$H186,\"00\"))","v":""},null,{"$f":"IF('入力シート(総体)'!$H187=\"\",\"\",TEXT('入力シート(総体)'!$H187,\"00\"))","v":""},null,{"$f":"IF('入力シート(総体)'!$H188=\"\",\"\",TEXT('入力シート(総体)'!$H188,\"00\"))","v":""},null,{"$f":"IF('入力シート(総体)'!$H189=\"\",\"\",TEXT('入力シート(総体)'!$H189,\"00\"))","v":""},null,{"$f":"IF('入力シート(総体)'!$H190=\"\",\"\",TEXT('入力シート(総体)'!$H190,\"00\"))","v":""}]
[{"$f":"IF('入力シート(総体)'!$H186=\"\",\"\",大会コード)","v":""},{"$f":"IF('入力シート(総体)'!$H186=\"\",\"\",IF('入力シート(総体)'!$B186=\"男\",0,1))","v":""},{"$f":"IF('入力シート(総体)'!$H186=\"\",\"\",'入力シート(総体)'!C186)","v":""},{"$f":"IF('入力シート(総体)'!$H186=\"\",\"\",TEXT('入力シート(総体)'!$E186,\"000\"))","v":""},null,null,{"$f":"IF('入力シート(総体)'!$H186=\"\",\"\",学校番号)","v":""},{"$f":"IF('入力シート(総体)'!$H186=\"\",\"\",'入力シート(総体)'!$K186)","v":""},{"$nulls":3},{"$f":"IF('入力シート(総体)'!$H186=\"\",\"\",TEXT('入力シート(総体)'!$H186,\"00\"))","v":""},null,{"$f":"IF('入力シート(総体)'!$H187=\"\",\"\",TEXT('入力シート(総体)'!$H187,\"00\"))","v":""},null,{"$f":"IF('入力シート(総体)'!$H188=\"\",\"\",TEXT('入力シート(総体)'!$H188,\"00\"))","v":""},null,{"$f":"IF('入力シート(総体)'!$H189=\"\",\"\",TEXT('入力シート(総体)'!$H189,\"00\"))","v":""},null,{"$f":"IF('入力シート(総体)'!$H190=\"\",\"\",TEXT('入力シート(総体)'!$H190,\"00\"))","v":""},null,{"$f":"IF('入力シート(総体)'!$H191=\"\",\"\",TEXT('入力シート(総体)'!$H191,\"00\"))","v":""}]
[{"$f":"IF('入力シート(総体)'!$H187=\"\",\"\",大会コード)","v":""},{"$f":"IF('入力シート(総体)'!$H187=\"\",\"\",IF('入力シート(総体)'!$B187=\"男\",0,1))","v":""},{"$f":"IF('入力シート(総体)'!$H187=\"\",\"\",'入力シート(総体)'!C187)","v":""},{"$f":"IF('入力シート(総体)'!$H187=\"\",\"\",TEXT('入力シート(総体)'!$E187,\"000\"))","v":""},null,null,{"$f":"IF('入力シート(総体)'!$H187=\"\",\"\",学校番号)","v":""},{"$f":"IF('入力シート(総体)'!$H187=\"\",\"\",'入力シート(総体)'!$K187)","v":""},{"$nulls":3},{"$f":"IF('入力シート(総体)'!$H187=\"\",\"\",TEXT('入力シート(総体)'!$H187,\"00\"))","v":""},null,{"$f":"IF('入力シート(総体)'!$H188=\"\",\"\",TEXT('入力シート(総体)'!$H188,\"00\"))","v":""},null,{"$f":"IF('入力シート(総体)'!$H189=\"\",\"\",TEXT('入力シート(総体)'!$H189,\"00\"))","v":""},null,{"$f":"IF('入力シート(総体)'!$H190=\"\",\"\",TEXT('入力シート(総体)'!$H190,\"00\"))","v":""},null,{"$f":"IF('入力シート(総体)'!$H191=\"\",\"\",TEXT('入力シート(総体)'!$H191,\"00\"))","v":""},null,{"$f":"IF('入力シート(総体)'!$H192=\"\",\"\",TEXT('入力シート(総体)'!$H192,\"00\"))","v":""}]
[{"$f":"IF('入力シート(総体)'!$H188=\"\",\"\",大会コード)","v":""},{"$f":"IF('入力シート(総体)'!$H188=\"\",\"\",IF('入力シート(総体)'!$B188=\"男\",0,1))","v":""},{"$f":"IF('入力シート(総体)'!$H188=\"\",\"\",'入力シート(総体)'!C188)","v":""},{"$f":"IF('入力シート(総体)'!$H188=\"\",\"\",TEXT('入力シート(総体)'!$E188,\"000\"))","v":""},null,null,{"$f":"IF('入力シート(総体)'!$H188=\"\",\"\",学校番号)","v":""},{"$f":"IF('入力シート(総体)'!$H188=\"\",\"\",'入力シート(総体)'!$K188)","v":""},{"$nulls":3},{"$f":"IF('入力シート(総体)'!$H188=\"\",\"\",TEXT('入力シート(総体)'!$H188,\"00\"))","v":""},null,{"$f":"IF('入力シート(総体)'!$H189=\"\",\"\",TEXT('入力シート(総体)'!$H189,\"00\"))","v":""},null,{"$f":"IF('入力シート(総体)'!$H190=\"\",\"\",TEXT('入力シート(総体)'!$H190,\"00\"))","v":""},null,{"$f":"IF('入力シート(総体)'!$H191=\"\",\"\",TEXT('入力シート(総体)'!$H191,\"00\"))","v":""},null,{"$f":"IF('入力シート(総体)'!$H192=\"\",\"\",TEXT('入力シート(総体)'!$H192,\"00\"))","v":""},null,{"$f":"IF('入力シート(総体)'!$H193=\"\",\"\",TEXT('入力シート(総体)'!$H193,\"00\"))","v":""}]
[{"$f":"IF('入力シート(総体)'!$H189=\"\",\"\",大会コード)","v":""},{"$f":"IF('入力シート(総体)'!$H189=\"\",\"\",IF('入力シート(総体)'!$B189=\"男\",0,1))","v":""},{"$f":"IF('入力シート(総体)'!$H189=\"\",\"\",'入力シート(総体)'!C189)","v":""},{"$f":"IF('入力シート(総体)'!$H189=\"\",\"\",TEXT('入力シート(総体)'!$E189,\"000\"))","v":""},null,null,{"$f":"IF('入力シート(総体)'!$H189=\"\",\"\",学校番号)","v":""},{"$f":"IF('入力シート(総体)'!$H189=\"\",\"\",'入力シート(総体)'!$K189)","v":""},{"$nulls":3},{"$f":"IF('入力シート(総体)'!$H189=\"\",\"\",TEXT('入力シート(総体)'!$H189,\"00\"))","v":""},null,{"$f":"IF('入力シート(総体)'!$H190=\"\",\"\",TEXT('入力シート(総体)'!$H190,\"00\"))","v":""},null,{"$f":"IF('入力シート(総体)'!$H191=\"\",\"\",TEXT('入力シート(総体)'!$H191,\"00\"))","v":""},null,{"$f":"IF('入力シート(総体)'!$H192=\"\",\"\",TEXT('入力シート(総体)'!$H192,\"00\"))","v":""},null,{"$f":"IF('入力シート(総体)'!$H193=\"\",\"\",TEXT('入力シート(総体)'!$H193,\"00\"))","v":""},null,{"$f":"IF('入力シート(総体)'!$H194=\"\",\"\",TEXT('入力シート(総体)'!$H194,\"00\"))","v":""}]
[{"$f":"IF('入力シート(総体)'!$H190=\"\",\"\",大会コード)","v":""},{"$f":"IF('入力シート(総体)'!$H190=\"\",\"\",IF('入力シート(総体)'!$B190=\"男\",0,1))","v":""},{"$f":"IF('入力シート(総体)'!$H190=\"\",\"\",'入力シート(総体)'!C190)","v":""},{"$f":"IF('入力シート(総体)'!$H190=\"\",\"\",TEXT('入力シート(総体)'!$E190,\"000\"))","v":""},null,null,{"$f":"IF('入力シート(総体)'!$H190=\"\",\"\",学校番号)","v":""},{"$f":"IF('入力シート(総体)'!$H190=\"\",\"\",'入力シート(総体)'!$K190)","v":""},{"$nulls":3},{"$f":"IF('入力シート(総体)'!$H190=\"\",\"\",TEXT('入力シート(総体)'!$H190,\"00\"))","v":""},null,{"$f":"IF('入力シート(総体)'!$H191=\"\",\"\",TEXT('入力シート(総体)'!$H191,\"00\"))","v":""},null,{"$f":"IF('入力シート(総体)'!$H192=\"\",\"\",TEXT('入力シート(総体)'!$H192,\"00\"))","v":""},null,{"$f":"IF('入力シート(総体)'!$H193=\"\",\"\",TEXT('入力シート(総体)'!$H193,\"00\"))","v":""},null,{"$f":"IF('入力シート(総体)'!$H194=\"\",\"\",TEXT('入力シート(総体)'!$H194,\"00\"))","v":""},null,{"$f":"IF('入力シート(総体)'!$H195=\"\",\"\",TEXT('入力シート(総体)'!$H195,\"00\"))","v":""}]
[{"$f":"IF('入力シート(総体)'!$H191=\"\",\"\",大会コード)","v":""},{"$f":"IF('入力シート(総体)'!$H191=\"\",\"\",IF('入力シート(総体)'!$B191=\"男\",0,1))","v":""},{"$f":"IF('入力シート(総体)'!$H191=\"\",\"\",'入力シート(総体)'!C191)","v":""},{"$f":"IF('入力シート(総体)'!$H191=\"\",\"\",TEXT('入力シート(総体)'!$E191,\"000\"))","v":""},null,null,{"$f":"IF('入力シート(総体)'!$H191=\"\",\"\",学校番号)","v":""},{"$f":"IF('入力シート(総体)'!$H191=\"\",\"\",'入力シート(総体)'!$K191)","v":""},{"$nulls":3},{"$f":"IF('入力シート(総体)'!$H191=\"\",\"\",TEXT('入力シート(総体)'!$H191,\"00\"))","v":""},null,{"$f":"IF('入力シート(総体)'!$H192=\"\",\"\",TEXT('入力シート(総体)'!$H192,\"00\"))","v":""},null,{"$f":"IF('入力シート(総体)'!$H193=\"\",\"\",TEXT('入力シート(総体)'!$H193,\"00\"))","v":""},null,{"$f":"IF('入力シート(総体)'!$H194=\"\",\"\",TEXT('入力シート(総体)'!$H194,\"00\"))","v":""},null,{"$f":"IF('入力シート(総体)'!$H195=\"\",\"\",TEXT('入力シート(総体)'!$H195,\"00\"))","v":""},null,{"$f":"IF('入力シート(総体)'!$H196=\"\",\"\",TEXT('入力シート(総体)'!$H196,\"00\"))","v":""}]
[{"$f":"IF('入力シート(総体)'!$H192=\"\",\"\",大会コード)","v":""},{"$f":"IF('入力シート(総体)'!$H192=\"\",\"\",IF('入力シート(総体)'!$B192=\"男\",0,1))","v":""},{"$f":"IF('入力シート(総体)'!$H192=\"\",\"\",'入力シート(総体)'!C192)","v":""},{"$f":"IF('入力シート(総体)'!$H192=\"\",\"\",TEXT('入力シート(総体)'!$E192,\"000\"))","v":""},null,null,{"$f":"IF('入力シート(総体)'!$H192=\"\",\"\",学校番号)","v":""},{"$f":"IF('入力シート(総体)'!$H192=\"\",\"\",'入力シート(総体)'!$K192)","v":""},{"$nulls":3},{"$f":"IF('入力シート(総体)'!$H192=\"\",\"\",TEXT('入力シート(総体)'!$H192,\"00\"))","v":""},null,{"$f":"IF('入力シート(総体)'!$H193=\"\",\"\",TEXT('入力シート(総体)'!$H193,\"00\"))","v":""},null,{"$f":"IF('入力シート(総体)'!$H194=\"\",\"\",TEXT('入力シート(総体)'!$H194,\"00\"))","v":""},null,{"$f":"IF('入力シート(総体)'!$H195=\"\",\"\",TEXT('入力シート(総体)'!$H195,\"00\"))","v":""},null,{"$f":"IF('入力シート(総体)'!$H196=\"\",\"\",TEXT('入力シート(総体)'!$H196,\"00\"))","v":""},null,{"$f":"IF('入力シート(総体)'!$H197=\"\",\"\",TEXT('入力シート(総体)'!$H197,\"00\"))","v":""}]
[{"$f":"IF('入力シート(総体)'!$H193=\"\",\"\",大会コード)","v":""},{"$f":"IF('入力シート(総体)'!$H193=\"\",\"\",IF('入力シート(総体)'!$B193=\"男\",0,1))","v":""},{"$f":"IF('入力シート(総体)'!$H193=\"\",\"\",'入力シート(総体)'!C193)","v":""},{"$f":"IF('入力シート(総体)'!$H193=\"\",\"\",TEXT('入力シート(総体)'!$E193,\"000\"))","v":""},null,null,{"$f":"IF('入力シート(総体)'!$H193=\"\",\"\",学校番号)","v":""},{"$f":"IF('入力シート(総体)'!$H193=\"\",\"\",'入力シート(総体)'!$K193)","v":""},{"$nulls":3},{"$f":"IF('入力シート(総体)'!$H193=\"\",\"\",TEXT('入力シート(総体)'!$H193,\"00\"))","v":""},null,{"$f":"IF('入力シート(総体)'!$H194=\"\",\"\",TEXT('入力シート(総体)'!$H194,\"00\"))","v":""},null,{"$f":"IF('入力シート(総体)'!$H195=\"\",\"\",TEXT('入力シート(総体)'!$H195,\"00\"))","v":""},null,{"$f":"IF('入力シート(総体)'!$H196=\"\",\"\",TEXT('入力シート(総体)'!$H196,\"00\"))","v":""},null,{"$f":"IF('入力シート(総体)'!$H197=\"\",\"\",TEXT('入力シート(総体)'!$H197,\"00\"))","v":""},null,{"$f":"IF('入力シート(総体)'!$H198=\"\",\"\",TEXT('入力シート(総体)'!$H198,\"00\"))","v":""}]
[{"$f":"IF('入力シート(総体)'!$H194=\"\",\"\",大会コード)","v":""},{"$f":"IF('入力シート(総体)'!$H194=\"\",\"\",IF('入力シート(総体)'!$B194=\"男\",0,1))","v":""},{"$f":"IF('入力シート(総体)'!$H194=\"\",\"\",'入力シート(総体)'!C194)","v":""},{"$f":"IF('入力シート(総体)'!$H194=\"\",\"\",TEXT('入力シート(総体)'!$E194,\"000\"))","v":""},null,null,{"$f":"IF('入力シート(総体)'!$H194=\"\",\"\",学校番号)","v":""},{"$f":"IF('入力シート(総体)'!$H194=\"\",\"\",'入力シート(総体)'!$K194)","v":""},{"$nulls":3},{"$f":"IF('入力シート(総体)'!$H194=\"\",\"\",TEXT('入力シート(総体)'!$H194,\"00\"))","v":""},null,{"$f":"IF('入力シート(総体)'!$H195=\"\",\"\",TEXT('入力シート(総体)'!$H195,\"00\"))","v":""},null,{"$f":"IF('入力シート(総体)'!$H196=\"\",\"\",TEXT('入力シート(総体)'!$H196,\"00\"))","v":""},null,{"$f":"IF('入力シート(総体)'!$H197=\"\",\"\",TEXT('入力シート(総体)'!$H197,\"00\"))","v":""},null,{"$f":"IF('入力シート(総体)'!$H198=\"\",\"\",TEXT('入力シート(総体)'!$H198,\"00\"))","v":""},null,{"$f":"IF('入力シート(総体)'!$H199=\"\",\"\",TEXT('入力シート(総体)'!$H199,\"00\"))","v":""}]
[{"$f":"IF('入力シート(総体)'!$H195=\"\",\"\",大会コード)","v":""},{"$f":"IF('入力シート(総体)'!$H195=\"\",\"\",IF('入力シート(総体)'!$B195=\"男\",0,1))","v":""},{"$f":"IF('入力シート(総体)'!$H195=\"\",\"\",'入力シート(総体)'!C195)","v":""},{"$f":"IF('入力シート(総体)'!$H195=\"\",\"\",TEXT('入力シート(総体)'!$E195,\"000\"))","v":""},null,null,{"$f":"IF('入力シート(総体)'!$H195=\"\",\"\",学校番号)","v":""},{"$f":"IF('入力シート(総体)'!$H195=\"\",\"\",'入力シート(総体)'!$K195)","v":""},{"$nulls":3},{"$f":"IF('入力シート(総体)'!$H195=\"\",\"\",TEXT('入力シート(総体)'!$H195,\"00\"))","v":""},null,{"$f":"IF('入力シート(総体)'!$H196=\"\",\"\",TEXT('入力シート(総体)'!$H196,\"00\"))","v":""},null,{"$f":"IF('入力シート(総体)'!$H197=\"\",\"\",TEXT('入力シート(総体)'!$H197,\"00\"))","v":""},null,{"$f":"IF('入力シート(総体)'!$H198=\"\",\"\",TEXT('入力シート(総体)'!$H198,\"00\"))","v":""},null,{"$f":"IF('入力シート(総体)'!$H199=\"\",\"\",TEXT('入力シート(総体)'!$H199,\"00\"))","v":""},null,{"$f":"IF('入力シート(総体)'!$H200=\"\",\"\",TEXT('入力シート(総体)'!$H200,\"00\"))","v":""}]
[{"$f":"IF('入力シート(総体)'!$H196=\"\",\"\",大会コード)","v":""},{"$f":"IF('入力シート(総体)'!$H196=\"\",\"\",IF('入力シート(総体)'!$B196=\"男\",0,1))","v":""},{"$f":"IF('入力シート(総体)'!$H196=\"\",\"\",'入力シート(総体)'!C196)","v":""},{"$f":"IF('入力シート(総体)'!$H196=\"\",\"\",TEXT('入力シート(総体)'!$E196,\"000\"))","v":""},null,null,{"$f":"IF('入力シート(総体)'!$H196=\"\",\"\",学校番号)","v":""},{"$f":"IF('入力シート(総体)'!$H196=\"\",\"\",'入力シート(総体)'!$K196)","v":""},{"$nulls":3},{"$f":"IF('入力シート(総体)'!$H196=\"\",\"\",TEXT('入力シート(総体)'!$H196,\"00\"))","v":""},null,{"$f":"IF('入力シート(総体)'!$H197=\"\",\"\",TEXT('入力シート(総体)'!$H197,\"00\"))","v":""},null,{"$f":"IF('入力シート(総体)'!$H198=\"\",\"\",TEXT('入力シート(総体)'!$H198,\"00\"))","v":""},null,{"$f":"IF('入力シート(総体)'!$H199=\"\",\"\",TEXT('入力シート(総体)'!$H199,\"00\"))","v":""},null,{"$f":"IF('入力シート(総体)'!$H200=\"\",\"\",TEXT('入力シート(総体)'!$H200,\"00\"))","v":""},null,{"$f":"IF('入力シート(総体)'!$H201=\"\",\"\",TEXT('入力シート(総体)'!$H201,\"00\"))","v":""}]
[{"$f":"IF('入力シート(総体)'!$H197=\"\",\"\",大会コード)","v":""},{"$f":"IF('入力シート(総体)'!$H197=\"\",\"\",IF('入力シート(総体)'!$B197=\"男\",0,1))","v":""},{"$f":"IF('入力シート(総体)'!$H197=\"\",\"\",'入力シート(総体)'!C197)","v":""},{"$f":"IF('入力シート(総体)'!$H197=\"\",\"\",TEXT('入力シート(総体)'!$E197,\"000\"))","v":""},null,null,{"$f":"IF('入力シート(総体)'!$H197=\"\",\"\",学校番号)","v":""},{"$f":"IF('入力シート(総体)'!$H197=\"\",\"\",'入力シート(総体)'!$K197)","v":""},{"$nulls":3},{"$f":"IF('入力シート(総体)'!$H197=\"\",\"\",TEXT('入力シート(総体)'!$H197,\"00\"))","v":""},null,{"$f":"IF('入力シート(総体)'!$H198=\"\",\"\",TEXT('入力シート(総体)'!$H198,\"00\"))","v":""},null,{"$f":"IF('入力シート(総体)'!$H199=\"\",\"\",TEXT('入力シート(総体)'!$H199,\"00\"))","v":""},null,{"$f":"IF('入力シート(総体)'!$H200=\"\",\"\",TEXT('入力シート(総体)'!$H200,\"00\"))","v":""},null,{"$f":"IF('入力シート(総体)'!$H201=\"\",\"\",TEXT('入力シート(総体)'!$H201,\"00\"))","v":""},null,{"$f":"IF('入力シート(総体)'!$H202=\"\",\"\",TEXT('入力シート(総体)'!$H202,\"00\"))","v":""}]
[{"$f":"IF('入力シート(総体)'!$H198=\"\",\"\",大会コード)","v":""},{"$f":"IF('入力シート(総体)'!$H198=\"\",\"\",IF('入力シート(総体)'!$B198=\"男\",0,1))","v":""},{"$f":"IF('入力シート(総体)'!$H198=\"\",\"\",'入力シート(総体)'!C198)","v":""},{"$f":"IF('入力シート(総体)'!$H198=\"\",\"\",TEXT('入力シート(総体)'!$E198,\"000\"))","v":""},null,null,{"$f":"IF('入力シート(総体)'!$H198=\"\",\"\",学校番号)","v":""},{"$f":"IF('入力シート(総体)'!$H198=\"\",\"\",'入力シート(総体)'!$K198)","v":""},{"$nulls":3},{"$f":"IF('入力シート(総体)'!$H198=\"\",\"\",TEXT('入力シート(総体)'!$H198,\"00\"))","v":""},null,{"$f":"IF('入力シート(総体)'!$H199=\"\",\"\",TEXT('入力シート(総体)'!$H199,\"00\"))","v":""},null,{"$f":"IF('入力シート(総体)'!$H200=\"\",\"\",TEXT('入力シート(総体)'!$H200,\"00\"))","v":""},null,{"$f":"IF('入力シート(総体)'!$H201=\"\",\"\",TEXT('入力シート(総体)'!$H201,\"00\"))","v":""},null,{"$f":"IF('入力シート(総体)'!$H202=\"\",\"\",TEXT('入力シート(総体)'!$H202,\"00\"))","v":""},null,{"$f":"IF('入力シート(総体)'!$H203=\"\",\"\",TEXT('入力シート(総体)'!$H203,\"00\"))","v":""}]
[{"$f":"IF('入力シート(総体)'!$H199=\"\",\"\",大会コード)","v":""},{"$f":"IF('入力シート(総体)'!$H199=\"\",\"\",IF('入力シート(総体)'!$B199=\"男\",0,1))","v":""},{"$f":"IF('入力シート(総体)'!$H199=\"\",\"\",'入力シート(総体)'!C199)","v":""},{"$f":"IF('入力シート(総体)'!$H199=\"\",\"\",TEXT('入力シート(総体)'!$E199,\"000\"))","v":""},null,null,{"$f":"IF('入力シート(総体)'!$H199=\"\",\"\",学校番号)","v":""},{"$f":"IF('入力シート(総体)'!$H199=\"\",\"\",'入力シート(総体)'!$K199)","v":""},{"$nulls":3},{"$f":"IF('入力シート(総体)'!$H199=\"\",\"\",TEXT('入力シート(総体)'!$H199,\"00\"))","v":""},null,{"$f":"IF('入力シート(総体)'!$H200=\"\",\"\",TEXT('入力シート(総体)'!$H200,\"00\"))","v":""},null,{"$f":"IF('入力シート(総体)'!$H201=\"\",\"\",TEXT('入力シート(総体)'!$H201,\"00\"))","v":""},null,{"$f":"IF('入力シート(総体)'!$H202=\"\",\"\",TEXT('入力シート(総体)'!$H202,\"00\"))","v":""},null,{"$f":"IF('入力シート(総体)'!$H203=\"\",\"\",TEXT('入力シート(総体)'!$H203,\"00\"))","v":""},null,{"$f":"IF('入力シート(総体)'!$H204=\"\",\"\",TEXT('入力シート(総体)'!$H204,\"00\"))","v":""}]
[{"$f":"IF('入力シート(総体)'!$H200=\"\",\"\",大会コード)","v":""},{"$f":"IF('入力シート(総体)'!$H200=\"\",\"\",IF('入力シート(総体)'!$B200=\"男\",0,1))","v":""},{"$f":"IF('入力シート(総体)'!$H200=\"\",\"\",'入力シート(総体)'!C200)","v":""},{"$f":"IF('入力シート(総体)'!$H200=\"\",\"\",TEXT('入力シート(総体)'!$E200,\"000\"))","v":""},null,null,{"$f":"IF('入力シート(総体)'!$H200=\"\",\"\",学校番号)","v":""},{"$f":"IF('入力シート(総体)'!$H200=\"\",\"\",'入力シート(総体)'!$K200)","v":""},{"$nulls":3},{"$f":"IF('入力シート(総体)'!$H200=\"\",\"\",TEXT('入力シート(総体)'!$H200,\"00\"))","v":""},null,{"$f":"IF('入力シート(総体)'!$H201=\"\",\"\",TEXT('入力シート(総体)'!$H201,\"00\"))","v":""},null,{"$f":"IF('入力シート(総体)'!$H202=\"\",\"\",TEXT('入力シート(総体)'!$H202,\"00\"))","v":""},null,{"$f":"IF('入力シート(総体)'!$H203=\"\",\"\",TEXT('入力シート(総体)'!$H203,\"00\"))","v":""},null,{"$f":"IF('入力シート(総体)'!$H204=\"\",\"\",TEXT('入力シート(総体)'!$H204,\"00\"))","v":""},null,{"$f":"IF('入力シート(総体)'!$H205=\"\",\"\",TEXT('入力シート(総体)'!$H205,\"00\"))","v":""}]
[{"$f":"IF('入力シート(総体)'!$H201=\"\",\"\",大会コード)","v":""},{"$f":"IF('入力シート(総体)'!$H201=\"\",\"\",IF('入力シート(総体)'!$B201=\"男\",0,1))","v":""},{"$f":"IF('入力シート(総体)'!$H201=\"\",\"\",'入力シート(総体)'!C201)","v":""},{"$f":"IF('入力シート(総体)'!$H201=\"\",\"\",TEXT('入力シート(総体)'!$E201,\"000\"))","v":""},null,null,{"$f":"IF('入力シート(総体)'!$H201=\"\",\"\",学校番号)","v":""},{"$f":"IF('入力シート(総体)'!$H201=\"\",\"\",'入力シート(総体)'!$K201)","v":""},{"$nulls":3},{"$f":"IF('入力シート(総体)'!$H201=\"\",\"\",TEXT('入力シート(総体)'!$H201,\"00\"))","v":""},null,{"$f":"IF('入力シート(総体)'!$H202=\"\",\"\",TEXT('入力シート(総体)'!$H202,\"00\"))","v":""},null,{"$f":"IF('入力シート(総体)'!$H203=\"\",\"\",TEXT('入力シート(総体)'!$H203,\"00\"))","v":""},null,{"$f":"IF('入力シート(総体)'!$H204=\"\",\"\",TEXT('入力シート(総体)'!$H204,\"00\"))","v":""},null,{"$f":"IF('入力シート(総体)'!$H205=\"\",\"\",TEXT('入力シート(総体)'!$H205,\"00\"))","v":""},null,{"$f":"IF('入力シート(総体)'!$H206=\"\",\"\",TEXT('入力シート(総体)'!$H206,\"00\"))","v":""}]
[{"$f":"IF('入力シート(総体)'!$H202=\"\",\"\",大会コード)","v":""},{"$f":"IF('入力シート(総体)'!$H202=\"\",\"\",IF('入力シート(総体)'!$B202=\"男\",0,1))","v":""},{"$f":"IF('入力シート(総体)'!$H202=\"\",\"\",'入力シート(総体)'!C202)","v":""},{"$f":"IF('入力シート(総体)'!$H202=\"\",\"\",TEXT('入力シート(総体)'!$E202,\"000\"))","v":""},null,null,{"$f":"IF('入力シート(総体)'!$H202=\"\",\"\",学校番号)","v":""},{"$f":"IF('入力シート(総体)'!$H202=\"\",\"\",'入力シート(総体)'!$K202)","v":""},{"$nulls":3},{"$f":"IF('入力シート(総体)'!$H202=\"\",\"\",TEXT('入力シート(総体)'!$H202,\"00\"))","v":""},null,{"$f":"IF('入力シート(総体)'!$H203=\"\",\"\",TEXT('入力シート(総体)'!$H203,\"00\"))","v":""},null,{"$f":"IF('入力シート(総体)'!$H204=\"\",\"\",TEXT('入力シート(総体)'!$H204,\"00\"))","v":""},null,{"$f":"IF('入力シート(総体)'!$H205=\"\",\"\",TEXT('入力シート(総体)'!$H205,\"00\"))","v":""},null,{"$f":"IF('入力シート(総体)'!$H206=\"\",\"\",TEXT('入力シート(総体)'!$H206,\"00\"))","v":""},null,{"$f":"IF('入力シート(総体)'!$H207=\"\",\"\",TEXT('入力シート(総体)'!$H207,\"00\"))","v":""}]
[{"$f":"IF('入力シート(総体)'!$H203=\"\",\"\",大会コード)","v":""},{"$f":"IF('入力シート(総体)'!$H203=\"\",\"\",IF('入力シート(総体)'!$B203=\"男\",0,1))","v":""},{"$f":"IF('入力シート(総体)'!$H203=\"\",\"\",'入力シート(総体)'!C203)","v":""},{"$f":"IF('入力シート(総体)'!$H203=\"\",\"\",TEXT('入力シート(総体)'!$E203,\"000\"))","v":""},null,null,{"$f":"IF('入力シート(総体)'!$H203=\"\",\"\",学校番号)","v":""},{"$f":"IF('入力シート(総体)'!$H203=\"\",\"\",'入力シート(総体)'!$K203)","v":""},{"$nulls":3},{"$f":"IF('入力シート(総体)'!$H203=\"\",\"\",TEXT('入力シート(総体)'!$H203,\"00\"))","v":""},null,{"$f":"IF('入力シート(総体)'!$H204=\"\",\"\",TEXT('入力シート(総体)'!$H204,\"00\"))","v":""},null,{"$f":"IF('入力シート(総体)'!$H205=\"\",\"\",TEXT('入力シート(総体)'!$H205,\"00\"))","v":""},null,{"$f":"IF('入力シート(総体)'!$H206=\"\",\"\",TEXT('入力シート(総体)'!$H206,\"00\"))","v":""},null,{"$f":"IF('入力シート(総体)'!$H207=\"\",\"\",TEXT('入力シート(総体)'!$H207,\"00\"))","v":""},null,{"$f":"IF('入力シート(総体)'!$H208=\"\",\"\",TEXT('入力シート(総体)'!$H208,\"00\"))","v":""}]
[{"$f":"IF('入力シート(総体)'!$H204=\"\",\"\",大会コード)","v":""},{"$f":"IF('入力シート(総体)'!$H204=\"\",\"\",IF('入力シート(総体)'!$B204=\"男\",0,1))","v":""},{"$f":"IF('入力シート(総体)'!$H204=\"\",\"\",'入力シート(総体)'!C204)","v":""},{"$f":"IF('入力シート(総体)'!$H204=\"\",\"\",TEXT('入力シート(総体)'!$E204,\"000\"))","v":""},null,null,{"$f":"IF('入力シート(総体)'!$H204=\"\",\"\",学校番号)","v":""},{"$f":"IF('入力シート(総体)'!$H204=\"\",\"\",'入力シート(総体)'!$K204)","v":""},{"$nulls":3},{"$f":"IF('入力シート(総体)'!$H204=\"\",\"\",TEXT('入力シート(総体)'!$H204,\"00\"))","v":""},null,{"$f":"IF('入力シート(総体)'!$H205=\"\",\"\",TEXT('入力シート(総体)'!$H205,\"00\"))","v":""},null,{"$f":"IF('入力シート(総体)'!$H206=\"\",\"\",TEXT('入力シート(総体)'!$H206,\"00\"))","v":""},null,{"$f":"IF('入力シート(総体)'!$H207=\"\",\"\",TEXT('入力シート(総体)'!$H207,\"00\"))","v":""},null,{"$f":"IF('入力シート(総体)'!$H208=\"\",\"\",TEXT('入力シート(総体)'!$H208,\"00\"))","v":""},null,{"$f":"IF('入力シート(総体)'!$H209=\"\",\"\",TEXT('入力シート(総体)'!$H209,\"00\"))","v":""}]
[{"$f":"IF('入力シート(総体)'!$H205=\"\",\"\",大会コード)","v":""},{"$f":"IF('入力シート(総体)'!$H205=\"\",\"\",IF('入力シート(総体)'!$B205=\"男\",0,1))","v":""},{"$f":"IF('入力シート(総体)'!$H205=\"\",\"\",'入力シート(総体)'!C205)","v":""},{"$f":"IF('入力シート(総体)'!$H205=\"\",\"\",TEXT('入力シート(総体)'!$E205,\"000\"))","v":""},null,null,{"$f":"IF('入力シート(総体)'!$H205=\"\",\"\",学校番号)","v":""},{"$f":"IF('入力シート(総体)'!$H205=\"\",\"\",'入力シート(総体)'!$K205)","v":""},{"$nulls":3},{"$f":"IF('入力シート(総体)'!$H205=\"\",\"\",TEXT('入力シート(総体)'!$H205,\"00\"))","v":""},null,{"$f":"IF('入力シート(総体)'!$H206=\"\",\"\",TEXT('入力シート(総体)'!$H206,\"00\"))","v":""},null,{"$f":"IF('入力シート(総体)'!$H207=\"\",\"\",TEXT('入力シート(総体)'!$H207,\"00\"))","v":""},null,{"$f":"IF('入力シート(総体)'!$H208=\"\",\"\",TEXT('入力シート(総体)'!$H208,\"00\"))","v":""},null,{"$f":"IF('入力シート(総体)'!$H209=\"\",\"\",TEXT('入力シート(総体)'!$H209,\"00\"))","v":""},null,{"$f":"IF('入力シート(総体)'!$H210=\"\",\"\",TEXT('入力シート(総体)'!$H210,\"00\"))","v":""}]
[{"$f":"IF('入力シート(総体)'!$H206=\"\",\"\",大会コード)","v":""},{"$f":"IF('入力シート(総体)'!$H206=\"\",\"\",IF('入力シート(総体)'!$B206=\"男\",0,1))","v":""},{"$f":"IF('入力シート(総体)'!$H206=\"\",\"\",'入力シート(総体)'!C206)","v":""},{"$f":"IF('入力シート(総体)'!$H206=\"\",\"\",TEXT('入力シート(総体)'!$E206,\"000\"))","v":""},null,null,{"$f":"IF('入力シート(総体)'!$H206=\"\",\"\",学校番号)","v":""},{"$f":"IF('入力シート(総体)'!$H206=\"\",\"\",'入力シート(総体)'!$K206)","v":""},{"$nulls":3},{"$f":"IF('入力シート(総体)'!$H206=\"\",\"\",TEXT('入力シート(総体)'!$H206,\"00\"))","v":""},null,{"$f":"IF('入力シート(総体)'!$H207=\"\",\"\",TEXT('入力シート(総体)'!$H207,\"00\"))","v":""},null,{"$f":"IF('入力シート(総体)'!$H208=\"\",\"\",TEXT('入力シート(総体)'!$H208,\"00\"))","v":""},null,{"$f":"IF('入力シート(総体)'!$H209=\"\",\"\",TEXT('入力シート(総体)'!$H209,\"00\"))","v":""},null,{"$f":"IF('入力シート(総体)'!$H210=\"\",\"\",TEXT('入力シート(総体)'!$H210,\"00\"))","v":""},null,{"$f":"IF('入力シート(総体)'!$H211=\"\",\"\",TEXT('入力シート(総体)'!$H211,\"00\"))","v":""}]
[{"$f":"IF('入力シート(総体)'!$H207=\"\",\"\",大会コード)","v":""},{"$f":"IF('入力シート(総体)'!$H207=\"\",\"\",IF('入力シート(総体)'!$B207=\"男\",0,1))","v":""},{"$f":"IF('入力シート(総体)'!$H207=\"\",\"\",'入力シート(総体)'!C207)","v":""},{"$f":"IF('入力シート(総体)'!$H207=\"\",\"\",TEXT('入力シート(総体)'!$E207,\"000\"))","v":""},null,null,{"$f":"IF('入力シート(総体)'!$H207=\"\",\"\",学校番号)","v":""},{"$f":"IF('入力シート(総体)'!$H207=\"\",\"\",'入力シート(総体)'!$K207)","v":""},{"$nulls":3},{"$f":"IF('入力シート(総体)'!$H207=\"\",\"\",TEXT('入力シート(総体)'!$H207,\"00\"))","v":""},null,{"$f":"IF('入力シート(総体)'!$H208=\"\",\"\",TEXT('入力シート(総体)'!$H208,\"00\"))","v":""},null,{"$f":"IF('入力シート(総体)'!$H209=\"\",\"\",TEXT('入力シート(総体)'!$H209,\"00\"))","v":""},null,{"$f":"IF('入力シート(総体)'!$H210=\"\",\"\",TEXT('入力シート(総体)'!$H210,\"00\"))","v":""},null,{"$f":"IF('入力シート(総体)'!$H211=\"\",\"\",TEXT('入力シート(総体)'!$H211,\"00\"))","v":""},null,{"$f":"IF('入力シート(総体)'!$H212=\"\",\"\",TEXT('入力シート(総体)'!$H212,\"00\"))","v":""}]
[{"$f":"IF('入力シート(総体)'!$H208=\"\",\"\",大会コード)","v":""},{"$f":"IF('入力シート(総体)'!$H208=\"\",\"\",IF('入力シート(総体)'!$B208=\"男\",0,1))","v":""},{"$f":"IF('入力シート(総体)'!$H208=\"\",\"\",'入力シート(総体)'!C208)","v":""},{"$f":"IF('入力シート(総体)'!$H208=\"\",\"\",TEXT('入力シート(総体)'!$E208,\"000\"))","v":""},null,null,{"$f":"IF('入力シート(総体)'!$H208=\"\",\"\",学校番号)","v":""},{"$f":"IF('入力シート(総体)'!$H208=\"\",\"\",'入力シート(総体)'!$K208)","v":""},{"$nulls":3},{"$f":"IF('入力シート(総体)'!$H208=\"\",\"\",TEXT('入力シート(総体)'!$H208,\"00\"))","v":""},null,{"$f":"IF('入力シート(総体)'!$H209=\"\",\"\",TEXT('入力シート(総体)'!$H209,\"00\"))","v":""},null,{"$f":"IF('入力シート(総体)'!$H210=\"\",\"\",TEXT('入力シート(総体)'!$H210,\"00\"))","v":""},null,{"$f":"IF('入力シート(総体)'!$H211=\"\",\"\",TEXT('入力シート(総体)'!$H211,\"00\"))","v":""},null,{"$f":"IF('入力シート(総体)'!$H212=\"\",\"\",TEXT('入力シート(総体)'!$H212,\"00\"))","v":""},null,{"$f":"IF('入力シート(総体)'!$H213=\"\",\"\",TEXT('入力シート(総体)'!$H213,\"00\"))","v":""}]
[{"$f":"IF('入力シート(総体)'!$H209=\"\",\"\",大会コード)","v":""},{"$f":"IF('入力シート(総体)'!$H209=\"\",\"\",IF('入力シート(総体)'!$B209=\"男\",0,1))","v":""},{"$f":"IF('入力シート(総体)'!$H209=\"\",\"\",'入力シート(総体)'!C209)","v":""},{"$f":"IF('入力シート(総体)'!$H209=\"\",\"\",TEXT('入力シート(総体)'!$E209,\"000\"))","v":""},null,null,{"$f":"IF('入力シート(総体)'!$H209=\"\",\"\",学校番号)","v":""},{"$f":"IF('入力シート(総体)'!$H209=\"\",\"\",'入力シート(総体)'!$K209)","v":""},{"$nulls":3},{"$f":"IF('入力シート(総体)'!$H209=\"\",\"\",TEXT('入力シート(総体)'!$H209,\"00\"))","v":""},null,{"$f":"IF('入力シート(総体)'!$H210=\"\",\"\",TEXT('入力シート(総体)'!$H210,\"00\"))","v":""},null,{"$f":"IF('入力シート(総体)'!$H211=\"\",\"\",TEXT('入力シート(総体)'!$H211,\"00\"))","v":""},null,{"$f":"IF('入力シート(総体)'!$H212=\"\",\"\",TEXT('入力シート(総体)'!$H212,\"00\"))","v":""},null,{"$f":"IF('入力シート(総体)'!$H213=\"\",\"\",TEXT('入力シート(総体)'!$H213,\"00\"))","v":""},null,{"$f":"IF('入力シート(総体)'!$H214=\"\",\"\",TEXT('入力シート(総体)'!$H214,\"00\"))","v":""}]
[{"$f":"IF('入力シート(総体)'!$H210=\"\",\"\",大会コード)","v":""},{"$f":"IF('入力シート(総体)'!$H210=\"\",\"\",IF('入力シート(総体)'!$B210=\"男\",0,1))","v":""},{"$f":"IF('入力シート(総体)'!$H210=\"\",\"\",'入力シート(総体)'!C210)","v":""},{"$f":"IF('入力シート(総体)'!$H210=\"\",\"\",TEXT('入力シート(総体)'!$E210,\"000\"))","v":""},null,null,{"$f":"IF('入力シート(総体)'!$H210=\"\",\"\",学校番号)","v":""},{"$f":"IF('入力シート(総体)'!$H210=\"\",\"\",'入力シート(総体)'!$K210)","v":""},{"$nulls":3},{"$f":"IF('入力シート(総体)'!$H210=\"\",\"\",TEXT('入力シート(総体)'!$H210,\"00\"))","v":""},null,{"$f":"IF('入力シート(総体)'!$H211=\"\",\"\",TEXT('入力シート(総体)'!$H211,\"00\"))","v":""},null,{"$f":"IF('入力シート(総体)'!$H212=\"\",\"\",TEXT('入力シート(総体)'!$H212,\"00\"))","v":""},null,{"$f":"IF('入力シート(総体)'!$H213=\"\",\"\",TEXT('入力シート(総体)'!$H213,\"00\"))","v":""},null,{"$f":"IF('入力シート(総体)'!$H214=\"\",\"\",TEXT('入力シート(総体)'!$H214,\"00\"))","v":""},null,{"$f":"IF('入力シート(総体)'!$H215=\"\",\"\",TEXT('入力シート(総体)'!$H215,\"00\"))","v":""}]
[{"$f":"IF('入力シート(総体)'!$H211=\"\",\"\",大会コード)","v":""},{"$f":"IF('入力シート(総体)'!$H211=\"\",\"\",IF('入力シート(総体)'!$B211=\"男\",0,1))","v":""},{"$f":"IF('入力シート(総体)'!$H211=\"\",\"\",'入力シート(総体)'!C211)","v":""},{"$f":"IF('入力シート(総体)'!$H211=\"\",\"\",TEXT('入力シート(総体)'!$E211,\"000\"))","v":""},null,null,{"$f":"IF('入力シート(総体)'!$H211=\"\",\"\",学校番号)","v":""},{"$f":"IF('入力シート(総体)'!$H211=\"\",\"\",'入力シート(総体)'!$K211)","v":""},{"$nulls":3},{"$f":"IF('入力シート(総体)'!$H211=\"\",\"\",TEXT('入力シート(総体)'!$H211,\"00\"))","v":""},null,{"$f":"IF('入力シート(総体)'!$H212=\"\",\"\",TEXT('入力シート(総体)'!$H212,\"00\"))","v":""},null,{"$f":"IF('入力シート(総体)'!$H213=\"\",\"\",TEXT('入力シート(総体)'!$H213,\"00\"))","v":""},null,{"$f":"IF('入力シート(総体)'!$H214=\"\",\"\",TEXT('入力シート(総体)'!$H214,\"00\"))","v":""},null,{"$f":"IF('入力シート(総体)'!$H215=\"\",\"\",TEXT('入力シート(総体)'!$H215,\"00\"))","v":""},null,{"$f":"IF('入力シート(総体)'!$H216=\"\",\"\",TEXT('入力シート(総体)'!$H216,\"00\"))","v":""}]
[{"$f":"IF('入力シート(総体)'!$H212=\"\",\"\",大会コード)","v":""},{"$f":"IF('入力シート(総体)'!$H212=\"\",\"\",IF('入力シート(総体)'!$B212=\"男\",0,1))","v":""},{"$f":"IF('入力シート(総体)'!$H212=\"\",\"\",'入力シート(総体)'!C212)","v":""},{"$f":"IF('入力シート(総体)'!$H212=\"\",\"\",TEXT('入力シート(総体)'!$E212,\"000\"))","v":""},null,null,{"$f":"IF('入力シート(総体)'!$H212=\"\",\"\",学校番号)","v":""},{"$f":"IF('入力シート(総体)'!$H212=\"\",\"\",'入力シート(総体)'!$K212)","v":""},{"$nulls":3},{"$f":"IF('入力シート(総体)'!$H212=\"\",\"\",TEXT('入力シート(総体)'!$H212,\"00\"))","v":""},null,{"$f":"IF('入力シート(総体)'!$H213=\"\",\"\",TEXT('入力シート(総体)'!$H213,\"00\"))","v":""},null,{"$f":"IF('入力シート(総体)'!$H214=\"\",\"\",TEXT('入力シート(総体)'!$H214,\"00\"))","v":""},null,{"$f":"IF('入力シート(総体)'!$H215=\"\",\"\",TEXT('入力シート(総体)'!$H215,\"00\"))","v":""},null,{"$f":"IF('入力シート(総体)'!$H216=\"\",\"\",TEXT('入力シート(総体)'!$H216,\"00\"))","v":""},null,{"$f":"IF('入力シート(総体)'!$H217=\"\",\"\",TEXT('入力シート(総体)'!$H217,\"00\"))","v":""}]
[{"$f":"IF('入力シート(総体)'!$H213=\"\",\"\",大会コード)","v":""},{"$f":"IF('入力シート(総体)'!$H213=\"\",\"\",IF('入力シート(総体)'!$B213=\"男\",0,1))","v":""},{"$f":"IF('入力シート(総体)'!$H213=\"\",\"\",'入力シート(総体)'!C213)","v":""},{"$f":"IF('入力シート(総体)'!$H213=\"\",\"\",TEXT('入力シート(総体)'!$E213,\"000\"))","v":""},null,null,{"$f":"IF('入力シート(総体)'!$H213=\"\",\"\",学校番号)","v":""},{"$f":"IF('入力シート(総体)'!$H213=\"\",\"\",'入力シート(総体)'!$K213)","v":""},{"$nulls":3},{"$f":"IF('入力シート(総体)'!$H213=\"\",\"\",TEXT('入力シート(総体)'!$H213,\"00\"))","v":""},null,{"$f":"IF('入力シート(総体)'!$H214=\"\",\"\",TEXT('入力シート(総体)'!$H214,\"00\"))","v":""},null,{"$f":"IF('入力シート(総体)'!$H215=\"\",\"\",TEXT('入力シート(総体)'!$H215,\"00\"))","v":""},null,{"$f":"IF('入力シート(総体)'!$H216=\"\",\"\",TEXT('入力シート(総体)'!$H216,\"00\"))","v":""},null,{"$f":"IF('入力シート(総体)'!$H217=\"\",\"\",TEXT('入力シート(総体)'!$H217,\"00\"))","v":""},null,{"$f":"IF('入力シート(総体)'!$H218=\"\",\"\",TEXT('入力シート(総体)'!$H218,\"00\"))","v":""}]
[{"$f":"IF('入力シート(総体)'!$H214=\"\",\"\",大会コード)","v":""},{"$f":"IF('入力シート(総体)'!$H214=\"\",\"\",IF('入力シート(総体)'!$B214=\"男\",0,1))","v":""},{"$f":"IF('入力シート(総体)'!$H214=\"\",\"\",'入力シート(総体)'!C214)","v":""},{"$f":"IF('入力シート(総体)'!$H214=\"\",\"\",TEXT('入力シート(総体)'!$E214,\"000\"))","v":""},null,null,{"$f":"IF('入力シート(総体)'!$H214=\"\",\"\",学校番号)","v":""},{"$f":"IF('入力シート(総体)'!$H214=\"\",\"\",'入力シート(総体)'!$K214)","v":""},{"$nulls":3},{"$f":"IF('入力シート(総体)'!$H214=\"\",\"\",TEXT('入力シート(総体)'!$H214,\"00\"))","v":""},null,{"$f":"IF('入力シート(総体)'!$H215=\"\",\"\",TEXT('入力シート(総体)'!$H215,\"00\"))","v":""},null,{"$f":"IF('入力シート(総体)'!$H216=\"\",\"\",TEXT('入力シート(総体)'!$H216,\"00\"))","v":""},null,{"$f":"IF('入力シート(総体)'!$H217=\"\",\"\",TEXT('入力シート(総体)'!$H217,\"00\"))","v":""},null,{"$f":"IF('入力シート(総体)'!$H218=\"\",\"\",TEXT('入力シート(総体)'!$H218,\"00\"))","v":""},null,{"$f":"IF('入力シート(総体)'!$H219=\"\",\"\",TEXT('入力シート(総体)'!$H219,\"00\"))","v":""}]
[{"$f":"IF('入力シート(総体)'!$H215=\"\",\"\",大会コード)","v":""},{"$f":"IF('入力シート(総体)'!$H215=\"\",\"\",IF('入力シート(総体)'!$B215=\"男\",0,1))","v":""},{"$f":"IF('入力シート(総体)'!$H215=\"\",\"\",'入力シート(総体)'!C215)","v":""},{"$f":"IF('入力シート(総体)'!$H215=\"\",\"\",TEXT('入力シート(総体)'!$E215,\"000\"))","v":""},null,null,{"$f":"IF('入力シート(総体)'!$H215=\"\",\"\",学校番号)","v":""},{"$f":"IF('入力シート(総体)'!$H215=\"\",\"\",'入力シート(総体)'!$K215)","v":""},{"$nulls":3},{"$f":"IF('入力シート(総体)'!$H215=\"\",\"\",TEXT('入力シート(総体)'!$H215,\"00\"))","v":""},null,{"$f":"IF('入力シート(総体)'!$H216=\"\",\"\",TEXT('入力シート(総体)'!$H216,\"00\"))","v":""},null,{"$f":"IF('入力シート(総体)'!$H217=\"\",\"\",TEXT('入力シート(総体)'!$H217,\"00\"))","v":""},null,{"$f":"IF('入力シート(総体)'!$H218=\"\",\"\",TEXT('入力シート(総体)'!$H218,\"00\"))","v":""},null,{"$f":"IF('入力シート(総体)'!$H219=\"\",\"\",TEXT('入力シート(総体)'!$H219,\"00\"))","v":""},null,{"$f":"IF('入力シート(総体)'!$H220=\"\",\"\",TEXT('入力シート(総体)'!$H220,\"00\"))","v":""}]
[{"$f":"IF('入力シート(総体)'!$H216=\"\",\"\",大会コード)","v":""},{"$f":"IF('入力シート(総体)'!$H216=\"\",\"\",IF('入力シート(総体)'!$B216=\"男\",0,1))","v":""},{"$f":"IF('入力シート(総体)'!$H216=\"\",\"\",'入力シート(総体)'!C216)","v":""},{"$f":"IF('入力シート(総体)'!$H216=\"\",\"\",TEXT('入力シート(総体)'!$E216,\"000\"))","v":""},null,null,{"$f":"IF('入力シート(総体)'!$H216=\"\",\"\",学校番号)","v":""},{"$f":"IF('入力シート(総体)'!$H216=\"\",\"\",'入力シート(総体)'!$K216)","v":""},{"$nulls":3},{"$f":"IF('入力シート(総体)'!$H216=\"\",\"\",TEXT('入力シート(総体)'!$H216,\"00\"))","v":""},null,{"$f":"IF('入力シート(総体)'!$H217=\"\",\"\",TEXT('入力シート(総体)'!$H217,\"00\"))","v":""},null,{"$f":"IF('入力シート(総体)'!$H218=\"\",\"\",TEXT('入力シート(総体)'!$H218,\"00\"))","v":""},null,{"$f":"IF('入力シート(総体)'!$H219=\"\",\"\",TEXT('入力シート(総体)'!$H219,\"00\"))","v":""},null,{"$f":"IF('入力シート(総体)'!$H220=\"\",\"\",TEXT('入力シート(総体)'!$H220,\"00\"))","v":""},null,{"$f":"IF('入力シート(総体)'!$H221=\"\",\"\",TEXT('入力シート(総体)'!$H221,\"00\"))","v":""}]
[{"$f":"IF('入力シート(総体)'!$H217=\"\",\"\",大会コード)","v":""},{"$f":"IF('入力シート(総体)'!$H217=\"\",\"\",IF('入力シート(総体)'!$B217=\"男\",0,1))","v":""},{"$f":"IF('入力シート(総体)'!$H217=\"\",\"\",'入力シート(総体)'!C217)","v":""},{"$f":"IF('入力シート(総体)'!$H217=\"\",\"\",TEXT('入力シート(総体)'!$E217,\"000\"))","v":""},null,null,{"$f":"IF('入力シート(総体)'!$H217=\"\",\"\",学校番号)","v":""},{"$f":"IF('入力シート(総体)'!$H217=\"\",\"\",'入力シート(総体)'!$K217)","v":""},{"$nulls":3},{"$f":"IF('入力シート(総体)'!$H217=\"\",\"\",TEXT('入力シート(総体)'!$H217,\"00\"))","v":""},null,{"$f":"IF('入力シート(総体)'!$H218=\"\",\"\",TEXT('入力シート(総体)'!$H218,\"00\"))","v":""},null,{"$f":"IF('入力シート(総体)'!$H219=\"\",\"\",TEXT('入力シート(総体)'!$H219,\"00\"))","v":""},null,{"$f":"IF('入力シート(総体)'!$H220=\"\",\"\",TEXT('入力シート(総体)'!$H220,\"00\"))","v":""},null,{"$f":"IF('入力シート(総体)'!$H221=\"\",\"\",TEXT('入力シート(総体)'!$H221,\"00\"))","v":""},null,{"$f":"IF('入力シート(総体)'!$H222=\"\",\"\",TEXT('入力シート(総体)'!$H222,\"00\"))","v":""}]
[{"$f":"IF('入力シート(総体)'!$H218=\"\",\"\",大会コード)","v":""},{"$f":"IF('入力シート(総体)'!$H218=\"\",\"\",IF('入力シート(総体)'!$B218=\"男\",0,1))","v":""},{"$f":"IF('入力シート(総体)'!$H218=\"\",\"\",'入力シート(総体)'!C218)","v":""},{"$f":"IF('入力シート(総体)'!$H218=\"\",\"\",TEXT('入力シート(総体)'!$E218,\"000\"))","v":""},null,null,{"$f":"IF('入力シート(総体)'!$H218=\"\",\"\",学校番号)","v":""},{"$f":"IF('入力シート(総体)'!$H218=\"\",\"\",'入力シート(総体)'!$K218)","v":""},{"$nulls":3},{"$f":"IF('入力シート(総体)'!$H218=\"\",\"\",TEXT('入力シート(総体)'!$H218,\"00\"))","v":""},null,{"$f":"IF('入力シート(総体)'!$H219=\"\",\"\",TEXT('入力シート(総体)'!$H219,\"00\"))","v":""},null,{"$f":"IF('入力シート(総体)'!$H220=\"\",\"\",TEXT('入力シート(総体)'!$H220,\"00\"))","v":""},null,{"$f":"IF('入力シート(総体)'!$H221=\"\",\"\",TEXT('入力シート(総体)'!$H221,\"00\"))","v":""},null,{"$f":"IF('入力シート(総体)'!$H222=\"\",\"\",TEXT('入力シート(総体)'!$H222,\"00\"))","v":""},null,{"$f":"IF('入力シート(総体)'!$H223=\"\",\"\",TEXT('入力シート(総体)'!$H223,\"00\"))","v":""}]
[{"$f":"IF('入力シート(総体)'!$H219=\"\",\"\",大会コード)","v":""},{"$f":"IF('入力シート(総体)'!$H219=\"\",\"\",IF('入力シート(総体)'!$B219=\"男\",0,1))","v":""},{"$f":"IF('入力シート(総体)'!$H219=\"\",\"\",'入力シート(総体)'!C219)","v":""},{"$f":"IF('入力シート(総体)'!$H219=\"\",\"\",TEXT('入力シート(総体)'!$E219,\"000\"))","v":""},null,null,{"$f":"IF('入力シート(総体)'!$H219=\"\",\"\",学校番号)","v":""},{"$f":"IF('入力シート(総体)'!$H219=\"\",\"\",'入力シート(総体)'!$K219)","v":""},{"$nulls":3},{"$f":"IF('入力シート(総体)'!$H219=\"\",\"\",TEXT('入力シート(総体)'!$H219,\"00\"))","v":""},null,{"$f":"IF('入力シート(総体)'!$H220=\"\",\"\",TEXT('入力シート(総体)'!$H220,\"00\"))","v":""},null,{"$f":"IF('入力シート(総体)'!$H221=\"\",\"\",TEXT('入力シート(総体)'!$H221,\"00\"))","v":""},null,{"$f":"IF('入力シート(総体)'!$H222=\"\",\"\",TEXT('入力シート(総体)'!$H222,\"00\"))","v":""},null,{"$f":"IF('入力シート(総体)'!$H223=\"\",\"\",TEXT('入力シート(総体)'!$H223,\"00\"))","v":""},null,{"$f":"IF('入力シート(総体)'!$H224=\"\",\"\",TEXT('入力シート(総体)'!$H224,\"00\"))","v":""}]
[{"$f":"IF('入力シート(総体)'!$H220=\"\",\"\",大会コード)","v":""},{"$f":"IF('入力シート(総体)'!$H220=\"\",\"\",IF('入力シート(総体)'!$B220=\"男\",0,1))","v":""},{"$f":"IF('入力シート(総体)'!$H220=\"\",\"\",'入力シート(総体)'!C220)","v":""},{"$f":"IF('入力シート(総体)'!$H220=\"\",\"\",TEXT('入力シート(総体)'!$E220,\"000\"))","v":""},null,null,{"$f":"IF('入力シート(総体)'!$H220=\"\",\"\",学校番号)","v":""},{"$f":"IF('入力シート(総体)'!$H220=\"\",\"\",'入力シート(総体)'!$K220)","v":""},{"$nulls":3},{"$f":"IF('入力シート(総体)'!$H220=\"\",\"\",TEXT('入力シート(総体)'!$H220,\"00\"))","v":""},null,{"$f":"IF('入力シート(総体)'!$H221=\"\",\"\",TEXT('入力シート(総体)'!$H221,\"00\"))","v":""},null,{"$f":"IF('入力シート(総体)'!$H222=\"\",\"\",TEXT('入力シート(総体)'!$H222,\"00\"))","v":""},null,{"$f":"IF('入力シート(総体)'!$H223=\"\",\"\",TEXT('入力シート(総体)'!$H223,\"00\"))","v":""},null,{"$f":"IF('入力シート(総体)'!$H224=\"\",\"\",TEXT('入力シート(総体)'!$H224,\"00\"))","v":""},null,{"$f":"IF('入力シート(総体)'!$H225=\"\",\"\",TEXT('入力シート(総体)'!$H225,\"00\"))","v":""}]
[{"$f":"IF('入力シート(総体)'!$H221=\"\",\"\",大会コード)","v":""},{"$f":"IF('入力シート(総体)'!$H221=\"\",\"\",IF('入力シート(総体)'!$B221=\"男\",0,1))","v":""},{"$f":"IF('入力シート(総体)'!$H221=\"\",\"\",'入力シート(総体)'!C221)","v":""},{"$f":"IF('入力シート(総体)'!$H221=\"\",\"\",TEXT('入力シート(総体)'!$E221,\"000\"))","v":""},null,null,{"$f":"IF('入力シート(総体)'!$H221=\"\",\"\",学校番号)","v":""},{"$f":"IF('入力シート(総体)'!$H221=\"\",\"\",'入力シート(総体)'!$K221)","v":""},{"$nulls":3},{"$f":"IF('入力シート(総体)'!$H221=\"\",\"\",TEXT('入力シート(総体)'!$H221,\"00\"))","v":""},null,{"$f":"IF('入力シート(総体)'!$H222=\"\",\"\",TEXT('入力シート(総体)'!$H222,\"00\"))","v":""},null,{"$f":"IF('入力シート(総体)'!$H223=\"\",\"\",TEXT('入力シート(総体)'!$H223,\"00\"))","v":""},null,{"$f":"IF('入力シート(総体)'!$H224=\"\",\"\",TEXT('入力シート(総体)'!$H224,\"00\"))","v":""},null,{"$f":"IF('入力シート(総体)'!$H225=\"\",\"\",TEXT('入力シート(総体)'!$H225,\"00\"))","v":""},null,{"$f":"IF('入力シート(総体)'!$H226=\"\",\"\",TEXT('入力シート(総体)'!$H226,\"00\"))","v":""}]
[{"$f":"IF('入力シート(総体)'!$H222=\"\",\"\",大会コード)","v":""},{"$f":"IF('入力シート(総体)'!$H222=\"\",\"\",IF('入力シート(総体)'!$B222=\"男\",0,1))","v":""},{"$f":"IF('入力シート(総体)'!$H222=\"\",\"\",'入力シート(総体)'!C222)","v":""},{"$f":"IF('入力シート(総体)'!$H222=\"\",\"\",TEXT('入力シート(総体)'!$E222,\"000\"))","v":""},null,null,{"$f":"IF('入力シート(総体)'!$H222=\"\",\"\",学校番号)","v":""},{"$f":"IF('入力シート(総体)'!$H222=\"\",\"\",'入力シート(総体)'!$K222)","v":""},{"$nulls":3},{"$f":"IF('入力シート(総体)'!$H222=\"\",\"\",TEXT('入力シート(総体)'!$H222,\"00\"))","v":""},null,{"$f":"IF('入力シート(総体)'!$H223=\"\",\"\",TEXT('入力シート(総体)'!$H223,\"00\"))","v":""},null,{"$f":"IF('入力シート(総体)'!$H224=\"\",\"\",TEXT('入力シート(総体)'!$H224,\"00\"))","v":""},null,{"$f":"IF('入力シート(総体)'!$H225=\"\",\"\",TEXT('入力シート(総体)'!$H225,\"00\"))","v":""},null,{"$f":"IF('入力シート(総体)'!$H226=\"\",\"\",TEXT('入力シート(総体)'!$H226,\"00\"))","v":""},null,{"$f":"IF('入力シート(総体)'!$H227=\"\",\"\",TEXT('入力シート(総体)'!$H227,\"00\"))","v":""}]
[{"$f":"IF('入力シート(総体)'!$H223=\"\",\"\",大会コード)","v":""},{"$f":"IF('入力シート(総体)'!$H223=\"\",\"\",IF('入力シート(総体)'!$B223=\"男\",0,1))","v":""},{"$f":"IF('入力シート(総体)'!$H223=\"\",\"\",'入力シート(総体)'!C223)","v":""},{"$f":"IF('入力シート(総体)'!$H223=\"\",\"\",TEXT('入力シート(総体)'!$E223,\"000\"))","v":""},null,null,{"$f":"IF('入力シート(総体)'!$H223=\"\",\"\",学校番号)","v":""},{"$f":"IF('入力シート(総体)'!$H223=\"\",\"\",'入力シート(総体)'!$K223)","v":""},{"$nulls":3},{"$f":"IF('入力シート(総体)'!$H223=\"\",\"\",TEXT('入力シート(総体)'!$H223,\"00\"))","v":""},null,{"$f":"IF('入力シート(総体)'!$H224=\"\",\"\",TEXT('入力シート(総体)'!$H224,\"00\"))","v":""},null,{"$f":"IF('入力シート(総体)'!$H225=\"\",\"\",TEXT('入力シート(総体)'!$H225,\"00\"))","v":""},null,{"$f":"IF('入力シート(総体)'!$H226=\"\",\"\",TEXT('入力シート(総体)'!$H226,\"00\"))","v":""},null,{"$f":"IF('入力シート(総体)'!$H227=\"\",\"\",TEXT('入力シート(総体)'!$H227,\"00\"))","v":""},null,{"$f":"IF('入力シート(総体)'!$H228=\"\",\"\",TEXT('入力シート(総体)'!$H228,\"00\"))","v":""}]
[{"$f":"IF('入力シート(総体)'!$H224=\"\",\"\",大会コード)","v":""},{"$f":"IF('入力シート(総体)'!$H224=\"\",\"\",IF('入力シート(総体)'!$B224=\"男\",0,1))","v":""},{"$f":"IF('入力シート(総体)'!$H224=\"\",\"\",'入力シート(総体)'!C224)","v":""},{"$f":"IF('入力シート(総体)'!$H224=\"\",\"\",TEXT('入力シート(総体)'!$E224,\"000\"))","v":""},null,null,{"$f":"IF('入力シート(総体)'!$H224=\"\",\"\",学校番号)","v":""},{"$f":"IF('入力シート(総体)'!$H224=\"\",\"\",'入力シート(総体)'!$K224)","v":""},{"$nulls":3},{"$f":"IF('入力シート(総体)'!$H224=\"\",\"\",TEXT('入力シート(総体)'!$H224,\"00\"))","v":""},null,{"$f":"IF('入力シート(総体)'!$H225=\"\",\"\",TEXT('入力シート(総体)'!$H225,\"00\"))","v":""},null,{"$f":"IF('入力シート(総体)'!$H226=\"\",\"\",TEXT('入力シート(総体)'!$H226,\"00\"))","v":""},null,{"$f":"IF('入力シート(総体)'!$H227=\"\",\"\",TEXT('入力シート(総体)'!$H227,\"00\"))","v":""},null,{"$f":"IF('入力シート(総体)'!$H228=\"\",\"\",TEXT('入力シート(総体)'!$H228,\"00\"))","v":""},null,{"$f":"IF('入力シート(総体)'!$H229=\"\",\"\",TEXT('入力シート(総体)'!$H229,\"00\"))","v":""}]
[{"$f":"IF('入力シート(総体)'!$H225=\"\",\"\",大会コード)","v":""},{"$f":"IF('入力シート(総体)'!$H225=\"\",\"\",IF('入力シート(総体)'!$B225=\"男\",0,1))","v":""},{"$f":"IF('入力シート(総体)'!$H225=\"\",\"\",'入力シート(総体)'!C225)","v":""},{"$f":"IF('入力シート(総体)'!$H225=\"\",\"\",TEXT('入力シート(総体)'!$E225,\"000\"))","v":""},null,null,{"$f":"IF('入力シート(総体)'!$H225=\"\",\"\",学校番号)","v":""},{"$f":"IF('入力シート(総体)'!$H225=\"\",\"\",'入力シート(総体)'!$K225)","v":""},{"$nulls":3},{"$f":"IF('入力シート(総体)'!$H225=\"\",\"\",TEXT('入力シート(総体)'!$H225,\"00\"))","v":""},null,{"$f":"IF('入力シート(総体)'!$H226=\"\",\"\",TEXT('入力シート(総体)'!$H226,\"00\"))","v":""},null,{"$f":"IF('入力シート(総体)'!$H227=\"\",\"\",TEXT('入力シート(総体)'!$H227,\"00\"))","v":""},null,{"$f":"IF('入力シート(総体)'!$H228=\"\",\"\",TEXT('入力シート(総体)'!$H228,\"00\"))","v":""},null,{"$f":"IF('入力シート(総体)'!$H229=\"\",\"\",TEXT('入力シート(総体)'!$H229,\"00\"))","v":""},null,{"$f":"IF('入力シート(総体)'!$H230=\"\",\"\",TEXT('入力シート(総体)'!$H230,\"00\"))","v":""}]
[{"$f":"IF('入力シート(総体)'!$H226=\"\",\"\",大会コード)","v":""},{"$f":"IF('入力シート(総体)'!$H226=\"\",\"\",IF('入力シート(総体)'!$B226=\"男\",0,1))","v":""},{"$f":"IF('入力シート(総体)'!$H226=\"\",\"\",'入力シート(総体)'!C226)","v":""},{"$f":"IF('入力シート(総体)'!$H226=\"\",\"\",TEXT('入力シート(総体)'!$E226,\"000\"))","v":""},null,null,{"$f":"IF('入力シート(総体)'!$H226=\"\",\"\",学校番号)","v":""},{"$f":"IF('入力シート(総体)'!$H226=\"\",\"\",'入力シート(総体)'!$K226)","v":""},{"$nulls":3},{"$f":"IF('入力シート(総体)'!$H226=\"\",\"\",TEXT('入力シート(総体)'!$H226,\"00\"))","v":""},null,{"$f":"IF('入力シート(総体)'!$H227=\"\",\"\",TEXT('入力シート(総体)'!$H227,\"00\"))","v":""},null,{"$f":"IF('入力シート(総体)'!$H228=\"\",\"\",TEXT('入力シート(総体)'!$H228,\"00\"))","v":""},null,{"$f":"IF('入力シート(総体)'!$H229=\"\",\"\",TEXT('入力シート(総体)'!$H229,\"00\"))","v":""},null,{"$f":"IF('入力シート(総体)'!$H230=\"\",\"\",TEXT('入力シート(総体)'!$H230,\"00\"))","v":""},null,{"$f":"IF('入力シート(総体)'!$H231=\"\",\"\",TEXT('入力シート(総体)'!$H231,\"00\"))","v":""}]
[{"$f":"IF('入力シート(総体)'!$H227=\"\",\"\",大会コード)","v":""},{"$f":"IF('入力シート(総体)'!$H227=\"\",\"\",IF('入力シート(総体)'!$B227=\"男\",0,1))","v":""},{"$f":"IF('入力シート(総体)'!$H227=\"\",\"\",'入力シート(総体)'!C227)","v":""},{"$f":"IF('入力シート(総体)'!$H227=\"\",\"\",TEXT('入力シート(総体)'!$E227,\"000\"))","v":""},null,null,{"$f":"IF('入力シート(総体)'!$H227=\"\",\"\",学校番号)","v":""},{"$f":"IF('入力シート(総体)'!$H227=\"\",\"\",'入力シート(総体)'!$K227)","v":""},{"$nulls":3},{"$f":"IF('入力シート(総体)'!$H227=\"\",\"\",TEXT('入力シート(総体)'!$H227,\"00\"))","v":""},null,{"$f":"IF('入力シート(総体)'!$H228=\"\",\"\",TEXT('入力シート(総体)'!$H228,\"00\"))","v":""},null,{"$f":"IF('入力シート(総体)'!$H229=\"\",\"\",TEXT('入力シート(総体)'!$H229,\"00\"))","v":""},null,{"$f":"IF('入力シート(総体)'!$H230=\"\",\"\",TEXT('入力シート(総体)'!$H230,\"00\"))","v":""},null,{"$f":"IF('入力シート(総体)'!$H231=\"\",\"\",TEXT('入力シート(総体)'!$H231,\"00\"))","v":""},null,{"$f":"IF('入力シート(総体)'!$H232=\"\",\"\",TEXT('入力シート(総体)'!$H232,\"00\"))","v":""}]
[{"$f":"IF('入力シート(総体)'!$H228=\"\",\"\",大会コード)","v":""},{"$f":"IF('入力シート(総体)'!$H228=\"\",\"\",IF('入力シート(総体)'!$B228=\"男\",0,1))","v":""},{"$f":"IF('入力シート(総体)'!$H228=\"\",\"\",'入力シート(総体)'!C228)","v":""},{"$f":"IF('入力シート(総体)'!$H228=\"\",\"\",TEXT('入力シート(総体)'!$E228,\"000\"))","v":""},null,null,{"$f":"IF('入力シート(総体)'!$H228=\"\",\"\",学校番号)","v":""},{"$f":"IF('入力シート(総体)'!$H228=\"\",\"\",'入力シート(総体)'!$K228)","v":""},{"$nulls":3},{"$f":"IF('入力シート(総体)'!$H228=\"\",\"\",TEXT('入力シート(総体)'!$H228,\"00\"))","v":""},null,{"$f":"IF('入力シート(総体)'!$H229=\"\",\"\",TEXT('入力シート(総体)'!$H229,\"00\"))","v":""},null,{"$f":"IF('入力シート(総体)'!$H230=\"\",\"\",TEXT('入力シート(総体)'!$H230,\"00\"))","v":""},null,{"$f":"IF('入力シート(総体)'!$H231=\"\",\"\",TEXT('入力シート(総体)'!$H231,\"00\"))","v":""},null,{"$f":"IF('入力シート(総体)'!$H232=\"\",\"\",TEXT('入力シート(総体)'!$H232,\"00\"))","v":""},null,{"$f":"IF('入力シート(総体)'!$H233=\"\",\"\",TEXT('入力シート(総体)'!$H233,\"00\"))","v":""}]
[{"$f":"IF('入力シート(総体)'!$H229=\"\",\"\",大会コード)","v":""},{"$f":"IF('入力シート(総体)'!$H229=\"\",\"\",IF('入力シート(総体)'!$B229=\"男\",0,1))","v":""},{"$f":"IF('入力シート(総体)'!$H229=\"\",\"\",'入力シート(総体)'!C229)","v":""},{"$f":"IF('入力シート(総体)'!$H229=\"\",\"\",TEXT('入力シート(総体)'!$E229,\"000\"))","v":""},null,null,{"$f":"IF('入力シート(総体)'!$H229=\"\",\"\",学校番号)","v":""},{"$f":"IF('入力シート(総体)'!$H229=\"\",\"\",'入力シート(総体)'!$K229)","v":""},{"$nulls":3},{"$f":"IF('入力シート(総体)'!$H229=\"\",\"\",TEXT('入力シート(総体)'!$H229,\"00\"))","v":""},null,{"$f":"IF('入力シート(総体)'!$H230=\"\",\"\",TEXT('入力シート(総体)'!$H230,\"00\"))","v":""},null,{"$f":"IF('入力シート(総体)'!$H231=\"\",\"\",TEXT('入力シート(総体)'!$H231,\"00\"))","v":""},null,{"$f":"IF('入力シート(総体)'!$H232=\"\",\"\",TEXT('入力シート(総体)'!$H232,\"00\"))","v":""},null,{"$f":"IF('入力シート(総体)'!$H233=\"\",\"\",TEXT('入力シート(総体)'!$H233,\"00\"))","v":""},null,{"$f":"IF('入力シート(総体)'!$H234=\"\",\"\",TEXT('入力シート(総体)'!$H234,\"00\"))","v":""}]
[{"$f":"IF('入力シート(総体)'!$H230=\"\",\"\",大会コード)","v":""},{"$f":"IF('入力シート(総体)'!$H230=\"\",\"\",IF('入力シート(総体)'!$B230=\"男\",0,1))","v":""},{"$f":"IF('入力シート(総体)'!$H230=\"\",\"\",'入力シート(総体)'!C230)","v":""},{"$f":"IF('入力シート(総体)'!$H230=\"\",\"\",TEXT('入力シート(総体)'!$E230,\"000\"))","v":""},null,null,{"$f":"IF('入力シート(総体)'!$H230=\"\",\"\",学校番号)","v":""},{"$f":"IF('入力シート(総体)'!$H230=\"\",\"\",'入力シート(総体)'!$K230)","v":""},{"$nulls":3},{"$f":"IF('入力シート(総体)'!$H230=\"\",\"\",TEXT('入力シート(総体)'!$H230,\"00\"))","v":""},null,{"$f":"IF('入力シート(総体)'!$H231=\"\",\"\",TEXT('入力シート(総体)'!$H231,\"00\"))","v":""},null,{"$f":"IF('入力シート(総体)'!$H232=\"\",\"\",TEXT('入力シート(総体)'!$H232,\"00\"))","v":""},null,{"$f":"IF('入力シート(総体)'!$H233=\"\",\"\",TEXT('入力シート(総体)'!$H233,\"00\"))","v":""},null,{"$f":"IF('入力シート(総体)'!$H234=\"\",\"\",TEXT('入力シート(総体)'!$H234,\"00\"))","v":""},null,{"$f":"IF('入力シート(総体)'!$H235=\"\",\"\",TEXT('入力シート(総体)'!$H235,\"00\"))","v":""}]
[{"$f":"IF('入力シート(総体)'!$H231=\"\",\"\",大会コード)","v":""},{"$f":"IF('入力シート(総体)'!$H231=\"\",\"\",IF('入力シート(総体)'!$B231=\"男\",0,1))","v":""},{"$f":"IF('入力シート(総体)'!$H231=\"\",\"\",'入力シート(総体)'!C231)","v":""},{"$f":"IF('入力シート(総体)'!$H231=\"\",\"\",TEXT('入力シート(総体)'!$E231,\"000\"))","v":""},null,null,{"$f":"IF('入力シート(総体)'!$H231=\"\",\"\",学校番号)","v":""},{"$f":"IF('入力シート(総体)'!$H231=\"\",\"\",'入力シート(総体)'!$K231)","v":""},{"$nulls":3},{"$f":"IF('入力シート(総体)'!$H231=\"\",\"\",TEXT('入力シート(総体)'!$H231,\"00\"))","v":""},null,{"$f":"IF('入力シート(総体)'!$H232=\"\",\"\",TEXT('入力シート(総体)'!$H232,\"00\"))","v":""},null,{"$f":"IF('入力シート(総体)'!$H233=\"\",\"\",TEXT('入力シート(総体)'!$H233,\"00\"))","v":""},null,{"$f":"IF('入力シート(総体)'!$H234=\"\",\"\",TEXT('入力シート(総体)'!$H234,\"00\"))","v":""},null,{"$f":"IF('入力シート(総体)'!$H235=\"\",\"\",TEXT('入力シート(総体)'!$H235,\"00\"))","v":""},null,{"$f":"IF('入力シート(総体)'!$H236=\"\",\"\",TEXT('入力シート(総体)'!$H236,\"00\"))","v":""}]
[{"$f":"IF('入力シート(総体)'!$H232=\"\",\"\",大会コード)","v":""},{"$f":"IF('入力シート(総体)'!$H232=\"\",\"\",IF('入力シート(総体)'!$B232=\"男\",0,1))","v":""},{"$f":"IF('入力シート(総体)'!$H232=\"\",\"\",'入力シート(総体)'!C232)","v":""},{"$f":"IF('入力シート(総体)'!$H232=\"\",\"\",TEXT('入力シート(総体)'!$E232,\"000\"))","v":""},null,null,{"$f":"IF('入力シート(総体)'!$H232=\"\",\"\",学校番号)","v":""},{"$f":"IF('入力シート(総体)'!$H232=\"\",\"\",'入力シート(総体)'!$K232)","v":""},{"$nulls":3},{"$f":"IF('入力シート(総体)'!$H232=\"\",\"\",TEXT('入力シート(総体)'!$H232,\"00\"))","v":""},null,{"$f":"IF('入力シート(総体)'!$H233=\"\",\"\",TEXT('入力シート(総体)'!$H233,\"00\"))","v":""},null,{"$f":"IF('入力シート(総体)'!$H234=\"\",\"\",TEXT('入力シート(総体)'!$H234,\"00\"))","v":""},null,{"$f":"IF('入力シート(総体)'!$H235=\"\",\"\",TEXT('入力シート(総体)'!$H235,\"00\"))","v":""},null,{"$f":"IF('入力シート(総体)'!$H236=\"\",\"\",TEXT('入力シート(総体)'!$H236,\"00\"))","v":""},null,{"$f":"IF('入力シート(総体)'!$H237=\"\",\"\",TEXT('入力シート(総体)'!$H237,\"00\"))","v":""}]
[{"$f":"IF('入力シート(総体)'!$H233=\"\",\"\",大会コード)","v":""},{"$f":"IF('入力シート(総体)'!$H233=\"\",\"\",IF('入力シート(総体)'!$B233=\"男\",0,1))","v":""},{"$f":"IF('入力シート(総体)'!$H233=\"\",\"\",'入力シート(総体)'!C233)","v":""},{"$f":"IF('入力シート(総体)'!$H233=\"\",\"\",TEXT('入力シート(総体)'!$E233,\"000\"))","v":""},null,null,{"$f":"IF('入力シート(総体)'!$H233=\"\",\"\",学校番号)","v":""},{"$f":"IF('入力シート(総体)'!$H233=\"\",\"\",'入力シート(総体)'!$K233)","v":""},{"$nulls":3},{"$f":"IF('入力シート(総体)'!$H233=\"\",\"\",TEXT('入力シート(総体)'!$H233,\"00\"))","v":""},null,{"$f":"IF('入力シート(総体)'!$H234=\"\",\"\",TEXT('入力シート(総体)'!$H234,\"00\"))","v":""},null,{"$f":"IF('入力シート(総体)'!$H235=\"\",\"\",TEXT('入力シート(総体)'!$H235,\"00\"))","v":""},null,{"$f":"IF('入力シート(総体)'!$H236=\"\",\"\",TEXT('入力シート(総体)'!$H236,\"00\"))","v":""},null,{"$f":"IF('入力シート(総体)'!$H237=\"\",\"\",TEXT('入力シート(総体)'!$H237,\"00\"))","v":""},null,{"$f":"IF('入力シート(総体)'!$H238=\"\",\"\",TEXT('入力シート(総体)'!$H238,\"00\"))","v":""}]
[{"$f":"IF('入力シート(総体)'!$H234=\"\",\"\",大会コード)","v":""},{"$f":"IF('入力シート(総体)'!$H234=\"\",\"\",IF('入力シート(総体)'!$B234=\"男\",0,1))","v":""},{"$f":"IF('入力シート(総体)'!$H234=\"\",\"\",'入力シート(総体)'!C234)","v":""},{"$f":"IF('入力シート(総体)'!$H234=\"\",\"\",TEXT('入力シート(総体)'!$E234,\"000\"))","v":""},null,null,{"$f":"IF('入力シート(総体)'!$H234=\"\",\"\",学校番号)","v":""},{"$f":"IF('入力シート(総体)'!$H234=\"\",\"\",'入力シート(総体)'!$K234)","v":""},{"$nulls":3},{"$f":"IF('入力シート(総体)'!$H234=\"\",\"\",TEXT('入力シート(総体)'!$H234,\"00\"))","v":""},null,{"$f":"IF('入力シート(総体)'!$H235=\"\",\"\",TEXT('入力シート(総体)'!$H235,\"00\"))","v":""},null,{"$f":"IF('入力シート(総体)'!$H236=\"\",\"\",TEXT('入力シート(総体)'!$H236,\"00\"))","v":""},null,{"$f":"IF('入力シート(総体)'!$H237=\"\",\"\",TEXT('入力シート(総体)'!$H237,\"00\"))","v":""},null,{"$f":"IF('入力シート(総体)'!$H238=\"\",\"\",TEXT('入力シート(総体)'!$H238,\"00\"))","v":""},null,{"$f":"IF('入力シート(総体)'!$H239=\"\",\"\",TEXT('入力シート(総体)'!$H239,\"00\"))","v":""}]
[{"$f":"IF('入力シート(総体)'!$H235=\"\",\"\",大会コード)","v":""},{"$f":"IF('入力シート(総体)'!$H235=\"\",\"\",IF('入力シート(総体)'!$B235=\"男\",0,1))","v":""},{"$f":"IF('入力シート(総体)'!$H235=\"\",\"\",'入力シート(総体)'!C235)","v":""},{"$f":"IF('入力シート(総体)'!$H235=\"\",\"\",TEXT('入力シート(総体)'!$E235,\"000\"))","v":""},null,null,{"$f":"IF('入力シート(総体)'!$H235=\"\",\"\",学校番号)","v":""},{"$f":"IF('入力シート(総体)'!$H235=\"\",\"\",'入力シート(総体)'!$K235)","v":""},{"$nulls":3},{"$f":"IF('入力シート(総体)'!$H235=\"\",\"\",TEXT('入力シート(総体)'!$H235,\"00\"))","v":""},null,{"$f":"IF('入力シート(総体)'!$H236=\"\",\"\",TEXT('入力シート(総体)'!$H236,\"00\"))","v":""},null,{"$f":"IF('入力シート(総体)'!$H237=\"\",\"\",TEXT('入力シート(総体)'!$H237,\"00\"))","v":""},null,{"$f":"IF('入力シート(総体)'!$H238=\"\",\"\",TEXT('入力シート(総体)'!$H238,\"00\"))","v":""},null,{"$f":"IF('入力シート(総体)'!$H239=\"\",\"\",TEXT('入力シート(総体)'!$H239,\"00\"))","v":""},null,{"$f":"IF('入力シート(総体)'!$H240=\"\",\"\",TEXT('入力シート(総体)'!$H240,\"00\"))","v":""}]
[{"$f":"IF('入力シート(総体)'!$H236=\"\",\"\",大会コード)","v":""},{"$f":"IF('入力シート(総体)'!$H236=\"\",\"\",IF('入力シート(総体)'!$B236=\"男\",0,1))","v":""},{"$f":"IF('入力シート(総体)'!$H236=\"\",\"\",'入力シート(総体)'!C236)","v":""},{"$f":"IF('入力シート(総体)'!$H236=\"\",\"\",TEXT('入力シート(総体)'!$E236,\"000\"))","v":""},null,null,{"$f":"IF('入力シート(総体)'!$H236=\"\",\"\",学校番号)","v":""},{"$f":"IF('入力シート(総体)'!$H236=\"\",\"\",'入力シート(総体)'!$K236)","v":""},{"$nulls":3},{"$f":"IF('入力シート(総体)'!$H236=\"\",\"\",TEXT('入力シート(総体)'!$H236,\"00\"))","v":""},null,{"$f":"IF('入力シート(総体)'!$H237=\"\",\"\",TEXT('入力シート(総体)'!$H237,\"00\"))","v":""},null,{"$f":"IF('入力シート(総体)'!$H238=\"\",\"\",TEXT('入力シート(総体)'!$H238,\"00\"))","v":""},null,{"$f":"IF('入力シート(総体)'!$H239=\"\",\"\",TEXT('入力シート(総体)'!$H239,\"00\"))","v":""},null,{"$f":"IF('入力シート(総体)'!$H240=\"\",\"\",TEXT('入力シート(総体)'!$H240,\"00\"))","v":""},null,{"$f":"IF('入力シート(総体)'!$H241=\"\",\"\",TEXT('入力シート(総体)'!$H241,\"00\"))","v":""}]
[{"$f":"IF('入力シート(総体)'!$H237=\"\",\"\",大会コード)","v":""},{"$f":"IF('入力シート(総体)'!$H237=\"\",\"\",IF('入力シート(総体)'!$B237=\"男\",0,1))","v":""},{"$f":"IF('入力シート(総体)'!$H237=\"\",\"\",'入力シート(総体)'!C237)","v":""},{"$f":"IF('入力シート(総体)'!$H237=\"\",\"\",TEXT('入力シート(総体)'!$E237,\"000\"))","v":""},null,null,{"$f":"IF('入力シート(総体)'!$H237=\"\",\"\",学校番号)","v":""},{"$f":"IF('入力シート(総体)'!$H237=\"\",\"\",'入力シート(総体)'!$K237)","v":""},{"$nulls":3},{"$f":"IF('入力シート(総体)'!$H237=\"\",\"\",TEXT('入力シート(総体)'!$H237,\"00\"))","v":""},null,{"$f":"IF('入力シート(総体)'!$H238=\"\",\"\",TEXT('入力シート(総体)'!$H238,\"00\"))","v":""},null,{"$f":"IF('入力シート(総体)'!$H239=\"\",\"\",TEXT('入力シート(総体)'!$H239,\"00\"))","v":""},null,{"$f":"IF('入力シート(総体)'!$H240=\"\",\"\",TEXT('入力シート(総体)'!$H240,\"00\"))","v":""},null,{"$f":"IF('入力シート(総体)'!$H241=\"\",\"\",TEXT('入力シート(総体)'!$H241,\"00\"))","v":""},null,{"$f":"IF('入力シート(総体)'!$H242=\"\",\"\",TEXT('入力シート(総体)'!$H242,\"00\"))","v":""}]
[{"$f":"IF('入力シート(総体)'!$H238=\"\",\"\",大会コード)","v":""},{"$f":"IF('入力シート(総体)'!$H238=\"\",\"\",IF('入力シート(総体)'!$B238=\"男\",0,1))","v":""},{"$f":"IF('入力シート(総体)'!$H238=\"\",\"\",'入力シート(総体)'!C238)","v":""},{"$f":"IF('入力シート(総体)'!$H238=\"\",\"\",TEXT('入力シート(総体)'!$E238,\"000\"))","v":""},null,null,{"$f":"IF('入力シート(総体)'!$H238=\"\",\"\",学校番号)","v":""},{"$f":"IF('入力シート(総体)'!$H238=\"\",\"\",'入力シート(総体)'!$K238)","v":""},{"$nulls":3},{"$f":"IF('入力シート(総体)'!$H238=\"\",\"\",TEXT('入力シート(総体)'!$H238,\"00\"))","v":""},null,{"$f":"IF('入力シート(総体)'!$H239=\"\",\"\",TEXT('入力シート(総体)'!$H239,\"00\"))","v":""},null,{"$f":"IF('入力シート(総体)'!$H240=\"\",\"\",TEXT('入力シート(総体)'!$H240,\"00\"))","v":""},null,{"$f":"IF('入力シート(総体)'!$H241=\"\",\"\",TEXT('入力シート(総体)'!$H241,\"00\"))","v":""},null,{"$f":"IF('入力シート(総体)'!$H242=\"\",\"\",TEXT('入力シート(総体)'!$H242,\"00\"))","v":""},null,{"$f":"IF('入力シート(総体)'!$H243=\"\",\"\",TEXT('入力シート(総体)'!$H243,\"00\"))","v":""}]
[{"$f":"IF('入力シート(総体)'!$H239=\"\",\"\",大会コード)","v":""},{"$f":"IF('入力シート(総体)'!$H239=\"\",\"\",IF('入力シート(総体)'!$B239=\"男\",0,1))","v":""},{"$f":"IF('入力シート(総体)'!$H239=\"\",\"\",'入力シート(総体)'!C239)","v":""},{"$f":"IF('入力シート(総体)'!$H239=\"\",\"\",TEXT('入力シート(総体)'!$E239,\"000\"))","v":""},null,null,{"$f":"IF('入力シート(総体)'!$H239=\"\",\"\",学校番号)","v":""},{"$f":"IF('入力シート(総体)'!$H239=\"\",\"\",'入力シート(総体)'!$K239)","v":""},{"$nulls":3},{"$f":"IF('入力シート(総体)'!$H239=\"\",\"\",TEXT('入力シート(総体)'!$H239,\"00\"))","v":""},null,{"$f":"IF('入力シート(総体)'!$H240=\"\",\"\",TEXT('入力シート(総体)'!$H240,\"00\"))","v":""},null,{"$f":"IF('入力シート(総体)'!$H241=\"\",\"\",TEXT('入力シート(総体)'!$H241,\"00\"))","v":""},null,{"$f":"IF('入力シート(総体)'!$H242=\"\",\"\",TEXT('入力シート(総体)'!$H242,\"00\"))","v":""},null,{"$f":"IF('入力シート(総体)'!$H243=\"\",\"\",TEXT('入力シート(総体)'!$H243,\"00\"))","v":""},null,{"$f":"IF('入力シート(総体)'!$H244=\"\",\"\",TEXT('入力シート(総体)'!$H244,\"00\"))","v":""}]
[{"$f":"IF('入力シート(総体)'!$H240=\"\",\"\",大会コード)","v":""},{"$f":"IF('入力シート(総体)'!$H240=\"\",\"\",IF('入力シート(総体)'!$B240=\"男\",0,1))","v":""},{"$f":"IF('入力シート(総体)'!$H240=\"\",\"\",'入力シート(総体)'!C240)","v":""},{"$f":"IF('入力シート(総体)'!$H240=\"\",\"\",TEXT('入力シート(総体)'!$E240,\"000\"))","v":""},null,null,{"$f":"IF('入力シート(総体)'!$H240=\"\",\"\",学校番号)","v":""},{"$f":"IF('入力シート(総体)'!$H240=\"\",\"\",'入力シート(総体)'!$K240)","v":""},{"$nulls":3},{"$f":"IF('入力シート(総体)'!$H240=\"\",\"\",TEXT('入力シート(総体)'!$H240,\"00\"))","v":""},null,{"$f":"IF('入力シート(総体)'!$H241=\"\",\"\",TEXT('入力シート(総体)'!$H241,\"00\"))","v":""},null,{"$f":"IF('入力シート(総体)'!$H242=\"\",\"\",TEXT('入力シート(総体)'!$H242,\"00\"))","v":""},null,{"$f":"IF('入力シート(総体)'!$H243=\"\",\"\",TEXT('入力シート(総体)'!$H243,\"00\"))","v":""},null,{"$f":"IF('入力シート(総体)'!$H244=\"\",\"\",TEXT('入力シート(総体)'!$H244,\"00\"))","v":""},null,{"$f":"IF('入力シート(総体)'!$H245=\"\",\"\",TEXT('入力シート(総体)'!$H245,\"00\"))","v":""}]
[{"$f":"IF('入力シート(総体)'!$H241=\"\",\"\",大会コード)","v":""},{"$f":"IF('入力シート(総体)'!$H241=\"\",\"\",IF('入力シート(総体)'!$B241=\"男\",0,1))","v":""},{"$f":"IF('入力シート(総体)'!$H241=\"\",\"\",'入力シート(総体)'!C241)","v":""},{"$f":"IF('入力シート(総体)'!$H241=\"\",\"\",TEXT('入力シート(総体)'!$E241,\"000\"))","v":""},null,null,{"$f":"IF('入力シート(総体)'!$H241=\"\",\"\",学校番号)","v":""},{"$f":"IF('入力シート(総体)'!$H241=\"\",\"\",'入力シート(総体)'!$K241)","v":""},{"$nulls":3},{"$f":"IF('入力シート(総体)'!$H241=\"\",\"\",TEXT('入力シート(総体)'!$H241,\"00\"))","v":""},null,{"$f":"IF('入力シート(総体)'!$H242=\"\",\"\",TEXT('入力シート(総体)'!$H242,\"00\"))","v":""},null,{"$f":"IF('入力シート(総体)'!$H243=\"\",\"\",TEXT('入力シート(総体)'!$H243,\"00\"))","v":""},null,{"$f":"IF('入力シート(総体)'!$H244=\"\",\"\",TEXT('入力シート(総体)'!$H244,\"00\"))","v":""},null,{"$f":"IF('入力シート(総体)'!$H245=\"\",\"\",TEXT('入力シート(総体)'!$H245,\"00\"))","v":""},null,{"$f":"IF('入力シート(総体)'!$H246=\"\",\"\",TEXT('入力シート(総体)'!$H246,\"00\"))","v":""}]
[{"$f":"IF('入力シート(総体)'!$H242=\"\",\"\",大会コード)","v":""},{"$f":"IF('入力シート(総体)'!$H242=\"\",\"\",IF('入力シート(総体)'!$B242=\"男\",0,1))","v":""},{"$f":"IF('入力シート(総体)'!$H242=\"\",\"\",'入力シート(総体)'!C242)","v":""},{"$f":"IF('入力シート(総体)'!$H242=\"\",\"\",TEXT('入力シート(総体)'!$E242,\"000\"))","v":""},null,null,{"$f":"IF('入力シート(総体)'!$H242=\"\",\"\",学校番号)","v":""},{"$f":"IF('入力シート(総体)'!$H242=\"\",\"\",'入力シート(総体)'!$K242)","v":""},{"$nulls":3},{"$f":"IF('入力シート(総体)'!$H242=\"\",\"\",TEXT('入力シート(総体)'!$H242,\"00\"))","v":""},null,{"$f":"IF('入力シート(総体)'!$H243=\"\",\"\",TEXT('入力シート(総体)'!$H243,\"00\"))","v":""},null,{"$f":"IF('入力シート(総体)'!$H244=\"\",\"\",TEXT('入力シート(総体)'!$H244,\"00\"))","v":""},null,{"$f":"IF('入力シート(総体)'!$H245=\"\",\"\",TEXT('入力シート(総体)'!$H245,\"00\"))","v":""},null,{"$f":"IF('入力シート(総体)'!$H246=\"\",\"\",TEXT('入力シート(総体)'!$H246,\"00\"))","v":""},null,{"$f":"IF('入力シート(総体)'!$H247=\"\",\"\",TEXT('入力シート(総体)'!$H247,\"00\"))","v":""}]
[{"$f":"IF('入力シート(総体)'!$H243=\"\",\"\",大会コード)","v":""},{"$f":"IF('入力シート(総体)'!$H243=\"\",\"\",IF('入力シート(総体)'!$B243=\"男\",0,1))","v":""},{"$f":"IF('入力シート(総体)'!$H243=\"\",\"\",'入力シート(総体)'!C243)","v":""},{"$f":"IF('入力シート(総体)'!$H243=\"\",\"\",TEXT('入力シート(総体)'!$E243,\"000\"))","v":""},null,null,{"$f":"IF('入力シート(総体)'!$H243=\"\",\"\",学校番号)","v":""},{"$f":"IF('入力シート(総体)'!$H243=\"\",\"\",'入力シート(総体)'!$K243)","v":""},{"$nulls":3},{"$f":"IF('入力シート(総体)'!$H243=\"\",\"\",TEXT('入力シート(総体)'!$H243,\"00\"))","v":""},null,{"$f":"IF('入力シート(総体)'!$H244=\"\",\"\",TEXT('入力シート(総体)'!$H244,\"00\"))","v":""},null,{"$f":"IF('入力シート(総体)'!$H245=\"\",\"\",TEXT('入力シート(総体)'!$H245,\"00\"))","v":""},null,{"$f":"IF('入力シート(総体)'!$H246=\"\",\"\",TEXT('入力シート(総体)'!$H246,\"00\"))","v":""},null,{"$f":"IF('入力シート(総体)'!$H247=\"\",\"\",TEXT('入力シート(総体)'!$H247,\"00\"))","v":""},null,{"$f":"IF('入力シート(総体)'!$H248=\"\",\"\",TEXT('入力シート(総体)'!$H248,\"00\"))","v":""}]
[{"$f":"IF('入力シート(総体)'!$H244=\"\",\"\",大会コード)","v":""},{"$f":"IF('入力シート(総体)'!$H244=\"\",\"\",IF('入力シート(総体)'!$B244=\"男\",0,1))","v":""},{"$f":"IF('入力シート(総体)'!$H244=\"\",\"\",'入力シート(総体)'!C244)","v":""},{"$f":"IF('入力シート(総体)'!$H244=\"\",\"\",TEXT('入力シート(総体)'!$E244,\"000\"))","v":""},null,null,{"$f":"IF('入力シート(総体)'!$H244=\"\",\"\",学校番号)","v":""},{"$f":"IF('入力シート(総体)'!$H244=\"\",\"\",'入力シート(総体)'!$K244)","v":""},{"$nulls":3},{"$f":"IF('入力シート(総体)'!$H244=\"\",\"\",TEXT('入力シート(総体)'!$H244,\"00\"))","v":""},null,{"$f":"IF('入力シート(総体)'!$H245=\"\",\"\",TEXT('入力シート(総体)'!$H245,\"00\"))","v":""},null,{"$f":"IF('入力シート(総体)'!$H246=\"\",\"\",TEXT('入力シート(総体)'!$H246,\"00\"))","v":""},null,{"$f":"IF('入力シート(総体)'!$H247=\"\",\"\",TEXT('入力シート(総体)'!$H247,\"00\"))","v":""},null,{"$f":"IF('入力シート(総体)'!$H248=\"\",\"\",TEXT('入力シート(総体)'!$H248,\"00\"))","v":""},null,{"$f":"IF('入力シート(総体)'!$H249=\"\",\"\",TEXT('入力シート(総体)'!$H249,\"00\"))","v":""}]
[{"$f":"IF('入力シート(総体)'!$H245=\"\",\"\",大会コード)","v":""},{"$f":"IF('入力シート(総体)'!$H245=\"\",\"\",IF('入力シート(総体)'!$B245=\"男\",0,1))","v":""},{"$f":"IF('入力シート(総体)'!$H245=\"\",\"\",'入力シート(総体)'!C245)","v":""},{"$f":"IF('入力シート(総体)'!$H245=\"\",\"\",TEXT('入力シート(総体)'!$E245,\"000\"))","v":""},null,null,{"$f":"IF('入力シート(総体)'!$H245=\"\",\"\",学校番号)","v":""},{"$f":"IF('入力シート(総体)'!$H245=\"\",\"\",'入力シート(総体)'!$K245)","v":""},{"$nulls":3},{"$f":"IF('入力シート(総体)'!$H245=\"\",\"\",TEXT('入力シート(総体)'!$H245,\"00\"))","v":""},null,{"$f":"IF('入力シート(総体)'!$H246=\"\",\"\",TEXT('入力シート(総体)'!$H246,\"00\"))","v":""},null,{"$f":"IF('入力シート(総体)'!$H247=\"\",\"\",TEXT('入力シート(総体)'!$H247,\"00\"))","v":""},null,{"$f":"IF('入力シート(総体)'!$H248=\"\",\"\",TEXT('入力シート(総体)'!$H248,\"00\"))","v":""},null,{"$f":"IF('入力シート(総体)'!$H249=\"\",\"\",TEXT('入力シート(総体)'!$H249,\"00\"))","v":""},null,{"$f":"IF('入力シート(総体)'!$H250=\"\",\"\",TEXT('入力シート(総体)'!$H250,\"00\"))","v":""}]
[{"$f":"IF('入力シート(総体)'!$H246=\"\",\"\",大会コード)","v":""},{"$f":"IF('入力シート(総体)'!$H246=\"\",\"\",IF('入力シート(総体)'!$B246=\"男\",0,1))","v":""},{"$f":"IF('入力シート(総体)'!$H246=\"\",\"\",'入力シート(総体)'!C246)","v":""},{"$f":"IF('入力シート(総体)'!$H246=\"\",\"\",TEXT('入力シート(総体)'!$E246,\"000\"))","v":""},null,null,{"$f":"IF('入力シート(総体)'!$H246=\"\",\"\",学校番号)","v":""},{"$f":"IF('入力シート(総体)'!$H246=\"\",\"\",'入力シート(総体)'!$K246)","v":""},{"$nulls":3},{"$f":"IF('入力シート(総体)'!$H246=\"\",\"\",TEXT('入力シート(総体)'!$H246,\"00\"))","v":""},null,{"$f":"IF('入力シート(総体)'!$H247=\"\",\"\",TEXT('入力シート(総体)'!$H247,\"00\"))","v":""},null,{"$f":"IF('入力シート(総体)'!$H248=\"\",\"\",TEXT('入力シート(総体)'!$H248,\"00\"))","v":""},null,{"$f":"IF('入力シート(総体)'!$H249=\"\",\"\",TEXT('入力シート(総体)'!$H249,\"00\"))","v":""},null,{"$f":"IF('入力シート(総体)'!$H250=\"\",\"\",TEXT('入力シート(総体)'!$H250,\"00\"))","v":""},null,{"$f":"IF('入力シート(総体)'!$H251=\"\",\"\",TEXT('入力シート(総体)'!$H251,\"00\"))","v":""}]
[{"$f":"IF('入力シート(総体)'!$H247=\"\",\"\",大会コード)","v":""},{"$f":"IF('入力シート(総体)'!$H247=\"\",\"\",IF('入力シート(総体)'!$B247=\"男\",0,1))","v":""},{"$f":"IF('入力シート(総体)'!$H247=\"\",\"\",'入力シート(総体)'!C247)","v":""},{"$f":"IF('入力シート(総体)'!$H247=\"\",\"\",TEXT('入力シート(総体)'!$E247,\"000\"))","v":""},null,null,{"$f":"IF('入力シート(総体)'!$H247=\"\",\"\",学校番号)","v":""},{"$f":"IF('入力シート(総体)'!$H247=\"\",\"\",'入力シート(総体)'!$K247)","v":""},{"$nulls":3},{"$f":"IF('入力シート(総体)'!$H247=\"\",\"\",TEXT('入力シート(総体)'!$H247,\"00\"))","v":""},null,{"$f":"IF('入力シート(総体)'!$H248=\"\",\"\",TEXT('入力シート(総体)'!$H248,\"00\"))","v":""},null,{"$f":"IF('入力シート(総体)'!$H249=\"\",\"\",TEXT('入力シート(総体)'!$H249,\"00\"))","v":""},null,{"$f":"IF('入力シート(総体)'!$H250=\"\",\"\",TEXT('入力シート(総体)'!$H250,\"00\"))","v":""},null,{"$f":"IF('入力シート(総体)'!$H251=\"\",\"\",TEXT('入力シート(総体)'!$H251,\"00\"))","v":""},null,{"$f":"IF('入力シート(総体)'!$H252=\"\",\"\",TEXT('入力シート(総体)'!$H252,\"00\"))","v":""}]
[{"$f":"IF('入力シート(総体)'!$H248=\"\",\"\",大会コード)","v":""},{"$f":"IF('入力シート(総体)'!$H248=\"\",\"\",IF('入力シート(総体)'!$B248=\"男\",0,1))","v":""},{"$f":"IF('入力シート(総体)'!$H248=\"\",\"\",'入力シート(総体)'!C248)","v":""},{"$f":"IF('入力シート(総体)'!$H248=\"\",\"\",TEXT('入力シート(総体)'!$E248,\"000\"))","v":""},null,null,{"$f":"IF('入力シート(総体)'!$H248=\"\",\"\",学校番号)","v":""},{"$f":"IF('入力シート(総体)'!$H248=\"\",\"\",'入力シート(総体)'!$K248)","v":""},{"$nulls":3},{"$f":"IF('入力シート(総体)'!$H248=\"\",\"\",TEXT('入力シート(総体)'!$H248,\"00\"))","v":""},null,{"$f":"IF('入力シート(総体)'!$H249=\"\",\"\",TEXT('入力シート(総体)'!$H249,\"00\"))","v":""},null,{"$f":"IF('入力シート(総体)'!$H250=\"\",\"\",TEXT('入力シート(総体)'!$H250,\"00\"))","v":""},null,{"$f":"IF('入力シート(総体)'!$H251=\"\",\"\",TEXT('入力シート(総体)'!$H251,\"00\"))","v":""},null,{"$f":"IF('入力シート(総体)'!$H252=\"\",\"\",TEXT('入力シート(総体)'!$H252,\"00\"))","v":""},null,{"$f":"IF('入力シート(総体)'!$H253=\"\",\"\",TEXT('入力シート(総体)'!$H253,\"00\"))","v":""}]
[{"$f":"IF('入力シート(総体)'!$H249=\"\",\"\",大会コード)","v":""},{"$f":"IF('入力シート(総体)'!$H249=\"\",\"\",IF('入力シート(総体)'!$B249=\"男\",0,1))","v":""},{"$f":"IF('入力シート(総体)'!$H249=\"\",\"\",'入力シート(総体)'!C249)","v":""},{"$f":"IF('入力シート(総体)'!$H249=\"\",\"\",TEXT('入力シート(総体)'!$E249,\"000\"))","v":""},null,null,{"$f":"IF('入力シート(総体)'!$H249=\"\",\"\",学校番号)","v":""},{"$f":"IF('入力シート(総体)'!$H249=\"\",\"\",'入力シート(総体)'!$K249)","v":""},{"$nulls":3},{"$f":"IF('入力シート(総体)'!$H249=\"\",\"\",TEXT('入力シート(総体)'!$H249,\"00\"))","v":""},null,{"$f":"IF('入力シート(総体)'!$H250=\"\",\"\",TEXT('入力シート(総体)'!$H250,\"00\"))","v":""},null,{"$f":"IF('入力シート(総体)'!$H251=\"\",\"\",TEXT('入力シート(総体)'!$H251,\"00\"))","v":""},null,{"$f":"IF('入力シート(総体)'!$H252=\"\",\"\",TEXT('入力シート(総体)'!$H252,\"00\"))","v":""},null,{"$f":"IF('入力シート(総体)'!$H253=\"\",\"\",TEXT('入力シート(総体)'!$H253,\"00\"))","v":""},null,{"$f":"IF('入力シート(総体)'!$H254=\"\",\"\",TEXT('入力シート(総体)'!$H254,\"00\"))","v":""}]
[{"$f":"IF('入力シート(総体)'!$H250=\"\",\"\",大会コード)","v":""},{"$f":"IF('入力シート(総体)'!$H250=\"\",\"\",IF('入力シート(総体)'!$B250=\"男\",0,1))","v":""},{"$f":"IF('入力シート(総体)'!$H250=\"\",\"\",'入力シート(総体)'!C250)","v":""},{"$f":"IF('入力シート(総体)'!$H250=\"\",\"\",TEXT('入力シート(総体)'!$E250,\"000\"))","v":""},null,null,{"$f":"IF('入力シート(総体)'!$H250=\"\",\"\",学校番号)","v":""},{"$f":"IF('入力シート(総体)'!$H250=\"\",\"\",'入力シート(総体)'!$K250)","v":""},{"$nulls":3},{"$f":"IF('入力シート(総体)'!$H250=\"\",\"\",TEXT('入力シート(総体)'!$H250,\"00\"))","v":""},null,{"$f":"IF('入力シート(総体)'!$H251=\"\",\"\",TEXT('入力シート(総体)'!$H251,\"00\"))","v":""},null,{"$f":"IF('入力シート(総体)'!$H252=\"\",\"\",TEXT('入力シート(総体)'!$H252,\"00\"))","v":""},null,{"$f":"IF('入力シート(総体)'!$H253=\"\",\"\",TEXT('入力シート(総体)'!$H253,\"00\"))","v":""},null,{"$f":"IF('入力シート(総体)'!$H254=\"\",\"\",TEXT('入力シート(総体)'!$H254,\"00\"))","v":""},null,{"$f":"IF('入力シート(総体)'!$H255=\"\",\"\",TEXT('入力シート(総体)'!$H255,\"00\"))","v":""}]
[{"$f":"IF('入力シート(総体)'!$H251=\"\",\"\",大会コード)","v":""},{"$f":"IF('入力シート(総体)'!$H251=\"\",\"\",IF('入力シート(総体)'!$B251=\"男\",0,1))","v":""},{"$f":"IF('入力シート(総体)'!$H251=\"\",\"\",'入力シート(総体)'!C251)","v":""},{"$f":"IF('入力シート(総体)'!$H251=\"\",\"\",TEXT('入力シート(総体)'!$E251,\"000\"))","v":""},null,null,{"$f":"IF('入力シート(総体)'!$H251=\"\",\"\",学校番号)","v":""},{"$f":"IF('入力シート(総体)'!$H251=\"\",\"\",'入力シート(総体)'!$K251)","v":""},{"$nulls":3},{"$f":"IF('入力シート(総体)'!$H251=\"\",\"\",TEXT('入力シート(総体)'!$H251,\"00\"))","v":""},null,{"$f":"IF('入力シート(総体)'!$H252=\"\",\"\",TEXT('入力シート(総体)'!$H252,\"00\"))","v":""},null,{"$f":"IF('入力シート(総体)'!$H253=\"\",\"\",TEXT('入力シート(総体)'!$H253,\"00\"))","v":""},null,{"$f":"IF('入力シート(総体)'!$H254=\"\",\"\",TEXT('入力シート(総体)'!$H254,\"00\"))","v":""},null,{"$f":"IF('入力シート(総体)'!$H255=\"\",\"\",TEXT('入力シート(総体)'!$H255,\"00\"))","v":""},null,{"$f":"IF('入力シート(総体)'!$H256=\"\",\"\",TEXT('入力シート(総体)'!$H256,\"00\"))","v":""}]
[{"$f":"IF('入力シート(総体)'!$H252=\"\",\"\",大会コード)","v":""},{"$f":"IF('入力シート(総体)'!$H252=\"\",\"\",IF('入力シート(総体)'!$B252=\"男\",0,1))","v":""},{"$f":"IF('入力シート(総体)'!$H252=\"\",\"\",'入力シート(総体)'!C252)","v":""},{"$f":"IF('入力シート(総体)'!$H252=\"\",\"\",TEXT('入力シート(総体)'!$E252,\"000\"))","v":""},null,null,{"$f":"IF('入力シート(総体)'!$H252=\"\",\"\",学校番号)","v":""},{"$f":"IF('入力シート(総体)'!$H252=\"\",\"\",'入力シート(総体)'!$K252)","v":""},{"$nulls":3},{"$f":"IF('入力シート(総体)'!$H252=\"\",\"\",TEXT('入力シート(総体)'!$H252,\"00\"))","v":""},null,{"$f":"IF('入力シート(総体)'!$H253=\"\",\"\",TEXT('入力シート(総体)'!$H253,\"00\"))","v":""},null,{"$f":"IF('入力シート(総体)'!$H254=\"\",\"\",TEXT('入力シート(総体)'!$H254,\"00\"))","v":""},null,{"$f":"IF('入力シート(総体)'!$H255=\"\",\"\",TEXT('入力シート(総体)'!$H255,\"00\"))","v":""},null,{"$f":"IF('入力シート(総体)'!$H256=\"\",\"\",TEXT('入力シート(総体)'!$H256,\"00\"))","v":""},null,{"$f":"IF('入力シート(総体)'!$H257=\"\",\"\",TEXT('入力シート(総体)'!$H257,\"00\"))","v":""}]
[{"$f":"IF('入力シート(総体)'!$H253=\"\",\"\",大会コード)","v":""},{"$f":"IF('入力シート(総体)'!$H253=\"\",\"\",IF('入力シート(総体)'!$B253=\"男\",0,1))","v":""},{"$f":"IF('入力シート(総体)'!$H253=\"\",\"\",'入力シート(総体)'!C253)","v":""},{"$f":"IF('入力シート(総体)'!$H253=\"\",\"\",TEXT('入力シート(総体)'!$E253,\"000\"))","v":""},null,null,{"$f":"IF('入力シート(総体)'!$H253=\"\",\"\",学校番号)","v":""},{"$f":"IF('入力シート(総体)'!$H253=\"\",\"\",'入力シート(総体)'!$K253)","v":""},{"$nulls":3},{"$f":"IF('入力シート(総体)'!$H253=\"\",\"\",TEXT('入力シート(総体)'!$H253,\"00\"))","v":""},null,{"$f":"IF('入力シート(総体)'!$H254=\"\",\"\",TEXT('入力シート(総体)'!$H254,\"00\"))","v":""},null,{"$f":"IF('入力シート(総体)'!$H255=\"\",\"\",TEXT('入力シート(総体)'!$H255,\"00\"))","v":""},null,{"$f":"IF('入力シート(総体)'!$H256=\"\",\"\",TEXT('入力シート(総体)'!$H256,\"00\"))","v":""},null,{"$f":"IF('入力シート(総体)'!$H257=\"\",\"\",TEXT('入力シート(総体)'!$H257,\"00\"))","v":""},null,{"$f":"IF('入力シート(総体)'!$H258=\"\",\"\",TEXT('入力シート(総体)'!$H258,\"00\"))","v":""}]
[{"$f":"IF('入力シート(総体)'!$H254=\"\",\"\",大会コード)","v":""},{"$f":"IF('入力シート(総体)'!$H254=\"\",\"\",IF('入力シート(総体)'!$B254=\"男\",0,1))","v":""},{"$f":"IF('入力シート(総体)'!$H254=\"\",\"\",'入力シート(総体)'!C254)","v":""},{"$f":"IF('入力シート(総体)'!$H254=\"\",\"\",TEXT('入力シート(総体)'!$E254,\"000\"))","v":""},null,null,{"$f":"IF('入力シート(総体)'!$H254=\"\",\"\",学校番号)","v":""},{"$f":"IF('入力シート(総体)'!$H254=\"\",\"\",'入力シート(総体)'!$K254)","v":""},{"$nulls":3},{"$f":"IF('入力シート(総体)'!$H254=\"\",\"\",TEXT('入力シート(総体)'!$H254,\"00\"))","v":""},null,{"$f":"IF('入力シート(総体)'!$H255=\"\",\"\",TEXT('入力シート(総体)'!$H255,\"00\"))","v":""},null,{"$f":"IF('入力シート(総体)'!$H256=\"\",\"\",TEXT('入力シート(総体)'!$H256,\"00\"))","v":""},null,{"$f":"IF('入力シート(総体)'!$H257=\"\",\"\",TEXT('入力シート(総体)'!$H257,\"00\"))","v":""},null,{"$f":"IF('入力シート(総体)'!$H258=\"\",\"\",TEXT('入力シート(総体)'!$H258,\"00\"))","v":""},null,{"$f":"IF('入力シート(総体)'!$H259=\"\",\"\",TEXT('入力シート(総体)'!$H259,\"00\"))","v":""}]
[{"$f":"IF('入力シート(総体)'!$H255=\"\",\"\",大会コード)","v":""},{"$f":"IF('入力シート(総体)'!$H255=\"\",\"\",IF('入力シート(総体)'!$B255=\"男\",0,1))","v":""},{"$f":"IF('入力シート(総体)'!$H255=\"\",\"\",'入力シート(総体)'!C255)","v":""},{"$f":"IF('入力シート(総体)'!$H255=\"\",\"\",TEXT('入力シート(総体)'!$E255,\"000\"))","v":""},null,null,{"$f":"IF('入力シート(総体)'!$H255=\"\",\"\",学校番号)","v":""},{"$f":"IF('入力シート(総体)'!$H255=\"\",\"\",'入力シート(総体)'!$K255)","v":""},{"$nulls":3},{"$f":"IF('入力シート(総体)'!$H255=\"\",\"\",TEXT('入力シート(総体)'!$H255,\"00\"))","v":""},null,{"$f":"IF('入力シート(総体)'!$H256=\"\",\"\",TEXT('入力シート(総体)'!$H256,\"00\"))","v":""},null,{"$f":"IF('入力シート(総体)'!$H257=\"\",\"\",TEXT('入力シート(総体)'!$H257,\"00\"))","v":""},null,{"$f":"IF('入力シート(総体)'!$H258=\"\",\"\",TEXT('入力シート(総体)'!$H258,\"00\"))","v":""},null,{"$f":"IF('入力シート(総体)'!$H259=\"\",\"\",TEXT('入力シート(総体)'!$H259,\"00\"))","v":""},null,{"$f":"IF('入力シート(総体)'!$H260=\"\",\"\",TEXT('入力シート(総体)'!$H260,\"00\"))","v":""}]
[{"$f":"IF('入力シート(総体)'!$H256=\"\",\"\",大会コード)","v":""},{"$f":"IF('入力シート(総体)'!$H256=\"\",\"\",IF('入力シート(総体)'!$B256=\"男\",0,1))","v":""},{"$f":"IF('入力シート(総体)'!$H256=\"\",\"\",'入力シート(総体)'!C256)","v":""},{"$f":"IF('入力シート(総体)'!$H256=\"\",\"\",TEXT('入力シート(総体)'!$E256,\"000\"))","v":""},null,null,{"$f":"IF('入力シート(総体)'!$H256=\"\",\"\",学校番号)","v":""},{"$f":"IF('入力シート(総体)'!$H256=\"\",\"\",'入力シート(総体)'!$K256)","v":""},{"$nulls":3},{"$f":"IF('入力シート(総体)'!$H256=\"\",\"\",TEXT('入力シート(総体)'!$H256,\"00\"))","v":""},null,{"$f":"IF('入力シート(総体)'!$H257=\"\",\"\",TEXT('入力シート(総体)'!$H257,\"00\"))","v":""},null,{"$f":"IF('入力シート(総体)'!$H258=\"\",\"\",TEXT('入力シート(総体)'!$H258,\"00\"))","v":""},null,{"$f":"IF('入力シート(総体)'!$H259=\"\",\"\",TEXT('入力シート(総体)'!$H259,\"00\"))","v":""},null,{"$f":"IF('入力シート(総体)'!$H260=\"\",\"\",TEXT('入力シート(総体)'!$H260,\"00\"))","v":""},null,{"$f":"IF('入力シート(総体)'!$H261=\"\",\"\",TEXT('入力シート(総体)'!$H261,\"00\"))","v":""}]
[{"$f":"IF('入力シート(総体)'!$H257=\"\",\"\",大会コード)","v":""},{"$f":"IF('入力シート(総体)'!$H257=\"\",\"\",IF('入力シート(総体)'!$B257=\"男\",0,1))","v":""},{"$f":"IF('入力シート(総体)'!$H257=\"\",\"\",'入力シート(総体)'!C257)","v":""},{"$f":"IF('入力シート(総体)'!$H257=\"\",\"\",TEXT('入力シート(総体)'!$E257,\"000\"))","v":""},null,null,{"$f":"IF('入力シート(総体)'!$H257=\"\",\"\",学校番号)","v":""},{"$f":"IF('入力シート(総体)'!$H257=\"\",\"\",'入力シート(総体)'!$K257)","v":""},{"$nulls":3},{"$f":"IF('入力シート(総体)'!$H257=\"\",\"\",TEXT('入力シート(総体)'!$H257,\"00\"))","v":""},null,{"$f":"IF('入力シート(総体)'!$H258=\"\",\"\",TEXT('入力シート(総体)'!$H258,\"00\"))","v":""},null,{"$f":"IF('入力シート(総体)'!$H259=\"\",\"\",TEXT('入力シート(総体)'!$H259,\"00\"))","v":""},null,{"$f":"IF('入力シート(総体)'!$H260=\"\",\"\",TEXT('入力シート(総体)'!$H260,\"00\"))","v":""},null,{"$f":"IF('入力シート(総体)'!$H261=\"\",\"\",TEXT('入力シート(総体)'!$H261,\"00\"))","v":""},null,{"$f":"IF('入力シート(総体)'!$H262=\"\",\"\",TEXT('入力シート(総体)'!$H262,\"00\"))","v":""}]
[{"$f":"IF('入力シート(総体)'!$H258=\"\",\"\",大会コード)","v":""},{"$f":"IF('入力シート(総体)'!$H258=\"\",\"\",IF('入力シート(総体)'!$B258=\"男\",0,1))","v":""},{"$f":"IF('入力シート(総体)'!$H258=\"\",\"\",'入力シート(総体)'!C258)","v":""},{"$f":"IF('入力シート(総体)'!$H258=\"\",\"\",TEXT('入力シート(総体)'!$E258,\"000\"))","v":""},null,null,{"$f":"IF('入力シート(総体)'!$H258=\"\",\"\",学校番号)","v":""},{"$f":"IF('入力シート(総体)'!$H258=\"\",\"\",'入力シート(総体)'!$K258)","v":""},{"$nulls":3},{"$f":"IF('入力シート(総体)'!$H258=\"\",\"\",TEXT('入力シート(総体)'!$H258,\"00\"))","v":""},null,{"$f":"IF('入力シート(総体)'!$H259=\"\",\"\",TEXT('入力シート(総体)'!$H259,\"00\"))","v":""},null,{"$f":"IF('入力シート(総体)'!$H260=\"\",\"\",TEXT('入力シート(総体)'!$H260,\"00\"))","v":""},null,{"$f":"IF('入力シート(総体)'!$H261=\"\",\"\",TEXT('入力シート(総体)'!$H261,\"00\"))","v":""},null,{"$f":"IF('入力シート(総体)'!$H262=\"\",\"\",TEXT('入力シート(総体)'!$H262,\"00\"))","v":""},null,{"$f":"IF('入力シート(総体)'!$H263=\"\",\"\",TEXT('入力シート(総体)'!$H263,\"00\"))","v":""}]
[{"$f":"IF('入力シート(総体)'!$H259=\"\",\"\",大会コード)","v":""},{"$f":"IF('入力シート(総体)'!$H259=\"\",\"\",IF('入力シート(総体)'!$B259=\"男\",0,1))","v":""},{"$f":"IF('入力シート(総体)'!$H259=\"\",\"\",'入力シート(総体)'!C259)","v":""},{"$f":"IF('入力シート(総体)'!$H259=\"\",\"\",TEXT('入力シート(総体)'!$E259,\"000\"))","v":""},null,null,{"$f":"IF('入力シート(総体)'!$H259=\"\",\"\",学校番号)","v":""},{"$f":"IF('入力シート(総体)'!$H259=\"\",\"\",'入力シート(総体)'!$K259)","v":""},{"$nulls":3},{"$f":"IF('入力シート(総体)'!$H259=\"\",\"\",TEXT('入力シート(総体)'!$H259,\"00\"))","v":""},null,{"$f":"IF('入力シート(総体)'!$H260=\"\",\"\",TEXT('入力シート(総体)'!$H260,\"00\"))","v":""},null,{"$f":"IF('入力シート(総体)'!$H261=\"\",\"\",TEXT('入力シート(総体)'!$H261,\"00\"))","v":""},null,{"$f":"IF('入力シート(総体)'!$H262=\"\",\"\",TEXT('入力シート(総体)'!$H262,\"00\"))","v":""},null,{"$f":"IF('入力シート(総体)'!$H263=\"\",\"\",TEXT('入力シート(総体)'!$H263,\"00\"))","v":""},null,{"$f":"IF('入力シート(総体)'!$H264=\"\",\"\",TEXT('入力シート(総体)'!$H264,\"00\"))","v":""}]
[{"$f":"IF('入力シート(総体)'!$H260=\"\",\"\",大会コード)","v":""},{"$f":"IF('入力シート(総体)'!$H260=\"\",\"\",IF('入力シート(総体)'!$B260=\"男\",0,1))","v":""},{"$f":"IF('入力シート(総体)'!$H260=\"\",\"\",'入力シート(総体)'!C260)","v":""},{"$f":"IF('入力シート(総体)'!$H260=\"\",\"\",TEXT('入力シート(総体)'!$E260,\"000\"))","v":""},null,null,{"$f":"IF('入力シート(総体)'!$H260=\"\",\"\",学校番号)","v":""},{"$f":"IF('入力シート(総体)'!$H260=\"\",\"\",'入力シート(総体)'!$K260)","v":""},{"$nulls":3},{"$f":"IF('入力シート(総体)'!$H260=\"\",\"\",TEXT('入力シート(総体)'!$H260,\"00\"))","v":""},null,{"$f":"IF('入力シート(総体)'!$H261=\"\",\"\",TEXT('入力シート(総体)'!$H261,\"00\"))","v":""},null,{"$f":"IF('入力シート(総体)'!$H262=\"\",\"\",TEXT('入力シート(総体)'!$H262,\"00\"))","v":""},null,{"$f":"IF('入力シート(総体)'!$H263=\"\",\"\",TEXT('入力シート(総体)'!$H263,\"00\"))","v":""},null,{"$f":"IF('入力シート(総体)'!$H264=\"\",\"\",TEXT('入力シート(総体)'!$H264,\"00\"))","v":""},null,{"$f":"IF('入力シート(総体)'!$H265=\"\",\"\",TEXT('入力シート(総体)'!$H265,\"00\"))","v":""}]
[{"$f":"IF('入力シート(総体)'!$H261=\"\",\"\",大会コード)","v":""},{"$f":"IF('入力シート(総体)'!$H261=\"\",\"\",IF('入力シート(総体)'!$B261=\"男\",0,1))","v":""},{"$f":"IF('入力シート(総体)'!$H261=\"\",\"\",'入力シート(総体)'!C261)","v":""},{"$f":"IF('入力シート(総体)'!$H261=\"\",\"\",TEXT('入力シート(総体)'!$E261,\"000\"))","v":""},null,null,{"$f":"IF('入力シート(総体)'!$H261=\"\",\"\",学校番号)","v":""},{"$f":"IF('入力シート(総体)'!$H261=\"\",\"\",'入力シート(総体)'!$K261)","v":""},{"$nulls":3},{"$f":"IF('入力シート(総体)'!$H261=\"\",\"\",TEXT('入力シート(総体)'!$H261,\"00\"))","v":""},null,{"$f":"IF('入力シート(総体)'!$H262=\"\",\"\",TEXT('入力シート(総体)'!$H262,\"00\"))","v":""},null,{"$f":"IF('入力シート(総体)'!$H263=\"\",\"\",TEXT('入力シート(総体)'!$H263,\"00\"))","v":""},null,{"$f":"IF('入力シート(総体)'!$H264=\"\",\"\",TEXT('入力シート(総体)'!$H264,\"00\"))","v":""},null,{"$f":"IF('入力シート(総体)'!$H265=\"\",\"\",TEXT('入力シート(総体)'!$H265,\"00\"))","v":""},null,{"$f":"IF('入力シート(総体)'!$H266=\"\",\"\",TEXT('入力シート(総体)'!$H266,\"00\"))","v":""}]
[{"$f":"IF('入力シート(総体)'!$H262=\"\",\"\",大会コード)","v":""},{"$f":"IF('入力シート(総体)'!$H262=\"\",\"\",IF('入力シート(総体)'!$B262=\"男\",0,1))","v":""},{"$f":"IF('入力シート(総体)'!$H262=\"\",\"\",'入力シート(総体)'!C262)","v":""},{"$f":"IF('入力シート(総体)'!$H262=\"\",\"\",TEXT('入力シート(総体)'!$E262,\"000\"))","v":""},null,null,{"$f":"IF('入力シート(総体)'!$H262=\"\",\"\",学校番号)","v":""},{"$f":"IF('入力シート(総体)'!$H262=\"\",\"\",'入力シート(総体)'!$K262)","v":""},{"$nulls":3},{"$f":"IF('入力シート(総体)'!$H262=\"\",\"\",TEXT('入力シート(総体)'!$H262,\"00\"))","v":""},null,{"$f":"IF('入力シート(総体)'!$H263=\"\",\"\",TEXT('入力シート(総体)'!$H263,\"00\"))","v":""},null,{"$f":"IF('入力シート(総体)'!$H264=\"\",\"\",TEXT('入力シート(総体)'!$H264,\"00\"))","v":""},null,{"$f":"IF('入力シート(総体)'!$H265=\"\",\"\",TEXT('入力シート(総体)'!$H265,\"00\"))","v":""},null,{"$f":"IF('入力シート(総体)'!$H266=\"\",\"\",TEXT('入力シート(総体)'!$H266,\"00\"))","v":""},null,{"$f":"IF('入力シート(総体)'!$H267=\"\",\"\",TEXT('入力シート(総体)'!$H267,\"00\"))","v":""}]
[{"$f":"IF('入力シート(総体)'!$H263=\"\",\"\",大会コード)","v":""},{"$f":"IF('入力シート(総体)'!$H263=\"\",\"\",IF('入力シート(総体)'!$B263=\"男\",0,1))","v":""},{"$f":"IF('入力シート(総体)'!$H263=\"\",\"\",'入力シート(総体)'!C263)","v":""},{"$f":"IF('入力シート(総体)'!$H263=\"\",\"\",TEXT('入力シート(総体)'!$E263,\"000\"))","v":""},null,null,{"$f":"IF('入力シート(総体)'!$H263=\"\",\"\",学校番号)","v":""},{"$f":"IF('入力シート(総体)'!$H263=\"\",\"\",'入力シート(総体)'!$K263)","v":""},{"$nulls":3},{"$f":"IF('入力シート(総体)'!$H263=\"\",\"\",TEXT('入力シート(総体)'!$H263,\"00\"))","v":""},null,{"$f":"IF('入力シート(総体)'!$H264=\"\",\"\",TEXT('入力シート(総体)'!$H264,\"00\"))","v":""},null,{"$f":"IF('入力シート(総体)'!$H265=\"\",\"\",TEXT('入力シート(総体)'!$H265,\"00\"))","v":""},null,{"$f":"IF('入力シート(総体)'!$H266=\"\",\"\",TEXT('入力シート(総体)'!$H266,\"00\"))","v":""},null,{"$f":"IF('入力シート(総体)'!$H267=\"\",\"\",TEXT('入力シート(総体)'!$H267,\"00\"))","v":""},null,{"$f":"IF('入力シート(総体)'!$H268=\"\",\"\",TEXT('入力シート(総体)'!$H268,\"00\"))","v":""}]
[{"$f":"IF('入力シート(総体)'!$H264=\"\",\"\",大会コード)","v":""},{"$f":"IF('入力シート(総体)'!$H264=\"\",\"\",IF('入力シート(総体)'!$B264=\"男\",0,1))","v":""},{"$f":"IF('入力シート(総体)'!$H264=\"\",\"\",'入力シート(総体)'!C264)","v":""},{"$f":"IF('入力シート(総体)'!$H264=\"\",\"\",TEXT('入力シート(総体)'!$E264,\"000\"))","v":""},null,null,{"$f":"IF('入力シート(総体)'!$H264=\"\",\"\",学校番号)","v":""},{"$f":"IF('入力シート(総体)'!$H264=\"\",\"\",'入力シート(総体)'!$K264)","v":""},{"$nulls":3},{"$f":"IF('入力シート(総体)'!$H264=\"\",\"\",TEXT('入力シート(総体)'!$H264,\"00\"))","v":""},null,{"$f":"IF('入力シート(総体)'!$H265=\"\",\"\",TEXT('入力シート(総体)'!$H265,\"00\"))","v":""},null,{"$f":"IF('入力シート(総体)'!$H266=\"\",\"\",TEXT('入力シート(総体)'!$H266,\"00\"))","v":""},null,{"$f":"IF('入力シート(総体)'!$H267=\"\",\"\",TEXT('入力シート(総体)'!$H267,\"00\"))","v":""},null,{"$f":"IF('入力シート(総体)'!$H268=\"\",\"\",TEXT('入力シート(総体)'!$H268,\"00\"))","v":""},null,{"$f":"IF('入力シート(総体)'!$H269=\"\",\"\",TEXT('入力シート(総体)'!$H269,\"00\"))","v":""}]
[{"$f":"IF('入力シート(総体)'!$H265=\"\",\"\",大会コード)","v":""},{"$f":"IF('入力シート(総体)'!$H265=\"\",\"\",IF('入力シート(総体)'!$B265=\"男\",0,1))","v":""},{"$f":"IF('入力シート(総体)'!$H265=\"\",\"\",'入力シート(総体)'!C265)","v":""},{"$f":"IF('入力シート(総体)'!$H265=\"\",\"\",TEXT('入力シート(総体)'!$E265,\"000\"))","v":""},null,null,{"$f":"IF('入力シート(総体)'!$H265=\"\",\"\",学校番号)","v":""},{"$f":"IF('入力シート(総体)'!$H265=\"\",\"\",'入力シート(総体)'!$K265)","v":""},{"$nulls":3},{"$f":"IF('入力シート(総体)'!$H265=\"\",\"\",TEXT('入力シート(総体)'!$H265,\"00\"))","v":""},null,{"$f":"IF('入力シート(総体)'!$H266=\"\",\"\",TEXT('入力シート(総体)'!$H266,\"00\"))","v":""},null,{"$f":"IF('入力シート(総体)'!$H267=\"\",\"\",TEXT('入力シート(総体)'!$H267,\"00\"))","v":""},null,{"$f":"IF('入力シート(総体)'!$H268=\"\",\"\",TEXT('入力シート(総体)'!$H268,\"00\"))","v":""},null,{"$f":"IF('入力シート(総体)'!$H269=\"\",\"\",TEXT('入力シート(総体)'!$H269,\"00\"))","v":""},null,{"$f":"IF('入力シート(総体)'!$H270=\"\",\"\",TEXT('入力シート(総体)'!$H270,\"00\"))","v":""}]
[{"$f":"IF('入力シート(総体)'!$H266=\"\",\"\",大会コード)","v":""},{"$f":"IF('入力シート(総体)'!$H266=\"\",\"\",IF('入力シート(総体)'!$B266=\"男\",0,1))","v":""},{"$f":"IF('入力シート(総体)'!$H266=\"\",\"\",'入力シート(総体)'!C266)","v":""},{"$f":"IF('入力シート(総体)'!$H266=\"\",\"\",TEXT('入力シート(総体)'!$E266,\"000\"))","v":""},null,null,{"$f":"IF('入力シート(総体)'!$H266=\"\",\"\",学校番号)","v":""},{"$f":"IF('入力シート(総体)'!$H266=\"\",\"\",'入力シート(総体)'!$K266)","v":""},{"$nulls":3},{"$f":"IF('入力シート(総体)'!$H266=\"\",\"\",TEXT('入力シート(総体)'!$H266,\"00\"))","v":""},null,{"$f":"IF('入力シート(総体)'!$H267=\"\",\"\",TEXT('入力シート(総体)'!$H267,\"00\"))","v":""},null,{"$f":"IF('入力シート(総体)'!$H268=\"\",\"\",TEXT('入力シート(総体)'!$H268,\"00\"))","v":""},null,{"$f":"IF('入力シート(総体)'!$H269=\"\",\"\",TEXT('入力シート(総体)'!$H269,\"00\"))","v":""},null,{"$f":"IF('入力シート(総体)'!$H270=\"\",\"\",TEXT('入力シート(総体)'!$H270,\"00\"))","v":""},null,{"$f":"IF('入力シート(総体)'!$H271=\"\",\"\",TEXT('入力シート(総体)'!$H271,\"00\"))","v":""}]
[{"$f":"IF('入力シート(総体)'!$H267=\"\",\"\",大会コード)","v":""},{"$f":"IF('入力シート(総体)'!$H267=\"\",\"\",IF('入力シート(総体)'!$B267=\"男\",0,1))","v":""},{"$f":"IF('入力シート(総体)'!$H267=\"\",\"\",'入力シート(総体)'!C267)","v":""},{"$f":"IF('入力シート(総体)'!$H267=\"\",\"\",TEXT('入力シート(総体)'!$E267,\"000\"))","v":""},null,null,{"$f":"IF('入力シート(総体)'!$H267=\"\",\"\",学校番号)","v":""},{"$f":"IF('入力シート(総体)'!$H267=\"\",\"\",'入力シート(総体)'!$K267)","v":""},{"$nulls":3},{"$f":"IF('入力シート(総体)'!$H267=\"\",\"\",TEXT('入力シート(総体)'!$H267,\"00\"))","v":""},null,{"$f":"IF('入力シート(総体)'!$H268=\"\",\"\",TEXT('入力シート(総体)'!$H268,\"00\"))","v":""},null,{"$f":"IF('入力シート(総体)'!$H269=\"\",\"\",TEXT('入力シート(総体)'!$H269,\"00\"))","v":""},null,{"$f":"IF('入力シート(総体)'!$H270=\"\",\"\",TEXT('入力シート(総体)'!$H270,\"00\"))","v":""},null,{"$f":"IF('入力シート(総体)'!$H271=\"\",\"\",TEXT('入力シート(総体)'!$H271,\"00\"))","v":""},null,{"$f":"IF('入力シート(総体)'!$H272=\"\",\"\",TEXT('入力シート(総体)'!$H272,\"00\"))","v":""}]
[{"$f":"IF('入力シート(総体)'!$H268=\"\",\"\",大会コード)","v":""},{"$f":"IF('入力シート(総体)'!$H268=\"\",\"\",IF('入力シート(総体)'!$B268=\"男\",0,1))","v":""},{"$f":"IF('入力シート(総体)'!$H268=\"\",\"\",'入力シート(総体)'!C268)","v":""},{"$f":"IF('入力シート(総体)'!$H268=\"\",\"\",TEXT('入力シート(総体)'!$E268,\"000\"))","v":""},null,null,{"$f":"IF('入力シート(総体)'!$H268=\"\",\"\",学校番号)","v":""},{"$f":"IF('入力シート(総体)'!$H268=\"\",\"\",'入力シート(総体)'!$K268)","v":""},{"$nulls":3},{"$f":"IF('入力シート(総体)'!$H268=\"\",\"\",TEXT('入力シート(総体)'!$H268,\"00\"))","v":""},null,{"$f":"IF('入力シート(総体)'!$H269=\"\",\"\",TEXT('入力シート(総体)'!$H269,\"00\"))","v":""},null,{"$f":"IF('入力シート(総体)'!$H270=\"\",\"\",TEXT('入力シート(総体)'!$H270,\"00\"))","v":""},null,{"$f":"IF('入力シート(総体)'!$H271=\"\",\"\",TEXT('入力シート(総体)'!$H271,\"00\"))","v":""},null,{"$f":"IF('入力シート(総体)'!$H272=\"\",\"\",TEXT('入力シート(総体)'!$H272,\"00\"))","v":""},null,{"$f":"IF('入力シート(総体)'!$H273=\"\",\"\",TEXT('入力シート(総体)'!$H273,\"00\"))","v":""}]
[{"$f":"IF('入力シート(総体)'!$H269=\"\",\"\",大会コード)","v":""},{"$f":"IF('入力シート(総体)'!$H269=\"\",\"\",IF('入力シート(総体)'!$B269=\"男\",0,1))","v":""},{"$f":"IF('入力シート(総体)'!$H269=\"\",\"\",'入力シート(総体)'!C269)","v":""},{"$f":"IF('入力シート(総体)'!$H269=\"\",\"\",TEXT('入力シート(総体)'!$E269,\"000\"))","v":""},null,null,{"$f":"IF('入力シート(総体)'!$H269=\"\",\"\",学校番号)","v":""},{"$f":"IF('入力シート(総体)'!$H269=\"\",\"\",'入力シート(総体)'!$K269)","v":""},{"$nulls":3},{"$f":"IF('入力シート(総体)'!$H269=\"\",\"\",TEXT('入力シート(総体)'!$H269,\"00\"))","v":""},null,{"$f":"IF('入力シート(総体)'!$H270=\"\",\"\",TEXT('入力シート(総体)'!$H270,\"00\"))","v":""},null,{"$f":"IF('入力シート(総体)'!$H271=\"\",\"\",TEXT('入力シート(総体)'!$H271,\"00\"))","v":""},null,{"$f":"IF('入力シート(総体)'!$H272=\"\",\"\",TEXT('入力シート(総体)'!$H272,\"00\"))","v":""},null,{"$f":"IF('入力シート(総体)'!$H273=\"\",\"\",TEXT('入力シート(総体)'!$H273,\"00\"))","v":""},null,{"$f":"IF('入力シート(総体)'!$H274=\"\",\"\",TEXT('入力シート(総体)'!$H274,\"00\"))","v":""}]
[{"$f":"IF('入力シート(総体)'!$H270=\"\",\"\",大会コード)","v":""},{"$f":"IF('入力シート(総体)'!$H270=\"\",\"\",IF('入力シート(総体)'!$B270=\"男\",0,1))","v":""},{"$f":"IF('入力シート(総体)'!$H270=\"\",\"\",'入力シート(総体)'!C270)","v":""},{"$f":"IF('入力シート(総体)'!$H270=\"\",\"\",TEXT('入力シート(総体)'!$E270,\"000\"))","v":""},null,null,{"$f":"IF('入力シート(総体)'!$H270=\"\",\"\",学校番号)","v":""},{"$f":"IF('入力シート(総体)'!$H270=\"\",\"\",'入力シート(総体)'!$K270)","v":""},{"$nulls":3},{"$f":"IF('入力シート(総体)'!$H270=\"\",\"\",TEXT('入力シート(総体)'!$H270,\"00\"))","v":""},null,{"$f":"IF('入力シート(総体)'!$H271=\"\",\"\",TEXT('入力シート(総体)'!$H271,\"00\"))","v":""},null,{"$f":"IF('入力シート(総体)'!$H272=\"\",\"\",TEXT('入力シート(総体)'!$H272,\"00\"))","v":""},null,{"$f":"IF('入力シート(総体)'!$H273=\"\",\"\",TEXT('入力シート(総体)'!$H273,\"00\"))","v":""},null,{"$f":"IF('入力シート(総体)'!$H274=\"\",\"\",TEXT('入力シート(総体)'!$H274,\"00\"))","v":""},null,{"$f":"IF('入力シート(総体)'!$H275=\"\",\"\",TEXT('入力シート(総体)'!$H275,\"00\"))","v":""}]
[{"$f":"IF('入力シート(総体)'!$H271=\"\",\"\",大会コード)","v":""},{"$f":"IF('入力シート(総体)'!$H271=\"\",\"\",IF('入力シート(総体)'!$B271=\"男\",0,1))","v":""},{"$f":"IF('入力シート(総体)'!$H271=\"\",\"\",'入力シート(総体)'!C271)","v":""},{"$f":"IF('入力シート(総体)'!$H271=\"\",\"\",TEXT('入力シート(総体)'!$E271,\"000\"))","v":""},null,null,{"$f":"IF('入力シート(総体)'!$H271=\"\",\"\",学校番号)","v":""},{"$f":"IF('入力シート(総体)'!$H271=\"\",\"\",'入力シート(総体)'!$K271)","v":""},{"$nulls":3},{"$f":"IF('入力シート(総体)'!$H271=\"\",\"\",TEXT('入力シート(総体)'!$H271,\"00\"))","v":""},null,{"$f":"IF('入力シート(総体)'!$H272=\"\",\"\",TEXT('入力シート(総体)'!$H272,\"00\"))","v":""},null,{"$f":"IF('入力シート(総体)'!$H273=\"\",\"\",TEXT('入力シート(総体)'!$H273,\"00\"))","v":""},null,{"$f":"IF('入力シート(総体)'!$H274=\"\",\"\",TEXT('入力シート(総体)'!$H274,\"00\"))","v":""},null,{"$f":"IF('入力シート(総体)'!$H275=\"\",\"\",TEXT('入力シート(総体)'!$H275,\"00\"))","v":""},null,{"$f":"IF('入力シート(総体)'!$H276=\"\",\"\",TEXT('入力シート(総体)'!$H276,\"00\"))","v":""}]
[{"$f":"IF('入力シート(総体)'!$H272=\"\",\"\",大会コード)","v":""},{"$f":"IF('入力シート(総体)'!$H272=\"\",\"\",IF('入力シート(総体)'!$B272=\"男\",0,1))","v":""},{"$f":"IF('入力シート(総体)'!$H272=\"\",\"\",'入力シート(総体)'!C272)","v":""},{"$f":"IF('入力シート(総体)'!$H272=\"\",\"\",TEXT('入力シート(総体)'!$E272,\"000\"))","v":""},null,null,{"$f":"IF('入力シート(総体)'!$H272=\"\",\"\",学校番号)","v":""},{"$f":"IF('入力シート(総体)'!$H272=\"\",\"\",'入力シート(総体)'!$K272)","v":""},{"$nulls":3},{"$f":"IF('入力シート(総体)'!$H272=\"\",\"\",TEXT('入力シート(総体)'!$H272,\"00\"))","v":""},null,{"$f":"IF('入力シート(総体)'!$H273=\"\",\"\",TEXT('入力シート(総体)'!$H273,\"00\"))","v":""},null,{"$f":"IF('入力シート(総体)'!$H274=\"\",\"\",TEXT('入力シート(総体)'!$H274,\"00\"))","v":""},null,{"$f":"IF('入力シート(総体)'!$H275=\"\",\"\",TEXT('入力シート(総体)'!$H275,\"00\"))","v":""},null,{"$f":"IF('入力シート(総体)'!$H276=\"\",\"\",TEXT('入力シート(総体)'!$H276,\"00\"))","v":""},null,{"$f":"IF('入力シート(総体)'!$H277=\"\",\"\",TEXT('入力シート(総体)'!$H277,\"00\"))","v":""}]
[{"$f":"IF('入力シート(総体)'!$H273=\"\",\"\",大会コード)","v":""},{"$f":"IF('入力シート(総体)'!$H273=\"\",\"\",IF('入力シート(総体)'!$B273=\"男\",0,1))","v":""},{"$f":"IF('入力シート(総体)'!$H273=\"\",\"\",'入力シート(総体)'!C273)","v":""},{"$f":"IF('入力シート(総体)'!$H273=\"\",\"\",TEXT('入力シート(総体)'!$E273,\"000\"))","v":""},null,null,{"$f":"IF('入力シート(総体)'!$H273=\"\",\"\",学校番号)","v":""},{"$f":"IF('入力シート(総体)'!$H273=\"\",\"\",'入力シート(総体)'!$K273)","v":""},{"$nulls":3},{"$f":"IF('入力シート(総体)'!$H273=\"\",\"\",TEXT('入力シート(総体)'!$H273,\"00\"))","v":""},null,{"$f":"IF('入力シート(総体)'!$H274=\"\",\"\",TEXT('入力シート(総体)'!$H274,\"00\"))","v":""},null,{"$f":"IF('入力シート(総体)'!$H275=\"\",\"\",TEXT('入力シート(総体)'!$H275,\"00\"))","v":""},null,{"$f":"IF('入力シート(総体)'!$H276=\"\",\"\",TEXT('入力シート(総体)'!$H276,\"00\"))","v":""},null,{"$f":"IF('入力シート(総体)'!$H277=\"\",\"\",TEXT('入力シート(総体)'!$H277,\"00\"))","v":""},null,{"$f":"IF('入力シート(総体)'!$H278=\"\",\"\",TEXT('入力シート(総体)'!$H278,\"00\"))","v":""}]
[{"$f":"IF('入力シート(総体)'!$H274=\"\",\"\",大会コード)","v":""},{"$f":"IF('入力シート(総体)'!$H274=\"\",\"\",IF('入力シート(総体)'!$B274=\"男\",0,1))","v":""},{"$f":"IF('入力シート(総体)'!$H274=\"\",\"\",'入力シート(総体)'!C274)","v":""},{"$f":"IF('入力シート(総体)'!$H274=\"\",\"\",TEXT('入力シート(総体)'!$E274,\"000\"))","v":""},null,null,{"$f":"IF('入力シート(総体)'!$H274=\"\",\"\",学校番号)","v":""},{"$f":"IF('入力シート(総体)'!$H274=\"\",\"\",'入力シート(総体)'!$K274)","v":""},{"$nulls":3},{"$f":"IF('入力シート(総体)'!$H274=\"\",\"\",TEXT('入力シート(総体)'!$H274,\"00\"))","v":""},null,{"$f":"IF('入力シート(総体)'!$H275=\"\",\"\",TEXT('入力シート(総体)'!$H275,\"00\"))","v":""},null,{"$f":"IF('入力シート(総体)'!$H276=\"\",\"\",TEXT('入力シート(総体)'!$H276,\"00\"))","v":""},null,{"$f":"IF('入力シート(総体)'!$H277=\"\",\"\",TEXT('入力シート(総体)'!$H277,\"00\"))","v":""},null,{"$f":"IF('入力シート(総体)'!$H278=\"\",\"\",TEXT('入力シート(総体)'!$H278,\"00\"))","v":""},null,{"$f":"IF('入力シート(総体)'!$H279=\"\",\"\",TEXT('入力シート(総体)'!$H279,\"00\"))","v":""}]
[{"$f":"IF('入力シート(総体)'!$H275=\"\",\"\",大会コード)","v":""},{"$f":"IF('入力シート(総体)'!$H275=\"\",\"\",IF('入力シート(総体)'!$B275=\"男\",0,1))","v":""},{"$f":"IF('入力シート(総体)'!$H275=\"\",\"\",'入力シート(総体)'!C275)","v":""},{"$f":"IF('入力シート(総体)'!$H275=\"\",\"\",TEXT('入力シート(総体)'!$E275,\"000\"))","v":""},null,null,{"$f":"IF('入力シート(総体)'!$H275=\"\",\"\",学校番号)","v":""},{"$f":"IF('入力シート(総体)'!$H275=\"\",\"\",'入力シート(総体)'!$K275)","v":""},{"$nulls":3},{"$f":"IF('入力シート(総体)'!$H275=\"\",\"\",TEXT('入力シート(総体)'!$H275,\"00\"))","v":""},null,{"$f":"IF('入力シート(総体)'!$H276=\"\",\"\",TEXT('入力シート(総体)'!$H276,\"00\"))","v":""},null,{"$f":"IF('入力シート(総体)'!$H277=\"\",\"\",TEXT('入力シート(総体)'!$H277,\"00\"))","v":""},null,{"$f":"IF('入力シート(総体)'!$H278=\"\",\"\",TEXT('入力シート(総体)'!$H278,\"00\"))","v":""},null,{"$f":"IF('入力シート(総体)'!$H279=\"\",\"\",TEXT('入力シート(総体)'!$H279,\"00\"))","v":""},null,{"$f":"IF('入力シート(総体)'!$H280=\"\",\"\",TEXT('入力シート(総体)'!$H280,\"00\"))","v":""}]
[{"$f":"IF('入力シート(総体)'!$H276=\"\",\"\",大会コード)","v":""},{"$f":"IF('入力シート(総体)'!$H276=\"\",\"\",IF('入力シート(総体)'!$B276=\"男\",0,1))","v":""},{"$f":"IF('入力シート(総体)'!$H276=\"\",\"\",'入力シート(総体)'!C276)","v":""},{"$f":"IF('入力シート(総体)'!$H276=\"\",\"\",TEXT('入力シート(総体)'!$E276,\"000\"))","v":""},null,null,{"$f":"IF('入力シート(総体)'!$H276=\"\",\"\",学校番号)","v":""},{"$f":"IF('入力シート(総体)'!$H276=\"\",\"\",'入力シート(総体)'!$K276)","v":""},{"$nulls":3},{"$f":"IF('入力シート(総体)'!$H276=\"\",\"\",TEXT('入力シート(総体)'!$H276,\"00\"))","v":""},null,{"$f":"IF('入力シート(総体)'!$H277=\"\",\"\",TEXT('入力シート(総体)'!$H277,\"00\"))","v":""},null,{"$f":"IF('入力シート(総体)'!$H278=\"\",\"\",TEXT('入力シート(総体)'!$H278,\"00\"))","v":""},null,{"$f":"IF('入力シート(総体)'!$H279=\"\",\"\",TEXT('入力シート(総体)'!$H279,\"00\"))","v":""},null,{"$f":"IF('入力シート(総体)'!$H280=\"\",\"\",TEXT('入力シート(総体)'!$H280,\"00\"))","v":""},null,{"$f":"IF('入力シート(総体)'!$H281=\"\",\"\",TEXT('入力シート(総体)'!$H281,\"00\"))","v":""}]
[{"$f":"IF('入力シート(総体)'!$H277=\"\",\"\",大会コード)","v":""},{"$f":"IF('入力シート(総体)'!$H277=\"\",\"\",IF('入力シート(総体)'!$B277=\"男\",0,1))","v":""},{"$f":"IF('入力シート(総体)'!$H277=\"\",\"\",'入力シート(総体)'!C277)","v":""},{"$f":"IF('入力シート(総体)'!$H277=\"\",\"\",TEXT('入力シート(総体)'!$E277,\"000\"))","v":""},null,null,{"$f":"IF('入力シート(総体)'!$H277=\"\",\"\",学校番号)","v":""},{"$f":"IF('入力シート(総体)'!$H277=\"\",\"\",'入力シート(総体)'!$K277)","v":""},{"$nulls":3},{"$f":"IF('入力シート(総体)'!$H277=\"\",\"\",TEXT('入力シート(総体)'!$H277,\"00\"))","v":""},null,{"$f":"IF('入力シート(総体)'!$H278=\"\",\"\",TEXT('入力シート(総体)'!$H278,\"00\"))","v":""},null,{"$f":"IF('入力シート(総体)'!$H279=\"\",\"\",TEXT('入力シート(総体)'!$H279,\"00\"))","v":""},null,{"$f":"IF('入力シート(総体)'!$H280=\"\",\"\",TEXT('入力シート(総体)'!$H280,\"00\"))","v":""},null,{"$f":"IF('入力シート(総体)'!$H281=\"\",\"\",TEXT('入力シート(総体)'!$H281,\"00\"))","v":""},null,{"$f":"IF('入力シート(総体)'!$H282=\"\",\"\",TEXT('入力シート(総体)'!$H282,\"00\"))","v":""}]
[{"$f":"IF('入力シート(総体)'!$H278=\"\",\"\",大会コード)","v":""},{"$f":"IF('入力シート(総体)'!$H278=\"\",\"\",IF('入力シート(総体)'!$B278=\"男\",0,1))","v":""},{"$f":"IF('入力シート(総体)'!$H278=\"\",\"\",'入力シート(総体)'!C278)","v":""},{"$f":"IF('入力シート(総体)'!$H278=\"\",\"\",TEXT('入力シート(総体)'!$E278,\"000\"))","v":""},null,null,{"$f":"IF('入力シート(総体)'!$H278=\"\",\"\",学校番号)","v":""},{"$f":"IF('入力シート(総体)'!$H278=\"\",\"\",'入力シート(総体)'!$K278)","v":""},{"$nulls":3},{"$f":"IF('入力シート(総体)'!$H278=\"\",\"\",TEXT('入力シート(総体)'!$H278,\"00\"))","v":""},null,{"$f":"IF('入力シート(総体)'!$H279=\"\",\"\",TEXT('入力シート(総体)'!$H279,\"00\"))","v":""},null,{"$f":"IF('入力シート(総体)'!$H280=\"\",\"\",TEXT('入力シート(総体)'!$H280,\"00\"))","v":""},null,{"$f":"IF('入力シート(総体)'!$H281=\"\",\"\",TEXT('入力シート(総体)'!$H281,\"00\"))","v":""},null,{"$f":"IF('入力シート(総体)'!$H282=\"\",\"\",TEXT('入力シート(総体)'!$H282,\"00\"))","v":""},null,{"$f":"IF('入力シート(総体)'!$H283=\"\",\"\",TEXT('入力シート(総体)'!$H283,\"00\"))","v":""}]
[{"$f":"IF('入力シート(総体)'!$H279=\"\",\"\",大会コード)","v":""},{"$f":"IF('入力シート(総体)'!$H279=\"\",\"\",IF('入力シート(総体)'!$B279=\"男\",0,1))","v":""},{"$f":"IF('入力シート(総体)'!$H279=\"\",\"\",'入力シート(総体)'!C279)","v":""},{"$f":"IF('入力シート(総体)'!$H279=\"\",\"\",TEXT('入力シート(総体)'!$E279,\"000\"))","v":""},null,null,{"$f":"IF('入力シート(総体)'!$H279=\"\",\"\",学校番号)","v":""},{"$f":"IF('入力シート(総体)'!$H279=\"\",\"\",'入力シート(総体)'!$K279)","v":""},{"$nulls":3},{"$f":"IF('入力シート(総体)'!$H279=\"\",\"\",TEXT('入力シート(総体)'!$H279,\"00\"))","v":""},null,{"$f":"IF('入力シート(総体)'!$H280=\"\",\"\",TEXT('入力シート(総体)'!$H280,\"00\"))","v":""},null,{"$f":"IF('入力シート(総体)'!$H281=\"\",\"\",TEXT('入力シート(総体)'!$H281,\"00\"))","v":""},null,{"$f":"IF('入力シート(総体)'!$H282=\"\",\"\",TEXT('入力シート(総体)'!$H282,\"00\"))","v":""},null,{"$f":"IF('入力シート(総体)'!$H283=\"\",\"\",TEXT('入力シート(総体)'!$H283,\"00\"))","v":""},null,{"$f":"IF('入力シート(総体)'!$H284=\"\",\"\",TEXT('入力シート(総体)'!$H284,\"00\"))","v":""}]
[{"$f":"IF('入力シート(総体)'!$H280=\"\",\"\",大会コード)","v":""},{"$f":"IF('入力シート(総体)'!$H280=\"\",\"\",IF('入力シート(総体)'!$B280=\"男\",0,1))","v":""},{"$f":"IF('入力シート(総体)'!$H280=\"\",\"\",'入力シート(総体)'!C280)","v":""},{"$f":"IF('入力シート(総体)'!$H280=\"\",\"\",TEXT('入力シート(総体)'!$E280,\"000\"))","v":""},null,null,{"$f":"IF('入力シート(総体)'!$H280=\"\",\"\",学校番号)","v":""},{"$f":"IF('入力シート(総体)'!$H280=\"\",\"\",'入力シート(総体)'!$K280)","v":""},{"$nulls":3},{"$f":"IF('入力シート(総体)'!$H280=\"\",\"\",TEXT('入力シート(総体)'!$H280,\"00\"))","v":""},null,{"$f":"IF('入力シート(総体)'!$H281=\"\",\"\",TEXT('入力シート(総体)'!$H281,\"00\"))","v":""},null,{"$f":"IF('入力シート(総体)'!$H282=\"\",\"\",TEXT('入力シート(総体)'!$H282,\"00\"))","v":""},null,{"$f":"IF('入力シート(総体)'!$H283=\"\",\"\",TEXT('入力シート(総体)'!$H283,\"00\"))","v":""},null,{"$f":"IF('入力シート(総体)'!$H284=\"\",\"\",TEXT('入力シート(総体)'!$H284,\"00\"))","v":""},null,{"$f":"IF('入力シート(総体)'!$H285=\"\",\"\",TEXT('入力シート(総体)'!$H285,\"00\"))","v":""}]
[{"$f":"IF('入力シート(総体)'!$H281=\"\",\"\",大会コード)","v":""},{"$f":"IF('入力シート(総体)'!$H281=\"\",\"\",IF('入力シート(総体)'!$B281=\"男\",0,1))","v":""},{"$f":"IF('入力シート(総体)'!$H281=\"\",\"\",'入力シート(総体)'!C281)","v":""},{"$f":"IF('入力シート(総体)'!$H281=\"\",\"\",TEXT('入力シート(総体)'!$E281,\"000\"))","v":""},null,null,{"$f":"IF('入力シート(総体)'!$H281=\"\",\"\",学校番号)","v":""},{"$f":"IF('入力シート(総体)'!$H281=\"\",\"\",'入力シート(総体)'!$K281)","v":""},{"$nulls":3},{"$f":"IF('入力シート(総体)'!$H281=\"\",\"\",TEXT('入力シート(総体)'!$H281,\"00\"))","v":""},null,{"$f":"IF('入力シート(総体)'!$H282=\"\",\"\",TEXT('入力シート(総体)'!$H282,\"00\"))","v":""},null,{"$f":"IF('入力シート(総体)'!$H283=\"\",\"\",TEXT('入力シート(総体)'!$H283,\"00\"))","v":""},null,{"$f":"IF('入力シート(総体)'!$H284=\"\",\"\",TEXT('入力シート(総体)'!$H284,\"00\"))","v":""},null,{"$f":"IF('入力シート(総体)'!$H285=\"\",\"\",TEXT('入力シート(総体)'!$H285,\"00\"))","v":""},null,{"$f":"IF('入力シート(総体)'!$H286=\"\",\"\",TEXT('入力シート(総体)'!$H286,\"00\"))","v":""}]
[{"$f":"IF('入力シート(総体)'!$H282=\"\",\"\",大会コード)","v":""},{"$f":"IF('入力シート(総体)'!$H282=\"\",\"\",IF('入力シート(総体)'!$B282=\"男\",0,1))","v":""},{"$f":"IF('入力シート(総体)'!$H282=\"\",\"\",'入力シート(総体)'!C282)","v":""},{"$f":"IF('入力シート(総体)'!$H282=\"\",\"\",TEXT('入力シート(総体)'!$E282,\"000\"))","v":""},null,null,{"$f":"IF('入力シート(総体)'!$H282=\"\",\"\",学校番号)","v":""},{"$f":"IF('入力シート(総体)'!$H282=\"\",\"\",'入力シート(総体)'!$K282)","v":""},{"$nulls":3},{"$f":"IF('入力シート(総体)'!$H282=\"\",\"\",TEXT('入力シート(総体)'!$H282,\"00\"))","v":""},null,{"$f":"IF('入力シート(総体)'!$H283=\"\",\"\",TEXT('入力シート(総体)'!$H283,\"00\"))","v":""},null,{"$f":"IF('入力シート(総体)'!$H284=\"\",\"\",TEXT('入力シート(総体)'!$H284,\"00\"))","v":""},null,{"$f":"IF('入力シート(総体)'!$H285=\"\",\"\",TEXT('入力シート(総体)'!$H285,\"00\"))","v":""},null,{"$f":"IF('入力シート(総体)'!$H286=\"\",\"\",TEXT('入力シート(総体)'!$H286,\"00\"))","v":""},null,{"$f":"IF('入力シート(総体)'!$H287=\"\",\"\",TEXT('入力シート(総体)'!$H287,\"00\"))","v":""}]
[{"$f":"IF('入力シート(総体)'!$H283=\"\",\"\",大会コード)","v":""},{"$f":"IF('入力シート(総体)'!$H283=\"\",\"\",IF('入力シート(総体)'!$B283=\"男\",0,1))","v":""},{"$f":"IF('入力シート(総体)'!$H283=\"\",\"\",'入力シート(総体)'!C283)","v":""},{"$f":"IF('入力シート(総体)'!$H283=\"\",\"\",TEXT('入力シート(総体)'!$E283,\"000\"))","v":""},null,null,{"$f":"IF('入力シート(総体)'!$H283=\"\",\"\",学校番号)","v":""},{"$f":"IF('入力シート(総体)'!$H283=\"\",\"\",'入力シート(総体)'!$K283)","v":""},{"$nulls":3},{"$f":"IF('入力シート(総体)'!$H283=\"\",\"\",TEXT('入力シート(総体)'!$H283,\"00\"))","v":""},null,{"$f":"IF('入力シート(総体)'!$H284=\"\",\"\",TEXT('入力シート(総体)'!$H284,\"00\"))","v":""},null,{"$f":"IF('入力シート(総体)'!$H285=\"\",\"\",TEXT('入力シート(総体)'!$H285,\"00\"))","v":""},null,{"$f":"IF('入力シート(総体)'!$H286=\"\",\"\",TEXT('入力シート(総体)'!$H286,\"00\"))","v":""},null,{"$f":"IF('入力シート(総体)'!$H287=\"\",\"\",TEXT('入力シート(総体)'!$H287,\"00\"))","v":""},null,{"$f":"IF('入力シート(総体)'!$H288=\"\",\"\",TEXT('入力シート(総体)'!$H288,\"00\"))","v":""}]
[{"$f":"IF('入力シート(総体)'!$H284=\"\",\"\",大会コード)","v":""},{"$f":"IF('入力シート(総体)'!$H284=\"\",\"\",IF('入力シート(総体)'!$B284=\"男\",0,1))","v":""},{"$f":"IF('入力シート(総体)'!$H284=\"\",\"\",'入力シート(総体)'!C284)","v":""},{"$f":"IF('入力シート(総体)'!$H284=\"\",\"\",TEXT('入力シート(総体)'!$E284,\"000\"))","v":""},null,null,{"$f":"IF('入力シート(総体)'!$H284=\"\",\"\",学校番号)","v":""},{"$f":"IF('入力シート(総体)'!$H284=\"\",\"\",'入力シート(総体)'!$K284)","v":""},{"$nulls":3},{"$f":"IF('入力シート(総体)'!$H284=\"\",\"\",TEXT('入力シート(総体)'!$H284,\"00\"))","v":""},null,{"$f":"IF('入力シート(総体)'!$H285=\"\",\"\",TEXT('入力シート(総体)'!$H285,\"00\"))","v":""},null,{"$f":"IF('入力シート(総体)'!$H286=\"\",\"\",TEXT('入力シート(総体)'!$H286,\"00\"))","v":""},null,{"$f":"IF('入力シート(総体)'!$H287=\"\",\"\",TEXT('入力シート(総体)'!$H287,\"00\"))","v":""},null,{"$f":"IF('入力シート(総体)'!$H288=\"\",\"\",TEXT('入力シート(総体)'!$H288,\"00\"))","v":""},null,{"$f":"IF('入力シート(総体)'!$H289=\"\",\"\",TEXT('入力シート(総体)'!$H289,\"00\"))","v":""}]
[{"$f":"IF('入力シート(総体)'!$H285=\"\",\"\",大会コード)","v":""},{"$f":"IF('入力シート(総体)'!$H285=\"\",\"\",IF('入力シート(総体)'!$B285=\"男\",0,1))","v":""},{"$f":"IF('入力シート(総体)'!$H285=\"\",\"\",'入力シート(総体)'!C285)","v":""},{"$f":"IF('入力シート(総体)'!$H285=\"\",\"\",TEXT('入力シート(総体)'!$E285,\"000\"))","v":""},null,null,{"$f":"IF('入力シート(総体)'!$H285=\"\",\"\",学校番号)","v":""},{"$f":"IF('入力シート(総体)'!$H285=\"\",\"\",'入力シート(総体)'!$K285)","v":""},{"$nulls":3},{"$f":"IF('入力シート(総体)'!$H285=\"\",\"\",TEXT('入力シート(総体)'!$H285,\"00\"))","v":""},null,{"$f":"IF('入力シート(総体)'!$H286=\"\",\"\",TEXT('入力シート(総体)'!$H286,\"00\"))","v":""},null,{"$f":"IF('入力シート(総体)'!$H287=\"\",\"\",TEXT('入力シート(総体)'!$H287,\"00\"))","v":""},null,{"$f":"IF('入力シート(総体)'!$H288=\"\",\"\",TEXT('入力シート(総体)'!$H288,\"00\"))","v":""},null,{"$f":"IF('入力シート(総体)'!$H289=\"\",\"\",TEXT('入力シート(総体)'!$H289,\"00\"))","v":""},null,{"$f":"IF('入力シート(総体)'!$H290=\"\",\"\",TEXT('入力シート(総体)'!$H290,\"00\"))","v":""}]
[{"$f":"IF('入力シート(総体)'!$H286=\"\",\"\",大会コード)","v":""},{"$f":"IF('入力シート(総体)'!$H286=\"\",\"\",IF('入力シート(総体)'!$B286=\"男\",0,1))","v":""},{"$f":"IF('入力シート(総体)'!$H286=\"\",\"\",'入力シート(総体)'!C286)","v":""},{"$f":"IF('入力シート(総体)'!$H286=\"\",\"\",TEXT('入力シート(総体)'!$E286,\"000\"))","v":""},null,null,{"$f":"IF('入力シート(総体)'!$H286=\"\",\"\",学校番号)","v":""},{"$f":"IF('入力シート(総体)'!$H286=\"\",\"\",'入力シート(総体)'!$K286)","v":""},{"$nulls":3},{"$f":"IF('入力シート(総体)'!$H286=\"\",\"\",TEXT('入力シート(総体)'!$H286,\"00\"))","v":""},null,{"$f":"IF('入力シート(総体)'!$H287=\"\",\"\",TEXT('入力シート(総体)'!$H287,\"00\"))","v":""},null,{"$f":"IF('入力シート(総体)'!$H288=\"\",\"\",TEXT('入力シート(総体)'!$H288,\"00\"))","v":""},null,{"$f":"IF('入力シート(総体)'!$H289=\"\",\"\",TEXT('入力シート(総体)'!$H289,\"00\"))","v":""},null,{"$f":"IF('入力シート(総体)'!$H290=\"\",\"\",TEXT('入力シート(総体)'!$H290,\"00\"))","v":""},null,{"$f":"IF('入力シート(総体)'!$H291=\"\",\"\",TEXT('入力シート(総体)'!$H291,\"00\"))","v":""}]
[{"$f":"IF('入力シート(総体)'!$H287=\"\",\"\",大会コード)","v":""},{"$f":"IF('入力シート(総体)'!$H287=\"\",\"\",IF('入力シート(総体)'!$B287=\"男\",0,1))","v":""},{"$f":"IF('入力シート(総体)'!$H287=\"\",\"\",'入力シート(総体)'!C287)","v":""},{"$f":"IF('入力シート(総体)'!$H287=\"\",\"\",TEXT('入力シート(総体)'!$E287,\"000\"))","v":""},null,null,{"$f":"IF('入力シート(総体)'!$H287=\"\",\"\",学校番号)","v":""},{"$f":"IF('入力シート(総体)'!$H287=\"\",\"\",'入力シート(総体)'!$K287)","v":""},{"$nulls":3},{"$f":"IF('入力シート(総体)'!$H287=\"\",\"\",TEXT('入力シート(総体)'!$H287,\"00\"))","v":""},null,{"$f":"IF('入力シート(総体)'!$H288=\"\",\"\",TEXT('入力シート(総体)'!$H288,\"00\"))","v":""},null,{"$f":"IF('入力シート(総体)'!$H289=\"\",\"\",TEXT('入力シート(総体)'!$H289,\"00\"))","v":""},null,{"$f":"IF('入力シート(総体)'!$H290=\"\",\"\",TEXT('入力シート(総体)'!$H290,\"00\"))","v":""},null,{"$f":"IF('入力シート(総体)'!$H291=\"\",\"\",TEXT('入力シート(総体)'!$H291,\"00\"))","v":""},null,{"$f":"IF('入力シート(総体)'!$H292=\"\",\"\",TEXT('入力シート(総体)'!$H292,\"00\"))","v":""}]
[{"$f":"IF('入力シート(総体)'!$H288=\"\",\"\",大会コード)","v":""},{"$f":"IF('入力シート(総体)'!$H288=\"\",\"\",IF('入力シート(総体)'!$B288=\"男\",0,1))","v":""},{"$f":"IF('入力シート(総体)'!$H288=\"\",\"\",'入力シート(総体)'!C288)","v":""},{"$f":"IF('入力シート(総体)'!$H288=\"\",\"\",TEXT('入力シート(総体)'!$E288,\"000\"))","v":""},null,null,{"$f":"IF('入力シート(総体)'!$H288=\"\",\"\",学校番号)","v":""},{"$f":"IF('入力シート(総体)'!$H288=\"\",\"\",'入力シート(総体)'!$K288)","v":""},{"$nulls":3},{"$f":"IF('入力シート(総体)'!$H288=\"\",\"\",TEXT('入力シート(総体)'!$H288,\"00\"))","v":""},null,{"$f":"IF('入力シート(総体)'!$H289=\"\",\"\",TEXT('入力シート(総体)'!$H289,\"00\"))","v":""},null,{"$f":"IF('入力シート(総体)'!$H290=\"\",\"\",TEXT('入力シート(総体)'!$H290,\"00\"))","v":""},null,{"$f":"IF('入力シート(総体)'!$H291=\"\",\"\",TEXT('入力シート(総体)'!$H291,\"00\"))","v":""},null,{"$f":"IF('入力シート(総体)'!$H292=\"\",\"\",TEXT('入力シート(総体)'!$H292,\"00\"))","v":""},null,{"$f":"IF('入力シート(総体)'!$H293=\"\",\"\",TEXT('入力シート(総体)'!$H293,\"00\"))","v":""}]
[{"$f":"IF('入力シート(総体)'!$H289=\"\",\"\",大会コード)","v":""},{"$f":"IF('入力シート(総体)'!$H289=\"\",\"\",IF('入力シート(総体)'!$B289=\"男\",0,1))","v":""},{"$f":"IF('入力シート(総体)'!$H289=\"\",\"\",'入力シート(総体)'!C289)","v":""},{"$f":"IF('入力シート(総体)'!$H289=\"\",\"\",TEXT('入力シート(総体)'!$E289,\"000\"))","v":""},null,null,{"$f":"IF('入力シート(総体)'!$H289=\"\",\"\",学校番号)","v":""},{"$f":"IF('入力シート(総体)'!$H289=\"\",\"\",'入力シート(総体)'!$K289)","v":""},{"$nulls":3},{"$f":"IF('入力シート(総体)'!$H289=\"\",\"\",TEXT('入力シート(総体)'!$H289,\"00\"))","v":""},null,{"$f":"IF('入力シート(総体)'!$H290=\"\",\"\",TEXT('入力シート(総体)'!$H290,\"00\"))","v":""},null,{"$f":"IF('入力シート(総体)'!$H291=\"\",\"\",TEXT('入力シート(総体)'!$H291,\"00\"))","v":""},null,{"$f":"IF('入力シート(総体)'!$H292=\"\",\"\",TEXT('入力シート(総体)'!$H292,\"00\"))","v":""},null,{"$f":"IF('入力シート(総体)'!$H293=\"\",\"\",TEXT('入力シート(総体)'!$H293,\"00\"))","v":""},null,{"$f":"IF('入力シート(総体)'!$H294=\"\",\"\",TEXT('入力シート(総体)'!$H294,\"00\"))","v":""}]
[{"$f":"IF('入力シート(総体)'!$H290=\"\",\"\",大会コード)","v":""},{"$f":"IF('入力シート(総体)'!$H290=\"\",\"\",IF('入力シート(総体)'!$B290=\"男\",0,1))","v":""},{"$f":"IF('入力シート(総体)'!$H290=\"\",\"\",'入力シート(総体)'!C290)","v":""},{"$f":"IF('入力シート(総体)'!$H290=\"\",\"\",TEXT('入力シート(総体)'!$E290,\"000\"))","v":""},null,null,{"$f":"IF('入力シート(総体)'!$H290=\"\",\"\",学校番号)","v":""},{"$f":"IF('入力シート(総体)'!$H290=\"\",\"\",'入力シート(総体)'!$K290)","v":""},{"$nulls":3},{"$f":"IF('入力シート(総体)'!$H290=\"\",\"\",TEXT('入力シート(総体)'!$H290,\"00\"))","v":""},null,{"$f":"IF('入力シート(総体)'!$H291=\"\",\"\",TEXT('入力シート(総体)'!$H291,\"00\"))","v":""},null,{"$f":"IF('入力シート(総体)'!$H292=\"\",\"\",TEXT('入力シート(総体)'!$H292,\"00\"))","v":""},null,{"$f":"IF('入力シート(総体)'!$H293=\"\",\"\",TEXT('入力シート(総体)'!$H293,\"00\"))","v":""},null,{"$f":"IF('入力シート(総体)'!$H294=\"\",\"\",TEXT('入力シート(総体)'!$H294,\"00\"))","v":""},null,{"$f":"IF('入力シート(総体)'!$H295=\"\",\"\",TEXT('入力シート(総体)'!$H295,\"00\"))","v":""}]
[{"$f":"IF('入力シート(総体)'!$H291=\"\",\"\",大会コード)","v":""},{"$f":"IF('入力シート(総体)'!$H291=\"\",\"\",IF('入力シート(総体)'!$B291=\"男\",0,1))","v":""},{"$f":"IF('入力シート(総体)'!$H291=\"\",\"\",'入力シート(総体)'!C291)","v":""},{"$f":"IF('入力シート(総体)'!$H291=\"\",\"\",TEXT('入力シート(総体)'!$E291,\"000\"))","v":""},null,null,{"$f":"IF('入力シート(総体)'!$H291=\"\",\"\",学校番号)","v":""},{"$f":"IF('入力シート(総体)'!$H291=\"\",\"\",'入力シート(総体)'!$K291)","v":""},{"$nulls":3},{"$f":"IF('入力シート(総体)'!$H291=\"\",\"\",TEXT('入力シート(総体)'!$H291,\"00\"))","v":""},null,{"$f":"IF('入力シート(総体)'!$H292=\"\",\"\",TEXT('入力シート(総体)'!$H292,\"00\"))","v":""},null,{"$f":"IF('入力シート(総体)'!$H293=\"\",\"\",TEXT('入力シート(総体)'!$H293,\"00\"))","v":""},null,{"$f":"IF('入力シート(総体)'!$H294=\"\",\"\",TEXT('入力シート(総体)'!$H294,\"00\"))","v":""},null,{"$f":"IF('入力シート(総体)'!$H295=\"\",\"\",TEXT('入力シート(総体)'!$H295,\"00\"))","v":""},null,{"$f":"IF('入力シート(総体)'!$H296=\"\",\"\",TEXT('入力シート(総体)'!$H296,\"00\"))","v":""}]
[{"$f":"IF('入力シート(総体)'!$H292=\"\",\"\",大会コード)","v":""},{"$f":"IF('入力シート(総体)'!$H292=\"\",\"\",IF('入力シート(総体)'!$B292=\"男\",0,1))","v":""},{"$f":"IF('入力シート(総体)'!$H292=\"\",\"\",'入力シート(総体)'!C292)","v":""},{"$f":"IF('入力シート(総体)'!$H292=\"\",\"\",TEXT('入力シート(総体)'!$E292,\"000\"))","v":""},null,null,{"$f":"IF('入力シート(総体)'!$H292=\"\",\"\",学校番号)","v":""},{"$f":"IF('入力シート(総体)'!$H292=\"\",\"\",'入力シート(総体)'!$K292)","v":""},{"$nulls":3},{"$f":"IF('入力シート(総体)'!$H292=\"\",\"\",TEXT('入力シート(総体)'!$H292,\"00\"))","v":""},null,{"$f":"IF('入力シート(総体)'!$H293=\"\",\"\",TEXT('入力シート(総体)'!$H293,\"00\"))","v":""},null,{"$f":"IF('入力シート(総体)'!$H294=\"\",\"\",TEXT('入力シート(総体)'!$H294,\"00\"))","v":""},null,{"$f":"IF('入力シート(総体)'!$H295=\"\",\"\",TEXT('入力シート(総体)'!$H295,\"00\"))","v":""},null,{"$f":"IF('入力シート(総体)'!$H296=\"\",\"\",TEXT('入力シート(総体)'!$H296,\"00\"))","v":""},null,{"$f":"IF('入力シート(総体)'!$H297=\"\",\"\",TEXT('入力シート(総体)'!$H297,\"00\"))","v":""}]
[{"$f":"IF('入力シート(総体)'!$H293=\"\",\"\",大会コード)","v":""},{"$f":"IF('入力シート(総体)'!$H293=\"\",\"\",IF('入力シート(総体)'!$B293=\"男\",0,1))","v":""},{"$f":"IF('入力シート(総体)'!$H293=\"\",\"\",'入力シート(総体)'!C293)","v":""},{"$f":"IF('入力シート(総体)'!$H293=\"\",\"\",TEXT('入力シート(総体)'!$E293,\"000\"))","v":""},null,null,{"$f":"IF('入力シート(総体)'!$H293=\"\",\"\",学校番号)","v":""},{"$f":"IF('入力シート(総体)'!$H293=\"\",\"\",'入力シート(総体)'!$K293)","v":""},{"$nulls":3},{"$f":"IF('入力シート(総体)'!$H293=\"\",\"\",TEXT('入力シート(総体)'!$H293,\"00\"))","v":""},null,{"$f":"IF('入力シート(総体)'!$H294=\"\",\"\",TEXT('入力シート(総体)'!$H294,\"00\"))","v":""},null,{"$f":"IF('入力シート(総体)'!$H295=\"\",\"\",TEXT('入力シート(総体)'!$H295,\"00\"))","v":""},null,{"$f":"IF('入力シート(総体)'!$H296=\"\",\"\",TEXT('入力シート(総体)'!$H296,\"00\"))","v":""},null,{"$f":"IF('入力シート(総体)'!$H297=\"\",\"\",TEXT('入力シート(総体)'!$H297,\"00\"))","v":""},null,{"$f":"IF('入力シート(総体)'!$H298=\"\",\"\",TEXT('入力シート(総体)'!$H298,\"00\"))","v":""}]
[{"$f":"IF('入力シート(総体)'!$H294=\"\",\"\",大会コード)","v":""},{"$f":"IF('入力シート(総体)'!$H294=\"\",\"\",IF('入力シート(総体)'!$B294=\"男\",0,1))","v":""},{"$f":"IF('入力シート(総体)'!$H294=\"\",\"\",'入力シート(総体)'!C294)","v":""},{"$f":"IF('入力シート(総体)'!$H294=\"\",\"\",TEXT('入力シート(総体)'!$E294,\"000\"))","v":""},null,null,{"$f":"IF('入力シート(総体)'!$H294=\"\",\"\",学校番号)","v":""},{"$f":"IF('入力シート(総体)'!$H294=\"\",\"\",'入力シート(総体)'!$K294)","v":""},{"$nulls":3},{"$f":"IF('入力シート(総体)'!$H294=\"\",\"\",TEXT('入力シート(総体)'!$H294,\"00\"))","v":""},null,{"$f":"IF('入力シート(総体)'!$H295=\"\",\"\",TEXT('入力シート(総体)'!$H295,\"00\"))","v":""},null,{"$f":"IF('入力シート(総体)'!$H296=\"\",\"\",TEXT('入力シート(総体)'!$H296,\"00\"))","v":""},null,{"$f":"IF('入力シート(総体)'!$H297=\"\",\"\",TEXT('入力シート(総体)'!$H297,\"00\"))","v":""},null,{"$f":"IF('入力シート(総体)'!$H298=\"\",\"\",TEXT('入力シート(総体)'!$H298,\"00\"))","v":""},null,{"$f":"IF('入力シート(総体)'!$H299=\"\",\"\",TEXT('入力シート(総体)'!$H299,\"00\"))","v":""}]
[{"$f":"IF('入力シート(総体)'!$H295=\"\",\"\",大会コード)","v":""},{"$f":"IF('入力シート(総体)'!$H295=\"\",\"\",IF('入力シート(総体)'!$B295=\"男\",0,1))","v":""},{"$f":"IF('入力シート(総体)'!$H295=\"\",\"\",'入力シート(総体)'!C295)","v":""},{"$f":"IF('入力シート(総体)'!$H295=\"\",\"\",TEXT('入力シート(総体)'!$E295,\"000\"))","v":""},null,null,{"$f":"IF('入力シート(総体)'!$H295=\"\",\"\",学校番号)","v":""},{"$f":"IF('入力シート(総体)'!$H295=\"\",\"\",'入力シート(総体)'!$K295)","v":""},{"$nulls":3},{"$f":"IF('入力シート(総体)'!$H295=\"\",\"\",TEXT('入力シート(総体)'!$H295,\"00\"))","v":""},null,{"$f":"IF('入力シート(総体)'!$H296=\"\",\"\",TEXT('入力シート(総体)'!$H296,\"00\"))","v":""},null,{"$f":"IF('入力シート(総体)'!$H297=\"\",\"\",TEXT('入力シート(総体)'!$H297,\"00\"))","v":""},null,{"$f":"IF('入力シート(総体)'!$H298=\"\",\"\",TEXT('入力シート(総体)'!$H298,\"00\"))","v":""},null,{"$f":"IF('入力シート(総体)'!$H299=\"\",\"\",TEXT('入力シート(総体)'!$H299,\"00\"))","v":""},null,{"$f":"IF('入力シート(総体)'!$H300=\"\",\"\",TEXT('入力シート(総体)'!$H300,\"00\"))","v":""}]
[{"$f":"IF('入力シート(総体)'!$H296=\"\",\"\",大会コード)","v":""},{"$f":"IF('入力シート(総体)'!$H296=\"\",\"\",IF('入力シート(総体)'!$B296=\"男\",0,1))","v":""},{"$f":"IF('入力シート(総体)'!$H296=\"\",\"\",'入力シート(総体)'!C296)","v":""},{"$f":"IF('入力シート(総体)'!$H296=\"\",\"\",TEXT('入力シート(総体)'!$E296,\"000\"))","v":""},null,null,{"$f":"IF('入力シート(総体)'!$H296=\"\",\"\",学校番号)","v":""},{"$f":"IF('入力シート(総体)'!$H296=\"\",\"\",'入力シート(総体)'!$K296)","v":""},{"$nulls":3},{"$f":"IF('入力シート(総体)'!$H296=\"\",\"\",TEXT('入力シート(総体)'!$H296,\"00\"))","v":""},null,{"$f":"IF('入力シート(総体)'!$H297=\"\",\"\",TEXT('入力シート(総体)'!$H297,\"00\"))","v":""},null,{"$f":"IF('入力シート(総体)'!$H298=\"\",\"\",TEXT('入力シート(総体)'!$H298,\"00\"))","v":""},null,{"$f":"IF('入力シート(総体)'!$H299=\"\",\"\",TEXT('入力シート(総体)'!$H299,\"00\"))","v":""},null,{"$f":"IF('入力シート(総体)'!$H300=\"\",\"\",TEXT('入力シート(総体)'!$H300,\"00\"))","v":""},null,{"$f":"IF('入力シート(総体)'!$H301=\"\",\"\",TEXT('入力シート(総体)'!$H301,\"00\"))","v":""}]
[{"$f":"IF('入力シート(総体)'!$H297=\"\",\"\",大会コード)","v":""},{"$f":"IF('入力シート(総体)'!$H297=\"\",\"\",IF('入力シート(総体)'!$B297=\"男\",0,1))","v":""},{"$f":"IF('入力シート(総体)'!$H297=\"\",\"\",'入力シート(総体)'!C297)","v":""},{"$f":"IF('入力シート(総体)'!$H297=\"\",\"\",TEXT('入力シート(総体)'!$E297,\"000\"))","v":""},null,null,{"$f":"IF('入力シート(総体)'!$H297=\"\",\"\",学校番号)","v":""},{"$f":"IF('入力シート(総体)'!$H297=\"\",\"\",'入力シート(総体)'!$K297)","v":""},{"$nulls":3},{"$f":"IF('入力シート(総体)'!$H297=\"\",\"\",TEXT('入力シート(総体)'!$H297,\"00\"))","v":""},null,{"$f":"IF('入力シート(総体)'!$H298=\"\",\"\",TEXT('入力シート(総体)'!$H298,\"00\"))","v":""},null,{"$f":"IF('入力シート(総体)'!$H299=\"\",\"\",TEXT('入力シート(総体)'!$H299,\"00\"))","v":""},null,{"$f":"IF('入力シート(総体)'!$H300=\"\",\"\",TEXT('入力シート(総体)'!$H300,\"00\"))","v":""},null,{"$f":"IF('入力シート(総体)'!$H301=\"\",\"\",TEXT('入力シート(総体)'!$H301,\"00\"))","v":""},null,{"$f":"IF('入力シート(総体)'!$H302=\"\",\"\",TEXT('入力シート(総体)'!$H302,\"00\"))","v":""}]
[{"$f":"IF('入力シート(総体)'!$H298=\"\",\"\",大会コード)","v":""},{"$f":"IF('入力シート(総体)'!$H298=\"\",\"\",IF('入力シート(総体)'!$B298=\"男\",0,1))","v":""},{"$f":"IF('入力シート(総体)'!$H298=\"\",\"\",'入力シート(総体)'!C298)","v":""},{"$f":"IF('入力シート(総体)'!$H298=\"\",\"\",TEXT('入力シート(総体)'!$E298,\"000\"))","v":""},null,null,{"$f":"IF('入力シート(総体)'!$H298=\"\",\"\",学校番号)","v":""},{"$f":"IF('入力シート(総体)'!$H298=\"\",\"\",'入力シート(総体)'!$K298)","v":""},{"$nulls":3},{"$f":"IF('入力シート(総体)'!$H298=\"\",\"\",TEXT('入力シート(総体)'!$H298,\"00\"))","v":""},null,{"$f":"IF('入力シート(総体)'!$H299=\"\",\"\",TEXT('入力シート(総体)'!$H299,\"00\"))","v":""},null,{"$f":"IF('入力シート(総体)'!$H300=\"\",\"\",TEXT('入力シート(総体)'!$H300,\"00\"))","v":""},null,{"$f":"IF('入力シート(総体)'!$H301=\"\",\"\",TEXT('入力シート(総体)'!$H301,\"00\"))","v":""},null,{"$f":"IF('入力シート(総体)'!$H302=\"\",\"\",TEXT('入力シート(総体)'!$H302,\"00\"))","v":""},null,{"$f":"IF('入力シート(総体)'!$H303=\"\",\"\",TEXT('入力シート(総体)'!$H303,\"00\"))","v":""}]
[{"$f":"IF('入力シート(総体)'!$H299=\"\",\"\",大会コード)","v":""},{"$f":"IF('入力シート(総体)'!$H299=\"\",\"\",IF('入力シート(総体)'!$B299=\"男\",0,1))","v":""},{"$f":"IF('入力シート(総体)'!$H299=\"\",\"\",'入力シート(総体)'!C299)","v":""},{"$f":"IF('入力シート(総体)'!$H299=\"\",\"\",TEXT('入力シート(総体)'!$E299,\"000\"))","v":""},null,null,{"$f":"IF('入力シート(総体)'!$H299=\"\",\"\",学校番号)","v":""},{"$f":"IF('入力シート(総体)'!$H299=\"\",\"\",'入力シート(総体)'!$K299)","v":""},{"$nulls":3},{"$f":"IF('入力シート(総体)'!$H299=\"\",\"\",TEXT('入力シート(総体)'!$H299,\"00\"))","v":""},null,{"$f":"IF('入力シート(総体)'!$H300=\"\",\"\",TEXT('入力シート(総体)'!$H300,\"00\"))","v":""},null,{"$f":"IF('入力シート(総体)'!$H301=\"\",\"\",TEXT('入力シート(総体)'!$H301,\"00\"))","v":""},null,{"$f":"IF('入力シート(総体)'!$H302=\"\",\"\",TEXT('入力シート(総体)'!$H302,\"00\"))","v":""},null,{"$f":"IF('入力シート(総体)'!$H303=\"\",\"\",TEXT('入力シート(総体)'!$H303,\"00\"))","v":""},null,{"$f":"IF('入力シート(総体)'!$H304=\"\",\"\",TEXT('入力シート(総体)'!$H304,\"00\"))","v":""}]
[{"$f":"IF('入力シート(総体)'!$H300=\"\",\"\",大会コード)","v":""},{"$f":"IF('入力シート(総体)'!$H300=\"\",\"\",IF('入力シート(総体)'!$B300=\"男\",0,1))","v":""},{"$f":"IF('入力シート(総体)'!$H300=\"\",\"\",'入力シート(総体)'!C300)","v":""},{"$f":"IF('入力シート(総体)'!$H300=\"\",\"\",TEXT('入力シート(総体)'!$E300,\"000\"))","v":""},null,null,{"$f":"IF('入力シート(総体)'!$H300=\"\",\"\",学校番号)","v":""},{"$f":"IF('入力シート(総体)'!$H300=\"\",\"\",'入力シート(総体)'!$K300)","v":""},{"$nulls":3},{"$f":"IF('入力シート(総体)'!$H300=\"\",\"\",TEXT('入力シート(総体)'!$H300,\"00\"))","v":""},null,{"$f":"IF('入力シート(総体)'!$H301=\"\",\"\",TEXT('入力シート(総体)'!$H301,\"00\"))","v":""},null,{"$f":"IF('入力シート(総体)'!$H302=\"\",\"\",TEXT('入力シート(総体)'!$H302,\"00\"))","v":""},null,{"$f":"IF('入力シート(総体)'!$H303=\"\",\"\",TEXT('入力シート(総体)'!$H303,\"00\"))","v":""},null,{"$f":"IF('入力シート(総体)'!$H304=\"\",\"\",TEXT('入力シート(総体)'!$H304,\"00\"))","v":""},null,{"$f":"IF('入力シート(総体)'!$H305=\"\",\"\",TEXT('入力シート(総体)'!$H305,\"00\"))","v":""}]
[{"$f":"IF('入力シート(総体)'!$H301=\"\",\"\",大会コード)","v":""},{"$f":"IF('入力シート(総体)'!$H301=\"\",\"\",IF('入力シート(総体)'!$B301=\"男\",0,1))","v":""},{"$f":"IF('入力シート(総体)'!$H301=\"\",\"\",'入力シート(総体)'!C301)","v":""},{"$f":"IF('入力シート(総体)'!$H301=\"\",\"\",TEXT('入力シート(総体)'!$E301,\"000\"))","v":""},null,null,{"$f":"IF('入力シート(総体)'!$H301=\"\",\"\",学校番号)","v":""},{"$f":"IF('入力シート(総体)'!$H301=\"\",\"\",'入力シート(総体)'!$K301)","v":""},{"$nulls":3},{"$f":"IF('入力シート(総体)'!$H301=\"\",\"\",TEXT('入力シート(総体)'!$H301,\"00\"))","v":""},null,{"$f":"IF('入力シート(総体)'!$H302=\"\",\"\",TEXT('入力シート(総体)'!$H302,\"00\"))","v":""},null,{"$f":"IF('入力シート(総体)'!$H303=\"\",\"\",TEXT('入力シート(総体)'!$H303,\"00\"))","v":""},null,{"$f":"IF('入力シート(総体)'!$H304=\"\",\"\",TEXT('入力シート(総体)'!$H304,\"00\"))","v":""},null,{"$f":"IF('入力シート(総体)'!$H305=\"\",\"\",TEXT('入力シート(総体)'!$H305,\"00\"))","v":""},null,{"$f":"IF('入力シート(総体)'!$H306=\"\",\"\",TEXT('入力シート(総体)'!$H306,\"00\"))","v":""}]
[{"$f":"IF('入力シート(総体)'!$H302=\"\",\"\",大会コード)","v":""},{"$f":"IF('入力シート(総体)'!$H302=\"\",\"\",IF('入力シート(総体)'!$B302=\"男\",0,1))","v":""},{"$f":"IF('入力シート(総体)'!$H302=\"\",\"\",'入力シート(総体)'!C302)","v":""},{"$f":"IF('入力シート(総体)'!$H302=\"\",\"\",TEXT('入力シート(総体)'!$E302,\"000\"))","v":""},null,null,{"$f":"IF('入力シート(総体)'!$H302=\"\",\"\",学校番号)","v":""},{"$f":"IF('入力シート(総体)'!$H302=\"\",\"\",'入力シート(総体)'!$K302)","v":""},{"$nulls":3},{"$f":"IF('入力シート(総体)'!$H302=\"\",\"\",TEXT('入力シート(総体)'!$H302,\"00\"))","v":""},null,{"$f":"IF('入力シート(総体)'!$H303=\"\",\"\",TEXT('入力シート(総体)'!$H303,\"00\"))","v":""},null,{"$f":"IF('入力シート(総体)'!$H304=\"\",\"\",TEXT('入力シート(総体)'!$H304,\"00\"))","v":""},null,{"$f":"IF('入力シート(総体)'!$H305=\"\",\"\",TEXT('入力シート(総体)'!$H305,\"00\"))","v":""},null,{"$f":"IF('入力シート(総体)'!$H306=\"\",\"\",TEXT('入力シート(総体)'!$H306,\"00\"))","v":""},null,{"$f":"IF('入力シート(総体)'!$H307=\"\",\"\",TEXT('入力シート(総体)'!$H307,\"00\"))","v":""}]
[{"$f":"IF('入力シート(総体)'!$H303=\"\",\"\",大会コード)","v":""},{"$f":"IF('入力シート(総体)'!$H303=\"\",\"\",IF('入力シート(総体)'!$B303=\"男\",0,1))","v":""},{"$f":"IF('入力シート(総体)'!$H303=\"\",\"\",'入力シート(総体)'!C303)","v":""},{"$f":"IF('入力シート(総体)'!$H303=\"\",\"\",TEXT('入力シート(総体)'!$E303,\"000\"))","v":""},null,null,{"$f":"IF('入力シート(総体)'!$H303=\"\",\"\",学校番号)","v":""},{"$f":"IF('入力シート(総体)'!$H303=\"\",\"\",'入力シート(総体)'!$K303)","v":""},{"$nulls":3},{"$f":"IF('入力シート(総体)'!$H303=\"\",\"\",TEXT('入力シート(総体)'!$H303,\"00\"))","v":""},null,{"$f":"IF('入力シート(総体)'!$H304=\"\",\"\",TEXT('入力シート(総体)'!$H304,\"00\"))","v":""},null,{"$f":"IF('入力シート(総体)'!$H305=\"\",\"\",TEXT('入力シート(総体)'!$H305,\"00\"))","v":""},null,{"$f":"IF('入力シート(総体)'!$H306=\"\",\"\",TEXT('入力シート(総体)'!$H306,\"00\"))","v":""},null,{"$f":"IF('入力シート(総体)'!$H307=\"\",\"\",TEXT('入力シート(総体)'!$H307,\"00\"))","v":""},null,{"$f":"IF('入力シート(総体)'!$H308=\"\",\"\",TEXT('入力シート(総体)'!$H308,\"00\"))","v":""}]
[{"$f":"IF('入力シート(総体)'!$H304=\"\",\"\",大会コード)","v":""},{"$f":"IF('入力シート(総体)'!$H304=\"\",\"\",IF('入力シート(総体)'!$B304=\"男\",0,1))","v":""},{"$f":"IF('入力シート(総体)'!$H304=\"\",\"\",'入力シート(総体)'!C304)","v":""},{"$f":"IF('入力シート(総体)'!$H304=\"\",\"\",TEXT('入力シート(総体)'!$E304,\"000\"))","v":""},null,null,{"$f":"IF('入力シート(総体)'!$H304=\"\",\"\",学校番号)","v":""},{"$f":"IF('入力シート(総体)'!$H304=\"\",\"\",'入力シート(総体)'!$K304)","v":""},{"$nulls":3},{"$f":"IF('入力シート(総体)'!$H304=\"\",\"\",TEXT('入力シート(総体)'!$H304,\"00\"))","v":""},null,{"$f":"IF('入力シート(総体)'!$H305=\"\",\"\",TEXT('入力シート(総体)'!$H305,\"00\"))","v":""},null,{"$f":"IF('入力シート(総体)'!$H306=\"\",\"\",TEXT('入力シート(総体)'!$H306,\"00\"))","v":""},null,{"$f":"IF('入力シート(総体)'!$H307=\"\",\"\",TEXT('入力シート(総体)'!$H307,\"00\"))","v":""},null,{"$f":"IF('入力シート(総体)'!$H308=\"\",\"\",TEXT('入力シート(総体)'!$H308,\"00\"))","v":""},null,{"$f":"IF('入力シート(総体)'!$H309=\"\",\"\",TEXT('入力シート(総体)'!$H309,\"00\"))","v":""}]
[{"$f":"IF('入力シート(総体)'!$H305=\"\",\"\",大会コード)","v":""},{"$f":"IF('入力シート(総体)'!$H305=\"\",\"\",IF('入力シート(総体)'!$B305=\"男\",0,1))","v":""},{"$f":"IF('入力シート(総体)'!$H305=\"\",\"\",'入力シート(総体)'!C305)","v":""},{"$f":"IF('入力シート(総体)'!$H305=\"\",\"\",TEXT('入力シート(総体)'!$E305,\"000\"))","v":""},null,null,{"$f":"IF('入力シート(総体)'!$H305=\"\",\"\",学校番号)","v":""},{"$f":"IF('入力シート(総体)'!$H305=\"\",\"\",'入力シート(総体)'!$K305)","v":""},{"$nulls":3},{"$f":"IF('入力シート(総体)'!$H305=\"\",\"\",TEXT('入力シート(総体)'!$H305,\"00\"))","v":""},null,{"$f":"IF('入力シート(総体)'!$H306=\"\",\"\",TEXT('入力シート(総体)'!$H306,\"00\"))","v":""},null,{"$f":"IF('入力シート(総体)'!$H307=\"\",\"\",TEXT('入力シート(総体)'!$H307,\"00\"))","v":""},null,{"$f":"IF('入力シート(総体)'!$H308=\"\",\"\",TEXT('入力シート(総体)'!$H308,\"00\"))","v":""},null,{"$f":"IF('入力シート(総体)'!$H309=\"\",\"\",TEXT('入力シート(総体)'!$H309,\"00\"))","v":""},null,{"$f":"IF('入力シート(総体)'!$H310=\"\",\"\",TEXT('入力シート(総体)'!$H310,\"00\"))","v":""}]
[{"$f":"IF('入力シート(総体)'!$H306=\"\",\"\",大会コード)","v":""},{"$f":"IF('入力シート(総体)'!$H306=\"\",\"\",IF('入力シート(総体)'!$B306=\"男\",0,1))","v":""},{"$f":"IF('入力シート(総体)'!$H306=\"\",\"\",'入力シート(総体)'!C306)","v":""},{"$f":"IF('入力シート(総体)'!$H306=\"\",\"\",TEXT('入力シート(総体)'!$E306,\"000\"))","v":""},null,null,{"$f":"IF('入力シート(総体)'!$H306=\"\",\"\",学校番号)","v":""},{"$f":"IF('入力シート(総体)'!$H306=\"\",\"\",'入力シート(総体)'!$K306)","v":""},{"$nulls":3},{"$f":"IF('入力シート(総体)'!$H306=\"\",\"\",TEXT('入力シート(総体)'!$H306,\"00\"))","v":""},null,{"$f":"IF('入力シート(総体)'!$H307=\"\",\"\",TEXT('入力シート(総体)'!$H307,\"00\"))","v":""},null,{"$f":"IF('入力シート(総体)'!$H308=\"\",\"\",TEXT('入力シート(総体)'!$H308,\"00\"))","v":""},null,{"$f":"IF('入力シート(総体)'!$H309=\"\",\"\",TEXT('入力シート(総体)'!$H309,\"00\"))","v":""},null,{"$f":"IF('入力シート(総体)'!$H310=\"\",\"\",TEXT('入力シート(総体)'!$H310,\"00\"))","v":""},null,{"$f":"IF('入力シート(総体)'!$H311=\"\",\"\",TEXT('入力シート(総体)'!$H311,\"00\"))","v":""}]
[{"$f":"IF('入力シート(総体)'!$H307=\"\",\"\",大会コード)","v":""},{"$f":"IF('入力シート(総体)'!$H307=\"\",\"\",IF('入力シート(総体)'!$B307=\"男\",0,1))","v":""},{"$f":"IF('入力シート(総体)'!$H307=\"\",\"\",'入力シート(総体)'!C307)","v":""},{"$f":"IF('入力シート(総体)'!$H307=\"\",\"\",TEXT('入力シート(総体)'!$E307,\"000\"))","v":""},null,null,{"$f":"IF('入力シート(総体)'!$H307=\"\",\"\",学校番号)","v":""},{"$f":"IF('入力シート(総体)'!$H307=\"\",\"\",'入力シート(総体)'!$K307)","v":""},{"$nulls":3},{"$f":"IF('入力シート(総体)'!$H307=\"\",\"\",TEXT('入力シート(総体)'!$H307,\"00\"))","v":""},null,{"$f":"IF('入力シート(総体)'!$H308=\"\",\"\",TEXT('入力シート(総体)'!$H308,\"00\"))","v":""},null,{"$f":"IF('入力シート(総体)'!$H309=\"\",\"\",TEXT('入力シート(総体)'!$H309,\"00\"))","v":""},null,{"$f":"IF('入力シート(総体)'!$H310=\"\",\"\",TEXT('入力シート(総体)'!$H310,\"00\"))","v":""},null,{"$f":"IF('入力シート(総体)'!$H311=\"\",\"\",TEXT('入力シート(総体)'!$H311,\"00\"))","v":""},null,{"$f":"IF('入力シート(総体)'!$H312=\"\",\"\",TEXT('入力シート(総体)'!$H312,\"00\"))","v":""}]
[{"$f":"IF('入力シート(総体)'!$H308=\"\",\"\",大会コード)","v":""},{"$f":"IF('入力シート(総体)'!$H308=\"\",\"\",IF('入力シート(総体)'!$B308=\"男\",0,1))","v":""},{"$f":"IF('入力シート(総体)'!$H308=\"\",\"\",'入力シート(総体)'!C308)","v":""},{"$f":"IF('入力シート(総体)'!$H308=\"\",\"\",TEXT('入力シート(総体)'!$E308,\"000\"))","v":""},null,null,{"$f":"IF('入力シート(総体)'!$H308=\"\",\"\",学校番号)","v":""},{"$f":"IF('入力シート(総体)'!$H308=\"\",\"\",'入力シート(総体)'!$K308)","v":""},{"$nulls":3},{"$f":"IF('入力シート(総体)'!$H308=\"\",\"\",TEXT('入力シート(総体)'!$H308,\"00\"))","v":""},null,{"$f":"IF('入力シート(総体)'!$H309=\"\",\"\",TEXT('入力シート(総体)'!$H309,\"00\"))","v":""},null,{"$f":"IF('入力シート(総体)'!$H310=\"\",\"\",TEXT('入力シート(総体)'!$H310,\"00\"))","v":""},null,{"$f":"IF('入力シート(総体)'!$H311=\"\",\"\",TEXT('入力シート(総体)'!$H311,\"00\"))","v":""},null,{"$f":"IF('入力シート(総体)'!$H312=\"\",\"\",TEXT('入力シート(総体)'!$H312,\"00\"))","v":""},null,{"$f":"IF('入力シート(総体)'!$H313=\"\",\"\",TEXT('入力シート(総体)'!$H313,\"00\"))","v":""}]
[{"$f":"IF('入力シート(総体)'!$H309=\"\",\"\",大会コード)","v":""},{"$f":"IF('入力シート(総体)'!$H309=\"\",\"\",IF('入力シート(総体)'!$B309=\"男\",0,1))","v":""},{"$f":"IF('入力シート(総体)'!$H309=\"\",\"\",'入力シート(総体)'!C309)","v":""},{"$f":"IF('入力シート(総体)'!$H309=\"\",\"\",TEXT('入力シート(総体)'!$E309,\"000\"))","v":""},null,null,{"$f":"IF('入力シート(総体)'!$H309=\"\",\"\",学校番号)","v":""},{"$f":"IF('入力シート(総体)'!$H309=\"\",\"\",'入力シート(総体)'!$K309)","v":""},{"$nulls":3},{"$f":"IF('入力シート(総体)'!$H309=\"\",\"\",TEXT('入力シート(総体)'!$H309,\"00\"))","v":""},null,{"$f":"IF('入力シート(総体)'!$H310=\"\",\"\",TEXT('入力シート(総体)'!$H310,\"00\"))","v":""},null,{"$f":"IF('入力シート(総体)'!$H311=\"\",\"\",TEXT('入力シート(総体)'!$H311,\"00\"))","v":""},null,{"$f":"IF('入力シート(総体)'!$H312=\"\",\"\",TEXT('入力シート(総体)'!$H312,\"00\"))","v":""},null,{"$f":"IF('入力シート(総体)'!$H313=\"\",\"\",TEXT('入力シート(総体)'!$H313,\"00\"))","v":""},null,{"$f":"IF('入力シート(総体)'!$H314=\"\",\"\",TEXT('入力シート(総体)'!$H314,\"00\"))","v":""}]
[{"$f":"IF('入力シート(総体)'!$H310=\"\",\"\",大会コード)","v":""},{"$f":"IF('入力シート(総体)'!$H310=\"\",\"\",IF('入力シート(総体)'!$B310=\"男\",0,1))","v":""},{"$f":"IF('入力シート(総体)'!$H310=\"\",\"\",'入力シート(総体)'!C310)","v":""},{"$f":"IF('入力シート(総体)'!$H310=\"\",\"\",TEXT('入力シート(総体)'!$E310,\"000\"))","v":""},null,null,{"$f":"IF('入力シート(総体)'!$H310=\"\",\"\",学校番号)","v":""},{"$f":"IF('入力シート(総体)'!$H310=\"\",\"\",'入力シート(総体)'!$K310)","v":""},{"$nulls":3},{"$f":"IF('入力シート(総体)'!$H310=\"\",\"\",TEXT('入力シート(総体)'!$H310,\"00\"))","v":""},null,{"$f":"IF('入力シート(総体)'!$H311=\"\",\"\",TEXT('入力シート(総体)'!$H311,\"00\"))","v":""},null,{"$f":"IF('入力シート(総体)'!$H312=\"\",\"\",TEXT('入力シート(総体)'!$H312,\"00\"))","v":""},null,{"$f":"IF('入力シート(総体)'!$H313=\"\",\"\",TEXT('入力シート(総体)'!$H313,\"00\"))","v":""},null,{"$f":"IF('入力シート(総体)'!$H314=\"\",\"\",TEXT('入力シート(総体)'!$H314,\"00\"))","v":""},null,{"$f":"IF('入力シート(総体)'!$H315=\"\",\"\",TEXT('入力シート(総体)'!$H315,\"00\"))","v":""}]
[{"$f":"IF('入力シート(総体)'!$H311=\"\",\"\",大会コード)","v":""},{"$f":"IF('入力シート(総体)'!$H311=\"\",\"\",IF('入力シート(総体)'!$B311=\"男\",0,1))","v":""},{"$f":"IF('入力シート(総体)'!$H311=\"\",\"\",'入力シート(総体)'!C311)","v":""},{"$f":"IF('入力シート(総体)'!$H311=\"\",\"\",TEXT('入力シート(総体)'!$E311,\"000\"))","v":""},null,null,{"$f":"IF('入力シート(総体)'!$H311=\"\",\"\",学校番号)","v":""},{"$f":"IF('入力シート(総体)'!$H311=\"\",\"\",'入力シート(総体)'!$K311)","v":""},{"$nulls":3},{"$f":"IF('入力シート(総体)'!$H311=\"\",\"\",TEXT('入力シート(総体)'!$H311,\"00\"))","v":""},null,{"$f":"IF('入力シート(総体)'!$H312=\"\",\"\",TEXT('入力シート(総体)'!$H312,\"00\"))","v":""},null,{"$f":"IF('入力シート(総体)'!$H313=\"\",\"\",TEXT('入力シート(総体)'!$H313,\"00\"))","v":""},null,{"$f":"IF('入力シート(総体)'!$H314=\"\",\"\",TEXT('入力シート(総体)'!$H314,\"00\"))","v":""},null,{"$f":"IF('入力シート(総体)'!$H315=\"\",\"\",TEXT('入力シート(総体)'!$H315,\"00\"))","v":""},null,{"$f":"IF('入力シート(総体)'!$H316=\"\",\"\",TEXT('入力シート(総体)'!$H316,\"00\"))","v":""}]
[{"$f":"IF('入力シート(総体)'!$H312=\"\",\"\",大会コード)","v":""},{"$f":"IF('入力シート(総体)'!$H312=\"\",\"\",IF('入力シート(総体)'!$B312=\"男\",0,1))","v":""},{"$f":"IF('入力シート(総体)'!$H312=\"\",\"\",'入力シート(総体)'!C312)","v":""},{"$f":"IF('入力シート(総体)'!$H312=\"\",\"\",TEXT('入力シート(総体)'!$E312,\"000\"))","v":""},null,null,{"$f":"IF('入力シート(総体)'!$H312=\"\",\"\",学校番号)","v":""},{"$f":"IF('入力シート(総体)'!$H312=\"\",\"\",'入力シート(総体)'!$K312)","v":""},{"$nulls":3},{"$f":"IF('入力シート(総体)'!$H312=\"\",\"\",TEXT('入力シート(総体)'!$H312,\"00\"))","v":""},null,{"$f":"IF('入力シート(総体)'!$H313=\"\",\"\",TEXT('入力シート(総体)'!$H313,\"00\"))","v":""},null,{"$f":"IF('入力シート(総体)'!$H314=\"\",\"\",TEXT('入力シート(総体)'!$H314,\"00\"))","v":""},null,{"$f":"IF('入力シート(総体)'!$H315=\"\",\"\",TEXT('入力シート(総体)'!$H315,\"00\"))","v":""},null,{"$f":"IF('入力シート(総体)'!$H316=\"\",\"\",TEXT('入力シート(総体)'!$H316,\"00\"))","v":""},null,{"$f":"IF('入力シート(総体)'!$H317=\"\",\"\",TEXT('入力シート(総体)'!$H317,\"00\"))","v":""}]
[{"$f":"IF('入力シート(総体)'!$H313=\"\",\"\",大会コード)","v":""},{"$f":"IF('入力シート(総体)'!$H313=\"\",\"\",IF('入力シート(総体)'!$B313=\"男\",0,1))","v":""},{"$f":"IF('入力シート(総体)'!$H313=\"\",\"\",'入力シート(総体)'!C313)","v":""},{"$f":"IF('入力シート(総体)'!$H313=\"\",\"\",TEXT('入力シート(総体)'!$E313,\"000\"))","v":""},null,null,{"$f":"IF('入力シート(総体)'!$H313=\"\",\"\",学校番号)","v":""},{"$f":"IF('入力シート(総体)'!$H313=\"\",\"\",'入力シート(総体)'!$K313)","v":""},{"$nulls":3},{"$f":"IF('入力シート(総体)'!$H313=\"\",\"\",TEXT('入力シート(総体)'!$H313,\"00\"))","v":""},null,{"$f":"IF('入力シート(総体)'!$H314=\"\",\"\",TEXT('入力シート(総体)'!$H314,\"00\"))","v":""},null,{"$f":"IF('入力シート(総体)'!$H315=\"\",\"\",TEXT('入力シート(総体)'!$H315,\"00\"))","v":""},null,{"$f":"IF('入力シート(総体)'!$H316=\"\",\"\",TEXT('入力シート(総体)'!$H316,\"00\"))","v":""},null,{"$f":"IF('入力シート(総体)'!$H317=\"\",\"\",TEXT('入力シート(総体)'!$H317,\"00\"))","v":""},null,{"$f":"IF('入力シート(総体)'!$H318=\"\",\"\",TEXT('入力シート(総体)'!$H318,\"00\"))","v":""}]
[{"$f":"IF('入力シート(総体)'!$H314=\"\",\"\",大会コード)","v":""},{"$f":"IF('入力シート(総体)'!$H314=\"\",\"\",IF('入力シート(総体)'!$B314=\"男\",0,1))","v":""},{"$f":"IF('入力シート(総体)'!$H314=\"\",\"\",'入力シート(総体)'!C314)","v":""},{"$f":"IF('入力シート(総体)'!$H314=\"\",\"\",TEXT('入力シート(総体)'!$E314,\"000\"))","v":""},null,null,{"$f":"IF('入力シート(総体)'!$H314=\"\",\"\",学校番号)","v":""},{"$f":"IF('入力シート(総体)'!$H314=\"\",\"\",'入力シート(総体)'!$K314)","v":""},{"$nulls":3},{"$f":"IF('入力シート(総体)'!$H314=\"\",\"\",TEXT('入力シート(総体)'!$H314,\"00\"))","v":""},null,{"$f":"IF('入力シート(総体)'!$H315=\"\",\"\",TEXT('入力シート(総体)'!$H315,\"00\"))","v":""},null,{"$f":"IF('入力シート(総体)'!$H316=\"\",\"\",TEXT('入力シート(総体)'!$H316,\"00\"))","v":""},null,{"$f":"IF('入力シート(総体)'!$H317=\"\",\"\",TEXT('入力シート(総体)'!$H317,\"00\"))","v":""},null,{"$f":"IF('入力シート(総体)'!$H318=\"\",\"\",TEXT('入力シート(総体)'!$H318,\"00\"))","v":""},null,{"$f":"IF('入力シート(総体)'!$H319=\"\",\"\",TEXT('入力シート(総体)'!$H319,\"00\"))","v":""}]
[{"$f":"IF('入力シート(総体)'!$H315=\"\",\"\",大会コード)","v":""},{"$f":"IF('入力シート(総体)'!$H315=\"\",\"\",IF('入力シート(総体)'!$B315=\"男\",0,1))","v":""},{"$f":"IF('入力シート(総体)'!$H315=\"\",\"\",'入力シート(総体)'!C315)","v":""},{"$f":"IF('入力シート(総体)'!$H315=\"\",\"\",TEXT('入力シート(総体)'!$E315,\"000\"))","v":""},null,null,{"$f":"IF('入力シート(総体)'!$H315=\"\",\"\",学校番号)","v":""},{"$f":"IF('入力シート(総体)'!$H315=\"\",\"\",'入力シート(総体)'!$K315)","v":""},{"$nulls":3},{"$f":"IF('入力シート(総体)'!$H315=\"\",\"\",TEXT('入力シート(総体)'!$H315,\"00\"))","v":""},null,{"$f":"IF('入力シート(総体)'!$H316=\"\",\"\",TEXT('入力シート(総体)'!$H316,\"00\"))","v":""},null,{"$f":"IF('入力シート(総体)'!$H317=\"\",\"\",TEXT('入力シート(総体)'!$H317,\"00\"))","v":""},null,{"$f":"IF('入力シート(総体)'!$H318=\"\",\"\",TEXT('入力シート(総体)'!$H318,\"00\"))","v":""},null,{"$f":"IF('入力シート(総体)'!$H319=\"\",\"\",TEXT('入力シート(総体)'!$H319,\"00\"))","v":""},null,{"$f":"IF('入力シート(総体)'!$H320=\"\",\"\",TEXT('入力シート(総体)'!$H320,\"00\"))","v":""}]
[{"$f":"IF('入力シート(総体)'!$H316=\"\",\"\",大会コード)","v":""},{"$f":"IF('入力シート(総体)'!$H316=\"\",\"\",IF('入力シート(総体)'!$B316=\"男\",0,1))","v":""},{"$f":"IF('入力シート(総体)'!$H316=\"\",\"\",'入力シート(総体)'!C316)","v":""},{"$f":"IF('入力シート(総体)'!$H316=\"\",\"\",TEXT('入力シート(総体)'!$E316,\"000\"))","v":""},null,null,{"$f":"IF('入力シート(総体)'!$H316=\"\",\"\",学校番号)","v":""},{"$f":"IF('入力シート(総体)'!$H316=\"\",\"\",'入力シート(総体)'!$K316)","v":""},{"$nulls":3},{"$f":"IF('入力シート(総体)'!$H316=\"\",\"\",TEXT('入力シート(総体)'!$H316,\"00\"))","v":""},null,{"$f":"IF('入力シート(総体)'!$H317=\"\",\"\",TEXT('入力シート(総体)'!$H317,\"00\"))","v":""},null,{"$f":"IF('入力シート(総体)'!$H318=\"\",\"\",TEXT('入力シート(総体)'!$H318,\"00\"))","v":""},null,{"$f":"IF('入力シート(総体)'!$H319=\"\",\"\",TEXT('入力シート(総体)'!$H319,\"00\"))","v":""},null,{"$f":"IF('入力シート(総体)'!$H320=\"\",\"\",TEXT('入力シート(総体)'!$H320,\"00\"))","v":""},null,{"$f":"IF('入力シート(総体)'!$H321=\"\",\"\",TEXT('入力シート(総体)'!$H321,\"00\"))","v":""}]
[{"$f":"IF('入力シート(総体)'!$H317=\"\",\"\",大会コード)","v":""},{"$f":"IF('入力シート(総体)'!$H317=\"\",\"\",IF('入力シート(総体)'!$B317=\"男\",0,1))","v":""},{"$f":"IF('入力シート(総体)'!$H317=\"\",\"\",'入力シート(総体)'!C317)","v":""},{"$f":"IF('入力シート(総体)'!$H317=\"\",\"\",TEXT('入力シート(総体)'!$E317,\"000\"))","v":""},null,null,{"$f":"IF('入力シート(総体)'!$H317=\"\",\"\",学校番号)","v":""},{"$f":"IF('入力シート(総体)'!$H317=\"\",\"\",'入力シート(総体)'!$K317)","v":""},{"$nulls":3},{"$f":"IF('入力シート(総体)'!$H317=\"\",\"\",TEXT('入力シート(総体)'!$H317,\"00\"))","v":""},null,{"$f":"IF('入力シート(総体)'!$H318=\"\",\"\",TEXT('入力シート(総体)'!$H318,\"00\"))","v":""},null,{"$f":"IF('入力シート(総体)'!$H319=\"\",\"\",TEXT('入力シート(総体)'!$H319,\"00\"))","v":""},null,{"$f":"IF('入力シート(総体)'!$H320=\"\",\"\",TEXT('入力シート(総体)'!$H320,\"00\"))","v":""},null,{"$f":"IF('入力シート(総体)'!$H321=\"\",\"\",TEXT('入力シート(総体)'!$H321,\"00\"))","v":""},null,{"$f":"IF('入力シート(総体)'!$H322=\"\",\"\",TEXT('入力シート(総体)'!$H322,\"00\"))","v":""}]
[{"$f":"IF('入力シート(総体)'!$H318=\"\",\"\",大会コード)","v":""},{"$f":"IF('入力シート(総体)'!$H318=\"\",\"\",IF('入力シート(総体)'!$B318=\"男\",0,1))","v":""},{"$f":"IF('入力シート(総体)'!$H318=\"\",\"\",'入力シート(総体)'!C318)","v":""},{"$f":"IF('入力シート(総体)'!$H318=\"\",\"\",TEXT('入力シート(総体)'!$E318,\"000\"))","v":""},null,null,{"$f":"IF('入力シート(総体)'!$H318=\"\",\"\",学校番号)","v":""},{"$f":"IF('入力シート(総体)'!$H318=\"\",\"\",'入力シート(総体)'!$K318)","v":""},{"$nulls":3},{"$f":"IF('入力シート(総体)'!$H318=\"\",\"\",TEXT('入力シート(総体)'!$H318,\"00\"))","v":""},null,{"$f":"IF('入力シート(総体)'!$H319=\"\",\"\",TEXT('入力シート(総体)'!$H319,\"00\"))","v":""},null,{"$f":"IF('入力シート(総体)'!$H320=\"\",\"\",TEXT('入力シート(総体)'!$H320,\"00\"))","v":""},null,{"$f":"IF('入力シート(総体)'!$H321=\"\",\"\",TEXT('入力シート(総体)'!$H321,\"00\"))","v":""},null,{"$f":"IF('入力シート(総体)'!$H322=\"\",\"\",TEXT('入力シート(総体)'!$H322,\"00\"))","v":""},null,{"$f":"IF('入力シート(総体)'!$H323=\"\",\"\",TEXT('入力シート(総体)'!$H323,\"00\"))","v":""}]
[{"$f":"IF('入力シート(総体)'!$H319=\"\",\"\",大会コード)","v":""},{"$f":"IF('入力シート(総体)'!$H319=\"\",\"\",IF('入力シート(総体)'!$B319=\"男\",0,1))","v":""},{"$f":"IF('入力シート(総体)'!$H319=\"\",\"\",'入力シート(総体)'!C319)","v":""},{"$f":"IF('入力シート(総体)'!$H319=\"\",\"\",TEXT('入力シート(総体)'!$E319,\"000\"))","v":""},null,null,{"$f":"IF('入力シート(総体)'!$H319=\"\",\"\",学校番号)","v":""},{"$f":"IF('入力シート(総体)'!$H319=\"\",\"\",'入力シート(総体)'!$K319)","v":""},{"$nulls":3},{"$f":"IF('入力シート(総体)'!$H319=\"\",\"\",TEXT('入力シート(総体)'!$H319,\"00\"))","v":""},null,{"$f":"IF('入力シート(総体)'!$H320=\"\",\"\",TEXT('入力シート(総体)'!$H320,\"00\"))","v":""},null,{"$f":"IF('入力シート(総体)'!$H321=\"\",\"\",TEXT('入力シート(総体)'!$H321,\"00\"))","v":""},null,{"$f":"IF('入力シート(総体)'!$H322=\"\",\"\",TEXT('入力シート(総体)'!$H322,\"00\"))","v":""},null,{"$f":"IF('入力シート(総体)'!$H323=\"\",\"\",TEXT('入力シート(総体)'!$H323,\"00\"))","v":""},null,{"$f":"IF('入力シート(総体)'!$H324=\"\",\"\",TEXT('入力シート(総体)'!$H324,\"00\"))","v":""}]
[{"$f":"IF('入力シート(総体)'!$H320=\"\",\"\",大会コード)","v":""},{"$f":"IF('入力シート(総体)'!$H320=\"\",\"\",IF('入力シート(総体)'!$B320=\"男\",0,1))","v":""},{"$f":"IF('入力シート(総体)'!$H320=\"\",\"\",'入力シート(総体)'!C320)","v":""},{"$f":"IF('入力シート(総体)'!$H320=\"\",\"\",TEXT('入力シート(総体)'!$E320,\"000\"))","v":""},null,null,{"$f":"IF('入力シート(総体)'!$H320=\"\",\"\",学校番号)","v":""},{"$f":"IF('入力シート(総体)'!$H320=\"\",\"\",'入力シート(総体)'!$K320)","v":""},{"$nulls":3},{"$f":"IF('入力シート(総体)'!$H320=\"\",\"\",TEXT('入力シート(総体)'!$H320,\"00\"))","v":""},null,{"$f":"IF('入力シート(総体)'!$H321=\"\",\"\",TEXT('入力シート(総体)'!$H321,\"00\"))","v":""},null,{"$f":"IF('入力シート(総体)'!$H322=\"\",\"\",TEXT('入力シート(総体)'!$H322,\"00\"))","v":""},null,{"$f":"IF('入力シート(総体)'!$H323=\"\",\"\",TEXT('入力シート(総体)'!$H323,\"00\"))","v":""},null,{"$f":"IF('入力シート(総体)'!$H324=\"\",\"\",TEXT('入力シート(総体)'!$H324,\"00\"))","v":""},null,{"$f":"IF('入力シート(総体)'!$H325=\"\",\"\",TEXT('入力シート(総体)'!$H325,\"00\"))","v":""}]
[{"$f":"IF('入力シート(総体)'!$H321=\"\",\"\",大会コード)","v":""},{"$f":"IF('入力シート(総体)'!$H321=\"\",\"\",IF('入力シート(総体)'!$B321=\"男\",0,1))","v":""},{"$f":"IF('入力シート(総体)'!$H321=\"\",\"\",'入力シート(総体)'!C321)","v":""},{"$f":"IF('入力シート(総体)'!$H321=\"\",\"\",TEXT('入力シート(総体)'!$E321,\"000\"))","v":""},null,null,{"$f":"IF('入力シート(総体)'!$H321=\"\",\"\",学校番号)","v":""},{"$f":"IF('入力シート(総体)'!$H321=\"\",\"\",'入力シート(総体)'!$K321)","v":""},{"$nulls":3},{"$f":"IF('入力シート(総体)'!$H321=\"\",\"\",TEXT('入力シート(総体)'!$H321,\"00\"))","v":""},null,{"$f":"IF('入力シート(総体)'!$H322=\"\",\"\",TEXT('入力シート(総体)'!$H322,\"00\"))","v":""},null,{"$f":"IF('入力シート(総体)'!$H323=\"\",\"\",TEXT('入力シート(総体)'!$H323,\"00\"))","v":""},null,{"$f":"IF('入力シート(総体)'!$H324=\"\",\"\",TEXT('入力シート(総体)'!$H324,\"00\"))","v":""},null,{"$f":"IF('入力シート(総体)'!$H325=\"\",\"\",TEXT('入力シート(総体)'!$H325,\"00\"))","v":""},null,{"$f":"IF('入力シート(総体)'!$H326=\"\",\"\",TEXT('入力シート(総体)'!$H326,\"00\"))","v":""}]
[{"$f":"IF('入力シート(総体)'!$H322=\"\",\"\",大会コード)","v":""},{"$f":"IF('入力シート(総体)'!$H322=\"\",\"\",IF('入力シート(総体)'!$B322=\"男\",0,1))","v":""},{"$f":"IF('入力シート(総体)'!$H322=\"\",\"\",'入力シート(総体)'!C322)","v":""},{"$f":"IF('入力シート(総体)'!$H322=\"\",\"\",TEXT('入力シート(総体)'!$E322,\"000\"))","v":""},null,null,{"$f":"IF('入力シート(総体)'!$H322=\"\",\"\",学校番号)","v":""},{"$f":"IF('入力シート(総体)'!$H322=\"\",\"\",'入力シート(総体)'!$K322)","v":""},{"$nulls":3},{"$f":"IF('入力シート(総体)'!$H322=\"\",\"\",TEXT('入力シート(総体)'!$H322,\"00\"))","v":""},null,{"$f":"IF('入力シート(総体)'!$H323=\"\",\"\",TEXT('入力シート(総体)'!$H323,\"00\"))","v":""},null,{"$f":"IF('入力シート(総体)'!$H324=\"\",\"\",TEXT('入力シート(総体)'!$H324,\"00\"))","v":""},null,{"$f":"IF('入力シート(総体)'!$H325=\"\",\"\",TEXT('入力シート(総体)'!$H325,\"00\"))","v":""},null,{"$f":"IF('入力シート(総体)'!$H326=\"\",\"\",TEXT('入力シート(総体)'!$H326,\"00\"))","v":""},null,{"$f":"IF('入力シート(総体)'!$H327=\"\",\"\",TEXT('入力シート(総体)'!$H327,\"00\"))","v":""}]
[{"$f":"IF('入力シート(総体)'!$H323=\"\",\"\",大会コード)","v":""},{"$f":"IF('入力シート(総体)'!$H323=\"\",\"\",IF('入力シート(総体)'!$B323=\"男\",0,1))","v":""},{"$f":"IF('入力シート(総体)'!$H323=\"\",\"\",'入力シート(総体)'!C323)","v":""},{"$f":"IF('入力シート(総体)'!$H323=\"\",\"\",TEXT('入力シート(総体)'!$E323,\"000\"))","v":""},null,null,{"$f":"IF('入力シート(総体)'!$H323=\"\",\"\",学校番号)","v":""},{"$f":"IF('入力シート(総体)'!$H323=\"\",\"\",'入力シート(総体)'!$K323)","v":""},{"$nulls":3},{"$f":"IF('入力シート(総体)'!$H323=\"\",\"\",TEXT('入力シート(総体)'!$H323,\"00\"))","v":""},null,{"$f":"IF('入力シート(総体)'!$H324=\"\",\"\",TEXT('入力シート(総体)'!$H324,\"00\"))","v":""},null,{"$f":"IF('入力シート(総体)'!$H325=\"\",\"\",TEXT('入力シート(総体)'!$H325,\"00\"))","v":""},null,{"$f":"IF('入力シート(総体)'!$H326=\"\",\"\",TEXT('入力シート(総体)'!$H326,\"00\"))","v":""},null,{"$f":"IF('入力シート(総体)'!$H327=\"\",\"\",TEXT('入力シート(総体)'!$H327,\"00\"))","v":""},null,{"$f":"IF('入力シート(総体)'!$H328=\"\",\"\",TEXT('入力シート(総体)'!$H328,\"00\"))","v":""}]
[{"$f":"IF('入力シート(総体)'!$H324=\"\",\"\",大会コード)","v":""},{"$f":"IF('入力シート(総体)'!$H324=\"\",\"\",IF('入力シート(総体)'!$B324=\"男\",0,1))","v":""},{"$f":"IF('入力シート(総体)'!$H324=\"\",\"\",'入力シート(総体)'!C324)","v":""},{"$f":"IF('入力シート(総体)'!$H324=\"\",\"\",TEXT('入力シート(総体)'!$E324,\"000\"))","v":""},null,null,{"$f":"IF('入力シート(総体)'!$H324=\"\",\"\",学校番号)","v":""},{"$f":"IF('入力シート(総体)'!$H324=\"\",\"\",'入力シート(総体)'!$K324)","v":""},{"$nulls":3},{"$f":"IF('入力シート(総体)'!$H324=\"\",\"\",TEXT('入力シート(総体)'!$H324,\"00\"))","v":""},null,{"$f":"IF('入力シート(総体)'!$H325=\"\",\"\",TEXT('入力シート(総体)'!$H325,\"00\"))","v":""},null,{"$f":"IF('入力シート(総体)'!$H326=\"\",\"\",TEXT('入力シート(総体)'!$H326,\"00\"))","v":""},null,{"$f":"IF('入力シート(総体)'!$H327=\"\",\"\",TEXT('入力シート(総体)'!$H327,\"00\"))","v":""},null,{"$f":"IF('入力シート(総体)'!$H328=\"\",\"\",TEXT('入力シート(総体)'!$H328,\"00\"))","v":""},null,{"$f":"IF('入力シート(総体)'!$H329=\"\",\"\",TEXT('入力シート(総体)'!$H329,\"00\"))","v":""}]
[{"$f":"IF('入力シート(総体)'!$H325=\"\",\"\",大会コード)","v":""},{"$f":"IF('入力シート(総体)'!$H325=\"\",\"\",IF('入力シート(総体)'!$B325=\"男\",0,1))","v":""},{"$f":"IF('入力シート(総体)'!$H325=\"\",\"\",'入力シート(総体)'!C325)","v":""},{"$f":"IF('入力シート(総体)'!$H325=\"\",\"\",TEXT('入力シート(総体)'!$E325,\"000\"))","v":""},null,null,{"$f":"IF('入力シート(総体)'!$H325=\"\",\"\",学校番号)","v":""},{"$f":"IF('入力シート(総体)'!$H325=\"\",\"\",'入力シート(総体)'!$K325)","v":""},{"$nulls":3},{"$f":"IF('入力シート(総体)'!$H325=\"\",\"\",TEXT('入力シート(総体)'!$H325,\"00\"))","v":""},null,{"$f":"IF('入力シート(総体)'!$H326=\"\",\"\",TEXT('入力シート(総体)'!$H326,\"00\"))","v":""},null,{"$f":"IF('入力シート(総体)'!$H327=\"\",\"\",TEXT('入力シート(総体)'!$H327,\"00\"))","v":""},null,{"$f":"IF('入力シート(総体)'!$H328=\"\",\"\",TEXT('入力シート(総体)'!$H328,\"00\"))","v":""},null,{"$f":"IF('入力シート(総体)'!$H329=\"\",\"\",TEXT('入力シート(総体)'!$H329,\"00\"))","v":""},null,{"$f":"IF('入力シート(総体)'!$H330=\"\",\"\",TEXT('入力シート(総体)'!$H330,\"00\"))","v":""}]
[{"$f":"IF('入力シート(総体)'!$H326=\"\",\"\",大会コード)","v":""},{"$f":"IF('入力シート(総体)'!$H326=\"\",\"\",IF('入力シート(総体)'!$B326=\"男\",0,1))","v":""},{"$f":"IF('入力シート(総体)'!$H326=\"\",\"\",'入力シート(総体)'!C326)","v":""},{"$f":"IF('入力シート(総体)'!$H326=\"\",\"\",TEXT('入力シート(総体)'!$E326,\"000\"))","v":""},null,null,{"$f":"IF('入力シート(総体)'!$H326=\"\",\"\",学校番号)","v":""},{"$f":"IF('入力シート(総体)'!$H326=\"\",\"\",'入力シート(総体)'!$K326)","v":""},{"$nulls":3},{"$f":"IF('入力シート(総体)'!$H326=\"\",\"\",TEXT('入力シート(総体)'!$H326,\"00\"))","v":""},null,{"$f":"IF('入力シート(総体)'!$H327=\"\",\"\",TEXT('入力シート(総体)'!$H327,\"00\"))","v":""},null,{"$f":"IF('入力シート(総体)'!$H328=\"\",\"\",TEXT('入力シート(総体)'!$H328,\"00\"))","v":""},null,{"$f":"IF('入力シート(総体)'!$H329=\"\",\"\",TEXT('入力シート(総体)'!$H329,\"00\"))","v":""},null,{"$f":"IF('入力シート(総体)'!$H330=\"\",\"\",TEXT('入力シート(総体)'!$H330,\"00\"))","v":""},null,{"$f":"IF('入力シート(総体)'!$H331=\"\",\"\",TEXT('入力シート(総体)'!$H331,\"00\"))","v":""}]
[{"$f":"IF('入力シート(総体)'!$H327=\"\",\"\",大会コード)","v":""},{"$f":"IF('入力シート(総体)'!$H327=\"\",\"\",IF('入力シート(総体)'!$B327=\"男\",0,1))","v":""},{"$f":"IF('入力シート(総体)'!$H327=\"\",\"\",'入力シート(総体)'!C327)","v":""},{"$f":"IF('入力シート(総体)'!$H327=\"\",\"\",TEXT('入力シート(総体)'!$E327,\"000\"))","v":""},null,null,{"$f":"IF('入力シート(総体)'!$H327=\"\",\"\",学校番号)","v":""},{"$f":"IF('入力シート(総体)'!$H327=\"\",\"\",'入力シート(総体)'!$K327)","v":""},{"$nulls":3},{"$f":"IF('入力シート(総体)'!$H327=\"\",\"\",TEXT('入力シート(総体)'!$H327,\"00\"))","v":""},null,{"$f":"IF('入力シート(総体)'!$H328=\"\",\"\",TEXT('入力シート(総体)'!$H328,\"00\"))","v":""},null,{"$f":"IF('入力シート(総体)'!$H329=\"\",\"\",TEXT('入力シート(総体)'!$H329,\"00\"))","v":""},null,{"$f":"IF('入力シート(総体)'!$H330=\"\",\"\",TEXT('入力シート(総体)'!$H330,\"00\"))","v":""},null,{"$f":"IF('入力シート(総体)'!$H331=\"\",\"\",TEXT('入力シート(総体)'!$H331,\"00\"))","v":""},null,{"$f":"IF('入力シート(総体)'!$H332=\"\",\"\",TEXT('入力シート(総体)'!$H332,\"00\"))","v":""}]
[{"$f":"IF('入力シート(総体)'!$H328=\"\",\"\",大会コード)","v":""},{"$f":"IF('入力シート(総体)'!$H328=\"\",\"\",IF('入力シート(総体)'!$B328=\"男\",0,1))","v":""},{"$f":"IF('入力シート(総体)'!$H328=\"\",\"\",'入力シート(総体)'!C328)","v":""},{"$f":"IF('入力シート(総体)'!$H328=\"\",\"\",TEXT('入力シート(総体)'!$E328,\"000\"))","v":""},null,null,{"$f":"IF('入力シート(総体)'!$H328=\"\",\"\",学校番号)","v":""},{"$f":"IF('入力シート(総体)'!$H328=\"\",\"\",'入力シート(総体)'!$K328)","v":""},{"$nulls":3},{"$f":"IF('入力シート(総体)'!$H328=\"\",\"\",TEXT('入力シート(総体)'!$H328,\"00\"))","v":""},null,{"$f":"IF('入力シート(総体)'!$H329=\"\",\"\",TEXT('入力シート(総体)'!$H329,\"00\"))","v":""},null,{"$f":"IF('入力シート(総体)'!$H330=\"\",\"\",TEXT('入力シート(総体)'!$H330,\"00\"))","v":""},null,{"$f":"IF('入力シート(総体)'!$H331=\"\",\"\",TEXT('入力シート(総体)'!$H331,\"00\"))","v":""},null,{"$f":"IF('入力シート(総体)'!$H332=\"\",\"\",TEXT('入力シート(総体)'!$H332,\"00\"))","v":""},null,{"$f":"IF('入力シート(総体)'!$H333=\"\",\"\",TEXT('入力シート(総体)'!$H333,\"00\"))","v":""}]
[{"$f":"IF('入力シート(総体)'!$H329=\"\",\"\",大会コード)","v":""},{"$f":"IF('入力シート(総体)'!$H329=\"\",\"\",IF('入力シート(総体)'!$B329=\"男\",0,1))","v":""},{"$f":"IF('入力シート(総体)'!$H329=\"\",\"\",'入力シート(総体)'!C329)","v":""},{"$f":"IF('入力シート(総体)'!$H329=\"\",\"\",TEXT('入力シート(総体)'!$E329,\"000\"))","v":""},null,null,{"$f":"IF('入力シート(総体)'!$H329=\"\",\"\",学校番号)","v":""},{"$f":"IF('入力シート(総体)'!$H329=\"\",\"\",'入力シート(総体)'!$K329)","v":""},{"$nulls":3},{"$f":"IF('入力シート(総体)'!$H329=\"\",\"\",TEXT('入力シート(総体)'!$H329,\"00\"))","v":""},null,{"$f":"IF('入力シート(総体)'!$H330=\"\",\"\",TEXT('入力シート(総体)'!$H330,\"00\"))","v":""},null,{"$f":"IF('入力シート(総体)'!$H331=\"\",\"\",TEXT('入力シート(総体)'!$H331,\"00\"))","v":""},null,{"$f":"IF('入力シート(総体)'!$H332=\"\",\"\",TEXT('入力シート(総体)'!$H332,\"00\"))","v":""},null,{"$f":"IF('入力シート(総体)'!$H333=\"\",\"\",TEXT('入力シート(総体)'!$H333,\"00\"))","v":""},null,{"$f":"IF('入力シート(総体)'!$H334=\"\",\"\",TEXT('入力シート(総体)'!$H334,\"00\"))","v":""}]

{"sheet":"入力シート(地区別)","index":16,"n_rows":271,"n_cols":23,"rows_kept":271,"hidden":true,"merged":[[1,0,12,0],[13,0,24,0],[25,0,36,0],[37,0,66,0],[67,0,72,0],[73,0,102,0],[103,0,132,0],[104,3,107,7],[104,8,104,9],[104,12,107,12],[105,8,105,9],[106,8,106,9],[107,8,107,9],[109,3,112,7],[109,8,109,9],[109,12,112,12],[110,8,110,9],[111,8,111,9],[112,8,112,9],[114,3,117,7],[114,8,114,9],[114,12,117,12],[115,8,115,9],[116,8,116,9],[117,8,117,9],[119,3,122,7],[119,8,119,9],[119,12,122,12],[120,8,120,9],[121,8,121,9],[122,8,122,9],[124,3,127,7],[124,8,124,9],[124,12,127,12],[125,8,125,9],[126,8,126,9],[127,8,127,9],[129,3,132,7],[129,8,129,9],[129,12,132,12],[130,8,130,9],[131,8,131,9],[132,8,132,9],[133,0,138,0],[134,10,138,12],[139,0,150,0],[151,0,162,0],[163,0,174,0],[175,0,192,0],[193,0,198,0],[199,0,222,0],[223,0,257,0],[224,3,227,7],[224,8,224,9],[224,12,227,12],[225,8,225,9],[226,8,226,9],[227,8,227,9],[229,3,232,7],[229,8,229,9],[229,12,232,12],[230,8,230,9],[231,8,231,9],[232,8,232,9],[234,3,237,7],[234,8,234,9],[234,12,237,12],[235,8,235,9],[236,8,236,9],[237,8,237,9],[239,3,242,7],[239,8,239,9],[239,12,242,12],[240,8,240,9],[241,8,241,9],[242,8,242,9],[244,3,247,7],[244,8,244,9],[244,12,247,12],[245,8,245,9],[246,8,246,9],[247,8,247,9],[249,3,252,7],[249,8,249,9],[249,12,252,12],[250,8,250,9],[251,8,251,9],[252,8,252,9],[254,3,257,7],[254,8,254,9],[254,12,257,12],[255,8,255,9],[256,8,256,9],[257,8,257,9],[258,0,263,0],[259,10,263,12]]}
["性別","性別","種別コード","種別","種目コード","種目","学校番号","個人番号","氏名","学年","申込記録","計測区分","大会名",null,null,"検索値","種目内重複","個人種目数","個人出場数","標準記録","最低記録","最高記録","学年制限"]
["男子１年トラック","男",1,{"$f":"VLOOKUP(C2,出場種別,2,FALSE)","v":"１年"},"001",{"$f":"VLOOKUP(E2,種目コード,2,FALSE)","v":"１００ｍ"},{"$f":"学校番号","v":0},null,{"$f":"IF(H2=\"\",\"\",VLOOKUP(P2,部員データ,3,FALSE)&\"　\"&VLOOKUP(P2,部員データ,4,FALSE))","v":""},{"$f":"IF(H2=\"\",\"\",VLOOKUP(P2,部員データ,2,FALSE))","v":""},{"$nulls":5},{"$f":"IF(H2=\"\",\"\",B2&DBCS(TEXT(H2,\"００\")))","v":""},{"$f":"COUNTIFS($B$2:$B$264,$B2,$C$2:$C$264,$C2,$E$2:$E$264,$E2,$H$2:$H$264,$H2)","v":0},{"$f":"IF(P2=\"\",\"\",COUNTIF($P$2:$P$133,P2))","v":""},{"$f":"IF(P2=\"\",\"\",COUNTIF($P$2:$P$264,P2))","v":""},{"$f":"IF(VLOOKUP(E2,男子標準記録,C2+3,FALSE)=\"\",\"\",VLOOKUP(E2,男子標準記録,C2+3,FALSE))","v":""},{"$f":"VLOOKUP(E2,種目コード,4,FALSE)","v":10},{"$f":"IF(FIND(\".\",TEXT(K2,\"#.00\"))>3,MID(TEXT(K2,\"#.00\"),FIND(\".\",TEXT(K2,\"#.00\"))-2,2)/1,\"\")","v":""},{"$f":"VLOOKUP(C2,Syumoku_D,3,FALSE)","v":1}]
[null,"男",1,"１年","001","１００ｍ",0,null,"","",{"$nulls":5},"",0,{"$f":"IF(P3=\"\",\"\",COUNTIF($P$2:$P$133,P3))","v":""},"","",10,"",1]
[null,"男",1,"１年","001","１００ｍ",0,null,"","",{"$nulls":5},"",0,"","","",10,"",1]
[null,"男",1,"１年","001","１００ｍ",0,null,"","",{"$nulls":5},"",0,"","","",10,"",1]
[null,"男",1,"１年","001","１００ｍ",0,null,"","",{"$nulls":5},"",0,"","","",10,"",1]
[null,"男",1,"１年","001","１００ｍ",0,null,"","",{"$nulls":5},"",0,"","","",10,"",1]
[null,"男",1,"１年","015","１５００ｍ",0,null,"","",{"$nulls":5},"",0,"","","",340,"",1]
[null,"男",1,{"$f":"VLOOKUP(C9,出場種別,2,FALSE)","v":"１年"},"015","１５００ｍ",0,null,{"$f":"IF(H9=\"\",\"\",VLOOKUP(P9,部員データ,3,FALSE)&\"　\"&VLOOKUP(P9,部員データ,4,FALSE))","v":""},{"$f":"IF(H9=\"\",\"\",VLOOKUP(P9,部員データ,2,FALSE))","v":""},{"$nulls":5},{"$f":"IF(H9=\"\",\"\",B9&DBCS(TEXT(H9,\"００\")))","v":""},0,"","",{"$f":"IF(VLOOKUP(E9,男子標準記録,C9+3,FALSE)=\"\",\"\",VLOOKUP(E9,男子標準記録,C9+3,FALSE))","v":""},{"$f":"VLOOKUP(E9,種目コード,4,FALSE)","v":340},{"$f":"IF(FIND(\".\",TEXT(K9,\"#.00\"))>3,MID(TEXT(K9,\"#.00\"),FIND(\".\",TEXT(K9,\"#.00\"))-2,2)/1,\"\")","v":""},1]
[null,"男",1,"１年","015","１５００ｍ",0,null,"","",{"$nulls":5},"",0,"","","",340,"",1]
[null,"男",1,"１年","015","１５００ｍ",0,null,"","",{"$nulls":5},"",0,"","","",340,"",1]
[null,"男",1,"１年","015","１５００ｍ",0,null,"","",{"$nulls":5},"",0,"","","",340,"",1]
[null,"男",1,"１年","015","１５００ｍ",0,null,"","",{"$nulls":5},"",0,"","","",340,"",1]
["男子２年トラック","男",2,"２年","001","１００ｍ",0,null,"","",{"$nulls":5},"",0,"","","",10,"",2]
[null,"男",2,{"$f":"VLOOKUP(C15,出場種別,2,FALSE)","v":"２年"},"001","１００ｍ",0,null,{"$f":"IF(H15=\"\",\"\",VLOOKUP(P15,部員データ,3,FALSE)&\"　\"&VLOOKUP(P15,部員データ,4,FALSE))","v":""},{"$f":"IF(H15=\"\",\"\",VLOOKUP(P15,部員データ,2,FALSE))","v":""},{"$nulls":5},{"$f":"IF(H15=\"\",\"\",B15&DBCS(TEXT(H15,\"００\")))","v":""},0,"","",{"$f":"IF(VLOOKUP(E15,男子標準記録,C15+3,FALSE)=\"\",\"\",VLOOKUP(E15,男子標準記録,C15+3,FALSE))","v":""},{"$f":"VLOOKUP(E15,種目コード,4,FALSE)","v":10},{"$f":"IF(FIND(\".\",TEXT(K15,\"#.00\"))>3,MID(TEXT(K15,\"#.00\"),FIND(\".\",TEXT(K15,\"#.00\"))-2,2)/1,\"\")","v":""},2]
[null,"男",2,"２年","001","１００ｍ",0,null,"","",{"$nulls":5},"",0,"","","",10,"",2]
[null,"男",2,"２年","001","１００ｍ",0,null,"","",{"$nulls":5},"",0,"","","",10,"",2]
[null,"男",2,"２年","001","１００ｍ",0,null,"","",{"$nulls":5},"",0,"","","",10,"",2]
[null,"男",2,{"$f":"VLOOKUP(C19,出場種別,2,FALSE)","v":"２年"},"001",{"$f":"VLOOKUP(E19,種目コード,2,FALSE)","v":"１００ｍ"},0,null,{"$f":"IF(H19=\"\",\"\",VLOOKUP(P19,部員データ,3,FALSE)&\"　\"&VLOOKUP(P19,部員データ,4,FALSE))","v":""},{"$f":"IF(H19=\"\",\"\",VLOOKUP(P19,部員データ,2,FALSE))","v":""},{"$nulls":5},{"$f":"IF(H19=\"\",\"\",B19&DBCS(TEXT(H19,\"００\")))","v":""},0,"","",{"$f":"IF(VLOOKUP(E19,男子標準記録,C19+3,FALSE)=\"\",\"\",VLOOKUP(E19,男子標準記録,C19+3,FALSE))","v":""},{"$f":"VLOOKUP(E19,種目コード,4,FALSE)","v":10},{"$f":"IF(FIND(\".\",TEXT(K19,\"#.00\"))>3,MID(TEXT(K19,\"#.00\"),FIND(\".\",TEXT(K19,\"#.00\"))-2,2)/1,\"\")","v":""},{"$f":"VLOOKUP(C19,Syumoku_D,3,FALSE)","v":2}]
[null,"男",2,{"$f":"VLOOKUP(C20,出場種別,2,FALSE)","v":"２年"},"015",{"$f":"VLOOKUP(E20,種目コード,2,FALSE)","v":"１５００ｍ"},0,null,{"$f":"IF(H20=\"\",\"\",VLOOKUP(P20,部員データ,3,FALSE)&\"　\"&VLOOKUP(P20,部員データ,4,FALSE))","v":""},{"$f":"IF(H20=\"\",\"\",VLOOKUP(P20,部員データ,2,FALSE))","v":""},{"$nulls":5},{"$f":"IF(H20=\"\",\"\",B20&DBCS(TEXT(H20,\"００\")))","v":""},0,"","",{"$f":"IF(VLOOKUP(E20,男子標準記録,C20+3,FALSE)=\"\",\"\",VLOOKUP(E20,男子標準記録,C20+3,FALSE))","v":""},{"$f":"VLOOKUP(E20,種目コード,4,FALSE)","v":340},{"$f":"IF(FIND(\".\",TEXT(K20,\"#.00\"))>3,MID(TEXT(K20,\"#.00\"),FIND(\".\",TEXT(K20,\"#.00\"))-2,2)/1,\"\")","v":""},{"$f":"VLOOKUP(C20,Syumoku_D,3,FALSE)","v":2}]
[null,"男",2,{"$f":"VLOOKUP(C21,出場種別,2,FALSE)","v":"２年"},"015",{"$f":"VLOOKUP(E21,種目コード,2,FALSE)","v":"１５００ｍ"},0,null,{"$f":"IF(H21=\"\",\"\",VLOOKUP(P21,部員データ,3,FALSE)&\"　\"&VLOOKUP(P21,部員データ,4,FALSE))","v":""},{"$f":"IF(H21=\"\",\"\",VLOOKUP(P21,部員データ,2,FALSE))","v":""},{"$nulls":5},{"$f":"IF(H21=\"\",\"\",B21&DBCS(TEXT(H21,\"００\")))","v":""},0,"","",{"$f":"IF(VLOOKUP(E21,男子標準記録,C21+3,FALSE)=\"\",\"\",VLOOKUP(E21,男子標準記録,C21+3,FALSE))","v":""},{"$f":"VLOOKUP(E21,種目コード,4,FALSE)","v":340},{"$f":"IF(FIND(\".\",TEXT(K21,\"#.00\"))>3,MID(TEXT(K21,\"#.00\"),FIND(\".\",TEXT(K21,\"#.00\"))-2,2)/1,\"\")","v":""},{"$f":"VLOOKUP(C21,Syumoku_D,3,FALSE)","v":2}]
[null,"男",2,"２年","015","１５００ｍ",0,null,"","",{"$nulls":5},"",0,"","","",340,"",2]
[null,"男",2,"２年","015","１５００ｍ",0,null,"","",{"$nulls":5},"",0,"","","",340,"",2]
[null,"男",2,"２年","015","１５００ｍ",0,null,"","",{"$nulls":5},"",0,"","","",340,"",2]
[null,"男",2,"２年","015","１５００ｍ",0,null,"","",{"$nulls":5},"",0,"","","",340,"",2]
["男子３年トラック","男",3,"３年","001","１００ｍ",0,null,"","",{"$nulls":5},"",0,"","","",10,"",3]
[null,"男",3,{"$f":"VLOOKUP(C27,出場種別,2,FALSE)","v":"３年"},"001","１００ｍ",0,null,{"$f":"IF(H27=\"\",\"\",VLOOKUP(P27,部員データ,3,FALSE)&\"　\"&VLOOKUP(P27,部員データ,4,FALSE))","v":""},{"$f":"IF(H27=\"\",\"\",VLOOKUP(P27,部員データ,2,FALSE))","v":""},{"$nulls":5},{"$f":"IF(H27=\"\",\"\",B27&DBCS(TEXT(H27,\"００\")))","v":""},0,"","",{"$f":"IF(VLOOKUP(E27,男子標準記録,C27+3,FALSE)=\"\",\"\",VLOOKUP(E27,男子標準記録,C27+3,FALSE))","v":""},{"$f":"VLOOKUP(E27,種目コード,4,FALSE)","v":10},{"$f":"IF(FIND(\".\",TEXT(K27,\"#.00\"))>3,MID(TEXT(K27,\"#.00\"),FIND(\".\",TEXT(K27,\"#.00\"))-2,2)/1,\"\")","v":""},3]
[null,"男",3,"３年","001","１００ｍ",0,null,"","",{"$nulls":5},"",0,"","","",10,"",3]
[null,"男",3,"３年","001","１００ｍ",0,null,"","",{"$nulls":5},"",0,"","","",10,"",3]
[null,"男",3,"３年","001","１００ｍ",0,null,"","",{"$nulls":5},"",0,"","","",10,"",3]
[null,"男",3,"３年","001","１００ｍ",0,null,"","",{"$nulls":5},"",0,"","","",10,"",3]
[null,"男",3,"３年","015","１５００ｍ",0,null,"","",{"$nulls":5},"",0,"","","",340,"",3]
[null,"男",3,"３年","015","１５００ｍ",0,null,"","",{"$nulls":5},"",0,"","","",340,"",3]
[null,"男",3,"３年","015",{"$f":"VLOOKUP(E34,種目コード,2,FALSE)","v":"１５００ｍ"},0,null,"","",{"$nulls":5},"",0,"","","",340,"",{"$f":"VLOOKUP(C34,Syumoku_D,3,FALSE)","v":3}]
[null,"男",3,"３年","015","１５００ｍ",0,null,"","",{"$nulls":5},"",0,"","","",340,"",3]
[null,"男",3,"３年","015","１５００ｍ",0,null,"","",{"$nulls":5},"",0,"","","",340,"",3]
[null,"男",3,"３年","015","１５００ｍ",0,null,"","",{"$nulls":5},"",0,"","","",340,"",3]
["男子２・３年トラック","男",5,{"$f":"VLOOKUP(C38,出場種別,2,FALSE)","v":"２．３年"},"002","２００ｍ",0,null,{"$f":"IF(H38=\"\",\"\",VLOOKUP(P38,部員データ,3,FALSE)&\"　\"&VLOOKUP(P38,部員データ,4,FALSE))","v":""},{"$f":"IF(H38=\"\",\"\",VLOOKUP(P38,部員データ,2,FALSE))","v":""},{"$nulls":5},{"$f":"IF(H38=\"\",\"\",B38&DBCS(TEXT(H38,\"００\")))","v":""},0,"","",{"$f":"IF(VLOOKUP(E38,男子標準記録,C38+3,FALSE)=\"\",\"\",VLOOKUP(E38,男子標準記録,C38+3,FALSE))","v":""},{"$f":"VLOOKUP(E38,種目コード,4,FALSE)","v":20.5},{"$f":"IF(FIND(\".\",TEXT(K38,\"#.00\"))>3,MID(TEXT(K38,\"#.00\"),FIND(\".\",TEXT(K38,\"#.00\"))-2,2)/1,\"\")","v":""},">1"]
[null,"男",5,"２．３年","002","２００ｍ",0,null,"","",{"$nulls":5},"",0,"","","",20.5,"",">1"]
[null,"男",5,"２．３年","002","２００ｍ",0,null,"","",{"$nulls":5},"",0,"","","",20.5,"",">1"]
[null,"男",5,"２．３年","002","２００ｍ",0,null,"","",{"$nulls":5},"",0,"","","",20.5,"",">1"]
[null,"男",5,"２．３年","002","２００ｍ",0,null,"","",{"$nulls":5},"",0,"","","",20.5,"",">1"]
[null,"男",5,"２．３年","002","２００ｍ",0,null,"","",{"$nulls":5},"",0,"","","",20.5,"",">1"]
[null,"男",5,"２．３年","004","４００ｍ",0,null,"","",{"$nulls":5},"",0,"","","",42,"",">1"]
[null,"男",5,"２．３年","004","４００ｍ",0,null,"","",{"$nulls":5},"",0,"","","",42,"",">1"]
[null,"男",5,"２．３年","004","４００ｍ",0,null,"","",{"$nulls":5},"",0,"","","",42,"",">1"]
[null,"男",5,"２．３年","004","４００ｍ",0,null,"","",{"$nulls":5},"",0,"","","",42,"",">1"]
[null,"男",5,"２．３年","004","４００ｍ",0,null,"","",{"$nulls":5},"",0,"","","",42,"",">1"]
[null,"男",5,"２．３年","004","４００ｍ",0,null,"","",{"$nulls":5},"",0,"","","",42,"",">1"]
[null,"男",5,"２．３年","008","８００ｍ",0,null,"","",{"$nulls":5},"",0,"","","",150,"",">1"]
[null,"男",5,"２．３年","008","８００ｍ",0,null,"","",{"$nulls":5},"",0,"","","",150,"",">1"]
[null,"男",5,"２．３年","008","８００ｍ",0,null,"","",{"$nulls":5},"",0,"","","",150,"",">1"]
[null,"男",5,"２．３年","008","８００ｍ",0,null,"","",{"$nulls":5},"",0,"","","",150,"",">1"]
[null,"男",5,"２．３年","008","８００ｍ",0,null,"","",{"$nulls":5},"",0,"","","",150,"",">1"]
[null,"男",5,"２．３年","008","８００ｍ",0,null,"","",{"$nulls":5},"",0,"","","",150,"",">1"]
[null,"男",5,"２．３年","030","３０００ｍ",0,null,"","",{"$nulls":5},"",0,"","","",800,"",">1"]
[null,"男",5,"２．３年","030","３０００ｍ",0,null,"","",{"$nulls":5},"",0,"","","",800,"",">1"]
[null,"男",5,"２．３年","030","３０００ｍ",0,null,"","",{"$nulls":5},"",0,"","","",800,"",">1"]
[null,"男",5,"２．３年","030","３０００ｍ",0,null,"","",{"$nulls":5},"",0,"","","",800,"",">1"]
[null,"男",5,"２．３年","030","３０００ｍ",0,null,"","",{"$nulls":5},"",0,"","","",800,"",">1"]
[null,"男",5,"２．３年","030","３０００ｍ",0,null,"","",{"$nulls":5},"",0,"","",null,800,"",">1"]
[null,"男",5,"２．３年","111","１１０ｍＨ",0,null,"","",{"$nulls":5},"",0,"","",null,12,"",">1"]
[null,"男",5,"２．３年","111","１１０ｍＨ",0,null,"","",{"$nulls":5},"",0,"","",null,12,"",">1"]
[null,"男",5,"２．３年","111",{"$f":"VLOOKUP(E64,種目コード,2,FALSE)","v":"１１０ｍＨ"},0,null,"","",{"$nulls":5},"",0,"","",null,12,"",{"$f":"VLOOKUP(C64,Syumoku_D,3,FALSE)","v":">1"}]
[null,"男",5,"２．３年","111","１１０ｍＨ",0,null,"","",{"$nulls":5},"",0,"","",null,12,"",">1"]
[null,"男",5,"２．３年","111","１１０ｍＨ",0,null,"","",{"$nulls":5},"",{"$f":"COUNTIFS($B$2:$B$264,$B66,$C$2:$C$264,$C66,$E$2:$E$264,$E66,$H$2:$H$264,$H66)","v":0},{"$f":"IF(P66=\"\",\"\",COUNTIF($P$2:$P$133,P66))","v":""},{"$f":"IF(P66=\"\",\"\",COUNTIF($P$2:$P$264,P66))","v":""},null,12,"",">1"]
[null,"男",5,{"$f":"VLOOKUP(C67,出場種別,2,FALSE)","v":"２．３年"},"111",{"$f":"VLOOKUP(E67,種目コード,2,FALSE)","v":"１１０ｍＨ"},{"$f":"学校番号","v":0},null,{"$f":"IF(H67=\"\",\"\",VLOOKUP(P67,部員データ,3,FALSE)&\"　\"&VLOOKUP(P67,部員データ,4,FALSE))","v":""},{"$f":"IF(H67=\"\",\"\",VLOOKUP(P67,部員データ,2,FALSE))","v":""},{"$nulls":5},"",0,"","",null,{"$f":"VLOOKUP(E67,種目コード,4,FALSE)","v":12},"",">1"]
["１年フィールド","男",1,"１年","530","走幅跳",0,null,"","",{"$nulls":5},{"$f":"IF(H68=\"\",\"\",B68&DBCS(TEXT(H68,\"００\")))","v":""},0,"","",{"$f":"IF(VLOOKUP(E68,男子標準記録,C68+3,FALSE)=\"\",\"\",VLOOKUP(E68,男子標準記録,C68+3,FALSE))","v":""},8,{"$f":"IF(FIND(\".\",TEXT(K68,\"#.00\"))>3,MID(TEXT(K68,\"#.00\"),FIND(\".\",TEXT(K68,\"#.00\"))-2,2)/1,\"\")","v":""},1]
[null,"男",1,"１年","530","走幅跳",0,null,"","",{"$nulls":5},"",0,"","","",8,"",1]
[null,"男",1,"１年","530","走幅跳",0,null,"","",{"$nulls":5},"",0,"","","",8,"",1]
[null,"男",1,"１年","530","走幅跳",0,null,"","",{"$nulls":5},"",0,"","","",8,"",1]
[null,"男",1,"１年","530","走幅跳",0,null,"","",{"$nulls":5},"",0,"","","",8,"",1]
[null,"男",1,"１年","530","走幅跳",0,null,"","",{"$nulls":5},"",0,"","","",8,"",1]
["男子２・３年フィールド種目","男",5,{"$f":"VLOOKUP(C74,出場種別,2,FALSE)","v":"２．３年"},"510","走高跳",0,null,{"$f":"IF(H74=\"\",\"\",VLOOKUP(P74,部員データ,3,FALSE)&\"　\"&VLOOKUP(P74,部員データ,4,FALSE))","v":""},{"$f":"IF(H74=\"\",\"\",VLOOKUP(P74,部員データ,2,FALSE))","v":""},{"$nulls":5},{"$f":"IF(H74=\"\",\"\",B74&DBCS(TEXT(H74,\"００\")))","v":""},0,"","",null,{"$f":"VLOOKUP(E74,種目コード,4,FALSE)","v":2.4},{"$f":"IF(FIND(\".\",TEXT(K74,\"#.00\"))>3,MID(TEXT(K74,\"#.00\"),FIND(\".\",TEXT(K74,\"#.00\"))-2,2)/1,\"\")","v":""},">1"]
[null,"男",5,"２．３年","510","走高跳",0,null,"","",{"$nulls":5},"",0,"","",null,2.4,"",">1"]
[null,"男",5,"２．３年","510","走高跳",0,null,"","",{"$nulls":5},"",0,"","",null,2.4,"",">1"]
[null,"男",5,"２．３年","510","走高跳",0,null,"","",{"$nulls":5},"",0,"","",null,2.4,"",">1"]
[null,"男",5,"２．３年","510","走高跳",0,null,"","",{"$nulls":5},"",0,"","",null,2.4,"",">1"]
[null,"男",5,"２．３年","510","走高跳",0,null,"","",{"$nulls":5},"",0,"","",null,2.4,"",">1"]
[null,"男",5,"２．３年","520","棒高跳",0,null,"","",{"$nulls":5},"",0,"","",{"$f":"IF(VLOOKUP(E80,男子標準記録,C80+3,FALSE)=\"\",\"\",VLOOKUP(E80,男子標準記録,C80+3,FALSE))","v":""},5.5,"",">1"]
[null,"男",5,"２．３年","520","棒高跳",0,null,"","",{"$nulls":5},"",0,"","","",5.5,"",">1"]
[null,"男",5,"２．３年","520","棒高跳",0,null,"","",{"$nulls":5},"",0,"","","",5.5,"",">1"]
[null,"男",5,"２．３年","520","棒高跳",0,null,"","",{"$nulls":5},"",0,"","","",5.5,"",">1"]
[null,"男",5,"２．３年","520","棒高跳",0,null,"","",{"$nulls":5},"",0,"","","",5.5,"",">1"]
[null,"男",5,"２．３年","520","棒高跳",0,null,"","",{"$nulls":5},"",0,"","","",5.5,"",">1"]
[null,"男",5,"２．３年","530","走幅跳",0,null,"","",{"$nulls":5},"",0,"","","",8,"",">1"]
[null,"男",5,"２．３年","530","走幅跳",0,null,"","",{"$nulls":5},"",0,"","","",8,"",">1"]
[null,"男",5,"２．３年","530","走幅跳",0,null,"","",{"$nulls":5},"",0,"","","",8,"",">1"]
[null,"男",5,"２．３年","530","走幅跳",0,null,"","",{"$nulls":5},"",0,"","","",8,"",">1"]
[null,"男",5,"２．３年","530","走幅跳",0,null,"","",{"$nulls":5},"",0,"","","",8,"",">1"]
[null,"男",5,"２．３年","530","走幅跳",0,null,"","",{"$nulls":5},"",0,"","","",8,"",">1"]
[null,"男",5,"２．３年","562","砲丸投(5.0㎏)",0,null,"","",{"$nulls":5},"",0,"","","",20,"",">1"]
[null,"男",5,"２．３年","562","砲丸投(5.0㎏)",0,null,"","",{"$nulls":5},"",0,"","","",20,"",">1"]
[null,"男",5,"２．３年","562","砲丸投(5.0㎏)",0,null,"","",{"$nulls":5},"",0,"","","",20,"",">1"]
[null,"男",5,"２．３年","562","砲丸投(5.0㎏)",0,null,"","",{"$nulls":5},"",0,"","","",20,"",">1"]
[null,"男",5,"２．３年","562","砲丸投(5.0㎏)",0,null,"","",{"$nulls":5},"",0,"","","",20,"",{"$f":"VLOOKUP(C96,Syumoku_D,3,FALSE)","v":">1"}]
[null,"男",5,"２．３年","562","砲丸投(5.0㎏)",0,null,"","",{"$nulls":5},"",0,"","","",20,"",">1"]
[null,"男",5,"２．３年","551","円盤投(1.5㎏)",0,null,"","",{"$nulls":5},"",0,"","","",70,"",">1"]
[null,"男",5,"２．３年","551","円盤投(1.5㎏)",0,null,"","",{"$nulls":5},"",0,"","","",70,"",">1"]
[null,"男",5,"２．３年","551","円盤投(1.5㎏)",0,null,"","",{"$nulls":5},"",0,"","","",70,"",">1"]
[null,"男",5,"２．３年","551","円盤投(1.5㎏)",0,null,"","",{"$nulls":5},"",0,"","","",70,"",">1"]
[null,"男",5,"２．３年","551",{"$f":"VLOOKUP(E102,種目コード,2,FALSE)","v":"円盤投(1.5㎏)"},0,null,"","",{"$nulls":5},"",0,"","","",70,"",">1"]
[null,"男",5,"２．３年","551",{"$f":"VLOOKUP(E103,種目コード,2,FALSE)","v":"円盤投(1.5㎏)"},0,null,"","",{"$nulls":5},"",0,"","","",70,"",">1"]
["男子２・３年　混成競技","男",5,"２．３年","710",{"$f":"VLOOKUP(E104,種目コード,2,FALSE)","v":"男子四種競技"},0,null,"","",{"$nulls":5},"",0,"","","",3800,"",">1"]
[{"$nulls":8},"１１０ｍH",{"$nulls":7},0,"","",null,null,""]
[{"$nulls":8},"砲丸投げ",{"$nulls":7},0,"","",null,null,""]
[{"$nulls":8},"走高跳",{"$nulls":7},0,"","",null,null,""]
[{"$nulls":8},"４００ｍ",{"$nulls":7},0,"","",null,null,""]
[null,"男",5,{"$f":"VLOOKUP(C109,出場種別,2,FALSE)","v":"２．３年"},"710",{"$f":"VLOOKUP(E109,種目コード,2,FALSE)","v":"男子四種競技"},{"$f":"学校番号","v":0},null,{"$f":"IF(H109=\"\",\"\",VLOOKUP(P109,部員データ,3,FALSE)&\"　\"&VLOOKUP(P109,部員データ,4,FALSE))","v":""},{"$f":"IF(H109=\"\",\"\",VLOOKUP(P109,部員データ,2,FALSE))","v":""},{"$nulls":5},{"$f":"IF(H109=\"\",\"\",B109&DBCS(TEXT(H109,\"００\")))","v":""},0,"","",{"$f":"IF(VLOOKUP(E109,男子標準記録,C109+3,FALSE)=\"\",\"\",VLOOKUP(E109,男子標準記録,C109+3,FALSE))","v":""},{"$f":"VLOOKUP(E109,種目コード,4,FALSE)","v":3800},{"$f":"IF(FIND(\".\",TEXT(K109,\"#.00\"))>3,MID(TEXT(K109,\"#.00\"),FIND(\".\",TEXT(K109,\"#.00\"))-2,2)/1,\"\")","v":""},{"$f":"VLOOKUP(C109,Syumoku_D,3,FALSE)","v":">1"}]
[{"$nulls":8},"１１０ｍH",{"$nulls":7},0,"","",null,null,""]
[{"$nulls":8},"砲丸投げ",{"$nulls":7},0,"","",null,null,""]
[{"$nulls":8},"走高跳",{"$nulls":7},0,"","",null,null,""]
[{"$nulls":8},"４００ｍ",{"$nulls":7},0,"","",null,null,""]
[null,"男",5,{"$f":"VLOOKUP(C114,出場種別,2,FALSE)","v":"２．３年"},"710",{"$f":"VLOOKUP(E114,種目コード,2,FALSE)","v":"男子四種競技"},{"$f":"学校番号","v":0},null,{"$f":"IF(H114=\"\",\"\",VLOOKUP(P114,部員データ,3,FALSE)&\"　\"&VLOOKUP(P114,部員データ,4,FALSE))","v":""},{"$f":"IF(H114=\"\",\"\",VLOOKUP(P114,部員データ,2,FALSE))","v":""},{"$nulls":5},{"$f":"IF(H114=\"\",\"\",B114&DBCS(TEXT(H114,\"００\")))","v":""},0,"","",{"$f":"IF(VLOOKUP(E114,男子標準記録,C114+3,FALSE)=\"\",\"\",VLOOKUP(E114,男子標準記録,C114+3,FALSE))","v":""},{"$f":"VLOOKUP(E114,種目コード,4,FALSE)","v":3800},"",{"$f":"VLOOKUP(C114,Syumoku_D,3,FALSE)","v":">1"}]
[{"$nulls":8},"１１０ｍH",{"$nulls":7},0,"","",null,null,""]
[{"$nulls":8},"砲丸投げ",{"$nulls":7},0,"","",null,null,""]
[{"$nulls":8},"走高跳",{"$nulls":7},0,"","",null,null,""]
[{"$nulls":8},"４００ｍ",{"$nulls":7},0,"","",null,null,""]
[null,"男",5,{"$f":"VLOOKUP(C119,出場種別,2,FALSE)","v":"２．３年"},"710",{"$f":"VLOOKUP(E119,種目コード,2,FALSE)","v":"男子四種競技"},{"$f":"学校番号","v":0},null,{"$f":"IF(H119=\"\",\"\",VLOOKUP(P119,部員データ,3,FALSE)&\"　\"&VLOOKUP(P119,部員データ,4,FALSE))","v":""},{"$f":"IF(H119=\"\",\"\",VLOOKUP(P119,部員データ,2,FALSE))","v":""},{"$nulls":5},{"$f":"IF(H119=\"\",\"\",B119&DBCS(TEXT(H119,\"００\")))","v":""},0,"","",{"$f":"IF(VLOOKUP(E119,男子標準記録,C119+3,FALSE)=\"\",\"\",VLOOKUP(E119,男子標準記録,C119+3,FALSE))","v":""},{"$f":"VLOOKUP(E119,種目コード,4,FALSE)","v":3800},"",{"$f":"VLOOKUP(C119,Syumoku_D,3,FALSE)","v":">1"}]
[{"$nulls":8},"１１０ｍH",{"$nulls":7},0,"","",null,null,""]
[{"$nulls":8},"砲丸投げ",{"$nulls":7},0,"","",null,null,""]
[{"$nulls":8},"走高跳",{"$nulls":7},0,"","",null,null,""]
[{"$nulls":8},"４００ｍ",{"$nulls":7},0,"","",null,null,""]
[null,"男",5,{"$f":"VLOOKUP(C124,出場種別,2,FALSE)","v":"２．３年"},"710",{"$f":"VLOOKUP(E124,種目コード,2,FALSE)","v":"男子四種競技"},{"$f":"学校番号","v":0},null,{"$f":"IF(H124=\"\",\"\",VLOOKUP(P124,部員データ,3,FALSE)&\"　\"&VLOOKUP(P124,部員データ,4,FALSE))","v":""},{"$f":"IF(H124=\"\",\"\",VLOOKUP(P124,部員データ,2,FALSE))","v":""},{"$nulls":5},{"$f":"IF(H124=\"\",\"\",B124&DBCS(TEXT(H124,\"００\")))","v":""},0,"","",{"$f":"IF(VLOOKUP(E124,男子標準記録,C124+3,FALSE)=\"\",\"\",VLOOKUP(E124,男子標準記録,C124+3,FALSE))","v":""},{"$f":"VLOOKUP(E124,種目コード,4,FALSE)","v":3800},"",{"$f":"VLOOKUP(C124,Syumoku_D,3,FALSE)","v":">1"}]
[{"$nulls":8},"１１０ｍH",{"$nulls":7},0,"","",null,null,""]
[{"$nulls":8},"砲丸投げ",{"$nulls":7},0,"","",null,null,""]
[{"$nulls":8},"走高跳",{"$nulls":7},0,"","",null,null,""]
[{"$nulls":8},"４００ｍ",{"$nulls":7},0,"","",null,null,""]
[null,"男",5,{"$f":"VLOOKUP(C129,出場種別,2,FALSE)","v":"２．３年"},"710",{"$f":"VLOOKUP(E129,種目コード,2,FALSE)","v":"男子四種競技"},{"$f":"学校番号","v":0},null,{"$f":"IF(H129=\"\",\"\",VLOOKUP(P129,部員データ,3,FALSE)&\"　\"&VLOOKUP(P129,部員データ,4,FALSE))","v":""},{"$f":"IF(H129=\"\",\"\",VLOOKUP(P129,部員データ,2,FALSE))","v":""},{"$nulls":5},{"$f":"IF(H129=\"\",\"\",B129&DBCS(TEXT(H129,\"００\")))","v":""},0,"","",{"$f":"IF(VLOOKUP(E129,男子標準記録,C129+3,FALSE)=\"\",\"\",VLOOKUP(E129,男子標準記録,C129+3,FALSE))","v":""},{"$f":"VLOOKUP(E129,種目コード,4,FALSE)","v":3800},{"$f":"IF(FIND(\".\",TEXT(K129,\"#.00\"))>3,MID(TEXT(K129,\"#.00\"),FIND(\".\",TEXT(K129,\"#.00\"))-2,2)/1,\"\")","v":""},{"$f":"VLOOKUP(C129,Syumoku_D,3,FALSE)","v":">1"}]
[{"$nulls":8},"１１０ｍH",{"$nulls":7},{"$f":"COUNTIFS($B$2:$B$264,$B130,$C$2:$C$264,$C130,$E$2:$E$264,$E130,$H$2:$H$264,$H130)","v":0},{"$f":"IF(P130=\"\",\"\",COUNTIF($P$2:$P$133,P130))","v":""},{"$f":"IF(P130=\"\",\"\",COUNTIF($P$2:$P$264,P130))","v":""},null,null,{"$f":"IF(FIND(\".\",TEXT(K130,\"#.00\"))>3,MID(TEXT(K130,\"#.00\"),FIND(\".\",TEXT(K130,\"#.00\"))-2,2)/1,\"\")","v":""}]
[{"$nulls":8},"砲丸投げ",{"$nulls":7},0,"","",null,null,{"$f":"IF(FIND(\".\",TEXT(K131,\"#.00\"))>3,MID(TEXT(K131,\"#.00\"),FIND(\".\",TEXT(K131,\"#.00\"))-2,2)/1,\"\")","v":""}]
[{"$nulls":8},"走高跳",{"$nulls":7},0,"","",null,null,{"$f":"IF(FIND(\".\",TEXT(K132,\"#.00\"))>3,MID(TEXT(K132,\"#.00\"),FIND(\".\",TEXT(K132,\"#.00\"))-2,2)/1,\"\")","v":""}]
[{"$nulls":8},"４００ｍ",{"$nulls":7},0,"","",null,null,{"$f":"IF(FIND(\".\",TEXT(K133,\"#.00\"))>3,MID(TEXT(K133,\"#.00\"),FIND(\".\",TEXT(K133,\"#.00\"))-2,2)/1,\"\")","v":""}]
["男子リレー","男",0,{"$f":"VLOOKUP(C134,出場種別,2,FALSE)","v":"共通"},"410",{"$f":"VLOOKUP(E134,種目コード,2,FALSE)","v":"４×１００ｍＲ"},{"$f":"学校番号","v":0},null,{"$f":"IF(H134=\"\",\"\",VLOOKUP(P134,部員データ,3,FALSE)&\"　\"&VLOOKUP(P134,部員データ,4,FALSE))","v":""},{"$f":"IF(H134=\"\",\"\",VLOOKUP(P134,部員データ,2,FALSE))","v":""},{"$nulls":5},{"$f":"IF(H134=\"\",\"\",B134&DBCS(TEXT(H134,\"００\")))","v":""},0,"","",null,{"$f":"VLOOKUP(E134,種目コード,4,FALSE)","v":38},{"$f":"IF(FIND(\".\",TEXT(K134,\"#.00\"))>3,MID(TEXT(K134,\"#.00\"),FIND(\".\",TEXT(K134,\"#.00\"))-2,2)/1,\"\")","v":""},{"$f":"VLOOKUP(C134,Syumoku_D,3,FALSE)","v":"<=3"}]
[null,"男",0,"共通","410","４×１００ｍＲ",0,null,"","",{"$nulls":5},"",0,"","",null,38,"","<=3"]
[null,"男",0,"共通","410","４×１００ｍＲ",0,null,"","",{"$nulls":5},"",0,"","",null,38,"","<=3"]
[null,"男",0,"共通","410","４×１００ｍＲ",0,null,"","",{"$nulls":5},"",0,"","",null,38,"","<=3"]
[null,"男",0,"共通","410","４×１００ｍＲ",0,null,"","",{"$nulls":5},"",0,"","",null,38,"","<=3"]
[null,"男",0,"共通","410","４×１００ｍＲ",0,null,"","",{"$nulls":5},"",0,"","",null,38,"","<=3"]
["女子１年トラック","女",1,{"$f":"VLOOKUP(C140,出場種別,2,FALSE)","v":"１年"},"001",{"$f":"VLOOKUP(E140,種目コード,2,FALSE)","v":"１００ｍ"},{"$f":"学校番号","v":0},null,{"$f":"IF(H140=\"\",\"\",VLOOKUP(P140,部員データ,3,FALSE)&\"　\"&VLOOKUP(P140,部員データ,4,FALSE))","v":""},{"$f":"IF(H140=\"\",\"\",VLOOKUP(P140,部員データ,2,FALSE))","v":""},{"$nulls":5},{"$f":"IF(H140=\"\",\"\",B140&DBCS(TEXT(H140,\"００\")))","v":""},0,{"$f":"IF(P140=\"\",\"\",COUNTIF($P$140:$P$258,P140))","v":""},"",{"$f":"IF(VLOOKUP(E140,女子標準記録,C140+3,FALSE)=\"\",\"\",VLOOKUP(E140,女子標準記録,C140+3,FALSE))","v":""},{"$f":"VLOOKUP(E140,種目コード,6,FALSE)","v":11},{"$f":"IF(FIND(\".\",TEXT(K140,\"#.00\"))>3,MID(TEXT(K140,\"#.00\"),FIND(\".\",TEXT(K140,\"#.00\"))-2,2)/1,\"\")","v":""},{"$f":"VLOOKUP(C140,Syumoku_D,3,FALSE)","v":1}]
[null,"女",1,"１年","001","１００ｍ",0,null,"","",{"$nulls":5},"",0,"","","",11,"",1]
[null,"女",1,"１年","001","１００ｍ",0,null,"","",{"$nulls":5},"",0,"","","",11,"",1]
[null,"女",1,"１年","001","１００ｍ",0,null,"","",{"$nulls":5},"",0,"","","",11,"",1]
[null,"女",1,"１年","001","１００ｍ",0,null,"","",{"$nulls":5},"",0,"","","",11,"",1]
[null,"女",1,"１年","001","１００ｍ",0,null,"","",{"$nulls":5},"",0,"","","",11,"",1]
[null,"女",1,"１年","008","８００ｍ",0,null,"","",{"$nulls":5},"",0,"","","",200,"",1]
[null,"女",1,"１年","008","８００ｍ",0,null,"","",{"$nulls":5},"",0,"","","",200,"",1]
[null,"女",1,{"$f":"VLOOKUP(C148,出場種別,2,FALSE)","v":"１年"},"008",{"$f":"VLOOKUP(E148,種目コード,2,FALSE)","v":"８００ｍ"},0,null,{"$f":"IF(H148=\"\",\"\",VLOOKUP(P148,部員データ,3,FALSE)&\"　\"&VLOOKUP(P148,部員データ,4,FALSE))","v":""},{"$f":"IF(H148=\"\",\"\",VLOOKUP(P148,部員データ,2,FALSE))","v":""},{"$nulls":5},{"$f":"IF(H148=\"\",\"\",B148&DBCS(TEXT(H148,\"００\")))","v":""},0,"","",{"$f":"IF(VLOOKUP(E148,女子標準記録,C148+3,FALSE)=\"\",\"\",VLOOKUP(E148,女子標準記録,C148+3,FALSE))","v":""},{"$f":"VLOOKUP(E148,種目コード,6,FALSE)","v":200},{"$f":"IF(FIND(\".\",TEXT(K148,\"#.00\"))>3,MID(TEXT(K148,\"#.00\"),FIND(\".\",TEXT(K148,\"#.00\"))-2,2)/1,\"\")","v":""},1]
[null,"女",1,"１年","008","８００ｍ",0,null,"","",{"$nulls":5},"",0,"","","",200,"",1]
[null,"女",1,"１年","008","８００ｍ",0,null,"","",{"$nulls":5},"",0,"","","",200,"",1]
[null,"女",1,"１年","008","８００ｍ",0,null,"","",{"$nulls":5},"",0,"","","",200,"",1]
["女子２年トラック","女",2,"２年","001","１００ｍ",0,null,"","",{"$nulls":5},"",0,"","","",11,"",2]
[null,"女",2,"２年","001","１００ｍ",0,null,"","",{"$nulls":5},"",0,"","","",11,"",2]
[null,"女",2,"２年","001","１００ｍ",0,null,"","",{"$nulls":5},"",0,"","","",11,"",2]
[null,"女",2,"２年","001","１００ｍ",0,null,"","",{"$nulls":5},"",0,"","","",11,"",2]
[null,"女",2,"２年","001","１００ｍ",0,null,"","",{"$nulls":5},"",0,"","","",11,"",2]
[null,"女",2,"２年","001","１００ｍ",0,null,"","",{"$nulls":5},"",0,"","","",11,"",2]
[null,"女",2,"２年","008","８００ｍ",0,null,"","",{"$nulls":5},"",0,"","","",200,"",2]
[null,"女",2,"２年","008","８００ｍ",0,null,"","",{"$nulls":5},"",0,"","","",200,"",2]
[null,"女",2,{"$f":"VLOOKUP(C160,出場種別,2,FALSE)","v":"２年"},"008",{"$f":"VLOOKUP(E160,種目コード,2,FALSE)","v":"８００ｍ"},0,null,{"$f":"IF(H160=\"\",\"\",VLOOKUP(P160,部員データ,3,FALSE)&\"　\"&VLOOKUP(P160,部員データ,4,FALSE))","v":""},{"$f":"IF(H160=\"\",\"\",VLOOKUP(P160,部員データ,2,FALSE))","v":""},{"$nulls":5},{"$f":"IF(H160=\"\",\"\",B160&DBCS(TEXT(H160,\"００\")))","v":""},0,"","",{"$f":"IF(VLOOKUP(E160,女子標準記録,C160+3,FALSE)=\"\",\"\",VLOOKUP(E160,女子標準記録,C160+3,FALSE))","v":""},{"$f":"VLOOKUP(E160,種目コード,6,FALSE)","v":200},{"$f":"IF(FIND(\".\",TEXT(K160,\"#.00\"))>3,MID(TEXT(K160,\"#.00\"),FIND(\".\",TEXT(K160,\"#.00\"))-2,2)/1,\"\")","v":""},2]
[null,"女",2,"２年","008","８００ｍ",0,null,"","",{"$nulls":5},"",0,"","","",200,"",2]
[null,"女",2,"２年","008","８００ｍ",0,null,"","",{"$nulls":5},"",0,"","","",200,"",2]
[null,"女",2,"２年","008","８００ｍ",0,null,"","",{"$nulls":5},"",0,"","","",200,"",2]
["女子３年トラック","女",3,"３年","001","１００ｍ",0,null,"","",{"$nulls":5},"",0,"","","",11,"",3]
[null,"女",3,"３年","001","１００ｍ",0,null,"","",{"$nulls":5},"",0,"","","",11,"",3]
[null,"女",3,"３年","001","１００ｍ",0,null,"","",{"$nulls":5},"",0,"","","",11,"",3]
[null,"女",3,"３年","001","１００ｍ",0,null,"","",{"$nulls":5},"",0,"","","",11,"",3]
[null,"女",3,"３年","001","１００ｍ",0,null,"","",{"$nulls":5},"",0,"","","",11,"",3]
[null,"女",3,"３年","001","１００ｍ",0,null,"","",{"$nulls":5},"",0,"","","",11,"",3]
[null,"女",3,"３年","008","８００ｍ",0,null,"","",{"$nulls":5},"",0,"","","",200,"",3]
[null,"女",3,"３年","008","８００ｍ",0,null,"","",{"$nulls":5},"",0,"","","",200,"",3]
[null,"女",3,{"$f":"VLOOKUP(C172,出場種別,2,FALSE)","v":"３年"},"008",{"$f":"VLOOKUP(E172,種目コード,2,FALSE)","v":"８００ｍ"},0,null,{"$f":"IF(H172=\"\",\"\",VLOOKUP(P172,部員データ,3,FALSE)&\"　\"&VLOOKUP(P172,部員データ,4,FALSE))","v":""},{"$f":"IF(H172=\"\",\"\",VLOOKUP(P172,部員データ,2,FALSE))","v":""},{"$nulls":5},{"$f":"IF(H172=\"\",\"\",B172&DBCS(TEXT(H172,\"００\")))","v":""},0,{"$f":"IF(P172=\"\",\"\",COUNTIF($P$140:$P$258,P172))","v":""},"",{"$f":"IF(VLOOKUP(E172,女子標準記録,C172+3,FALSE)=\"\",\"\",VLOOKUP(E172,女子標準記録,C172+3,FALSE))","v":""},{"$f":"VLOOKUP(E172,種目コード,6,FALSE)","v":200},{"$f":"IF(FIND(\".\",TEXT(K172,\"#.00\"))>3,MID(TEXT(K172,\"#.00\"),FIND(\".\",TEXT(K172,\"#.00\"))-2,2)/1,\"\")","v":""},{"$f":"VLOOKUP(C172,Syumoku_D,3,FALSE)","v":3}]
[null,"女",3,"３年","008","８００ｍ",0,null,"","",{"$nulls":5},"",0,"","","",200,"",3]
[null,"女",3,"３年","008","８００ｍ",0,null,"","",{"$nulls":5},"",0,"","","",200,"",3]
[null,"女",3,"３年","008","８００ｍ",0,null,"","",{"$nulls":5},"",0,"","","",200,"",3]
["女子２・３年トラック","女",5,"２．３年","002","２００ｍ",0,null,"","",{"$nulls":5},"",0,"","","",22,"",">1"]
[null,"女",5,"２．３年","002","２００ｍ",0,null,"","",{"$nulls":5},"",0,"","","",22,"",">1"]
[null,"女",5,"２．３年","002","２００ｍ",0,null,"","",{"$nulls":5},"",0,"","","",22,"",">1"]
[null,"女",5,"２．３年","002","２００ｍ",0,null,"","",{"$nulls":5},"",0,"","","",22,"",">1"]
[null,"女",5,"２．３年","002","２００ｍ",0,null,"","",{"$nulls":5},"",0,"","","",22,"",">1"]
[null,"女",5,"２．３年","002","２００ｍ",0,null,"","",{"$nulls":5},"",0,"","","",22,"",">1"]
[null,"女",5,"２．３年","015","１５００ｍ",0,null,"","",{"$nulls":5},"",0,"","","",400,"",">1"]
[null,"女",5,"２．３年","015","１５００ｍ",0,null,"","",{"$nulls":5},"",0,"","","",400,"",">1"]
[null,"女",5,"２．３年","015","１５００ｍ",0,null,"","",{"$nulls":5},"",0,"","","",400,"",">1"]
[null,"女",5,"２．３年","015","１５００ｍ",0,null,"","",{"$nulls":5},"",0,"","","",400,"",">1"]
[null,"女",5,"２．３年","015","１５００ｍ",0,null,"","",{"$nulls":5},"",0,"","","",400,"",">1"]
[null,"女",5,"２．３年","015","１５００ｍ",0,null,"","",{"$nulls":5},"",0,"","","",400,"",">1"]
[null,"女",5,"２．３年","110","１００ｍＨ",0,null,"","",{"$nulls":5},"",0,"","","",12,"",">1"]
[null,"女",5,"２．３年","110","１００ｍＨ",0,null,"","",{"$nulls":5},"",0,"","","",12,"",">1"]
[null,"女",5,{"$f":"VLOOKUP(C190,出場種別,2,FALSE)","v":"２．３年"},"110",{"$f":"VLOOKUP(E190,種目コード,2,FALSE)","v":"１００ｍＨ"},0,null,"","",{"$nulls":5},{"$f":"IF(H190=\"\",\"\",B190&DBCS(TEXT(H190,\"００\")))","v":""},0,"","",{"$f":"IF(VLOOKUP(E190,女子標準記録,C190+3,FALSE)=\"\",\"\",VLOOKUP(E190,女子標準記録,C190+3,FALSE))","v":""},{"$f":"VLOOKUP(E190,種目コード,6,FALSE)","v":12},{"$f":"IF(FIND(\".\",TEXT(K190,\"#.00\"))>3,MID(TEXT(K190,\"#.00\"),FIND(\".\",TEXT(K190,\"#.00\"))-2,2)/1,\"\")","v":""},">1"]
[null,"女",5,"２．３年","110","１００ｍＨ",0,null,"","",{"$nulls":5},"",0,"","","",12,"",">1"]
[null,"女",5,"２．３年","110","１００ｍＨ",0,null,"","",{"$nulls":5},"",0,"","","",12,"",">1"]
[null,"女",5,"２．３年","110","１００ｍＨ",0,null,{"$f":"IF(H193=\"\",\"\",VLOOKUP(P193,部員データ,3,FALSE)&\"　\"&VLOOKUP(P193,部員データ,4,FALSE))","v":""},{"$f":"IF(H193=\"\",\"\",VLOOKUP(P193,部員データ,2,FALSE))","v":""},{"$nulls":5},"",0,"","","",12,"",">1"]
["１年フィールド","女",1,"１年","530","走幅跳",0,null,"","",{"$nulls":5},"",0,"",{"$f":"IF(P194=\"\",\"\",COUNTIF($P$2:$P$264,P194))","v":""},"",7,"",1]
[null,"女",1,"１年","530","走幅跳",0,null,"","",{"$nulls":5},"",0,"","","",7,"",1]
[null,"女",1,"１年","530","走幅跳",0,null,"","",{"$nulls":5},"",0,"","","",7,"",1]
[null,"女",1,"１年","530","走幅跳",0,null,"","",{"$nulls":5},"",0,"","","",7,"",1]
[null,"女",1,"１年","530","走幅跳",0,null,"","",{"$nulls":5},"",0,"","","",7,"",1]
[null,"女",1,"１年","530","走幅跳",0,null,"","",{"$nulls":5},"",0,"","","",7,"",1]
["女子２・３年フィールド","女",5,{"$f":"VLOOKUP(C200,出場種別,2,FALSE)","v":"２．３年"},"510",{"$f":"VLOOKUP(E200,種目コード,2,FALSE)","v":"走高跳"},0,null,{"$f":"IF(H200=\"\",\"\",VLOOKUP(P200,部員データ,3,FALSE)&\"　\"&VLOOKUP(P200,部員データ,4,FALSE))","v":""},{"$f":"IF(H200=\"\",\"\",VLOOKUP(P200,部員データ,2,FALSE))","v":""},{"$nulls":5},{"$f":"IF(H200=\"\",\"\",B200&DBCS(TEXT(H200,\"００\")))","v":""},{"$f":"COUNTIFS($B$2:$B$264,$B200,$C$2:$C$264,$C200,$E$2:$E$264,$E200,$H$2:$H$264,$H200)","v":0},"","",{"$f":"IF(VLOOKUP(E200,女子標準記録,C200+3,FALSE)=\"\",\"\",VLOOKUP(E200,女子標準記録,C200+3,FALSE))","v":""},{"$f":"VLOOKUP(E200,種目コード,6,FALSE)","v":1.9},{"$f":"IF(FIND(\".\",TEXT(K200,\"#.00\"))>3,MID(TEXT(K200,\"#.00\"),FIND(\".\",TEXT(K200,\"#.00\"))-2,2)/1,\"\")","v":""},">1"]
[null,"女",5,"２．３年","510","走高跳",0,null,"","",{"$nulls":5},"",0,"","","",1.9,"",">1"]
[null,"女",5,"２．３年","510","走高跳",0,null,"","",{"$nulls":5},"",0,"","","",1.9,"",">1"]
[null,"女",5,"２．３年","510","走高跳",0,null,"","",{"$nulls":5},"",0,"","","",1.9,"",">1"]
[null,"女",5,"２．３年","510","走高跳",0,null,"","",{"$nulls":5},"",0,{"$f":"IF(P204=\"\",\"\",COUNTIF($P$140:$P$258,P204))","v":""},"","",1.9,"",{"$f":"VLOOKUP(C204,Syumoku_D,3,FALSE)","v":">1"}]
[null,"女",5,"２．３年","510","走高跳",0,null,"","",{"$nulls":5},"",0,"","","",1.9,"",">1"]
[null,"女",5,"２．３年","530","走幅跳",0,null,"","",{"$nulls":5},"",0,"","","",7,"",">1"]
[null,"女",5,"２．３年","530","走幅跳",0,null,"","",{"$nulls":5},"",0,"","","",7,"",">1"]
[null,"女",5,"２．３年","530","走幅跳",0,null,"","",{"$nulls":5},"",0,"","","",7,"",">1"]
[null,"女",5,"２．３年","530","走幅跳",0,null,"","",{"$nulls":5},"",0,"","","",7,"",">1"]
[null,"女",5,"２．３年","530","走幅跳",0,null,"","",{"$nulls":5},"",0,"","","",7,"",">1"]
[null,"女",5,"２．３年","530","走幅跳",0,null,"","",{"$nulls":5},"",0,"","","",7,"",">1"]
[null,"女",5,"２．３年","560","砲丸投",0,null,"","",{"$nulls":5},"",0,"","","",18,"",">1"]
[null,"女",5,"２．３年","560","砲丸投",0,null,"","",{"$nulls":5},"",0,"","","",18,"",">1"]
[null,"女",5,"２．３年","560","砲丸投",0,null,"","",{"$nulls":5},"",0,"","","",18,"",">1"]
[null,"女",5,"２．３年","560","砲丸投",0,null,"","",{"$nulls":5},"",0,"","","",18,"",">1"]
[null,"女",5,"２．３年","560","砲丸投",0,null,"","",{"$nulls":5},"",0,"","","",18,"",">1"]
[null,"女",5,"２．３年","560","砲丸投",0,null,"","",{"$nulls":5},"",0,"","","",18,"",">1"]
[null,"女",5,"２．３年","550","円盤投",0,null,"","",{"$nulls":5},"",0,"","","",45,"",">1"]
[null,"女",5,"２．３年","550","円盤投",0,null,"","",{"$nulls":5},"",0,"","","",45,"",">1"]
[null,"女",5,"２．３年","550","円盤投",0,null,"","",{"$nulls":5},"",0,"","","",45,"",">1"]
[null,"女",5,"２．３年","550","円盤投",0,null,"","",{"$nulls":5},"",0,"","","",45,"",">1"]
[null,"女",5,"２．３年","550","円盤投",0,null,"","",{"$nulls":5},"",0,"","","",45,"",">1"]
[null,"女",5,"２．３年","550","円盤投",0,null,"","",{"$nulls":5},"",0,"","","",45,"",">1"]
["女子２・３年　混成競技","女",5,"２．３年","760","女子四種競技",0,null,"","",{"$nulls":5},"",0,"","","",4000,"",">1"]
[{"$nulls":8},"１００ｍH",{"$nulls":7},0,"","",null,null,""]
[{"$nulls":8},"走高跳",{"$nulls":7},0,"","",null,null,""]
[{"$nulls":8},"砲丸投",{"$nulls":7},0,"","",null,null,""]
[{"$nulls":8},"２００ｍ",{"$nulls":7},0,"","",null,null,""]
[null,"女",5,{"$f":"VLOOKUP(C229,出場種別,2,FALSE)","v":"２．３年"},"760",{"$f":"VLOOKUP(E229,種目コード,2,FALSE)","v":"女子四種競技"},{"$f":"学校番号","v":0},null,{"$f":"IF(H229=\"\",\"\",VLOOKUP(P229,部員データ,3,FALSE)&\"　\"&VLOOKUP(P229,部員データ,4,FALSE))","v":""},{"$f":"IF(H229=\"\",\"\",VLOOKUP(P229,部員データ,2,FALSE))","v":""},{"$nulls":5},{"$f":"IF(H229=\"\",\"\",B229&DBCS(TEXT(H229,\"００\")))","v":""},0,"","",{"$f":"IF(VLOOKUP(E229,女子標準記録,C229+3,FALSE)=\"\",\"\",VLOOKUP(E229,女子標準記録,C229+3,FALSE))","v":""},{"$f":"VLOOKUP(E229,種目コード,6,FALSE)","v":4000},{"$f":"IF(FIND(\".\",TEXT(K229,\"#.00\"))>3,MID(TEXT(K229,\"#.00\"),FIND(\".\",TEXT(K229,\"#.00\"))-2,2)/1,\"\")","v":""},{"$f":"VLOOKUP(C229,Syumoku_D,3,FALSE)","v":">1"}]
[{"$nulls":8},"１００ｍH",{"$nulls":7},0,"","",null,null,""]
[{"$nulls":8},"走高跳",{"$nulls":7},0,"","",null,null,""]
[{"$nulls":8},"砲丸投",{"$nulls":7},0,"","",null,null,""]
[{"$nulls":8},"２００ｍ",{"$nulls":7},0,"","",null,null,""]
[null,"女",5,{"$f":"VLOOKUP(C234,出場種別,2,FALSE)","v":"２．３年"},"760",{"$f":"VLOOKUP(E234,種目コード,2,FALSE)","v":"女子四種競技"},{"$f":"学校番号","v":0},null,{"$f":"IF(H234=\"\",\"\",VLOOKUP(P234,部員データ,3,FALSE)&\"　\"&VLOOKUP(P234,部員データ,4,FALSE))","v":""},{"$f":"IF(H234=\"\",\"\",VLOOKUP(P234,部員データ,2,FALSE))","v":""},{"$nulls":5},{"$f":"IF(H234=\"\",\"\",B234&DBCS(TEXT(H234,\"００\")))","v":""},0,"","",{"$f":"IF(VLOOKUP(E234,女子標準記録,C234+3,FALSE)=\"\",\"\",VLOOKUP(E234,女子標準記録,C234+3,FALSE))","v":""},{"$f":"VLOOKUP(E234,種目コード,6,FALSE)","v":4000},"",{"$f":"VLOOKUP(C234,Syumoku_D,3,FALSE)","v":">1"}]
[{"$nulls":8},"１００ｍH",{"$nulls":7},0,"","",null,null,""]
[{"$nulls":8},"走高跳",{"$nulls":7},0,{"$f":"IF(P236=\"\",\"\",COUNTIF($P$140:$P$258,P236))","v":""},"",null,null,""]
[{"$nulls":8},"砲丸投",{"$nulls":7},0,"","",null,null,""]
[{"$nulls":8},"２００ｍ",{"$nulls":7},0,"","",null,null,""]
[null,"女",5,{"$f":"VLOOKUP(C239,出場種別,2,FALSE)","v":"２．３年"},"760",{"$f":"VLOOKUP(E239,種目コード,2,FALSE)","v":"女子四種競技"},{"$f":"学校番号","v":0},null,{"$f":"IF(H239=\"\",\"\",VLOOKUP(P239,部員データ,3,FALSE)&\"　\"&VLOOKUP(P239,部員データ,4,FALSE))","v":""},{"$f":"IF(H239=\"\",\"\",VLOOKUP(P239,部員データ,2,FALSE))","v":""},{"$nulls":5},{"$f":"IF(H239=\"\",\"\",B239&DBCS(TEXT(H239,\"００\")))","v":""},0,"","",{"$f":"IF(VLOOKUP(E239,女子標準記録,C239+3,FALSE)=\"\",\"\",VLOOKUP(E239,女子標準記録,C239+3,FALSE))","v":""},{"$f":"VLOOKUP(E239,種目コード,6,FALSE)","v":4000},"",{"$f":"VLOOKUP(C239,Syumoku_D,3,FALSE)","v":">1"}]
[{"$nulls":8},"１００ｍH",{"$nulls":7},0,"","",null,null,""]
[{"$nulls":8},"走高跳",{"$nulls":7},0,"","",null,null,""]
[{"$nulls":8},"砲丸投",{"$nulls":7},0,"","",null,null,""]
[{"$nulls":8},"２００ｍ",{"$nulls":7},0,"","",null,null,""]
[null,"女",5,{"$f":"VLOOKUP(C244,出場種別,2,FALSE)","v":"２．３年"},"760",{"$f":"VLOOKUP(E244,種目コード,2,FALSE)","v":"女子四種競技"},{"$f":"学校番号","v":0},null,{"$f":"IF(H244=\"\",\"\",VLOOKUP(P244,部員データ,3,FALSE)&\"　\"&VLOOKUP(P244,部員データ,4,FALSE))","v":""},{"$f":"IF(H244=\"\",\"\",VLOOKUP(P244,部員データ,2,FALSE))","v":""},{"$nulls":5},{"$f":"IF(H244=\"\",\"\",B244&DBCS(TEXT(H244,\"００\")))","v":""},0,"","",{"$f":"IF(VLOOKUP(E244,女子標準記録,C244+3,FALSE)=\"\",\"\",VLOOKUP(E244,女子標準記録,C244+3,FALSE))","v":""},{"$f":"VLOOKUP(E244,種目コード,6,FALSE)","v":4000},"",{"$f":"VLOOKUP(C244,Syumoku_D,3,FALSE)","v":">1"}]
[{"$nulls":8},"１００ｍH",{"$nulls":7},0,"","",null,null,""]
[{"$nulls":8},"走高跳",{"$nulls":7},0,"","",null,null,""]
[{"$nulls":8},"砲丸投",{"$nulls":7},0,"","",null,null,""]
[{"$nulls":8},"２００ｍ",{"$nulls":7},0,"","",null,null,""]
[null,"女",5,{"$f":"VLOOKUP(C249,出場種別,2,FALSE)","v":"２．３年"},"760",{"$f":"VLOOKUP(E249,種目コード,2,FALSE)","v":"女子四種競技"},{"$f":"学校番号","v":0},null,{"$f":"IF(H249=\"\",\"\",VLOOKUP(P249,部員データ,3,FALSE)&\"　\"&VLOOKUP(P249,部員データ,4,FALSE))","v":""},{"$f":"IF(H249=\"\",\"\",VLOOKUP(P249,部員データ,2,FALSE))","v":""},{"$nulls":5},{"$f":"IF(H249=\"\",\"\",B249&DBCS(TEXT(H249,\"００\")))","v":""},0,"","",{"$f":"IF(VLOOKUP(E249,女子標準記録,C249+3,FALSE)=\"\",\"\",VLOOKUP(E249,女子標準記録,C249+3,FALSE))","v":""},{"$f":"VLOOKUP(E249,種目コード,6,FALSE)","v":4000},"",{"$f":"VLOOKUP(C249,Syumoku_D,3,FALSE)","v":">1"}]
[{"$nulls":8},"１００ｍH",{"$nulls":7},0,"","",null,null,""]
[{"$nulls":8},"走高跳",{"$nulls":7},0,"","",null,null,""]
[{"$nulls":8},"砲丸投",{"$nulls":7},0,"","",null,null,""]
[{"$nulls":8},"２００ｍ",{"$nulls":7},0,"","",null,null,""]
[null,"女",5,{"$f":"VLOOKUP(C254,出場種別,2,FALSE)","v":"２．３年"},"760",{"$f":"VLOOKUP(E254,種目コード,2,FALSE)","v":"女子四種競技"},{"$f":"学校番号","v":0},null,{"$f":"IF(H254=\"\",\"\",VLOOKUP(P254,部員データ,3,FALSE)&\"　\"&VLOOKUP(P254,部員データ,4,FALSE))","v":""},{"$f":"IF(H254=\"\",\"\",VLOOKUP(P254,部員データ,2,FALSE))","v":""},{"$nulls":5},{"$f":"IF(H254=\"\",\"\",B254&DBCS(TEXT(H254,\"００\")))","v":""},0,"","",{"$f":"IF(VLOOKUP(E254,女子標準記録,C254+3,FALSE)=\"\",\"\",VLOOKUP(E254,女子標準記録,C254+3,FALSE))","v":""},{"$f":"VLOOKUP(E254,種目コード,6,FALSE)","v":4000},{"$f":"IF(FIND(\".\",TEXT(K254,\"#.00\"))>3,MID(TEXT(K254,\"#.00\"),FIND(\".\",TEXT(K254,\"#.00\"))-2,2)/1,\"\")","v":""},{"$f":"VLOOKUP(C254,Syumoku_D,3,FALSE)","v":">1"}]
[{"$nulls":8},"１００ｍH",{"$nulls":7},0,"","",null,null,{"$f":"IF(FIND(\".\",TEXT(K255,\"#.00\"))>3,MID(TEXT(K255,\"#.00\"),FIND(\".\",TEXT(K255,\"#.00\"))-2,2)/1,\"\")","v":""}]
[{"$nulls":8},"走高跳",{"$nulls":7},0,"","",null,null,{"$f":"IF(FIND(\".\",TEXT(K256,\"#.00\"))>3,MID(TEXT(K256,\"#.00\"),FIND(\".\",TEXT(K256,\"#.00\"))-2,2)/1,\"\")","v":""}]
[{"$nulls":8},"砲丸投",{"$nulls":7},0,"","",null,null,{"$f":"IF(FIND(\".\",TEXT(K257,\"#.00\"))>3,MID(TEXT(K257,\"#.00\"),FIND(\".\",TEXT(K257,\"#.00\"))-2,2)/1,\"\")","v":""}]
[{"$nulls":8},"２００ｍ",{"$nulls":7},0,"",{"$f":"IF(P258=\"\",\"\",COUNTIF($P$2:$P$264,P258))","v":""},null,null,{"$f":"IF(FIND(\".\",TEXT(K258,\"#.00\"))>3,MID(TEXT(K258,\"#.00\"),FIND(\".\",TEXT(K258,\"#.00\"))-2,2)/1,\"\")","v":""}]
["女子リレー","女",0,{"$f":"VLOOKUP(C259,出場種別,2,FALSE)","v":"共通"},"410",{"$f":"VLOOKUP(E259,種目コード,2,FALSE)","v":"４×１００ｍＲ"},{"$f":"学校番号","v":0},null,{"$f":"IF(H259=\"\",\"\",VLOOKUP(P259,部員データ,3,FALSE)&\"　\"&VLOOKUP(P259,部員データ,4,FALSE))","v":""},{"$f":"IF(H259=\"\",\"\",VLOOKUP(P259,部員データ,2,FALSE))","v":""},{"$nulls":5},{"$f":"IF(H259=\"\",\"\",B259&DBCS(TEXT(H259,\"００\")))","v":""},0,{"$f":"IF(P259=\"\",\"\",COUNTIF($P$2:$P$133,P259))","v":""},"",{"$f":"IF(VLOOKUP(E259,女子標準記録,C259+3,FALSE)=\"\",\"\",VLOOKUP(E259,女子標準記録,C259+3,FALSE))","v":""},{"$f":"VLOOKUP(E259,種目コード,6,FALSE)","v":41},{"$f":"IF(FIND(\".\",TEXT(K259,\"#.00\"))>3,MID(TEXT(K259,\"#.00\"),FIND(\".\",TEXT(K259,\"#.00\"))-2,2)/1,\"\")","v":""},{"$f":"VLOOKUP(C259,Syumoku_D,3,FALSE)","v":"<=3"}]
[null,"女",0,"共通","410","４×１００ｍＲ",0,null,"","",{"$nulls":5},"",0,"","","",41,"","<=3"]
[null,"女",0,"共通","410","４×１００ｍＲ",0,null,"","",{"$nulls":5},"",0,"","","",41,"","<=3"]
[null,"女",0,"共通","410","４×１００ｍＲ",0,null,"","",{"$nulls":5},"",0,"","","",41,"","<=3"]
[null,"女",0,"共通","410","４×１００ｍＲ",0,null,"","",{"$nulls":5},"",0,"","","",41,"","<=3"]
[null,"女",0,"共通","410","４×１００ｍＲ",0,null,"","",{"$nulls":5},"",0,"","","",41,"","<=3"]
[]
[]
[]
[]
[{"$nulls":15},"男子出場",null,null,{"$f":"COUNTIF(D_Syutujyo,1)+COUNTIF(D_Syutujyo,2)/2+COUNTIF(D_Syutujyo,3)/3+COUNTIF(D_Syutujyo,4)/4","v":0}]
[]
[{"$nulls":15},"女子出場",null,null,{"$f":"COUNTIF(J_Syutujyo,1)+COUNTIF(J_Syutujyo,2)/2+COUNTIF(J_Syutujyo,3)/3+COUNTIF(J_Syutujyo,4)/4","v":0}]

{"sheet":"送信データ(地区別)","index":17,"n_rows":246,"n_cols":71,"rows_kept":246,"hidden":true}
["大会コード","性別","学年","競技種目コード","学校コード","性別1","選手コード","組","レーン","エントリ記録","当日記録","順位","条件項目","計測区分","未記録区分","大会順位"]
[{"$f":"IF('入力シート(地区別)'!$H2=\"\",\"\",\"4000001\")","v":""},{"$f":"IF('入力シート(地区別)'!$H2=\"\",\"\",IF('入力シート(地区別)'!$B2=\"男\",0,1))","v":""},{"$f":"IF('入力シート(地区別)'!$H2=\"\",\"\",'入力シート(地区別)'!C2)","v":""},{"$f":"IF('入力シート(地区別)'!$H2=\"\",\"\",TEXT('入力シート(地区別)'!$E2,\"000\"))","v":""},{"$f":"IF('入力シート(地区別)'!$H2=\"\",\"\",学校番号)","v":""},{"$f":"IF('入力シート(地区別)'!$H2=\"\",\"\",IF('入力シート(地区別)'!B2=\"男\",0,1))","v":""},{"$f":"IF('入力シート(地区別)'!$H2=\"\",\"\",TEXT('入力シート(地区別)'!$H2,\"00\"))","v":""},null,null,{"$f":"IF('入力シート(地区別)'!$H2=\"\",\"\",IF('入力シート(地区別)'!K2=\"\",\"\",'入力シート(地区別)'!K2))","v":""},{"$nulls":3},{"$f":"IF('入力シート(地区別)'!$H2=\"\",\"\",IF('入力シート(地区別)'!L2=\"\",\"\",IF('入力シート(地区別)'!L2=\"電気\",0,1)))","v":""}]
[{"$f":"IF('入力シート(地区別)'!$H3=\"\",\"\",\"4000001\")","v":""},{"$f":"IF('入力シート(地区別)'!$H3=\"\",\"\",IF('入力シート(地区別)'!$B3=\"男\",0,1))","v":""},{"$f":"IF('入力シート(地区別)'!$H3=\"\",\"\",'入力シート(地区別)'!C3)","v":""},{"$f":"IF('入力シート(地区別)'!$H3=\"\",\"\",TEXT('入力シート(地区別)'!$E3,\"000\"))","v":""},{"$f":"IF('入力シート(地区別)'!$H3=\"\",\"\",学校番号)","v":""},{"$f":"IF('入力シート(地区別)'!$H3=\"\",\"\",IF('入力シート(地区別)'!B3=\"男\",0,1))","v":""},{"$f":"IF('入力シート(地区別)'!$H3=\"\",\"\",TEXT('入力シート(地区別)'!$H3,\"00\"))","v":""},null,null,{"$f":"IF('入力シート(地区別)'!$H3=\"\",\"\",IF('入力シート(地区別)'!K3=\"\",\"\",'入力シート(地区別)'!K3))","v":""},{"$nulls":3},{"$f":"IF('入力シート(地区別)'!$H3=\"\",\"\",IF('入力シート(地区別)'!L3=\"\",\"\",IF('入力シート(地区別)'!L3=\"電気\",0,1)))","v":""}]
[{"$f":"IF('入力シート(地区別)'!$H4=\"\",\"\",\"4000001\")","v":""},{"$f":"IF('入力シート(地区別)'!$H4=\"\",\"\",IF('入力シート(地区別)'!$B4=\"男\",0,1))","v":""},{"$f":"IF('入力シート(地区別)'!$H4=\"\",\"\",'入力シート(地区別)'!C4)","v":""},{"$f":"IF('入力シート(地区別)'!$H4=\"\",\"\",TEXT('入力シート(地区別)'!$E4,\"000\"))","v":""},{"$f":"IF('入力シート(地区別)'!$H4=\"\",\"\",学校番号)","v":""},{"$f":"IF('入力シート(地区別)'!$H4=\"\",\"\",IF('入力シート(地区別)'!B4=\"男\",0,1))","v":""},{"$f":"IF('入力シート(地区別)'!$H4=\"\",\"\",TEXT('入力シート(地区別)'!$H4,\"00\"))","v":""},null,null,{"$f":"IF('入力シート(地区別)'!$H4=\"\",\"\",IF('入力シート(地区別)'!K4=\"\",\"\",'入力シート(地区別)'!K4))","v":""},{"$nulls":3},{"$f":"IF('入力シート(地区別)'!$H4=\"\",\"\",IF('入力シート(地区別)'!L4=\"\",\"\",IF('入力シート(地区別)'!L4=\"電気\",0,1)))","v":""}]
[{"$f":"IF('入力シート(地区別)'!$H5=\"\",\"\",\"4000001\")","v":""},{"$f":"IF('入力シート(地区別)'!$H5=\"\",\"\",IF('入力シート(地区別)'!$B5=\"男\",0,1))","v":""},{"$f":"IF('入力シート(地区別)'!$H5=\"\",\"\",'入力シート(地区別)'!C5)","v":""},{"$f":"IF('入力シート(地区別)'!$H5=\"\",\"\",TEXT('入力シート(地区別)'!$E5,\"000\"))","v":""},{"$f":"IF('入力シート(地区別)'!$H5=\"\",\"\",学校番号)","v":""},{"$f":"IF('入力シート(地区別)'!$H5=\"\",\"\",IF('入力シート(地区別)'!B5=\"男\",0,1))","v":""},{"$f":"IF('入力シート(地区別)'!$H5=\"\",\"\",TEXT('入力シート(地区別)'!$H5,\"00\"))","v":""},null,null,{"$f":"IF('入力シート(地区別)'!$H5=\"\",\"\",IF('入力シート(地区別)'!K5=\"\",\"\",'入力シート(地区別)'!K5))","v":""},{"$nulls":3},{"$f":"IF('入力シート(地区別)'!$H5=\"\",\"\",IF('入力シート(地区別)'!L5=\"\",\"\",IF('入力シート(地区別)'!L5=\"電気\",0,1)))","v":""}]
[{"$f":"IF('入力シート(地区別)'!$H6=\"\",\"\",\"4000001\")","v":""},{"$f":"IF('入力シート(地区別)'!$H6=\"\",\"\",IF('入力シート(地区別)'!$B6=\"男\",0,1))","v":""},{"$f":"IF('入力シート(地区別)'!$H6=\"\",\"\",'入力シート(地区別)'!C6)","v":""},{"$f":"IF('入力シート(地区別)'!$H6=\"\",\"\",TEXT('入力シート(地区別)'!$E6,\"000\"))","v":""},{"$f":"IF('入力シート(地区別)'!$H6=\"\",\"\",学校番号)","v":""},{"$f":"IF('入力シート(地区別)'!$H6=\"\",\"\",IF('入力シート(地区別)'!B6=\"男\",0,1))","v":""},{"$f":"IF('入力シート(地区別)'!$H6=\"\",\"\",TEXT('入力シート(地区別)'!$H6,\"00\"))","v":""},null,null,{"$f":"IF('入力シート(地区別)'!$H6=\"\",\"\",IF('入力シート(地区別)'!K6=\"\",\"\",'入力シート(地区別)'!K6))","v":""},{"$nulls":3},{"$f":"IF('入力シート(地区別)'!$H6=\"\",\"\",IF('入力シート(地区別)'!L6=\"\",\"\",IF('入力シート(地区別)'!L6=\"電気\",0,1)))","v":""}]
[{"$f":"IF('入力シート(地区別)'!$H7=\"\",\"\",\"4000001\")","v":""},{"$f":"IF('入力シート(地区別)'!$H7=\"\",\"\",IF('入力シート(地区別)'!$B7=\"男\",0,1))","v":""},{"$f":"IF('入力シート(地区別)'!$H7=\"\",\"\",'入力シート(地区別)'!C7)","v":""},{"$f":"IF('入力シート(地区別)'!$H7=\"\",\"\",TEXT('入力シート(地区別)'!$E7,\"000\"))","v":""},{"$f":"IF('入力シート(地区別)'!$H7=\"\",\"\",学校番号)","v":""},{"$f":"IF('入力シート(地区別)'!$H7=\"\",\"\",IF('入力シート(地区別)'!B7=\"男\",0,1))","v":""},{"$f":"IF('入力シート(地区別)'!$H7=\"\",\"\",TEXT('入力シート(地区別)'!$H7,\"00\"))","v":""},null,null,{"$f":"IF('入力シート(地区別)'!$H7=\"\",\"\",IF('入力シート(地区別)'!K7=\"\",\"\",'入力シート(地区別)'!K7))","v":""},{"$nulls":3},{"$f":"IF('入力シート(地区別)'!$H7=\"\",\"\",IF('入力シート(地区別)'!L7=\"\",\"\",IF('入力シート(地区別)'!L7=\"電気\",0,1)))","v":""}]
[{"$f":"IF('入力シート(地区別)'!$H8=\"\",\"\",\"4000001\")","v":""},{"$f":"IF('入力シート(地区別)'!$H8=\"\",\"\",IF('入力シート(地区別)'!$B8=\"男\",0,1))","v":""},{"$f":"IF('入力シート(地区別)'!$H8=\"\",\"\",'入力シート(地区別)'!C8)","v":""},{"$f":"IF('入力シート(地区別)'!$H8=\"\",\"\",TEXT('入力シート(地区別)'!$E8,\"000\"))","v":""},{"$f":"IF('入力シート(地区別)'!$H8=\"\",\"\",学校番号)","v":""},{"$f":"IF('入力シート(地区別)'!$H8=\"\",\"\",IF('入力シート(地区別)'!B8=\"男\",0,1))","v":""},{"$f":"IF('入力シート(地区別)'!$H8=\"\",\"\",TEXT('入力シート(地区別)'!$H8,\"00\"))","v":""},null,null,{"$f":"IF('入力シート(地区別)'!$H8=\"\",\"\",IF('入力シート(地区別)'!K8=\"\",\"\",'入力シート(地区別)'!K8))","v":""},{"$nulls":3},{"$f":"IF('入力シート(地区別)'!$H8=\"\",\"\",IF('入力シート(地区別)'!L8=\"\",\"\",IF('入力シート(地区別)'!L8=\"電気\",0,1)))","v":""}]
[{"$f":"IF('入力シート(地区別)'!$H9=\"\",\"\",\"4000001\")","v":""},{"$f":"IF('入力シート(地区別)'!$H9=\"\",\"\",IF('入力シート(地区別)'!$B9=\"男\",0,1))","v":""},{"$f":"IF('入力シート(地区別)'!$H9=\"\",\"\",'入力シート(地区別)'!C9)","v":""},{"$f":"IF('入力シート(地区別)'!$H9=\"\",\"\",TEXT('入力シート(地区別)'!$E9,\"000\"))","v":""},{"$f":"IF('入力シート(地区別)'!$H9=\"\",\"\",学校番号)","v":""},{"$f":"IF('入力シート(地区別)'!$H9=\"\",\"\",IF('入力シート(地区別)'!B9=\"男\",0,1))","v":""},{"$f":"IF('入力シート(地区別)'!$H9=\"\",\"\",TEXT('入力シート(地区別)'!$H9,\"00\"))","v":""},null,null,{"$f":"IF('入力シート(地区別)'!$H9=\"\",\"\",IF('入力シート(地区別)'!K9=\"\",\"\",'入力シート(地区別)'!K9))","v":""},{"$nulls":3},{"$f":"IF('入力シート(地区別)'!$H9=\"\",\"\",IF('入力シート(地区別)'!L9=\"\",\"\",IF('入力シート(地区別)'!L9=\"電気\",0,1)))","v":""}]
[{"$f":"IF('入力シート(地区別)'!$H10=\"\",\"\",\"4000001\")","v":""},{"$f":"IF('入力シート(地区別)'!$H10=\"\",\"\",IF('入力シート(地区別)'!$B10=\"男\",0,1))","v":""},{"$f":"IF('入力シート(地区別)'!$H10=\"\",\"\",'入力シート(地区別)'!C10)","v":""},{"$f":"IF('入力シート(地区別)'!$H10=\"\",\"\",TEXT('入力シート(地区別)'!$E10,\"000\"))","v":""},{"$f":"IF('入力シート(地区別)'!$H10=\"\",\"\",学校番号)","v":""},{"$f":"IF('入力シート(地区別)'!$H10=\"\",\"\",IF('入力シート(地区別)'!B10=\"男\",0,1))","v":""},{"$f":"IF('入力シート(地区別)'!$H10=\"\",\"\",TEXT('入力シート(地区別)'!$H10,\"00\"))","v":""},null,null,{"$f":"IF('入力シート(地区別)'!$H10=\"\",\"\",IF('入力シート(地区別)'!K10=\"\",\"\",'入力シート(地区別)'!K10))","v":""},{"$nulls":3},{"$f":"IF('入力シート(地区別)'!$H10=\"\",\"\",IF('入力シート(地区別)'!L10=\"\",\"\",IF('入力シート(地区別)'!L10=\"電気\",0,1)))","v":""}]
[{"$f":"IF('入力シート(地区別)'!$H11=\"\",\"\",\"4000001\")","v":""},{"$f":"IF('入力シート(地区別)'!$H11=\"\",\"\",IF('入力シート(地区別)'!$B11=\"男\",0,1))","v":""},{"$f":"IF('入力シート(地区別)'!$H11=\"\",\"\",'入力シート(地区別)'!C11)","v":""},{"$f":"IF('入力シート(地区別)'!$H11=\"\",\"\",TEXT('入力シート(地区別)'!$E11,\"000\"))","v":""},{"$f":"IF('入力シート(地区別)'!$H11=\"\",\"\",学校番号)","v":""},{"$f":"IF('入力シート(地区別)'!$H11=\"\",\"\",IF('入力シート(地区別)'!B11=\"男\",0,1))","v":""},{"$f":"IF('入力シート(地区別)'!$H11=\"\",\"\",TEXT('入力シート(地区別)'!$H11,\"00\"))","v":""},null,null,{"$f":"IF('入力シート(地区別)'!$H11=\"\",\"\",IF('入力シート(地区別)'!K11=\"\",\"\",'入力シート(地区別)'!K11))","v":""},{"$nulls":3},{"$f":"IF('入力シート(地区別)'!$H11=\"\",\"\",IF('入力シート(地区別)'!L11=\"\",\"\",IF('入力シート(地区別)'!L11=\"電気\",0,1)))","v":""}]
[{"$f":"IF('入力シート(地区別)'!$H12=\"\",\"\",\"4000001\")","v":""},{"$f":"IF('入力シート(地区別)'!$H12=\"\",\"\",IF('入力シート(地区別)'!$B12=\"男\",0,1))","v":""},{"$f":"IF('入力シート(地区別)'!$H12=\"\",\"\",'入力シート(地区別)'!C12)","v":""},{"$f":"IF('入力シート(地区別)'!$H12=\"\",\"\",TEXT('入力シート(地区別)'!$E12,\"000\"))","v":""},{"$f":"IF('入力シート(地区別)'!$H12=\"\",\"\",学校番号)","v":""},{"$f":"IF('入力シート(地区別)'!$H12=\"\",\"\",IF('入力シート(地区別)'!B12=\"男\",0,1))","v":""},{"$f":"IF('入力シート(地区別)'!$H12=\"\",\"\",TEXT('入力シート(地区別)'!$H12,\"00\"))","v":""},null,null,{"$f":"IF('入力シート(地区別)'!$H12=\"\",\"\",IF('入力シート(地区別)'!K12=\"\",\"\",'入力シート(地区別)'!K12))","v":""},{"$nulls":3},{"$f":"IF('入力シート(地区別)'!$H12=\"\",\"\",IF('入力シート(地区別)'!L12=\"\",\"\",IF('入力シート(地区別)'!L12=\"電気\",0,1)))","v":""}]
[{"$f":"IF('入力シート(地区別)'!$H13=\"\",\"\",\"4000001\")","v":""},{"$f":"IF('入力シート(地区別)'!$H13=\"\",\"\",IF('入力シート(地区別)'!$B13=\"男\",0,1))","v":""},{"$f":"IF('入力シート(地区別)'!$H13=\"\",\"\",'入力シート(地区別)'!C13)","v":""},{"$f":"IF('入力シート(地区別)'!$H13=\"\",\"\",TEXT('入力シート(地区別)'!$E13,\"000\"))","v":""},{"$f":"IF('入力シート(地区別)'!$H13=\"\",\"\",学校番号)","v":""},{"$f":"IF('入力シート(地区別)'!$H13=\"\",\"\",IF('入力シート(地区別)'!B13=\"男\",0,1))","v":""},{"$f":"IF('入力シート(地区別)'!$H13=\"\",\"\",TEXT('入力シート(地区別)'!$H13,\"00\"))","v":""},null,null,{"$f":"IF('入力シート(地区別)'!$H13=\"\",\"\",IF('入力シート(地区別)'!K13=\"\",\"\",'入力シート(地区別)'!K13))","v":""},{"$nulls":3},{"$f":"IF('入力シート(地区別)'!$H13=\"\",\"\",IF('入力シート(地区別)'!L13=\"\",\"\",IF('入力シート(地区別)'!L13=\"電気\",0,1)))","v":""}]
[{"$f":"IF('入力シート(地区別)'!$H14=\"\",\"\",\"4000001\")","v":""},{"$f":"IF('入力シート(地区別)'!$H14=\"\",\"\",IF('入力シート(地区別)'!$B14=\"男\",0,1))","v":""},{"$f":"IF('入力シート(地区別)'!$H14=\"\",\"\",'入力シート(地区別)'!C14)","v":""},{"$f":"IF('入力シート(地区別)'!$H14=\"\",\"\",TEXT('入力シート(地区別)'!$E14,\"000\"))","v":""},{"$f":"IF('入力シート(地区別)'!$H14=\"\",\"\",学校番号)","v":""},{"$f":"IF('入力シート(地区別)'!$H14=\"\",\"\",IF('入力シート(地区別)'!B14=\"男\",0,1))","v":""},{"$f":"IF('入力シート(地区別)'!$H14=\"\",\"\",TEXT('入力シート(地区別)'!$H14,\"00\"))","v":""},null,null,{"$f":"IF('入力シート(地区別)'!$H14=\"\",\"\",IF('入力シート(地区別)'!K14=\"\",\"\",'入力シート(地区別)'!K14))","v":""},{"$nulls":3},{"$f":"IF('入力シート(地区別)'!$H14=\"\",\"\",IF('入力シート(地区別)'!L14=\"\",\"\",IF('入力シート(地区別)'!L14=\"電気\",0,1)))","v":""}]
[{"$f":"IF('入力シート(地区別)'!$H15=\"\",\"\",\"4000001\")","v":""},{"$f":"IF('入力シート(地区別)'!$H15=\"\",\"\",IF('入力シート(地区別)'!$B15=\"男\",0,1))","v":""},{"$f":"IF('入力シート(地区別)'!$H15=\"\",\"\",'入力シート(地区別)'!C15)","v":""},{"$f":"IF('入力シート(地区別)'!$H15=\"\",\"\",TEXT('入力シート(地区別)'!$E15,\"000\"))","v":""},{"$f":"IF('入力シート(地区別)'!$H15=\"\",\"\",学校番号)","v":""},{"$f":"IF('入力シート(地区別)'!$H15=\"\",\"\",IF('入力シート(地区別)'!B15=\"男\",0,1))","v":""},{"$f":"IF('入力シート(地区別)'!$H15=\"\",\"\",TEXT('入力シート(地区別)'!$H15,\"00\"))","v":""},null,null,{"$f":"IF('入力シート(地区別)'!$H15=\"\",\"\",IF('入力シート(地区別)'!K15=\"\",\"\",'入力シート(地区別)'!K15))","v":""},{"$nulls":3},{"$f":"IF('入力シート(地区別)'!$H15=\"\",\"\",IF('入力シート(地区別)'!L15=\"\",\"\",IF('入力シート(地区別)'!L15=\"電気\",0,1)))","v":""}]
[{"$f":"IF('入力シート(地区別)'!$H16=\"\",\"\",\"4000001\")","v":""},{"$f":"IF('入力シート(地区別)'!$H16=\"\",\"\",IF('入力シート(地区別)'!$B16=\"男\",0,1))","v":""},{"$f":"IF('入力シート(地区別)'!$H16=\"\",\"\",'入力シート(地区別)'!C16)","v":""},{"$f":"IF('入力シート(地区別)'!$H16=\"\",\"\",TEXT('入力シート(地区別)'!$E16,\"000\"))","v":""},{"$f":"IF('入力シート(地区別)'!$H16=\"\",\"\",学校番号)","v":""},{"$f":"IF('入力シート(地区別)'!$H16=\"\",\"\",IF('入力シート(地区別)'!B16=\"男\",0,1))","v":""},{"$f":"IF('入力シート(地区別)'!$H16=\"\",\"\",TEXT('入力シート(地区別)'!$H16,\"00\"))","v":""},null,null,{"$f":"IF('入力シート(地区別)'!$H16=\"\",\"\",IF('入力シート(地区別)'!K16=\"\",\"\",'入力シート(地区別)'!K16))","v":""},{"$nulls":3},{"$f":"IF('入力シート(地区別)'!$H16=\"\",\"\",IF('入力シート(地区別)'!L16=\"\",\"\",IF('入力シート(地区別)'!L16=\"電気\",0,1)))","v":""}]
[{"$f":"IF('入力シート(地区別)'!$H17=\"\",\"\",\"4000001\")","v":""},{"$f":"IF('入力シート(地区別)'!$H17=\"\",\"\",IF('入力シート(地区別)'!$B17=\"男\",0,1))","v":""},{"$f":"IF('入力シート(地区別)'!$H17=\"\",\"\",'入力シート(地区別)'!C17)","v":""},{"$f":"IF('入力シート(地区別)'!$H17=\"\",\"\",TEXT('入力シート(地区別)'!$E17,\"000\"))","v":""},{"$f":"IF('入力シート(地区別)'!$H17=\"\",\"\",学校番号)","v":""},{"$f":"IF('入力シート(地区別)'!$H17=\"\",\"\",IF('入力シート(地区別)'!B17=\"男\",0,1))","v":""},{"$f":"IF('入力シート(地区別)'!$H17=\"\",\"\",TEXT('入力シート(地区別)'!$H17,\"00\"))","v":""},null,null,{"$f":"IF('入力シート(地区別)'!$H17=\"\",\"\",IF('入力シート(地区別)'!K17=\"\",\"\",'入力シート(地区別)'!K17))","v":""},{"$nulls":3},{"$f":"IF('入力シート(地区別)'!$H17=\"\",\"\",IF('入力シート(地区別)'!L17=\"\",\"\",IF('入力シート(地区別)'!L17=\"電気\",0,1)))","v":""}]
[{"$f":"IF('入力シート(地区別)'!$H18=\"\",\"\",\"4000001\")","v":""},{"$f":"IF('入力シート(地区別)'!$H18=\"\",\"\",IF('入力シート(地区別)'!$B18=\"男\",0,1))","v":""},{"$f":"IF('入力シート(地区別)'!$H18=\"\",\"\",'入力シート(地区別)'!C18)","v":""},{"$f":"IF('入力シート(地区別)'!$H18=\"\",\"\",TEXT('入力シート(地区別)'!$E18,\"000\"))","v":""},{"$f":"IF('入力シート(地区別)'!$H18=\"\",\"\",学校番号)","v":""},{"$f":"IF('入力シート(地区別)'!$H18=\"\",\"\",IF('入力シート(地区別)'!B18=\"男\",0,1))","v":""},{"$f":"IF('入力シート(地区別)'!$H18=\"\",\"\",TEXT('入力シート(地区別)'!$H18,\"00\"))","v":""},null,null,{"$f":"IF('入力シート(地区別)'!$H18=\"\",\"\",IF('入力シート(地区別)'!K18=\"\",\"\",'入力シート(地区別)'!K18))","v":""},{"$nulls":3},{"$f":"IF('入力シート(地区別)'!$H18=\"\",\"\",IF('入力シート(地区別)'!L18=\"\",\"\",IF('入力シート(地区別)'!L18=\"電気\",0,1)))","v":""}]
[{"$f":"IF('入力シート(地区別)'!$H19=\"\",\"\",\"4000001\")","v":""},{"$f":"IF('入力シート(地区別)'!$H19=\"\",\"\",IF('入力シート(地区別)'!$B19=\"男\",0,1))","v":""},{"$f":"IF('入力シート(地区別)'!$H19=\"\",\"\",'入力シート(地区別)'!C19)","v":""},{"$f":"IF('入力シート(地区別)'!$H19=\"\",\"\",TEXT('入力シート(地区別)'!$E19,\"000\"))","v":""},{"$f":"IF('入力シート(地区別)'!$H19=\"\",\"\",学校番号)","v":""},{"$f":"IF('入力シート(地区別)'!$H19=\"\",\"\",IF('入力シート(地区別)'!B19=\"男\",0,1))","v":""},{"$f":"IF('入力シート(地区別)'!$H19=\"\",\"\",TEXT('入力シート(地区別)'!$H19,\"00\"))","v":""},null,null,{"$f":"IF('入力シート(地区別)'!$H19=\"\",\"\",IF('入力シート(地区別)'!K19=\"\",\"\",'入力シート(地区別)'!K19))","v":""},{"$nulls":3},{"$f":"IF('入力シート(地区別)'!$H19=\"\",\"\",IF('入力シート(地区別)'!L19=\"\",\"\",IF('入力シート(地区別)'!L19=\"電気\",0,1)))","v":""}]
[{"$f":"IF('入力シート(地区別)'!$H20=\"\",\"\",\"4000001\")","v":""},{"$f":"IF('入力シート(地区別)'!$H20=\"\",\"\",IF('入力シート(地区別)'!$B20=\"男\",0,1))","v":""},{"$f":"IF('入力シート(地区別)'!$H20=\"\",\"\",'入力シート(地区別)'!C20)","v":""},{"$f":"IF('入力シート(地区別)'!$H20=\"\",\"\",TEXT('入力シート(地区別)'!$E20,\"000\"))","v":""},{"$f":"IF('入力シート(地区別)'!$H20=\"\",\"\",学校番号)","v":""},{"$f":"IF('入力シート(地区別)'!$H20=\"\",\"\",IF('入力シート(地区別)'!B20=\"男\",0,1))","v":""},{"$f":"IF('入力シート(地区別)'!$H20=\"\",\"\",TEXT('入力シート(地区別)'!$H20,\"00\"))","v":""},null,null,{"$f":"IF('入力シート(地区別)'!$H20=\"\",\"\",IF('入力シート(地区別)'!K20=\"\",\"\",'入力シート(地区別)'!K20))","v":""},{"$nulls":3},{"$f":"IF('入力シート(地区別)'!$H20=\"\",\"\",IF('入力シート(地区別)'!L20=\"\",\"\",IF('入力シート(地区別)'!L20=\"電気\",0,1)))","v":""}]
[{"$f":"IF('入力シート(地区別)'!$H21=\"\",\"\",\"4000001\")","v":""},{"$f":"IF('入力シート(地区別)'!$H21=\"\",\"\",IF('入力シート(地区別)'!$B21=\"男\",0,1))","v":""},{"$f":"IF('入力シート(地区別)'!$H21=\"\",\"\",'入力シート(地区別)'!C21)","v":""},{"$f":"IF('入力シート(地区別)'!$H21=\"\",\"\",TEXT('入力シート(地区別)'!$E21,\"000\"))","v":""},{"$f":"IF('入力シート(地区別)'!$H21=\"\",\"\",学校番号)","v":""},{"$f":"IF('入力シート(地区別)'!$H21=\"\",\"\",IF('入力シート(地区別)'!B21=\"男\",0,1))","v":""},{"$f":"IF('入力シート(地区別)'!$H21=\"\",\"\",TEXT('入力シート(地区別)'!$H21,\"00\"))","v":""},null,null,{"$f":"IF('入力シート(地区別)'!$H21=\"\",\"\",IF('入力シート(地区別)'!K21=\"\",\"\",'入力シート(地区別)'!K21))","v":""},{"$nulls":3},{"$f":"IF('入力シート(地区別)'!$H21=\"\",\"\",IF('入力シート(地区別)'!L21=\"\",\"\",IF('入力シート(地区別)'!L21=\"電気\",0,1)))","v":""}]
[{"$f":"IF('入力シート(地区別)'!$H22=\"\",\"\",\"4000001\")","v":""},{"$f":"IF('入力シート(地区別)'!$H22=\"\",\"\",IF('入力シート(地区別)'!$B22=\"男\",0,1))","v":""},{"$f":"IF('入力シート(地区別)'!$H22=\"\",\"\",'入力シート(地区別)'!C22)","v":""},{"$f":"IF('入力シート(地区別)'!$H22=\"\",\"\",TEXT('入力シート(地区別)'!$E22,\"000\"))","v":""},{"$f":"IF('入力シート(地区別)'!$H22=\"\",\"\",学校番号)","v":""},{"$f":"IF('入力シート(地区別)'!$H22=\"\",\"\",IF('入力シート(地区別)'!B22=\"男\",0,1))","v":""},{"$f":"IF('入力シート(地区別)'!$H22=\"\",\"\",TEXT('入力シート(地区別)'!$H22,\"00\"))","v":""},null,null,{"$f":"IF('入力シート(地区別)'!$H22=\"\",\"\",IF('入力シート(地区別)'!K22=\"\",\"\",'入力シート(地区別)'!K22))","v":""},{"$nulls":3},{"$f":"IF('入力シート(地区別)'!$H22=\"\",\"\",IF('入力シート(地区別)'!L22=\"\",\"\",IF('入力シート(地区別)'!L22=\"電気\",0,1)))","v":""}]
[{"$f":"IF('入力シート(地区別)'!$H23=\"\",\"\",\"4000001\")","v":""},{"$f":"IF('入力シート(地区別)'!$H23=\"\",\"\",IF('入力シート(地区別)'!$B23=\"男\",0,1))","v":""},{"$f":"IF('入力シート(地区別)'!$H23=\"\",\"\",'入力シート(地区別)'!C23)","v":""},{"$f":"IF('入力シート(地区別)'!$H23=\"\",\"\",TEXT('入力シート(地区別)'!$E23,\"000\"))","v":""},{"$f":"IF('入力シート(地区別)'!$H23=\"\",\"\",学校番号)","v":""},{"$f":"IF('入力シート(地区別)'!$H23=\"\",\"\",IF('入力シート(地区別)'!B23=\"男\",0,1))","v":""},{"$f":"IF('入力シート(地区別)'!$H23=\"\",\"\",TEXT('入力シート(地区別)'!$H23,\"00\"))","v":""},null,null,{"$f":"IF('入力シート(地区別)'!$H23=\"\",\"\",IF('入力シート(地区別)'!K23=\"\",\"\",'入力シート(地区別)'!K23))","v":""},{"$nulls":3},{"$f":"IF('入力シート(地区別)'!$H23=\"\",\"\",IF('入力シート(地区別)'!L23=\"\",\"\",IF('入力シート(地区別)'!L23=\"電気\",0,1)))","v":""}]
[{"$f":"IF('入力シート(地区別)'!$H24=\"\",\"\",\"4000001\")","v":""},{"$f":"IF('入力シート(地区別)'!$H24=\"\",\"\",IF('入力シート(地区別)'!$B24=\"男\",0,1))","v":""},{"$f":"IF('入力シート(地区別)'!$H24=\"\",\"\",'入力シート(地区別)'!C24)","v":""},{"$f":"IF('入力シート(地区別)'!$H24=\"\",\"\",TEXT('入力シート(地区別)'!$E24,\"000\"))","v":""},{"$f":"IF('入力シート(地区別)'!$H24=\"\",\"\",学校番号)","v":""},{"$f":"IF('入力シート(地区別)'!$H24=\"\",\"\",IF('入力シート(地区別)'!B24=\"男\",0,1))","v":""},{"$f":"IF('入力シート(地区別)'!$H24=\"\",\"\",TEXT('入力シート(地区別)'!$H24,\"00\"))","v":""},null,null,{"$f":"IF('入力シート(地区別)'!$H24=\"\",\"\",IF('入力シート(地区別)'!K24=\"\",\"\",'入力シート(地区別)'!K24))","v":""},{"$nulls":3},{"$f":"IF('入力シート(地区別)'!$H24=\"\",\"\",IF('入力シート(地区別)'!L24=\"\",\"\",IF('入力シート(地区別)'!L24=\"電気\",0,1)))","v":""}]
[{"$f":"IF('入力シート(地区別)'!$H25=\"\",\"\",\"4000001\")","v":""},{"$f":"IF('入力シート(地区別)'!$H25=\"\",\"\",IF('入力シート(地区別)'!$B25=\"男\",0,1))","v":""},{"$f":"IF('入力シート(地区別)'!$H25=\"\",\"\",'入力シート(地区別)'!C25)","v":""},{"$f":"IF('入力シート(地区別)'!$H25=\"\",\"\",TEXT('入力シート(地区別)'!$E25,\"000\"))","v":""},{"$f":"IF('入力シート(地区別)'!$H25=\"\",\"\",学校番号)","v":""},{"$f":"IF('入力シート(地区別)'!$H25=\"\",\"\",IF('入力シート(地区別)'!B25=\"男\",0,1))","v":""},{"$f":"IF('入力シート(地区別)'!$H25=\"\",\"\",TEXT('入力シート(地区別)'!$H25,\"00\"))","v":""},null,null,{"$f":"IF('入力シート(地区別)'!$H25=\"\",\"\",IF('入力シート(地区別)'!K25=\"\",\"\",'入力シート(地区別)'!K25))","v":""},{"$nulls":3},{"$f":"IF('入力シート(地区別)'!$H25=\"\",\"\",IF('入力シート(地区別)'!L25=\"\",\"\",IF('入力シート(地区別)'!L25=\"電気\",0,1)))","v":""}]
[{"$f":"IF('入力シート(地区別)'!$H26=\"\",\"\",\"4000001\")","v":""},{"$f":"IF('入力シート(地区別)'!$H26=\"\",\"\",IF('入力シート(地区別)'!$B26=\"男\",0,1))","v":""},{"$f":"IF('入力シート(地区別)'!$H26=\"\",\"\",'入力シート(地区別)'!C26)","v":""},{"$f":"IF('入力シート(地区別)'!$H26=\"\",\"\",TEXT('入力シート(地区別)'!$E26,\"000\"))","v":""},{"$f":"IF('入力シート(地区別)'!$H26=\"\",\"\",学校番号)","v":""},{"$f":"IF('入力シート(地区別)'!$H26=\"\",\"\",IF('入力シート(地区別)'!B26=\"男\",0,1))","v":""},{"$f":"IF('入力シート(地区別)'!$H26=\"\",\"\",TEXT('入力シート(地区別)'!$H26,\"00\"))","v":""},null,null,{"$f":"IF('入力シート(地区別)'!$H26=\"\",\"\",IF('入力シート(地区別)'!K26=\"\",\"\",'入力シート(地区別)'!K26))","v":""},{"$nulls":3},{"$f":"IF('入力シート(地区別)'!$H26=\"\",\"\",IF('入力シート(地区別)'!L26=\"\",\"\",IF('入力シート(地区別)'!L26=\"電気\",0,1)))","v":""}]
[{"$f":"IF('入力シート(地区別)'!$H27=\"\",\"\",\"4000001\")","v":""},{"$f":"IF('入力シート(地区別)'!$H27=\"\",\"\",IF('入力シート(地区別)'!$B27=\"男\",0,1))","v":""},{"$f":"IF('入力シート(地区別)'!$H27=\"\",\"\",'入力シート(地区別)'!C27)","v":""},{"$f":"IF('入力シート(地区別)'!$H27=\"\",\"\",TEXT('入力シート(地区別)'!$E27,\"000\"))","v":""},{"$f":"IF('入力シート(地区別)'!$H27=\"\",\"\",学校番号)","v":""},{"$f":"IF('入力シート(地区別)'!$H27=\"\",\"\",IF('入力シート(地区別)'!B27=\"男\",0,1))","v":""},{"$f":"IF('入力シート(地区別)'!$H27=\"\",\"\",TEXT('入力シート(地区別)'!$H27,\"00\"))","v":""},null,null,{"$f":"IF('入力シート(地区別)'!$H27=\"\",\"\",IF('入力シート(地区別)'!K27=\"\",\"\",'入力シート(地区別)'!K27))","v":""},{"$nulls":3},{"$f":"IF('入力シート(地区別)'!$H27=\"\",\"\",IF('入力シート(地区別)'!L27=\"\",\"\",IF('入力シート(地区別)'!L27=\"電気\",0,1)))","v":""}]
[{"$f":"IF('入力シート(地区別)'!$H28=\"\",\"\",\"4000001\")","v":""},{"$f":"IF('入力シート(地区別)'!$H28=\"\",\"\",IF('入力シート(地区別)'!$B28=\"男\",0,1))","v":""},{"$f":"IF('入力シート(地区別)'!$H28=\"\",\"\",'入力シート(地区別)'!C28)","v":""},{"$f":"IF('入力シート(地区別)'!$H28=\"\",\"\",TEXT('入力シート(地区別)'!$E28,\"000\"))","v":""},{"$f":"IF('入力シート(地区別)'!$H28=\"\",\"\",学校番号)","v":""},{"$f":"IF('入力シート(地区別)'!$H28=\"\",\"\",IF('入力シート(地区別)'!B28=\"男\",0,1))","v":""},{"$f":"IF('入力シート(地区別)'!$H28=\"\",\"\",TEXT('入力シート(地区別)'!$H28,\"00\"))","v":""},null,null,{"$f":"IF('入力シート(地区別)'!$H28=\"\",\"\",IF('入力シート(地区別)'!K28=\"\",\"\",'入力シート(地区別)'!K28))","v":""},{"$nulls":3},{"$f":"IF('入力シート(地区別)'!$H28=\"\",\"\",IF('入力シート(地区別)'!L28=\"\",\"\",IF('入力シート(地区別)'!L28=\"電気\",0,1)))","v":""}]
[{"$f":"IF('入力シート(地区別)'!$H29=\"\",\"\",\"4000001\")","v":""},{"$f":"IF('入力シート(地区別)'!$H29=\"\",\"\",IF('入力シート(地区別)'!$B29=\"男\",0,1))","v":""},{"$f":"IF('入力シート(地区別)'!$H29=\"\",\"\",'入力シート(地区別)'!C29)","v":""},{"$f":"IF('入力シート(地区別)'!$H29=\"\",\"\",TEXT('入力シート(地区別)'!$E29,\"000\"))","v":""},{"$f":"IF('入力シート(地区別)'!$H29=\"\",\"\",学校番号)","v":""},{"$f":"IF('入力シート(地区別)'!$H29=\"\",\"\",IF('入力シート(地区別)'!B29=\"男\",0,1))","v":""},{"$f":"IF('入力シート(地区別)'!$H29=\"\",\"\",TEXT('入力シート(地区別)'!$H29,\"00\"))","v":""},null,null,{"$f":"IF('入力シート(地区別)'!$H29=\"\",\"\",IF('入力シート(地区別)'!K29=\"\",\"\",'入力シート(地区別)'!K29))","v":""},{"$nulls":3},{"$f":"IF('入力シート(地区別)'!$H29=\"\",\"\",IF('入力シート(地区別)'!L29=\"\",\"\",IF('入力シート(地区別)'!L29=\"電気\",0,1)))","v":""}]
[{"$f":"IF('入力シート(地区別)'!$H30=\"\",\"\",\"4000001\")","v":""},{"$f":"IF('入力シート(地区別)'!$H30=\"\",\"\",IF('入力シート(地区別)'!$B30=\"男\",0,1))","v":""},{"$f":"IF('入力シート(地区別)'!$H30=\"\",\"\",'入力シート(地区別)'!C30)","v":""},{"$f":"IF('入力シート(地区別)'!$H30=\"\",\"\",TEXT('入力シート(地区別)'!$E30,\"000\"))","v":""},{"$f":"IF('入力シート(地区別)'!$H30=\"\",\"\",学校番号)","v":""},{"$f":"IF('入力シート(地区別)'!$H30=\"\",\"\",IF('入力シート(地区別)'!B30=\"男\",0,1))","v":""},{"$f":"IF('入力シート(地区別)'!$H30=\"\",\"\",TEXT('入力シート(地区別)'!$H30,\"00\"))","v":""},null,null,{"$f":"IF('入力シート(地区別)'!$H30=\"\",\"\",IF('入力シート(地区別)'!K30=\"\",\"\",'入力シート(地区別)'!K30))","v":""},{"$nulls":3},{"$f":"IF('入力シート(地区別)'!$H30=\"\",\"\",IF('入力シート(地区別)'!L30=\"\",\"\",IF('入力シート(地区別)'!L30=\"電気\",0,1)))","v":""}]
[{"$f":"IF('入力シート(地区別)'!$H31=\"\",\"\",\"4000001\")","v":""},{"$f":"IF('入力シート(地区別)'!$H31=\"\",\"\",IF('入力シート(地区別)'!$B31=\"男\",0,1))","v":""},{"$f":"IF('入力シート(地区別)'!$H31=\"\",\"\",'入力シート(地区別)'!C31)","v":""},{"$f":"IF('入力シート(地区別)'!$H31=\"\",\"\",TEXT('入力シート(地区別)'!$E31,\"000\"))","v":""},{"$f":"IF('入力シート(地区別)'!$H31=\"\",\"\",学校番号)","v":""},{"$f":"IF('入力シート(地区別)'!$H31=\"\",\"\",IF('入力シート(地区別)'!B31=\"男\",0,1))","v":""},{"$f":"IF('入力シート(地区別)'!$H31=\"\",\"\",TEXT('入力シート(地区別)'!$H31,\"00\"))","v":""},null,null,{"$f":"IF('入力シート(地区別)'!$H31=\"\",\"\",IF('入力シート(地区別)'!K31=\"\",\"\",'入力シート(地区別)'!K31))","v":""},{"$nulls":3},{"$f":"IF('入力シート(地区別)'!$H31=\"\",\"\",IF('入力シート(地区別)'!L31=\"\",\"\",IF('入力シート(地区別)'!L31=\"電気\",0,1)))","v":""}]
[{"$f":"IF('入力シート(地区別)'!$H32=\"\",\"\",\"4000001\")","v":""},{"$f":"IF('入力シート(地区別)'!$H32=\"\",\"\",IF('入力シート(地区別)'!$B32=\"男\",0,1))","v":""},{"$f":"IF('入力シート(地区別)'!$H32=\"\",\"\",'入力シート(地区別)'!C32)","v":""},{"$f":"IF('入力シート(地区別)'!$H32=\"\",\"\",TEXT('入力シート(地区別)'!$E32,\"000\"))","v":""},{"$f":"IF('入力シート(地区別)'!$H32=\"\",\"\",学校番号)","v":""},{"$f":"IF('入力シート(地区別)'!$H32=\"\",\"\",IF('入力シート(地区別)'!B32=\"男\",0,1))","v":""},{"$f":"IF('入力シート(地区別)'!$H32=\"\",\"\",TEXT('入力シート(地区別)'!$H32,\"00\"))","v":""},null,null,{"$f":"IF('入力シート(地区別)'!$H32=\"\",\"\",IF('入力シート(地区別)'!K32=\"\",\"\",'入力シート(地区別)'!K32))","v":""},{"$nulls":3},{"$f":"IF('入力シート(地区別)'!$H32=\"\",\"\",IF('入力シート(地区別)'!L32=\"\",\"\",IF('入力シート(地区別)'!L32=\"電気\",0,1)))","v":""}]
[{"$f":"IF('入力シート(地区別)'!$H33=\"\",\"\",\"4000001\")","v":""},{"$f":"IF('入力シート(地区別)'!$H33=\"\",\"\",IF('入力シート(地区別)'!$B33=\"男\",0,1))","v":""},{"$f":"IF('入力シート(地区別)'!$H33=\"\",\"\",'入力シート(地区別)'!C33)","v":""},{"$f":"IF('入力シート(地区別)'!$H33=\"\",\"\",TEXT('入力シート(地区別)'!$E33,\"000\"))","v":""},{"$f":"IF('入力シート(地区別)'!$H33=\"\",\"\",学校番号)","v":""},{"$f":"IF('入力シート(地区別)'!$H33=\"\",\"\",IF('入力シート(地区別)'!B33=\"男\",0,1))","v":""},{"$f":"IF('入力シート(地区別)'!$H33=\"\",\"\",TEXT('入力シート(地区別)'!$H33,\"00\"))","v":""},null,null,{"$f":"IF('入力シート(地区別)'!$H33=\"\",\"\",IF('入力シート(地区別)'!K33=\"\",\"\",'入力シート(地区別)'!K33))","v":""},{"$nulls":3},{"$f":"IF('入力シート(地区別)'!$H33=\"\",\"\",IF('入力シート(地区別)'!L33=\"\",\"\",IF('入力シート(地区別)'!L33=\"電気\",0,1)))","v":""}]
[{"$f":"IF('入力シート(地区別)'!$H34=\"\",\"\",\"4000001\")","v":""},{"$f":"IF('入力シート(地区別)'!$H34=\"\",\"\",IF('入力シート(地区別)'!$B34=\"男\",0,1))","v":""},{"$f":"IF('入力シート(地区別)'!$H34=\"\",\"\",'入力シート(地区別)'!C34)","v":""},{"$f":"IF('入力シート(地区別)'!$H34=\"\",\"\",TEXT('入力シート(地区別)'!$E34,\"000\"))","v":""},{"$f":"IF('入力シート(地区別)'!$H34=\"\",\"\",学校番号)","v":""},{"$f":"IF('入力シート(地区別)'!$H34=\"\",\"\",IF('入力シート(地区別)'!B34=\"男\",0,1))","v":""},{"$f":"IF('入力シート(地区別)'!$H34=\"\",\"\",TEXT('入力シート(地区別)'!$H34,\"00\"))","v":""},null,null,{"$f":"IF('入力シート(地区別)'!$H34=\"\",\"\",IF('入力シート(地区別)'!K34=\"\",\"\",'入力シート(地区別)'!K34))","v":""},{"$nulls":3},{"$f":"IF('入力シート(地区別)'!$H34=\"\",\"\",IF('入力シート(地区別)'!L34=\"\",\"\",IF('入力シート(地区別)'!L34=\"電気\",0,1)))","v":""}]
[{"$f":"IF('入力シート(地区別)'!$H35=\"\",\"\",\"4000001\")","v":""},{"$f":"IF('入力シート(地区別)'!$H35=\"\",\"\",IF('入力シート(地区別)'!$B35=\"男\",0,1))","v":""},{"$f":"IF('入力シート(地区別)'!$H35=\"\",\"\",'入力シート(地区別)'!C35)","v":""},{"$f":"IF('入力シート(地区別)'!$H35=\"\",\"\",TEXT('入力シート(地区別)'!$E35,\"000\"))","v":""},{"$f":"IF('入力シート(地区別)'!$H35=\"\",\"\",学校番号)","v":""},{"$f":"IF('入力シート(地区別)'!$H35=\"\",\"\",IF('入力シート(地区別)'!B35=\"男\",0,1))","v":""},{"$f":"IF('入力シート(地区別)'!$H35=\"\",\"\",TEXT('入力シート(地区別)'!$H35,\"00\"))","v":""},null,null,{"$f":"IF('入力シート(地区別)'!$H35=\"\",\"\",IF('入力シート(地区別)'!K35=\"\",\"\",'入力シート(地区別)'!K35))","v":""},{"$nulls":3},{"$f":"IF('入力シート(地区別)'!$H35=\"\",\"\",IF('入力シート(地区別)'!L35=\"\",\"\",IF('入力シート(地区別)'!L35=\"電気\",0,1)))","v":""}]
[{"$f":"IF('入力シート(地区別)'!$H36=\"\",\"\",\"4000001\")","v":""},{"$f":"IF('入力シート(地区別)'!$H36=\"\",\"\",IF('入力シート(地区別)'!$B36=\"男\",0,1))","v":""},{"$f":"IF('入力シート(地区別)'!$H36=\"\",\"\",'入力シート(地区別)'!C36)","v":""},{"$f":"IF('入力シート(地区別)'!$H36=\"\",\"\",TEXT('入力シート(地区別)'!$E36,\"000\"))","v":""},{"$f":"IF('入力シート(地区別)'!$H36=\"\",\"\",学校番号)","v":""},{"$f":"IF('入力シート(地区別)'!$H36=\"\",\"\",IF('入力シート(地区別)'!B36=\"男\",0,1))","v":""},{"$f":"IF('入力シート(地区別)'!$H36=\"\",\"\",TEXT('入力シート(地区別)'!$H36,\"00\"))","v":""},null,null,{"$f":"IF('入力シート(地区別)'!$H36=\"\",\"\",IF('入力シート(地区別)'!K36=\"\",\"\",'入力シート(地区別)'!K36))","v":""},{"$nulls":3},{"$f":"IF('入力シート(地区別)'!$H36=\"\",\"\",IF('入力シート(地区別)'!L36=\"\",\"\",IF('入力シート(地区別)'!L36=\"電気\",0,1)))","v":""}]
[{"$f":"IF('入力シート(地区別)'!$H37=\"\",\"\",\"4000001\")","v":""},{"$f":"IF('入力シート(地区別)'!$H37=\"\",\"\",IF('入力シート(地区別)'!$B37=\"男\",0,1))","v":""},{"$f":"IF('入力シート(地区別)'!$H37=\"\",\"\",'入力シート(地区別)'!C37)","v":""},{"$f":"IF('入力シート(地区別)'!$H37=\"\",\"\",TEXT('入力シート(地区別)'!$E37,\"000\"))","v":""},{"$f":"IF('入力シート(地区別)'!$H37=\"\",\"\",学校番号)","v":""},{"$f":"IF('入力シート(地区別)'!$H37=\"\",\"\",IF('入力シート(地区別)'!B37=\"男\",0,1))","v":""},{"$f":"IF('入力シート(地区別)'!$H37=\"\",\"\",TEXT('入力シート(地区別)'!$H37,\"00\"))","v":""},null,null,{"$f":"IF('入力シート(地区別)'!$H37=\"\",\"\",IF('入力シート(地区別)'!K37=\"\",\"\",'入力シート(地区別)'!K37))","v":""},{"$nulls":3},{"$f":"IF('入力シート(地区別)'!$H37=\"\",\"\",IF('入力シート(地区別)'!L37=\"\",\"\",IF('入力シート(地区別)'!L37=\"電気\",0,1)))","v":""}]
[{"$f":"IF('入力シート(地区別)'!$H38=\"\",\"\",\"4000001\")","v":""},{"$f":"IF('入力シート(地区別)'!$H38=\"\",\"\",IF('入力シート(地区別)'!$B38=\"男\",0,1))","v":""},{"$f":"IF('入力シート(地区別)'!$H38=\"\",\"\",'入力シート(地区別)'!C38)","v":""},{"$f":"IF('入力シート(地区別)'!$H38=\"\",\"\",TEXT('入力シート(地区別)'!$E38,\"000\"))","v":""},{"$f":"IF('入力シート(地区別)'!$H38=\"\",\"\",学校番号)","v":""},{"$f":"IF('入力シート(地区別)'!$H38=\"\",\"\",IF('入力シート(地区別)'!B38=\"男\",0,1))","v":""},{"$f":"IF('入力シート(地区別)'!$H38=\"\",\"\",TEXT('入力シート(地区別)'!$H38,\"00\"))","v":""},null,null,{"$f":"IF('入力シート(地区別)'!$H38=\"\",\"\",IF('入力シート(地区別)'!K38=\"\",\"\",'入力シート(地区別)'!K38))","v":""},{"$nulls":3},{"$f":"IF('入力シート(地区別)'!$H38=\"\",\"\",IF('入力シート(地区別)'!L38=\"\",\"\",IF('入力シート(地区別)'!L38=\"電気\",0,1)))","v":""}]
[{"$f":"IF('入力シート(地区別)'!$H39=\"\",\"\",\"4000001\")","v":""},{"$f":"IF('入力シート(地区別)'!$H39=\"\",\"\",IF('入力シート(地区別)'!$B39=\"男\",0,1))","v":""},{"$f":"IF('入力シート(地区別)'!$H39=\"\",\"\",'入力シート(地区別)'!C39)","v":""},{"$f":"IF('入力シート(地区別)'!$H39=\"\",\"\",TEXT('入力シート(地区別)'!$E39,\"000\"))","v":""},{"$f":"IF('入力シート(地区別)'!$H39=\"\",\"\",学校番号)","v":""},{"$f":"IF('入力シート(地区別)'!$H39=\"\",\"\",IF('入力シート(地区別)'!B39=\"男\",0,1))","v":""},{"$f":"IF('入力シート(地区別)'!$H39=\"\",\"\",TEXT('入力シート(地区別)'!$H39,\"00\"))","v":""},null,null,{"$f":"IF('入力シート(地区別)'!$H39=\"\",\"\",IF('入力シート(地区別)'!K39=\"\",\"\",'入力シート(地区別)'!K39))","v":""},{"$nulls":3},{"$f":"IF('入力シート(地区別)'!$H39=\"\",\"\",IF('入力シート(地区別)'!L39=\"\",\"\",IF('入力シート(地区別)'!L39=\"電気\",0,1)))","v":""}]
[{"$f":"IF('入力シート(地区別)'!$H40=\"\",\"\",\"4000001\")","v":""},{"$f":"IF('入力シート(地区別)'!$H40=\"\",\"\",IF('入力シート(地区別)'!$B40=\"男\",0,1))","v":""},{"$f":"IF('入力シート(地区別)'!$H40=\"\",\"\",'入力シート(地区別)'!C40)","v":""},{"$f":"IF('入力シート(地区別)'!$H40=\"\",\"\",TEXT('入力シート(地区別)'!$E40,\"000\"))","v":""},{"$f":"IF('入力シート(地区別)'!$H40=\"\",\"\",学校番号)","v":""},{"$f":"IF('入力シート(地区別)'!$H40=\"\",\"\",IF('入力シート(地区別)'!B40=\"男\",0,1))","v":""},{"$f":"IF('入力シート(地区別)'!$H40=\"\",\"\",TEXT('入力シート(地区別)'!$H40,\"00\"))","v":""},null,null,{"$f":"IF('入力シート(地区別)'!$H40=\"\",\"\",IF('入力シート(地区別)'!K40=\"\",\"\",'入力シート(地区別)'!K40))","v":""},{"$nulls":3},{"$f":"IF('入力シート(地区別)'!$H40=\"\",\"\",IF('入力シート(地区別)'!L40=\"\",\"\",IF('入力シート(地区別)'!L40=\"電気\",0,1)))","v":""}]
[{"$f":"IF('入力シート(地区別)'!$H41=\"\",\"\",\"4000001\")","v":""},{"$f":"IF('入力シート(地区別)'!$H41=\"\",\"\",IF('入力シート(地区別)'!$B41=\"男\",0,1))","v":""},{"$f":"IF('入力シート(地区別)'!$H41=\"\",\"\",'入力シート(地区別)'!C41)","v":""},{"$f":"IF('入力シート(地区別)'!$H41=\"\",\"\",TEXT('入力シート(地区別)'!$E41,\"000\"))","v":""},{"$f":"IF('入力シート(地区別)'!$H41=\"\",\"\",学校番号)","v":""},{"$f":"IF('入力シート(地区別)'!$H41=\"\",\"\",IF('入力シート(地区別)'!B41=\"男\",0,1))","v":""},{"$f":"IF('入力シート(地区別)'!$H41=\"\",\"\",TEXT('入力シート(地区別)'!$H41,\"00\"))","v":""},null,null,{"$f":"IF('入力シート(地区別)'!$H41=\"\",\"\",IF('入力シート(地区別)'!K41=\"\",\"\",'入力シート(地区別)'!K41))","v":""},{"$nulls":3},{"$f":"IF('入力シート(地区別)'!$H41=\"\",\"\",IF('入力シート(地区別)'!L41=\"\",\"\",IF('入力シート(地区別)'!L41=\"電気\",0,1)))","v":""}]
[{"$f":"IF('入力シート(地区別)'!$H42=\"\",\"\",\"4000001\")","v":""},{"$f":"IF('入力シート(地区別)'!$H42=\"\",\"\",IF('入力シート(地区別)'!$B42=\"男\",0,1))","v":""},{"$f":"IF('入力シート(地区別)'!$H42=\"\",\"\",'入力シート(地区別)'!C42)","v":""},{"$f":"IF('入力シート(地区別)'!$H42=\"\",\"\",TEXT('入力シート(地区別)'!$E42,\"000\"))","v":""},{"$f":"IF('入力シート(地区別)'!$H42=\"\",\"\",学校番号)","v":""},{"$f":"IF('入力シート(地区別)'!$H42=\"\",\"\",IF('入力シート(地区別)'!B42=\"男\",0,1))","v":""},{"$f":"IF('入力シート(地区別)'!$H42=\"\",\"\",TEXT('入力シート(地区別)'!$H42,\"00\"))","v":""},null,null,{"$f":"IF('入力シート(地区別)'!$H42=\"\",\"\",IF('入力シート(地区別)'!K42=\"\",\"\",'入力シート(地区別)'!K42))","v":""},{"$nulls":3},{"$f":"IF('入力シート(地区別)'!$H42=\"\",\"\",IF('入力シート(地区別)'!L42=\"\",\"\",IF('入力シート(地区別)'!L42=\"電気\",0,1)))","v":""}]
[{"$f":"IF('入力シート(地区別)'!$H43=\"\",\"\",\"4000001\")","v":""},{"$f":"IF('入力シート(地区別)'!$H43=\"\",\"\",IF('入力シート(地区別)'!$B43=\"男\",0,1))","v":""},{"$f":"IF('入力シート(地区別)'!$H43=\"\",\"\",'入力シート(地区別)'!C43)","v":""},{"$f":"IF('入力シート(地区別)'!$H43=\"\",\"\",TEXT('入力シート(地区別)'!$E43,\"000\"))","v":""},{"$f":"IF('入力シート(地区別)'!$H43=\"\",\"\",学校番号)","v":""},{"$f":"IF('入力シート(地区別)'!$H43=\"\",\"\",IF('入力シート(地区別)'!B43=\"男\",0,1))","v":""},{"$f":"IF('入力シート(地区別)'!$H43=\"\",\"\",TEXT('入力シート(地区別)'!$H43,\"00\"))","v":""},null,null,{"$f":"IF('入力シート(地区別)'!$H43=\"\",\"\",IF('入力シート(地区別)'!K43=\"\",\"\",'入力シート(地区別)'!K43))","v":""},{"$nulls":3},{"$f":"IF('入力シート(地区別)'!$H43=\"\",\"\",IF('入力シート(地区別)'!L43=\"\",\"\",IF('入力シート(地区別)'!L43=\"電気\",0,1)))","v":""}]
[{"$f":"IF('入力シート(地区別)'!$H44=\"\",\"\",\"4000001\")","v":""},{"$f":"IF('入力シート(地区別)'!$H44=\"\",\"\",IF('入力シート(地区別)'!$B44=\"男\",0,1))","v":""},{"$f":"IF('入力シート(地区別)'!$H44=\"\",\"\",'入力シート(地区別)'!C44)","v":""},{"$f":"IF('入力シート(地区別)'!$H44=\"\",\"\",TEXT('入力シート(地区別)'!$E44,\"000\"))","v":""},{"$f":"IF('入力シート(地区別)'!$H44=\"\",\"\",学校番号)","v":""},{"$f":"IF('入力シート(地区別)'!$H44=\"\",\"\",IF('入力シート(地区別)'!B44=\"男\",0,1))","v":""},{"$f":"IF('入力シート(地区別)'!$H44=\"\",\"\",TEXT('入力シート(地区別)'!$H44,\"00\"))","v":""},null,null,{"$f":"IF('入力シート(地区別)'!$H44=\"\",\"\",IF('入力シート(地区別)'!K44=\"\",\"\",'入力シート(地区別)'!K44))","v":""},{"$nulls":3},{"$f":"IF('入力シート(地区別)'!$H44=\"\",\"\",IF('入力シート(地区別)'!L44=\"\",\"\",IF('入力シート(地区別)'!L44=\"電気\",0,1)))","v":""}]
[{"$f":"IF('入力シート(地区別)'!$H45=\"\",\"\",\"4000001\")","v":""},{"$f":"IF('入力シート(地区別)'!$H45=\"\",\"\",IF('入力シート(地区別)'!$B45=\"男\",0,1))","v":""},{"$f":"IF('入力シート(地区別)'!$H45=\"\",\"\",'入力シート(地区別)'!C45)","v":""},{"$f":"IF('入力シート(地区別)'!$H45=\"\",\"\",TEXT('入力シート(地区別)'!$E45,\"000\"))","v":""},{"$f":"IF('入力シート(地区別)'!$H45=\"\",\"\",学校番号)","v":""},{"$f":"IF('入力シート(地区別)'!$H45=\"\",\"\",IF('入力シート(地区別)'!B45=\"男\",0,1))","v":""},{"$f":"IF('入力シート(地区別)'!$H45=\"\",\"\",TEXT('入力シート(地区別)'!$H45,\"00\"))","v":""},null,null,{"$f":"IF('入力シート(地区別)'!$H45=\"\",\"\",IF('入力シート(地区別)'!K45=\"\",\"\",'入力シート(地区別)'!K45))","v":""},{"$nulls":3},{"$f":"IF('入力シート(地区別)'!$H45=\"\",\"\",IF('入力シート(地区別)'!L45=\"\",\"\",IF('入力シート(地区別)'!L45=\"電気\",0,1)))","v":""}]
[{"$f":"IF('入力シート(地区別)'!$H46=\"\",\"\",\"4000001\")","v":""},{"$f":"IF('入力シート(地区別)'!$H46=\"\",\"\",IF('入力シート(地区別)'!$B46=\"男\",0,1))","v":""},{"$f":"IF('入力シート(地区別)'!$H46=\"\",\"\",'入力シート(地区別)'!C46)","v":""},{"$f":"IF('入力シート(地区別)'!$H46=\"\",\"\",TEXT('入力シート(地区別)'!$E46,\"000\"))","v":""},{"$f":"IF('入力シート(地区別)'!$H46=\"\",\"\",学校番号)","v":""},{"$f":"IF('入力シート(地区別)'!$H46=\"\",\"\",IF('入力シート(地区別)'!B46=\"男\",0,1))","v":""},{"$f":"IF('入力シート(地区別)'!$H46=\"\",\"\",TEXT('入力シート(地区別)'!$H46,\"00\"))","v":""},null,null,{"$f":"IF('入力シート(地区別)'!$H46=\"\",\"\",IF('入力シート(地区別)'!K46=\"\",\"\",'入力シート(地区別)'!K46))","v":""},{"$nulls":3},{"$f":"IF('入力シート(地区別)'!$H46=\"\",\"\",IF('入力シート(地区別)'!L46=\"\",\"\",IF('入力シート(地区別)'!L46=\"電気\",0,1)))","v":""}]
[{"$f":"IF('入力シート(地区別)'!$H47=\"\",\"\",\"4000001\")","v":""},{"$f":"IF('入力シート(地区別)'!$H47=\"\",\"\",IF('入力シート(地区別)'!$B47=\"男\",0,1))","v":""},{"$f":"IF('入力シート(地区別)'!$H47=\"\",\"\",'入力シート(地区別)'!C47)","v":""},{"$f":"IF('入力シート(地区別)'!$H47=\"\",\"\",TEXT('入力シート(地区別)'!$E47,\"000\"))","v":""},{"$f":"IF('入力シート(地区別)'!$H47=\"\",\"\",学校番号)","v":""},{"$f":"IF('入力シート(地区別)'!$H47=\"\",\"\",IF('入力シート(地区別)'!B47=\"男\",0,1))","v":""},{"$f":"IF('入力シート(地区別)'!$H47=\"\",\"\",TEXT('入力シート(地区別)'!$H47,\"00\"))","v":""},null,null,{"$f":"IF('入力シート(地区別)'!$H47=\"\",\"\",IF('入力シート(地区別)'!K47=\"\",\"\",'入力シート(地区別)'!K47))","v":""},{"$nulls":3},{"$f":"IF('入力シート(地区別)'!$H47=\"\",\"\",IF('入力シート(地区別)'!L47=\"\",\"\",IF('入力シート(地区別)'!L47=\"電気\",0,1)))","v":""}]
[{"$f":"IF('入力シート(地区別)'!$H48=\"\",\"\",\"4000001\")","v":""},{"$f":"IF('入力シート(地区別)'!$H48=\"\",\"\",IF('入力シート(地区別)'!$B48=\"男\",0,1))","v":""},{"$f":"IF('入力シート(地区別)'!$H48=\"\",\"\",'入力シート(地区別)'!C48)","v":""},{"$f":"IF('入力シート(地区別)'!$H48=\"\",\"\",TEXT('入力シート(地区別)'!$E48,\"000\"))","v":""},{"$f":"IF('入力シート(地区別)'!$H48=\"\",\"\",学校番号)","v":""},{"$f":"IF('入力シート(地区別)'!$H48=\"\",\"\",IF('入力シート(地区別)'!B48=\"男\",0,1))","v":""},{"$f":"IF('入力シート(地区別)'!$H48=\"\",\"\",TEXT('入力シート(地区別)'!$H48,\"00\"))","v":""},null,null,{"$f":"IF('入力シート(地区別)'!$H48=\"\",\"\",IF('入力シート(地区別)'!K48=\"\",\"\",'入力シート(地区別)'!K48))","v":""},{"$nulls":3},{"$f":"IF('入力シート(地区別)'!$H48=\"\",\"\",IF('入力シート(地区別)'!L48=\"\",\"\",IF('入力シート(地区別)'!L48=\"電気\",0,1)))","v":""}]
[{"$f":"IF('入力シート(地区別)'!$H49=\"\",\"\",\"4000001\")","v":""},{"$f":"IF('入力シート(地区別)'!$H49=\"\",\"\",IF('入力シート(地区別)'!$B49=\"男\",0,1))","v":""},{"$f":"IF('入力シート(地区別)'!$H49=\"\",\"\",'入力シート(地区別)'!C49)","v":""},{"$f":"IF('入力シート(地区別)'!$H49=\"\",\"\",TEXT('入力シート(地区別)'!$E49,\"000\"))","v":""},{"$f":"IF('入力シート(地区別)'!$H49=\"\",\"\",学校番号)","v":""},{"$f":"IF('入力シート(地区別)'!$H49=\"\",\"\",IF('入力シート(地区別)'!B49=\"男\",0,1))","v":""},{"$f":"IF('入力シート(地区別)'!$H49=\"\",\"\",TEXT('入力シート(地区別)'!$H49,\"00\"))","v":""},null,null,{"$f":"IF('入力シート(地区別)'!$H49=\"\",\"\",IF('入力シート(地区別)'!K49=\"\",\"\",'入力シート(地区別)'!K49))","v":""},{"$nulls":3},{"$f":"IF('入力シート(地区別)'!$H49=\"\",\"\",IF('入力シート(地区別)'!L49=\"\",\"\",IF('入力シート(地区別)'!L49=\"電気\",0,1)))","v":""}]
[{"$f":"IF('入力シート(地区別)'!$H50=\"\",\"\",\"4000001\")","v":""},{"$f":"IF('入力シート(地区別)'!$H50=\"\",\"\",IF('入力シート(地区別)'!$B50=\"男\",0,1))","v":""},{"$f":"IF('入力シート(地区別)'!$H50=\"\",\"\",'入力シート(地区別)'!C50)","v":""},{"$f":"IF('入力シート(地区別)'!$H50=\"\",\"\",TEXT('入力シート(地区別)'!$E50,\"000\"))","v":""},{"$f":"IF('入力シート(地区別)'!$H50=\"\",\"\",学校番号)","v":""},{"$f":"IF('入力シート(地区別)'!$H50=\"\",\"\",IF('入力シート(地区別)'!B50=\"男\",0,1))","v":""},{"$f":"IF('入力シート(地区別)'!$H50=\"\",\"\",TEXT('入力シート(地区別)'!$H50,\"00\"))","v":""},null,null,{"$f":"IF('入力シート(地区別)'!$H50=\"\",\"\",IF('入力シート(地区別)'!K50=\"\",\"\",'入力シート(地区別)'!K50))","v":""},{"$nulls":3},{"$f":"IF('入力シート(地区別)'!$H50=\"\",\"\",IF('入力シート(地区別)'!L50=\"\",\"\",IF('入力シート(地区別)'!L50=\"電気\",0,1)))","v":""}]
[{"$f":"IF('入力シート(地区別)'!$H51=\"\",\"\",\"4000001\")","v":""},{"$f":"IF('入力シート(地区別)'!$H51=\"\",\"\",IF('入力シート(地区別)'!$B51=\"男\",0,1))","v":""},{"$f":"IF('入力シート(地区別)'!$H51=\"\",\"\",'入力シート(地区別)'!C51)","v":""},{"$f":"IF('入力シート(地区別)'!$H51=\"\",\"\",TEXT('入力シート(地区別)'!$E51,\"000\"))","v":""},{"$f":"IF('入力シート(地区別)'!$H51=\"\",\"\",学校番号)","v":""},{"$f":"IF('入力シート(地区別)'!$H51=\"\",\"\",IF('入力シート(地区別)'!B51=\"男\",0,1))","v":""},{"$f":"IF('入力シート(地区別)'!$H51=\"\",\"\",TEXT('入力シート(地区別)'!$H51,\"00\"))","v":""},null,null,{"$f":"IF('入力シート(地区別)'!$H51=\"\",\"\",IF('入力シート(地区別)'!K51=\"\",\"\",'入力シート(地区別)'!K51))","v":""},{"$nulls":3},{"$f":"IF('入力シート(地区別)'!$H51=\"\",\"\",IF('入力シート(地区別)'!L51=\"\",\"\",IF('入力シート(地区別)'!L51=\"電気\",0,1)))","v":""}]
[{"$f":"IF('入力シート(地区別)'!$H52=\"\",\"\",\"4000001\")","v":""},{"$f":"IF('入力シート(地区別)'!$H52=\"\",\"\",IF('入力シート(地区別)'!$B52=\"男\",0,1))","v":""},{"$f":"IF('入力シート(地区別)'!$H52=\"\",\"\",'入力シート(地区別)'!C52)","v":""},{"$f":"IF('入力シート(地区別)'!$H52=\"\",\"\",TEXT('入力シート(地区別)'!$E52,\"000\"))","v":""},{"$f":"IF('入力シート(地区別)'!$H52=\"\",\"\",学校番号)","v":""},{"$f":"IF('入力シート(地区別)'!$H52=\"\",\"\",IF('入力シート(地区別)'!B52=\"男\",0,1))","v":""},{"$f":"IF('入力シート(地区別)'!$H52=\"\",\"\",TEXT('入力シート(地区別)'!$H52,\"00\"))","v":""},null,null,{"$f":"IF('入力シート(地区別)'!$H52=\"\",\"\",IF('入力シート(地区別)'!K52=\"\",\"\",'入力シート(地区別)'!K52))","v":""},{"$nulls":3},{"$f":"IF('入力シート(地区別)'!$H52=\"\",\"\",IF('入力シート(地区別)'!L52=\"\",\"\",IF('入力シート(地区別)'!L52=\"電気\",0,1)))","v":""}]
[{"$f":"IF('入力シート(地区別)'!$H53=\"\",\"\",\"4000001\")","v":""},{"$f":"IF('入力シート(地区別)'!$H53=\"\",\"\",IF('入力シート(地区別)'!$B53=\"男\",0,1))","v":""},{"$f":"IF('入力シート(地区別)'!$H53=\"\",\"\",'入力シート(地区別)'!C53)","v":""},{"$f":"IF('入力シート(地区別)'!$H53=\"\",\"\",TEXT('入力シート(地区別)'!$E53,\"000\"))","v":""},{"$f":"IF('入力シート(地区別)'!$H53=\"\",\"\",学校番号)","v":""},{"$f":"IF('入力シート(地区別)'!$H53=\"\",\"\",IF('入力シート(地区別)'!B53=\"男\",0,1))","v":""},{"$f":"IF('入力シート(地区別)'!$H53=\"\",\"\",TEXT('入力シート(地区別)'!$H53,\"00\"))","v":""},null,null,{"$f":"IF('入力シート(地区別)'!$H53=\"\",\"\",IF('入力シート(地区別)'!K53=\"\",\"\",'入力シート(地区別)'!K53))","v":""},{"$nulls":3},{"$f":"IF('入力シート(地区別)'!$H53=\"\",\"\",IF('入力シート(地区別)'!L53=\"\",\"\",IF('入力シート(地区別)'!L53=\"電気\",0,1)))","v":""}]
[{"$f":"IF('入力シート(地区別)'!$H54=\"\",\"\",\"4000001\")","v":""},{"$f":"IF('入力シート(地区別)'!$H54=\"\",\"\",IF('入力シート(地区別)'!$B54=\"男\",0,1))","v":""},{"$f":"IF('入力シート(地区別)'!$H54=\"\",\"\",'入力シート(地区別)'!C54)","v":""},{"$f":"IF('入力シート(地区別)'!$H54=\"\",\"\",TEXT('入力シート(地区別)'!$E54,\"000\"))","v":""},{"$f":"IF('入力シート(地区別)'!$H54=\"\",\"\",学校番号)","v":""},{"$f":"IF('入力シート(地区別)'!$H54=\"\",\"\",IF('入力シート(地区別)'!B54=\"男\",0,1))","v":""},{"$f":"IF('入力シート(地区別)'!$H54=\"\",\"\",TEXT('入力シート(地区別)'!$H54,\"00\"))","v":""},null,null,{"$f":"IF('入力シート(地区別)'!$H54=\"\",\"\",IF('入力シート(地区別)'!K54=\"\",\"\",'入力シート(地区別)'!K54))","v":""},{"$nulls":3},{"$f":"IF('入力シート(地区別)'!$H54=\"\",\"\",IF('入力シート(地区別)'!L54=\"\",\"\",IF('入力シート(地区別)'!L54=\"電気\",0,1)))","v":""}]
[{"$f":"IF('入力シート(地区別)'!$H55=\"\",\"\",\"4000001\")","v":""},{"$f":"IF('入力シート(地区別)'!$H55=\"\",\"\",IF('入力シート(地区別)'!$B55=\"男\",0,1))","v":""},{"$f":"IF('入力シート(地区別)'!$H55=\"\",\"\",'入力シート(地区別)'!C55)","v":""},{"$f":"IF('入力シート(地区別)'!$H55=\"\",\"\",TEXT('入力シート(地区別)'!$E55,\"000\"))","v":""},{"$f":"IF('入力シート(地区別)'!$H55=\"\",\"\",学校番号)","v":""},{"$f":"IF('入力シート(地区別)'!$H55=\"\",\"\",IF('入力シート(地区別)'!B55=\"男\",0,1))","v":""},{"$f":"IF('入力シート(地区別)'!$H55=\"\",\"\",TEXT('入力シート(地区別)'!$H55,\"00\"))","v":""},null,null,{"$f":"IF('入力シート(地区別)'!$H55=\"\",\"\",IF('入力シート(地区別)'!K55=\"\",\"\",'入力シート(地区別)'!K55))","v":""},{"$nulls":3},{"$f":"IF('入力シート(地区別)'!$H55=\"\",\"\",IF('入力シート(地区別)'!L55=\"\",\"\",IF('入力シート(地区別)'!L55=\"電気\",0,1)))","v":""}]
[{"$f":"IF('入力シート(地区別)'!$H56=\"\",\"\",\"4000001\")","v":""},{"$f":"IF('入力シート(地区別)'!$H56=\"\",\"\",IF('入力シート(地区別)'!$B56=\"男\",0,1))","v":""},{"$f":"IF('入力シート(地区別)'!$H56=\"\",\"\",'入力シート(地区別)'!C56)","v":""},{"$f":"IF('入力シート(地区別)'!$H56=\"\",\"\",TEXT('入力シート(地区別)'!$E56,\"000\"))","v":""},{"$f":"IF('入力シート(地区別)'!$H56=\"\",\"\",学校番号)","v":""},{"$f":"IF('入力シート(地区別)'!$H56=\"\",\"\",IF('入力シート(地区別)'!B56=\"男\",0,1))","v":""},{"$f":"IF('入力シート(地区別)'!$H56=\"\",\"\",TEXT('入力シート(地区別)'!$H56,\"00\"))","v":""},null,null,{"$f":"IF('入力シート(地区別)'!$H56=\"\",\"\",IF('入力シート(地区別)'!K56=\"\",\"\",'入力シート(地区別)'!K56))","v":""},{"$nulls":3},{"$f":"IF('入力シート(地区別)'!$H56=\"\",\"\",IF('入力シート(地区別)'!L56=\"\",\"\",IF('入力シート(地区別)'!L56=\"電気\",0,1)))","v":""}]
[{"$f":"IF('入力シート(地区別)'!$H57=\"\",\"\",\"4000001\")","v":""},{"$f":"IF('入力シート(地区別)'!$H57=\"\",\"\",IF('入力シート(地区別)'!$B57=\"男\",0,1))","v":""},{"$f":"IF('入力シート(地区別)'!$H57=\"\",\"\",'入力シート(地区別)'!C57)","v":""},{"$f":"IF('入力シート(地区別)'!$H57=\"\",\"\",TEXT('入力シート(地区別)'!$E57,\"000\"))","v":""},{"$f":"IF('入力シート(地区別)'!$H57=\"\",\"\",学校番号)","v":""},{"$f":"IF('入力シート(地区別)'!$H57=\"\",\"\",IF('入力シート(地区別)'!B57=\"男\",0,1))","v":""},{"$f":"IF('入力シート(地区別)'!$H57=\"\",\"\",TEXT('入力シート(地区別)'!$H57,\"00\"))","v":""},null,null,{"$f":"IF('入力シート(地区別)'!$H57=\"\",\"\",IF('入力シート(地区別)'!K57=\"\",\"\",'入力シート(地区別)'!K57))","v":""},{"$nulls":3},{"$f":"IF('入力シート(地区別)'!$H57=\"\",\"\",IF('入力シート(地区別)'!L57=\"\",\"\",IF('入力シート(地区別)'!L57=\"電気\",0,1)))","v":""}]
[{"$f":"IF('入力シート(地区別)'!$H58=\"\",\"\",\"4000001\")","v":""},{"$f":"IF('入力シート(地区別)'!$H58=\"\",\"\",IF('入力シート(地区別)'!$B58=\"男\",0,1))","v":""},{"$f":"IF('入力シート(地区別)'!$H58=\"\",\"\",'入力シート(地区別)'!C58)","v":""},{"$f":"IF('入力シート(地区別)'!$H58=\"\",\"\",TEXT('入力シート(地区別)'!$E58,\"000\"))","v":""},{"$f":"IF('入力シート(地区別)'!$H58=\"\",\"\",学校番号)","v":""},{"$f":"IF('入力シート(地区別)'!$H58=\"\",\"\",IF('入力シート(地区別)'!B58=\"男\",0,1))","v":""},{"$f":"IF('入力シート(地区別)'!$H58=\"\",\"\",TEXT('入力シート(地区別)'!$H58,\"00\"))","v":""},null,null,{"$f":"IF('入力シート(地区別)'!$H58=\"\",\"\",IF('入力シート(地区別)'!K58=\"\",\"\",'入力シート(地区別)'!K58))","v":""},{"$nulls":3},{"$f":"IF('入力シート(地区別)'!$H58=\"\",\"\",IF('入力シート(地区別)'!L58=\"\",\"\",IF('入力シート(地区別)'!L58=\"電気\",0,1)))","v":""}]
[{"$f":"IF('入力シート(地区別)'!$H59=\"\",\"\",\"4000001\")","v":""},{"$f":"IF('入力シート(地区別)'!$H59=\"\",\"\",IF('入力シート(地区別)'!$B59=\"男\",0,1))","v":""},{"$f":"IF('入力シート(地区別)'!$H59=\"\",\"\",'入力シート(地区別)'!C59)","v":""},{"$f":"IF('入力シート(地区別)'!$H59=\"\",\"\",TEXT('入力シート(地区別)'!$E59,\"000\"))","v":""},{"$f":"IF('入力シート(地区別)'!$H59=\"\",\"\",学校番号)","v":""},{"$f":"IF('入力シート(地区別)'!$H59=\"\",\"\",IF('入力シート(地区別)'!B59=\"男\",0,1))","v":""},{"$f":"IF('入力シート(地区別)'!$H59=\"\",\"\",TEXT('入力シート(地区別)'!$H59,\"00\"))","v":""},null,null,{"$f":"IF('入力シート(地区別)'!$H59=\"\",\"\",IF('入力シート(地区別)'!K59=\"\",\"\",'入力シート(地区別)'!K59))","v":""},{"$nulls":3},{"$f":"IF('入力シート(地区別)'!$H59=\"\",\"\",IF('入力シート(地区別)'!L59=\"\",\"\",IF('入力シート(地区別)'!L59=\"電気\",0,1)))","v":""}]
[{"$f":"IF('入力シート(地区別)'!$H60=\"\",\"\",\"4000001\")","v":""},{"$f":"IF('入力シート(地区別)'!$H60=\"\",\"\",IF('入力シート(地区別)'!$B60=\"男\",0,1))","v":""},{"$f":"IF('入力シート(地区別)'!$H60=\"\",\"\",'入力シート(地区別)'!C60)","v":""},{"$f":"IF('入力シート(地区別)'!$H60=\"\",\"\",TEXT('入力シート(地区別)'!$E60,\"000\"))","v":""},{"$f":"IF('入力シート(地区別)'!$H60=\"\",\"\",学校番号)","v":""},{"$f":"IF('入力シート(地区別)'!$H60=\"\",\"\",IF('入力シート(地区別)'!B60=\"男\",0,1))","v":""},{"$f":"IF('入力シート(地区別)'!$H60=\"\",\"\",TEXT('入力シート(地区別)'!$H60,\"00\"))","v":""},null,null,{"$f":"IF('入力シート(地区別)'!$H60=\"\",\"\",IF('入力シート(地区別)'!K60=\"\",\"\",'入力シート(地区別)'!K60))","v":""},{"$nulls":3},{"$f":"IF('入力シート(地区別)'!$H60=\"\",\"\",IF('入力シート(地区別)'!L60=\"\",\"\",IF('入力シート(地区別)'!L60=\"電気\",0,1)))","v":""}]
[{"$f":"IF('入力シート(地区別)'!$H61=\"\",\"\",\"4000001\")","v":""},{"$f":"IF('入力シート(地区別)'!$H61=\"\",\"\",IF('入力シート(地区別)'!$B61=\"男\",0,1))","v":""},{"$f":"IF('入力シート(地区別)'!$H61=\"\",\"\",'入力シート(地区別)'!C61)","v":""},{"$f":"IF('入力シート(地区別)'!$H61=\"\",\"\",TEXT('入力シート(地区別)'!$E61,\"000\"))","v":""},{"$f":"IF('入力シート(地区別)'!$H61=\"\",\"\",学校番号)","v":""},{"$f":"IF('入力シート(地区別)'!$H61=\"\",\"\",IF('入力シート(地区別)'!B61=\"男\",0,1))","v":""},{"$f":"IF('入力シート(地区別)'!$H61=\"\",\"\",TEXT('入力シート(地区別)'!$H61,\"00\"))","v":""},null,null,{"$f":"IF('入力シート(地区別)'!$H61=\"\",\"\",IF('入力シート(地区別)'!K61=\"\",\"\",'入力シート(地区別)'!K61))","v":""},{"$nulls":3},{"$f":"IF('入力シート(地区別)'!$H61=\"\",\"\",IF('入力シート(地区別)'!L61=\"\",\"\",IF('入力シート(地区別)'!L61=\"電気\",0,1)))","v":""}]
[{"$f":"IF('入力シート(地区別)'!$H62=\"\",\"\",\"4000001\")","v":""},{"$f":"IF('入力シート(地区別)'!$H62=\"\",\"\",IF('入力シート(地区別)'!$B62=\"男\",0,1))","v":""},{"$f":"IF('入力シート(地区別)'!$H62=\"\",\"\",'入力シート(地区別)'!C62)","v":""},{"$f":"IF('入力シート(地区別)'!$H62=\"\",\"\",TEXT('入力シート(地区別)'!$E62,\"000\"))","v":""},{"$f":"IF('入力シート(地区別)'!$H62=\"\",\"\",学校番号)","v":""},{"$f":"IF('入力シート(地区別)'!$H62=\"\",\"\",IF('入力シート(地区別)'!B62=\"男\",0,1))","v":""},{"$f":"IF('入力シート(地区別)'!$H62=\"\",\"\",TEXT('入力シート(地区別)'!$H62,\"00\"))","v":""},null,null,{"$f":"IF('入力シート(地区別)'!$H62=\"\",\"\",IF('入力シート(地区別)'!K62=\"\",\"\",'入力シート(地区別)'!K62))","v":""},{"$nulls":3},{"$f":"IF('入力シート(地区別)'!$H62=\"\",\"\",IF('入力シート(地区別)'!L62=\"\",\"\",IF('入力シート(地区別)'!L62=\"電気\",0,1)))","v":""}]
[{"$f":"IF('入力シート(地区別)'!$H63=\"\",\"\",\"4000001\")","v":""},{"$f":"IF('入力シート(地区別)'!$H63=\"\",\"\",IF('入力シート(地区別)'!$B63=\"男\",0,1))","v":""},{"$f":"IF('入力シート(地区別)'!$H63=\"\",\"\",'入力シート(地区別)'!C63)","v":""},{"$f":"IF('入力シート(地区別)'!$H63=\"\",\"\",TEXT('入力シート(地区別)'!$E63,\"000\"))","v":""},{"$f":"IF('入力シート(地区別)'!$H63=\"\",\"\",学校番号)","v":""},{"$f":"IF('入力シート(地区別)'!$H63=\"\",\"\",IF('入力シート(地区別)'!B63=\"男\",0,1))","v":""},{"$f":"IF('入力シート(地区別)'!$H63=\"\",\"\",TEXT('入力シート(地区別)'!$H63,\"00\"))","v":""},null,null,{"$f":"IF('入力シート(地区別)'!$H63=\"\",\"\",IF('入力シート(地区別)'!K63=\"\",\"\",'入力シート(地区別)'!K63))","v":""},{"$nulls":3},{"$f":"IF('入力シート(地区別)'!$H63=\"\",\"\",IF('入力シート(地区別)'!L63=\"\",\"\",IF('入力シート(地区別)'!L63=\"電気\",0,1)))","v":""}]
[{"$f":"IF('入力シート(地区別)'!$H64=\"\",\"\",\"4000001\")","v":""},{"$f":"IF('入力シート(地区別)'!$H64=\"\",\"\",IF('入力シート(地区別)'!$B64=\"男\",0,1))","v":""},{"$f":"IF('入力シート(地区別)'!$H64=\"\",\"\",'入力シート(地区別)'!C64)","v":""},{"$f":"IF('入力シート(地区別)'!$H64=\"\",\"\",TEXT('入力シート(地区別)'!$E64,\"000\"))","v":""},{"$f":"IF('入力シート(地区別)'!$H64=\"\",\"\",学校番号)","v":""},{"$f":"IF('入力シート(地区別)'!$H64=\"\",\"\",IF('入力シート(地区別)'!B64=\"男\",0,1))","v":""},{"$f":"IF('入力シート(地区別)'!$H64=\"\",\"\",TEXT('入力シート(地区別)'!$H64,\"00\"))","v":""},null,null,{"$f":"IF('入力シート(地区別)'!$H64=\"\",\"\",IF('入力シート(地区別)'!K64=\"\",\"\",'入力シート(地区別)'!K64))","v":""},{"$nulls":3},{"$f":"IF('入力シート(地区別)'!$H64=\"\",\"\",IF('入力シート(地区別)'!L64=\"\",\"\",IF('入力シート(地区別)'!L64=\"電気\",0,1)))","v":""}]
[{"$f":"IF('入力シート(地区別)'!$H65=\"\",\"\",\"4000001\")","v":""},{"$f":"IF('入力シート(地区別)'!$H65=\"\",\"\",IF('入力シート(地区別)'!$B65=\"男\",0,1))","v":""},{"$f":"IF('入力シート(地区別)'!$H65=\"\",\"\",'入力シート(地区別)'!C65)","v":""},{"$f":"IF('入力シート(地区別)'!$H65=\"\",\"\",TEXT('入力シート(地区別)'!$E65,\"000\"))","v":""},{"$f":"IF('入力シート(地区別)'!$H65=\"\",\"\",学校番号)","v":""},{"$f":"IF('入力シート(地区別)'!$H65=\"\",\"\",IF('入力シート(地区別)'!B65=\"男\",0,1))","v":""},{"$f":"IF('入力シート(地区別)'!$H65=\"\",\"\",TEXT('入力シート(地区別)'!$H65,\"00\"))","v":""},null,null,{"$f":"IF('入力シート(地区別)'!$H65=\"\",\"\",IF('入力シート(地区別)'!K65=\"\",\"\",'入力シート(地区別)'!K65))","v":""},{"$nulls":3},{"$f":"IF('入力シート(地区別)'!$H65=\"\",\"\",IF('入力シート(地区別)'!L65=\"\",\"\",IF('入力シート(地区別)'!L65=\"電気\",0,1)))","v":""}]
[{"$f":"IF('入力シート(地区別)'!$H66=\"\",\"\",\"4000001\")","v":""},{"$f":"IF('入力シート(地区別)'!$H66=\"\",\"\",IF('入力シート(地区別)'!$B66=\"男\",0,1))","v":""},{"$f":"IF('入力シート(地区別)'!$H66=\"\",\"\",'入力シート(地区別)'!C66)","v":""},{"$f":"IF('入力シート(地区別)'!$H66=\"\",\"\",TEXT('入力シート(地区別)'!$E66,\"000\"))","v":""},{"$f":"IF('入力シート(地区別)'!$H66=\"\",\"\",学校番号)","v":""},{"$f":"IF('入力シート(地区別)'!$H66=\"\",\"\",IF('入力シート(地区別)'!B66=\"男\",0,1))","v":""},{"$f":"IF('入力シート(地区別)'!$H66=\"\",\"\",TEXT('入力シート(地区別)'!$H66,\"00\"))","v":""},null,null,{"$f":"IF('入力シート(地区別)'!$H66=\"\",\"\",IF('入力シート(地区別)'!K66=\"\",\"\",'入力シート(地区別)'!K66))","v":""},{"$nulls":3},{"$f":"IF('入力シート(地区別)'!$H66=\"\",\"\",IF('入力シート(地区別)'!L66=\"\",\"\",IF('入力シート(地区別)'!L66=\"電気\",0,1)))","v":""}]
[{"$f":"IF('入力シート(地区別)'!$H67=\"\",\"\",\"4000001\")","v":""},{"$f":"IF('入力シート(地区別)'!$H67=\"\",\"\",IF('入力シート(地区別)'!$B67=\"男\",0,1))","v":""},{"$f":"IF('入力シート(地区別)'!$H67=\"\",\"\",'入力シート(地区別)'!C67)","v":""},{"$f":"IF('入力シート(地区別)'!$H67=\"\",\"\",TEXT('入力シート(地区別)'!$E67,\"000\"))","v":""},{"$f":"IF('入力シート(地区別)'!$H67=\"\",\"\",学校番号)","v":""},{"$f":"IF('入力シート(地区別)'!$H67=\"\",\"\",IF('入力シート(地区別)'!B67=\"男\",0,1))","v":""},{"$f":"IF('入力シート(地区別)'!$H67=\"\",\"\",TEXT('入力シート(地区別)'!$H67,\"00\"))","v":""},null,null,{"$f":"IF('入力シート(地区別)'!$H67=\"\",\"\",IF('入力シート(地区別)'!K67=\"\",\"\",'入力シート(地区別)'!K67))","v":""},{"$nulls":3},{"$f":"IF('入力シート(地区別)'!$H67=\"\",\"\",IF('入力シート(地区別)'!L67=\"\",\"\",IF('入力シート(地区別)'!L67=\"電気\",0,1)))","v":""}]
[{"$f":"IF('入力シート(地区別)'!$H68=\"\",\"\",\"4000001\")","v":""},{"$f":"IF('入力シート(地区別)'!$H68=\"\",\"\",IF('入力シート(地区別)'!$B68=\"男\",0,1))","v":""},{"$f":"IF('入力シート(地区別)'!$H68=\"\",\"\",'入力シート(地区別)'!C68)","v":""},{"$f":"IF('入力シート(地区別)'!$H68=\"\",\"\",TEXT('入力シート(地区別)'!$E68,\"000\"))","v":""},{"$f":"IF('入力シート(地区別)'!$H68=\"\",\"\",学校番号)","v":""},{"$f":"IF('入力シート(地区別)'!$H68=\"\",\"\",IF('入力シート(地区別)'!B68=\"男\",0,1))","v":""},{"$f":"IF('入力シート(地区別)'!$H68=\"\",\"\",TEXT('入力シート(地区別)'!$H68,\"00\"))","v":""},null,null,{"$f":"IF('入力シート(地区別)'!$H68=\"\",\"\",IF('入力シート(地区別)'!K68=\"\",\"\",'入力シート(地区別)'!K68))","v":""},{"$nulls":3},{"$f":"IF('入力シート(地区別)'!$H68=\"\",\"\",IF('入力シート(地区別)'!L68=\"\",\"\",IF('入力シート(地区別)'!L68=\"電気\",0,1)))","v":""}]
[{"$f":"IF('入力シート(地区別)'!$H69=\"\",\"\",\"4000001\")","v":""},{"$f":"IF('入力シート(地区別)'!$H69=\"\",\"\",IF('入力シート(地区別)'!$B69=\"男\",0,1))","v":""},{"$f":"IF('入力シート(地区別)'!$H69=\"\",\"\",'入力シート(地区別)'!C69)","v":""},{"$f":"IF('入力シート(地区別)'!$H69=\"\",\"\",TEXT('入力シート(地区別)'!$E69,\"000\"))","v":""},{"$f":"IF('入力シート(地区別)'!$H69=\"\",\"\",学校番号)","v":""},{"$f":"IF('入力シート(地区別)'!$H69=\"\",\"\",IF('入力シート(地区別)'!B69=\"男\",0,1))","v":""},{"$f":"IF('入力シート(地区別)'!$H69=\"\",\"\",TEXT('入力シート(地区別)'!$H69,\"00\"))","v":""},null,null,{"$f":"IF('入力シート(地区別)'!$H69=\"\",\"\",IF('入力シート(地区別)'!K69=\"\",\"\",'入力シート(地区別)'!K69))","v":""},{"$nulls":3},{"$f":"IF('入力シート(地区別)'!$H69=\"\",\"\",IF('入力シート(地区別)'!L69=\"\",\"\",IF('入力シート(地区別)'!L69=\"電気\",0,1)))","v":""}]
[{"$f":"IF('入力シート(地区別)'!$H70=\"\",\"\",\"4000001\")","v":""},{"$f":"IF('入力シート(地区別)'!$H70=\"\",\"\",IF('入力シート(地区別)'!$B70=\"男\",0,1))","v":""},{"$f":"IF('入力シート(地区別)'!$H70=\"\",\"\",'入力シート(地区別)'!C70)","v":""},{"$f":"IF('入力シート(地区別)'!$H70=\"\",\"\",TEXT('入力シート(地区別)'!$E70,\"000\"))","v":""},{"$f":"IF('入力シート(地区別)'!$H70=\"\",\"\",学校番号)","v":""},{"$f":"IF('入力シート(地区別)'!$H70=\"\",\"\",IF('入力シート(地区別)'!B70=\"男\",0,1))","v":""},{"$f":"IF('入力シート(地区別)'!$H70=\"\",\"\",TEXT('入力シート(地区別)'!$H70,\"00\"))","v":""},null,null,{"$f":"IF('入力シート(地区別)'!$H70=\"\",\"\",IF('入力シート(地区別)'!K70=\"\",\"\",'入力シート(地区別)'!K70))","v":""},{"$nulls":3},{"$f":"IF('入力シート(地区別)'!$H70=\"\",\"\",IF('入力シート(地区別)'!L70=\"\",\"\",IF('入力シート(地区別)'!L70=\"電気\",0,1)))","v":""}]
[{"$f":"IF('入力シート(地区別)'!$H71=\"\",\"\",\"4000001\")","v":""},{"$f":"IF('入力シート(地区別)'!$H71=\"\",\"\",IF('入力シート(地区別)'!$B71=\"男\",0,1))","v":""},{"$f":"IF('入力シート(地区別)'!$H71=\"\",\"\",'入力シート(地区別)'!C71)","v":""},{"$f":"IF('入力シート(地区別)'!$H71=\"\",\"\",TEXT('入力シート(地区別)'!$E71,\"000\"))","v":""},{"$f":"IF('入力シート(地区別)'!$H71=\"\",\"\",学校番号)","v":""},{"$f":"IF('入力シート(地区別)'!$H71=\"\",\"\",IF('入力シート(地区別)'!B71=\"男\",0,1))","v":""},{"$f":"IF('入力シート(地区別)'!$H71=\"\",\"\",TEXT('入力シート(地区別)'!$H71,\"00\"))","v":""},null,null,{"$f":"IF('入力シート(地区別)'!$H71=\"\",\"\",IF('入力シート(地区別)'!K71=\"\",\"\",'入力シート(地区別)'!K71))","v":""},{"$nulls":3},{"$f":"IF('入力シート(地区別)'!$H71=\"\",\"\",IF('入力シート(地区別)'!L71=\"\",\"\",IF('入力シート(地区別)'!L71=\"電気\",0,1)))","v":""}]
[{"$f":"IF('入力シート(地区別)'!$H72=\"\",\"\",\"4000001\")","v":""},{"$f":"IF('入力シート(地区別)'!$H72=\"\",\"\",IF('入力シート(地区別)'!$B72=\"男\",0,1))","v":""},{"$f":"IF('入力シート(地区別)'!$H72=\"\",\"\",'入力シート(地区別)'!C72)","v":""},{"$f":"IF('入力シート(地区別)'!$H72=\"\",\"\",TEXT('入力シート(地区別)'!$E72,\"000\"))","v":""},{"$f":"IF('入力シート(地区別)'!$H72=\"\",\"\",学校番号)","v":""},{"$f":"IF('入力シート(地区別)'!$H72=\"\",\"\",IF('入力シート(地区別)'!B72=\"男\",0,1))","v":""},{"$f":"IF('入力シート(地区別)'!$H72=\"\",\"\",TEXT('入力シート(地区別)'!$H72,\"00\"))","v":""},null,null,{"$f":"IF('入力シート(地区別)'!$H72=\"\",\"\",IF('入力シート(地区別)'!K72=\"\",\"\",'入力シート(地区別)'!K72))","v":""},{"$nulls":3},{"$f":"IF('入力シート(地区別)'!$H72=\"\",\"\",IF('入力シート(地区別)'!L72=\"\",\"\",IF('入力シート(地区別)'!L72=\"電気\",0,1)))","v":""}]
[{"$f":"IF('入力シート(地区別)'!$H73=\"\",\"\",\"4000001\")","v":""},{"$f":"IF('入力シート(地区別)'!$H73=\"\",\"\",IF('入力シート(地区別)'!$B73=\"男\",0,1))","v":""},{"$f":"IF('入力シート(地区別)'!$H73=\"\",\"\",'入力シート(地区別)'!C73)","v":""},{"$f":"IF('入力シート(地区別)'!$H73=\"\",\"\",TEXT('入力シート(地区別)'!$E73,\"000\"))","v":""},{"$f":"IF('入力シート(地区別)'!$H73=\"\",\"\",学校番号)","v":""},{"$f":"IF('入力シート(地区別)'!$H73=\"\",\"\",IF('入力シート(地区別)'!B73=\"男\",0,1))","v":""},{"$f":"IF('入力シート(地区別)'!$H73=\"\",\"\",TEXT('入力シート(地区別)'!$H73,\"00\"))","v":""},null,null,{"$f":"IF('入力シート(地区別)'!$H73=\"\",\"\",IF('入力シート(地区別)'!K73=\"\",\"\",'入力シート(地区別)'!K73))","v":""},{"$nulls":3},{"$f":"IF('入力シート(地区別)'!$H73=\"\",\"\",IF('入力シート(地区別)'!L73=\"\",\"\",IF('入力シート(地区別)'!L73=\"電気\",0,1)))","v":""}]
[{"$f":"IF('入力シート(地区別)'!$H74=\"\",\"\",\"4000001\")","v":""},{"$f":"IF('入力シート(地区別)'!$H74=\"\",\"\",IF('入力シート(地区別)'!$B74=\"男\",0,1))","v":""},{"$f":"IF('入力シート(地区別)'!$H74=\"\",\"\",'入力シート(地区別)'!C74)","v":""},{"$f":"IF('入力シート(地区別)'!$H74=\"\",\"\",TEXT('入力シート(地区別)'!$E74,\"000\"))","v":""},{"$f":"IF('入力シート(地区別)'!$H74=\"\",\"\",学校番号)","v":""},{"$f":"IF('入力シート(地区別)'!$H74=\"\",\"\",IF('入力シート(地区別)'!B74=\"男\",0,1))","v":""},{"$f":"IF('入力シート(地区別)'!$H74=\"\",\"\",TEXT('入力シート(地区別)'!$H74,\"00\"))","v":""},null,null,{"$f":"IF('入力シート(地区別)'!$H74=\"\",\"\",IF('入力シート(地区別)'!K74=\"\",\"\",'入力シート(地区別)'!K74))","v":""},{"$nulls":3},{"$f":"IF('入力シート(地区別)'!$H74=\"\",\"\",IF('入力シート(地区別)'!L74=\"\",\"\",IF('入力シート(地区別)'!L74=\"電気\",0,1)))","v":""}]
[{"$f":"IF('入力シート(地区別)'!$H75=\"\",\"\",\"4000001\")","v":""},{"$f":"IF('入力シート(地区別)'!$H75=\"\",\"\",IF('入力シート(地区別)'!$B75=\"男\",0,1))","v":""},{"$f":"IF('入力シート(地区別)'!$H75=\"\",\"\",'入力シート(地区別)'!C75)","v":""},{"$f":"IF('入力シート(地区別)'!$H75=\"\",\"\",TEXT('入力シート(地区別)'!$E75,\"000\"))","v":""},{"$f":"IF('入力シート(地区別)'!$H75=\"\",\"\",学校番号)","v":""},{"$f":"IF('入力シート(地区別)'!$H75=\"\",\"\",IF('入力シート(地区別)'!B75=\"男\",0,1))","v":""},{"$f":"IF('入力シート(地区別)'!$H75=\"\",\"\",TEXT('入力シート(地区別)'!$H75,\"00\"))","v":""},null,null,{"$f":"IF('入力シート(地区別)'!$H75=\"\",\"\",IF('入力シート(地区別)'!K75=\"\",\"\",'入力シート(地区別)'!K75))","v":""},{"$nulls":3},{"$f":"IF('入力シート(地区別)'!$H75=\"\",\"\",IF('入力シート(地区別)'!L75=\"\",\"\",IF('入力シート(地区別)'!L75=\"電気\",0,1)))","v":""}]
[{"$f":"IF('入力シート(地区別)'!$H76=\"\",\"\",\"4000001\")","v":""},{"$f":"IF('入力シート(地区別)'!$H76=\"\",\"\",IF('入力シート(地区別)'!$B76=\"男\",0,1))","v":""},{"$f":"IF('入力シート(地区別)'!$H76=\"\",\"\",'入力シート(地区別)'!C76)","v":""},{"$f":"IF('入力シート(地区別)'!$H76=\"\",\"\",TEXT('入力シート(地区別)'!$E76,\"000\"))","v":""},{"$f":"IF('入力シート(地区別)'!$H76=\"\",\"\",学校番号)","v":""},{"$f":"IF('入力シート(地区別)'!$H76=\"\",\"\",IF('入力シート(地区別)'!B76=\"男\",0,1))","v":""},{"$f":"IF('入力シート(地区別)'!$H76=\"\",\"\",TEXT('入力シート(地区別)'!$H76,\"00\"))","v":""},null,null,{"$f":"IF('入力シート(地区別)'!$H76=\"\",\"\",IF('入力シート(地区別)'!K76=\"\",\"\",'入力シート(地区別)'!K76))","v":""},{"$nulls":3},{"$f":"IF('入力シート(地区別)'!$H76=\"\",\"\",IF('入力シート(地区別)'!L76=\"\",\"\",IF('入力シート(地区別)'!L76=\"電気\",0,1)))","v":""}]
[{"$f":"IF('入力シート(地区別)'!$H77=\"\",\"\",\"4000001\")","v":""},{"$f":"IF('入力シート(地区別)'!$H77=\"\",\"\",IF('入力シート(地区別)'!$B77=\"男\",0,1))","v":""},{"$f":"IF('入力シート(地区別)'!$H77=\"\",\"\",'入力シート(地区別)'!C77)","v":""},{"$f":"IF('入力シート(地区別)'!$H77=\"\",\"\",TEXT('入力シート(地区別)'!$E77,\"000\"))","v":""},{"$f":"IF('入力シート(地区別)'!$H77=\"\",\"\",学校番号)","v":""},{"$f":"IF('入力シート(地区別)'!$H77=\"\",\"\",IF('入力シート(地区別)'!B77=\"男\",0,1))","v":""},{"$f":"IF('入力シート(地区別)'!$H77=\"\",\"\",TEXT('入力シート(地区別)'!$H77,\"00\"))","v":""},null,null,{"$f":"IF('入力シート(地区別)'!$H77=\"\",\"\",IF('入力シート(地区別)'!K77=\"\",\"\",'入力シート(地区別)'!K77))","v":""},{"$nulls":3},{"$f":"IF('入力シート(地区別)'!$H77=\"\",\"\",IF('入力シート(地区別)'!L77=\"\",\"\",IF('入力シート(地区別)'!L77=\"電気\",0,1)))","v":""}]
[{"$f":"IF('入力シート(地区別)'!$H78=\"\",\"\",\"4000001\")","v":""},{"$f":"IF('入力シート(地区別)'!$H78=\"\",\"\",IF('入力シート(地区別)'!$B78=\"男\",0,1))","v":""},{"$f":"IF('入力シート(地区別)'!$H78=\"\",\"\",'入力シート(地区別)'!C78)","v":""},{"$f":"IF('入力シート(地区別)'!$H78=\"\",\"\",TEXT('入力シート(地区別)'!$E78,\"000\"))","v":""},{"$f":"IF('入力シート(地区別)'!$H78=\"\",\"\",学校番号)","v":""},{"$f":"IF('入力シート(地区別)'!$H78=\"\",\"\",IF('入力シート(地区別)'!B78=\"男\",0,1))","v":""},{"$f":"IF('入力シート(地区別)'!$H78=\"\",\"\",TEXT('入力シート(地区別)'!$H78,\"00\"))","v":""},null,null,{"$f":"IF('入力シート(地区別)'!$H78=\"\",\"\",IF('入力シート(地区別)'!K78=\"\",\"\",'入力シート(地区別)'!K78))","v":""},{"$nulls":3},{"$f":"IF('入力シート(地区別)'!$H78=\"\",\"\",IF('入力シート(地区別)'!L78=\"\",\"\",IF('入力シート(地区別)'!L78=\"電気\",0,1)))","v":""}]
[{"$f":"IF('入力シート(地区別)'!$H79=\"\",\"\",\"4000001\")","v":""},{"$f":"IF('入力シート(地区別)'!$H79=\"\",\"\",IF('入力シート(地区別)'!$B79=\"男\",0,1))","v":""},{"$f":"IF('入力シート(地区別)'!$H79=\"\",\"\",'入力シート(地区別)'!C79)","v":""},{"$f":"IF('入力シート(地区別)'!$H79=\"\",\"\",TEXT('入力シート(地区別)'!$E79,\"000\"))","v":""},{"$f":"IF('入力シート(地区別)'!$H79=\"\",\"\",学校番号)","v":""},{"$f":"IF('入力シート(地区別)'!$H79=\"\",\"\",IF('入力シート(地区別)'!B79=\"男\",0,1))","v":""},{"$f":"IF('入力シート(地区別)'!$H79=\"\",\"\",TEXT('入力シート(地区別)'!$H79,\"00\"))","v":""},null,null,{"$f":"IF('入力シート(地区別)'!$H79=\"\",\"\",IF('入力シート(地区別)'!K79=\"\",\"\",'入力シート(地区別)'!K79))","v":""},{"$nulls":3},{"$f":"IF('入力シート(地区別)'!$H79=\"\",\"\",IF('入力シート(地区別)'!L79=\"\",\"\",IF('入力シート(地区別)'!L79=\"電気\",0,1)))","v":""}]
[{"$f":"IF('入力シート(地区別)'!$H80=\"\",\"\",\"4000001\")","v":""},{"$f":"IF('入力シート(地区別)'!$H80=\"\",\"\",IF('入力シート(地区別)'!$B80=\"男\",0,1))","v":""},{"$f":"IF('入力シート(地区別)'!$H80=\"\",\"\",'入力シート(地区別)'!C80)","v":""},{"$f":"IF('入力シート(地区別)'!$H80=\"\",\"\",TEXT('入力シート(地区別)'!$E80,\"000\"))","v":""},{"$f":"IF('入力シート(地区別)'!$H80=\"\",\"\",学校番号)","v":""},{"$f":"IF('入力シート(地区別)'!$H80=\"\",\"\",IF('入力シート(地区別)'!B80=\"男\",0,1))","v":""},{"$f":"IF('入力シート(地区別)'!$H80=\"\",\"\",TEXT('入力シート(地区別)'!$H80,\"00\"))","v":""},null,null,{"$f":"IF('入力シート(地区別)'!$H80=\"\",\"\",IF('入力シート(地区別)'!K80=\"\",\"\",'入力シート(地区別)'!K80))","v":""},{"$nulls":3},{"$f":"IF('入力シート(地区別)'!$H80=\"\",\"\",IF('入力シート(地区別)'!L80=\"\",\"\",IF('入力シート(地区別)'!L80=\"電気\",0,1)))","v":""}]
[{"$f":"IF('入力シート(地区別)'!$H81=\"\",\"\",\"4000001\")","v":""},{"$f":"IF('入力シート(地区別)'!$H81=\"\",\"\",IF('入力シート(地区別)'!$B81=\"男\",0,1))","v":""},{"$f":"IF('入力シート(地区別)'!$H81=\"\",\"\",'入力シート(地区別)'!C81)","v":""},{"$f":"IF('入力シート(地区別)'!$H81=\"\",\"\",TEXT('入力シート(地区別)'!$E81,\"000\"))","v":""},{"$f":"IF('入力シート(地区別)'!$H81=\"\",\"\",学校番号)","v":""},{"$f":"IF('入力シート(地区別)'!$H81=\"\",\"\",IF('入力シート(地区別)'!B81=\"男\",0,1))","v":""},{"$f":"IF('入力シート(地区別)'!$H81=\"\",\"\",TEXT('入力シート(地区別)'!$H81,\"00\"))","v":""},null,null,{"$f":"IF('入力シート(地区別)'!$H81=\"\",\"\",IF('入力シート(地区別)'!K81=\"\",\"\",'入力シート(地区別)'!K81))","v":""},{"$nulls":3},{"$f":"IF('入力シート(地区別)'!$H81=\"\",\"\",IF('入力シート(地区別)'!L81=\"\",\"\",IF('入力シート(地区別)'!L81=\"電気\",0,1)))","v":""}]
[{"$f":"IF('入力シート(地区別)'!$H82=\"\",\"\",\"4000001\")","v":""},{"$f":"IF('入力シート(地区別)'!$H82=\"\",\"\",IF('入力シート(地区別)'!$B82=\"男\",0,1))","v":""},{"$f":"IF('入力シート(地区別)'!$H82=\"\",\"\",'入力シート(地区別)'!C82)","v":""},{"$f":"IF('入力シート(地区別)'!$H82=\"\",\"\",TEXT('入力シート(地区別)'!$E82,\"000\"))","v":""},{"$f":"IF('入力シート(地区別)'!$H82=\"\",\"\",学校番号)","v":""},{"$f":"IF('入力シート(地区別)'!$H82=\"\",\"\",IF('入力シート(地区別)'!B82=\"男\",0,1))","v":""},{"$f":"IF('入力シート(地区別)'!$H82=\"\",\"\",TEXT('入力シート(地区別)'!$H82,\"00\"))","v":""},null,null,{"$f":"IF('入力シート(地区別)'!$H82=\"\",\"\",IF('入力シート(地区別)'!K82=\"\",\"\",'入力シート(地区別)'!K82))","v":""},{"$nulls":3},{"$f":"IF('入力シート(地区別)'!$H82=\"\",\"\",IF('入力シート(地区別)'!L82=\"\",\"\",IF('入力シート(地区別)'!L82=\"電気\",0,1)))","v":""}]
[{"$f":"IF('入力シート(地区別)'!$H83=\"\",\"\",\"4000001\")","v":""},{"$f":"IF('入力シート(地区別)'!$H83=\"\",\"\",IF('入力シート(地区別)'!$B83=\"男\",0,1))","v":""},{"$f":"IF('入力シート(地区別)'!$H83=\"\",\"\",'入力シート(地区別)'!C83)","v":""},{"$f":"IF('入力シート(地区別)'!$H83=\"\",\"\",TEXT('入力シート(地区別)'!$E83,\"000\"))","v":""},{"$f":"IF('入力シート(地区別)'!$H83=\"\",\"\",学校番号)","v":""},{"$f":"IF('入力シート(地区別)'!$H83=\"\",\"\",IF('入力シート(地区別)'!B83=\"男\",0,1))","v":""},{"$f":"IF('入力シート(地区別)'!$H83=\"\",\"\",TEXT('入力シート(地区別)'!$H83,\"00\"))","v":""},null,null,{"$f":"IF('入力シート(地区別)'!$H83=\"\",\"\",IF('入力シート(地区別)'!K83=\"\",\"\",'入力シート(地区別)'!K83))","v":""},{"$nulls":3},{"$f":"IF('入力シート(地区別)'!$H83=\"\",\"\",IF('入力シート(地区別)'!L83=\"\",\"\",IF('入力シート(地区別)'!L83=\"電気\",0,1)))","v":""}]
[{"$f":"IF('入力シート(地区別)'!$H84=\"\",\"\",\"4000001\")","v":""},{"$f":"IF('入力シート(地区別)'!$H84=\"\",\"\",IF('入力シート(地区別)'!$B84=\"男\",0,1))","v":""},{"$f":"IF('入力シート(地区別)'!$H84=\"\",\"\",'入力シート(地区別)'!C84)","v":""},{"$f":"IF('入力シート(地区別)'!$H84=\"\",\"\",TEXT('入力シート(地区別)'!$E84,\"000\"))","v":""},{"$f":"IF('入力シート(地区別)'!$H84=\"\",\"\",学校番号)","v":""},{"$f":"IF('入力シート(地区別)'!$H84=\"\",\"\",IF('入力シート(地区別)'!B84=\"男\",0,1))","v":""},{"$f":"IF('入力シート(地区別)'!$H84=\"\",\"\",TEXT('入力シート(地区別)'!$H84,\"00\"))","v":""},null,null,{"$f":"IF('入力シート(地区別)'!$H84=\"\",\"\",IF('入力シート(地区別)'!K84=\"\",\"\",'入力シート(地区別)'!K84))","v":""},{"$nulls":3},{"$f":"IF('入力シート(地区別)'!$H84=\"\",\"\",IF('入力シート(地区別)'!L84=\"\",\"\",IF('入力シート(地区別)'!L84=\"電気\",0,1)))","v":""}]
[{"$f":"IF('入力シート(地区別)'!$H85=\"\",\"\",\"4000001\")","v":""},{"$f":"IF('入力シート(地区別)'!$H85=\"\",\"\",IF('入力シート(地区別)'!$B85=\"男\",0,1))","v":""},{"$f":"IF('入力シート(地区別)'!$H85=\"\",\"\",'入力シート(地区別)'!C85)","v":""},{"$f":"IF('入力シート(地区別)'!$H85=\"\",\"\",TEXT('入力シート(地区別)'!$E85,\"000\"))","v":""},{"$f":"IF('入力シート(地区別)'!$H85=\"\",\"\",学校番号)","v":""},{"$f":"IF('入力シート(地区別)'!$H85=\"\",\"\",IF('入力シート(地区別)'!B85=\"男\",0,1))","v":""},{"$f":"IF('入力シート(地区別)'!$H85=\"\",\"\",TEXT('入力シート(地区別)'!$H85,\"00\"))","v":""},null,null,{"$f":"IF('入力シート(地区別)'!$H85=\"\",\"\",IF('入力シート(地区別)'!K85=\"\",\"\",'入力シート(地区別)'!K85))","v":""},{"$nulls":3},{"$f":"IF('入力シート(地区別)'!$H85=\"\",\"\",IF('入力シート(地区別)'!L85=\"\",\"\",IF('入力シート(地区別)'!L85=\"電気\",0,1)))","v":""}]
[{"$f":"IF('入力シート(地区別)'!$H86=\"\",\"\",\"4000001\")","v":""},{"$f":"IF('入力シート(地区別)'!$H86=\"\",\"\",IF('入力シート(地区別)'!$B86=\"男\",0,1))","v":""},{"$f":"IF('入力シート(地区別)'!$H86=\"\",\"\",'入力シート(地区別)'!C86)","v":""},{"$f":"IF('入力シート(地区別)'!$H86=\"\",\"\",TEXT('入力シート(地区別)'!$E86,\"000\"))","v":""},{"$f":"IF('入力シート(地区別)'!$H86=\"\",\"\",学校番号)","v":""},{"$f":"IF('入力シート(地区別)'!$H86=\"\",\"\",IF('入力シート(地区別)'!B86=\"男\",0,1))","v":""},{"$f":"IF('入力シート(地区別)'!$H86=\"\",\"\",TEXT('入力シート(地区別)'!$H86,\"00\"))","v":""},null,null,{"$f":"IF('入力シート(地区別)'!$H86=\"\",\"\",IF('入力シート(地区別)'!K86=\"\",\"\",'入力シート(地区別)'!K86))","v":""},{"$nulls":3},{"$f":"IF('入力シート(地区別)'!$H86=\"\",\"\",IF('入力シート(地区別)'!L86=\"\",\"\",IF('入力シート(地区別)'!L86=\"電気\",0,1)))","v":""}]
[{"$f":"IF('入力シート(地区別)'!$H87=\"\",\"\",\"4000001\")","v":""},{"$f":"IF('入力シート(地区別)'!$H87=\"\",\"\",IF('入力シート(地区別)'!$B87=\"男\",0,1))","v":""},{"$f":"IF('入力シート(地区別)'!$H87=\"\",\"\",'入力シート(地区別)'!C87)","v":""},{"$f":"IF('入力シート(地区別)'!$H87=\"\",\"\",TEXT('入力シート(地区別)'!$E87,\"000\"))","v":""},{"$f":"IF('入力シート(地区別)'!$H87=\"\",\"\",学校番号)","v":""},{"$f":"IF('入力シート(地区別)'!$H87=\"\",\"\",IF('入力シート(地区別)'!B87=\"男\",0,1))","v":""},{"$f":"IF('入力シート(地区別)'!$H87=\"\",\"\",TEXT('入力シート(地区別)'!$H87,\"00\"))","v":""},null,null,{"$f":"IF('入力シート(地区別)'!$H87=\"\",\"\",IF('入力シート(地区別)'!K87=\"\",\"\",'入力シート(地区別)'!K87))","v":""},{"$nulls":3},{"$f":"IF('入力シート(地区別)'!$H87=\"\",\"\",IF('入力シート(地区別)'!L87=\"\",\"\",IF('入力シート(地区別)'!L87=\"電気\",0,1)))","v":""}]
[{"$f":"IF('入力シート(地区別)'!$H88=\"\",\"\",\"4000001\")","v":""},{"$f":"IF('入力シート(地区別)'!$H88=\"\",\"\",IF('入力シート(地区別)'!$B88=\"男\",0,1))","v":""},{"$f":"IF('入力シート(地区別)'!$H88=\"\",\"\",'入力シート(地区別)'!C88)","v":""},{"$f":"IF('入力シート(地区別)'!$H88=\"\",\"\",TEXT('入力シート(地区別)'!$E88,\"000\"))","v":""},{"$f":"IF('入力シート(地区別)'!$H88=\"\",\"\",学校番号)","v":""},{"$f":"IF('入力シート(地区別)'!$H88=\"\",\"\",IF('入力シート(地区別)'!B88=\"男\",0,1))","v":""},{"$f":"IF('入力シート(地区別)'!$H88=\"\",\"\",TEXT('入力シート(地区別)'!$H88,\"00\"))","v":""},null,null,{"$f":"IF('入力シート(地区別)'!$H88=\"\",\"\",IF('入力シート(地区別)'!K88=\"\",\"\",'入力シート(地区別)'!K88))","v":""},{"$nulls":3},{"$f":"IF('入力シート(地区別)'!$H88=\"\",\"\",IF('入力シート(地区別)'!L88=\"\",\"\",IF('入力シート(地区別)'!L88=\"電気\",0,1)))","v":""}]
[{"$f":"IF('入力シート(地区別)'!$H89=\"\",\"\",\"4000001\")","v":""},{"$f":"IF('入力シート(地区別)'!$H89=\"\",\"\",IF('入力シート(地区別)'!$B89=\"男\",0,1))","v":""},{"$f":"IF('入力シート(地区別)'!$H89=\"\",\"\",'入力シート(地区別)'!C89)","v":""},{"$f":"IF('入力シート(地区別)'!$H89=\"\",\"\",TEXT('入力シート(地区別)'!$E89,\"000\"))","v":""},{"$f":"IF('入力シート(地区別)'!$H89=\"\",\"\",学校番号)","v":""},{"$f":"IF('入力シート(地区別)'!$H89=\"\",\"\",IF('入力シート(地区別)'!B89=\"男\",0,1))","v":""},{"$f":"IF('入力シート(地区別)'!$H89=\"\",\"\",TEXT('入力シート(地区別)'!$H89,\"00\"))","v":""},null,null,{"$f":"IF('入力シート(地区別)'!$H89=\"\",\"\",IF('入力シート(地区別)'!K89=\"\",\"\",'入力シート(地区別)'!K89))","v":""},{"$nulls":3},{"$f":"IF('入力シート(地区別)'!$H89=\"\",\"\",IF('入力シート(地区別)'!L89=\"\",\"\",IF('入力シート(地区別)'!L89=\"電気\",0,1)))","v":""}]
[{"$f":"IF('入力シート(地区別)'!$H90=\"\",\"\",\"4000001\")","v":""},{"$f":"IF('入力シート(地区別)'!$H90=\"\",\"\",IF('入力シート(地区別)'!$B90=\"男\",0,1))","v":""},{"$f":"IF('入力シート(地区別)'!$H90=\"\",\"\",'入力シート(地区別)'!C90)","v":""},{"$f":"IF('入力シート(地区別)'!$H90=\"\",\"\",TEXT('入力シート(地区別)'!$E90,\"000\"))","v":""},{"$f":"IF('入力シート(地区別)'!$H90=\"\",\"\",学校番号)","v":""},{"$f":"IF('入力シート(地区別)'!$H90=\"\",\"\",IF('入力シート(地区別)'!B90=\"男\",0,1))","v":""},{"$f":"IF('入力シート(地区別)'!$H90=\"\",\"\",TEXT('入力シート(地区別)'!$H90,\"00\"))","v":""},null,null,{"$f":"IF('入力シート(地区別)'!$H90=\"\",\"\",IF('入力シート(地区別)'!K90=\"\",\"\",'入力シート(地区別)'!K90))","v":""},{"$nulls":3},{"$f":"IF('入力シート(地区別)'!$H90=\"\",\"\",IF('入力シート(地区別)'!L90=\"\",\"\",IF('入力シート(地区別)'!L90=\"電気\",0,1)))","v":""}]
[{"$f":"IF('入力シート(地区別)'!$H91=\"\",\"\",\"4000001\")","v":""},{"$f":"IF('入力シート(地区別)'!$H91=\"\",\"\",IF('入力シート(地区別)'!$B91=\"男\",0,1))","v":""},{"$f":"IF('入力シート(地区別)'!$H91=\"\",\"\",'入力シート(地区別)'!C91)","v":""},{"$f":"IF('入力シート(地区別)'!$H91=\"\",\"\",TEXT('入力シート(地区別)'!$E91,\"000\"))","v":""},{"$f":"IF('入力シート(地区別)'!$H91=\"\",\"\",学校番号)","v":""},{"$f":"IF('入力シート(地区別)'!$H91=\"\",\"\",IF('入力シート(地区別)'!B91=\"男\",0,1))","v":""},{"$f":"IF('入力シート(地区別)'!$H91=\"\",\"\",TEXT('入力シート(地区別)'!$H91,\"00\"))","v":""},null,null,{"$f":"IF('入力シート(地区別)'!$H91=\"\",\"\",IF('入力シート(地区別)'!K91=\"\",\"\",'入力シート(地区別)'!K91))","v":""},{"$nulls":3},{"$f":"IF('入力シート(地区別)'!$H91=\"\",\"\",IF('入力シート(地区別)'!L91=\"\",\"\",IF('入力シート(地区別)'!L91=\"電気\",0,1)))","v":""}]
[{"$f":"IF('入力シート(地区別)'!$H92=\"\",\"\",\"4000001\")","v":""},{"$f":"IF('入力シート(地区別)'!$H92=\"\",\"\",IF('入力シート(地区別)'!$B92=\"男\",0,1))","v":""},{"$f":"IF('入力シート(地区別)'!$H92=\"\",\"\",'入力シート(地区別)'!C92)","v":""},{"$f":"IF('入力シート(地区別)'!$H92=\"\",\"\",TEXT('入力シート(地区別)'!$E92,\"000\"))","v":""},{"$f":"IF('入力シート(地区別)'!$H92=\"\",\"\",学校番号)","v":""},{"$f":"IF('入力シート(地区別)'!$H92=\"\",\"\",IF('入力シート(地区別)'!B92=\"男\",0,1))","v":""},{"$f":"IF('入力シート(地区別)'!$H92=\"\",\"\",TEXT('入力シート(地区別)'!$H92,\"00\"))","v":""},null,null,{"$f":"IF('入力シート(地区別)'!$H92=\"\",\"\",IF('入力シート(地区別)'!K92=\"\",\"\",'入力シート(地区別)'!K92))","v":""},{"$nulls":3},{"$f":"IF('入力シート(地区別)'!$H92=\"\",\"\",IF('入力シート(地区別)'!L92=\"\",\"\",IF('入力シート(地区別)'!L92=\"電気\",0,1)))","v":""}]
[{"$f":"IF('入力シート(地区別)'!$H93=\"\",\"\",\"4000001\")","v":""},{"$f":"IF('入力シート(地区別)'!$H93=\"\",\"\",IF('入力シート(地区別)'!$B93=\"男\",0,1))","v":""},{"$f":"IF('入力シート(地区別)'!$H93=\"\",\"\",'入力シート(地区別)'!C93)","v":""},{"$f":"IF('入力シート(地区別)'!$H93=\"\",\"\",TEXT('入力シート(地区別)'!$E93,\"000\"))","v":""},{"$f":"IF('入力シート(地区別)'!$H93=\"\",\"\",学校番号)","v":""},{"$f":"IF('入力シート(地区別)'!$H93=\"\",\"\",IF('入力シート(地区別)'!B93=\"男\",0,1))","v":""},{"$f":"IF('入力シート(地区別)'!$H93=\"\",\"\",TEXT('入力シート(地区別)'!$H93,\"00\"))","v":""},null,null,{"$f":"IF('入力シート(地区別)'!$H93=\"\",\"\",IF('入力シート(地区別)'!K93=\"\",\"\",'入力シート(地区別)'!K93))","v":""},{"$nulls":3},{"$f":"IF('入力シート(地区別)'!$H93=\"\",\"\",IF('入力シート(地区別)'!L93=\"\",\"\",IF('入力シート(地区別)'!L93=\"電気\",0,1)))","v":""}]
[{"$f":"IF('入力シート(地区別)'!$H94=\"\",\"\",\"4000001\")","v":""},{"$f":"IF('入力シート(地区別)'!$H94=\"\",\"\",IF('入力シート(地区別)'!$B94=\"男\",0,1))","v":""},{"$f":"IF('入力シート(地区別)'!$H94=\"\",\"\",'入力シート(地区別)'!C94)","v":""},{"$f":"IF('入力シート(地区別)'!$H94=\"\",\"\",TEXT('入力シート(地区別)'!$E94,\"000\"))","v":""},{"$f":"IF('入力シート(地区別)'!$H94=\"\",\"\",学校番号)","v":""},{"$f":"IF('入力シート(地区別)'!$H94=\"\",\"\",IF('入力シート(地区別)'!B94=\"男\",0,1))","v":""},{"$f":"IF('入力シート(地区別)'!$H94=\"\",\"\",TEXT('入力シート(地区別)'!$H94,\"00\"))","v":""},null,null,{"$f":"IF('入力シート(地区別)'!$H94=\"\",\"\",IF('入力シート(地区別)'!K94=\"\",\"\",'入力シート(地区別)'!K94))","v":""},{"$nulls":3},{"$f":"IF('入力シート(地区別)'!$H94=\"\",\"\",IF('入力シート(地区別)'!L94=\"\",\"\",IF('入力シート(地区別)'!L94=\"電気\",0,1)))","v":""}]
[{"$f":"IF('入力シート(地区別)'!$H95=\"\",\"\",\"4000001\")","v":""},{"$f":"IF('入力シート(地区別)'!$H95=\"\",\"\",IF('入力シート(地区別)'!$B95=\"男\",0,1))","v":""},{"$f":"IF('入力シート(地区別)'!$H95=\"\",\"\",'入力シート(地区別)'!C95)","v":""},{"$f":"IF('入力シート(地区別)'!$H95=\"\",\"\",TEXT('入力シート(地区別)'!$E95,\"000\"))","v":""},{"$f":"IF('入力シート(地区別)'!$H95=\"\",\"\",学校番号)","v":""},{"$f":"IF('入力シート(地区別)'!$H95=\"\",\"\",IF('入力シート(地区別)'!B95=\"男\",0,1))","v":""},{"$f":"IF('入力シート(地区別)'!$H95=\"\",\"\",TEXT('入力シート(地区別)'!$H95,\"00\"))","v":""},null,null,{"$f":"IF('入力シート(地区別)'!$H95=\"\",\"\",IF('入力シート(地区別)'!K95=\"\",\"\",'入力シート(地区別)'!K95))","v":""},{"$nulls":3},{"$f":"IF('入力シート(地区別)'!$H95=\"\",\"\",IF('入力シート(地区別)'!L95=\"\",\"\",IF('入力シート(地区別)'!L95=\"電気\",0,1)))","v":""}]
[{"$f":"IF('入力シート(地区別)'!$H96=\"\",\"\",\"4000001\")","v":""},{"$f":"IF('入力シート(地区別)'!$H96=\"\",\"\",IF('入力シート(地区別)'!$B96=\"男\",0,1))","v":""},{"$f":"IF('入力シート(地区別)'!$H96=\"\",\"\",'入力シート(地区別)'!C96)","v":""},{"$f":"IF('入力シート(地区別)'!$H96=\"\",\"\",TEXT('入力シート(地区別)'!$E96,\"000\"))","v":""},{"$f":"IF('入力シート(地区別)'!$H96=\"\",\"\",学校番号)","v":""},{"$f":"IF('入力シート(地区別)'!$H96=\"\",\"\",IF('入力シート(地区別)'!B96=\"男\",0,1))","v":""},{"$f":"IF('入力シート(地区別)'!$H96=\"\",\"\",TEXT('入力シート(地区別)'!$H96,\"00\"))","v":""},null,null,{"$f":"IF('入力シート(地区別)'!$H96=\"\",\"\",IF('入力シート(地区別)'!K96=\"\",\"\",'入力シート(地区別)'!K96))","v":""},{"$nulls":3},{"$f":"IF('入力シート(地区別)'!$H96=\"\",\"\",IF('入力シート(地区別)'!L96=\"\",\"\",IF('入力シート(地区別)'!L96=\"電気\",0,1)))","v":""}]
[{"$f":"IF('入力シート(地区別)'!$H97=\"\",\"\",\"4000001\")","v":""},{"$f":"IF('入力シート(地区別)'!$H97=\"\",\"\",IF('入力シート(地区別)'!$B97=\"男\",0,1))","v":""},{"$f":"IF('入力シート(地区別)'!$H97=\"\",\"\",'入力シート(地区別)'!C97)","v":""},{"$f":"IF('入力シート(地区別)'!$H97=\"\",\"\",TEXT('入力シート(地区別)'!$E97,\"000\"))","v":""},{"$f":"IF('入力シート(地区別)'!$H97=\"\",\"\",学校番号)","v":""},{"$f":"IF('入力シート(地区別)'!$H97=\"\",\"\",IF('入力シート(地区別)'!B97=\"男\",0,1))","v":""},{"$f":"IF('入力シート(地区別)'!$H97=\"\",\"\",TEXT('入力シート(地区別)'!$H97,\"00\"))","v":""},null,null,{"$f":"IF('入力シート(地区別)'!$H97=\"\",\"\",IF('入力シート(地区別)'!K97=\"\",\"\",'入力シート(地区別)'!K97))","v":""},{"$nulls":3},{"$f":"IF('入力シート(地区別)'!$H97=\"\",\"\",IF('入力シート(地区別)'!L97=\"\",\"\",IF('入力シート(地区別)'!L97=\"電気\",0,1)))","v":""}]
[{"$f":"IF('入力シート(地区別)'!$H98=\"\",\"\",\"4000001\")","v":""},{"$f":"IF('入力シート(地区別)'!$H98=\"\",\"\",IF('入力シート(地区別)'!$B98=\"男\",0,1))","v":""},{"$f":"IF('入力シート(地区別)'!$H98=\"\",\"\",'入力シート(地区別)'!C98)","v":""},{"$f":"IF('入力シート(地区別)'!$H98=\"\",\"\",TEXT('入力シート(地区別)'!$E98,\"000\"))","v":""},{"$f":"IF('入力シート(地区別)'!$H98=\"\",\"\",学校番号)","v":""},{"$f":"IF('入力シート(地区別)'!$H98=\"\",\"\",IF('入力シート(地区別)'!B98=\"男\",0,1))","v":""},{"$f":"IF('入力シート(地区別)'!$H98=\"\",\"\",TEXT('入力シート(地区別)'!$H98,\"00\"))","v":""},null,null,{"$f":"IF('入力シート(地区別)'!$H98=\"\",\"\",IF('入力シート(地区別)'!K98=\"\",\"\",'入力シート(地区別)'!K98))","v":""},{"$nulls":3},{"$f":"IF('入力シート(地区別)'!$H98=\"\",\"\",IF('入力シート(地区別)'!L98=\"\",\"\",IF('入力シート(地区別)'!L98=\"電気\",0,1)))","v":""}]
[{"$f":"IF('入力シート(地区別)'!$H99=\"\",\"\",\"4000001\")","v":""},{"$f":"IF('入力シート(地区別)'!$H99=\"\",\"\",IF('入力シート(地区別)'!$B99=\"男\",0,1))","v":""},{"$f":"IF('入力シート(地区別)'!$H99=\"\",\"\",'入力シート(地区別)'!C99)","v":""},{"$f":"IF('入力シート(地区別)'!$H99=\"\",\"\",TEXT('入力シート(地区別)'!$E99,\"000\"))","v":""},{"$f":"IF('入力シート(地区別)'!$H99=\"\",\"\",学校番号)","v":""},{"$f":"IF('入力シート(地区別)'!$H99=\"\",\"\",IF('入力シート(地区別)'!B99=\"男\",0,1))","v":""},{"$f":"IF('入力シート(地区別)'!$H99=\"\",\"\",TEXT('入力シート(地区別)'!$H99,\"00\"))","v":""},null,null,{"$f":"IF('入力シート(地区別)'!$H99=\"\",\"\",IF('入力シート(地区別)'!K99=\"\",\"\",'入力シート(地区別)'!K99))","v":""},{"$nulls":3},{"$f":"IF('入力シート(地区別)'!$H99=\"\",\"\",IF('入力シート(地区別)'!L99=\"\",\"\",IF('入力シート(地区別)'!L99=\"電気\",0,1)))","v":""}]
[{"$f":"IF('入力シート(地区別)'!$H100=\"\",\"\",\"4000001\")","v":""},{"$f":"IF('入力シート(地区別)'!$H100=\"\",\"\",IF('入力シート(地区別)'!$B100=\"男\",0,1))","v":""},{"$f":"IF('入力シート(地区別)'!$H100=\"\",\"\",'入力シート(地区別)'!C100)","v":""},{"$f":"IF('入力シート(地区別)'!$H100=\"\",\"\",TEXT('入力シート(地区別)'!$E100,\"000\"))","v":""},{"$f":"IF('入力シート(地区別)'!$H100=\"\",\"\",学校番号)","v":""},{"$f":"IF('入力シート(地区別)'!$H100=\"\",\"\",IF('入力シート(地区別)'!B100=\"男\",0,1))","v":""},{"$f":"IF('入力シート(地区別)'!$H100=\"\",\"\",TEXT('入力シート(地区別)'!$H100,\"00\"))","v":""},null,null,{"$f":"IF('入力シート(地区別)'!$H100=\"\",\"\",IF('入力シート(地区別)'!K100=\"\",\"\",'入力シート(地区別)'!K100))","v":""},{"$nulls":3},{"$f":"IF('入力シート(地区別)'!$H100=\"\",\"\",IF('入力シート(地区別)'!L100=\"\",\"\",IF('入力シート(地区別)'!L100=\"電気\",0,1)))","v":""}]
[{"$f":"IF('入力シート(地区別)'!$H101=\"\",\"\",\"4000001\")","v":""},{"$f":"IF('入力シート(地区別)'!$H101=\"\",\"\",IF('入力シート(地区別)'!$B101=\"男\",0,1))","v":""},{"$f":"IF('入力シート(地区別)'!$H101=\"\",\"\",'入力シート(地区別)'!C101)","v":""},{"$f":"IF('入力シート(地区別)'!$H101=\"\",\"\",TEXT('入力シート(地区別)'!$E101,\"000\"))","v":""},{"$f":"IF('入力シート(地区別)'!$H101=\"\",\"\",学校番号)","v":""},{"$f":"IF('入力シート(地区別)'!$H101=\"\",\"\",IF('入力シート(地区別)'!B101=\"男\",0,1))","v":""},{"$f":"IF('入力シート(地区別)'!$H101=\"\",\"\",TEXT('入力シート(地区別)'!$H101,\"00\"))","v":""},null,null,{"$f":"IF('入力シート(地区別)'!$H101=\"\",\"\",IF('入力シート(地区別)'!K101=\"\",\"\",'入力シート(地区別)'!K101))","v":""},{"$nulls":3},{"$f":"IF('入力シート(地区別)'!$H101=\"\",\"\",IF('入力シート(地区別)'!L101=\"\",\"\",IF('入力シート(地区別)'!L101=\"電気\",0,1)))","v":""}]
[{"$f":"IF('入力シート(地区別)'!$H102=\"\",\"\",\"4000001\")","v":""},{"$f":"IF('入力シート(地区別)'!$H102=\"\",\"\",IF('入力シート(地区別)'!$B102=\"男\",0,1))","v":""},{"$f":"IF('入力シート(地区別)'!$H102=\"\",\"\",'入力シート(地区別)'!C102)","v":""},{"$f":"IF('入力シート(地区別)'!$H102=\"\",\"\",TEXT('入力シート(地区別)'!$E102,\"000\"))","v":""},{"$f":"IF('入力シート(地区別)'!$H102=\"\",\"\",学校番号)","v":""},{"$f":"IF('入力シート(地区別)'!$H102=\"\",\"\",IF('入力シート(地区別)'!B102=\"男\",0,1))","v":""},{"$f":"IF('入力シート(地区別)'!$H102=\"\",\"\",TEXT('入力シート(地区別)'!$H102,\"00\"))","v":""},null,null,{"$f":"IF('入力シート(地区別)'!$H102=\"\",\"\",IF('入力シート(地区別)'!K102=\"\",\"\",'入力シート(地区別)'!K102))","v":""},{"$nulls":3},{"$f":"IF('入力シート(地区別)'!$H102=\"\",\"\",IF('入力シート(地区別)'!L102=\"\",\"\",IF('入力シート(地区別)'!L102=\"電気\",0,1)))","v":""}]
[{"$f":"IF('入力シート(地区別)'!$H103=\"\",\"\",\"4000001\")","v":""},{"$f":"IF('入力シート(地区別)'!$H103=\"\",\"\",IF('入力シート(地区別)'!$B103=\"男\",0,1))","v":""},{"$f":"IF('入力シート(地区別)'!$H103=\"\",\"\",'入力シート(地区別)'!C103)","v":""},{"$f":"IF('入力シート(地区別)'!$H103=\"\",\"\",TEXT('入力シート(地区別)'!$E103,\"000\"))","v":""},{"$f":"IF('入力シート(地区別)'!$H103=\"\",\"\",学校番号)","v":""},{"$f":"IF('入力シート(地区別)'!$H103=\"\",\"\",IF('入力シート(地区別)'!B103=\"男\",0,1))","v":""},{"$f":"IF('入力シート(地区別)'!$H103=\"\",\"\",TEXT('入力シート(地区別)'!$H103,\"00\"))","v":""},null,null,{"$f":"IF('入力シート(地区別)'!$H103=\"\",\"\",IF('入力シート(地区別)'!K103=\"\",\"\",'入力シート(地区別)'!K103))","v":""},{"$nulls":3},{"$f":"IF('入力シート(地区別)'!$H103=\"\",\"\",IF('入力シート(地区別)'!L103=\"\",\"\",IF('入力シート(地区別)'!L103=\"電気\",0,1)))","v":""}]
[{"$f":"IF('入力シート(地区別)'!$H140=\"\",\"\",\"4000001\")","v":""},{"$f":"IF('入力シート(地区別)'!$H140=\"\",\"\",IF('入力シート(地区別)'!$B140=\"男\",0,1))","v":""},{"$f":"IF('入力シート(地区別)'!$H140=\"\",\"\",'入力シート(地区別)'!C140)","v":""},{"$f":"IF('入力シート(地区別)'!$H140=\"\",\"\",TEXT('入力シート(地区別)'!$E140,\"000\"))","v":""},{"$f":"IF('入力シート(地区別)'!$H140=\"\",\"\",学校番号)","v":""},{"$f":"IF('入力シート(地区別)'!$H140=\"\",\"\",IF('入力シート(地区別)'!B140=\"男\",0,1))","v":""},{"$f":"IF('入力シート(地区別)'!$H140=\"\",\"\",TEXT('入力シート(地区別)'!$H140,\"00\"))","v":""},null,null,{"$f":"IF('入力シート(地区別)'!$H140=\"\",\"\",IF('入力シート(地区別)'!K140=\"\",\"\",'入力シート(地区別)'!K140))","v":""},{"$nulls":3},{"$f":"IF('入力シート(地区別)'!$H140=\"\",\"\",IF('入力シート(地区別)'!L140=\"\",\"\",IF('入力シート(地区別)'!L140=\"電気\",0,1)))","v":""}]
[{"$f":"IF('入力シート(地区別)'!$H141=\"\",\"\",\"4000001\")","v":""},{"$f":"IF('入力シート(地区別)'!$H141=\"\",\"\",IF('入力シート(地区別)'!$B141=\"男\",0,1))","v":""},{"$f":"IF('入力シート(地区別)'!$H141=\"\",\"\",'入力シート(地区別)'!C141)","v":""},{"$f":"IF('入力シート(地区別)'!$H141=\"\",\"\",TEXT('入力シート(地区別)'!$E141,\"000\"))","v":""},{"$f":"IF('入力シート(地区別)'!$H141=\"\",\"\",学校番号)","v":""},{"$f":"IF('入力シート(地区別)'!$H141=\"\",\"\",IF('入力シート(地区別)'!B141=\"男\",0,1))","v":""},{"$f":"IF('入力シート(地区別)'!$H141=\"\",\"\",TEXT('入力シート(地区別)'!$H141,\"00\"))","v":""},null,null,{"$f":"IF('入力シート(地区別)'!$H141=\"\",\"\",IF('入力シート(地区別)'!K141=\"\",\"\",'入力シート(地区別)'!K141))","v":""},{"$nulls":3},{"$f":"IF('入力シート(地区別)'!$H141=\"\",\"\",IF('入力シート(地区別)'!L141=\"\",\"\",IF('入力シート(地区別)'!L141=\"電気\",0,1)))","v":""}]
[{"$f":"IF('入力シート(地区別)'!$H142=\"\",\"\",\"4000001\")","v":""},{"$f":"IF('入力シート(地区別)'!$H142=\"\",\"\",IF('入力シート(地区別)'!$B142=\"男\",0,1))","v":""},{"$f":"IF('入力シート(地区別)'!$H142=\"\",\"\",'入力シート(地区別)'!C142)","v":""},{"$f":"IF('入力シート(地区別)'!$H142=\"\",\"\",TEXT('入力シート(地区別)'!$E142,\"000\"))","v":""},{"$f":"IF('入力シート(地区別)'!$H142=\"\",\"\",学校番号)","v":""},{"$f":"IF('入力シート(地区別)'!$H142=\"\",\"\",IF('入力シート(地区別)'!B142=\"男\",0,1))","v":""},{"$f":"IF('入力シート(地区別)'!$H142=\"\",\"\",TEXT('入力シート(地区別)'!$H142,\"00\"))","v":""},null,null,{"$f":"IF('入力シート(地区別)'!$H142=\"\",\"\",IF('入力シート(地区別)'!K142=\"\",\"\",'入力シート(地区別)'!K142))","v":""},{"$nulls":3},{"$f":"IF('入力シート(地区別)'!$H142=\"\",\"\",IF('入力シート(地区別)'!L142=\"\",\"\",IF('入力シート(地区別)'!L142=\"電気\",0,1)))","v":""}]
[{"$f":"IF('入力シート(地区別)'!$H143=\"\",\"\",\"4000001\")","v":""},{"$f":"IF('入力シート(地区別)'!$H143=\"\",\"\",IF('入力シート(地区別)'!$B143=\"男\",0,1))","v":""},{"$f":"IF('入力シート(地区別)'!$H143=\"\",\"\",'入力シート(地区別)'!C143)","v":""},{"$f":"IF('入力シート(地区別)'!$H143=\"\",\"\",TEXT('入力シート(地区別)'!$E143,\"000\"))","v":""},{"$f":"IF('入力シート(地区別)'!$H143=\"\",\"\",学校番号)","v":""},{"$f":"IF('入力シート(地区別)'!$H143=\"\",\"\",IF('入力シート(地区別)'!B143=\"男\",0,1))","v":""},{"$f":"IF('入力シート(地区別)'!$H143=\"\",\"\",TEXT('入力シート(地区別)'!$H143,\"00\"))","v":""},null,null,{"$f":"IF('入力シート(地区別)'!$H143=\"\",\"\",IF('入力シート(地区別)'!K143=\"\",\"\",'入力シート(地区別)'!K143))","v":""},{"$nulls":3},{"$f":"IF('入力シート(地区別)'!$H143=\"\",\"\",IF('入力シート(地区別)'!L143=\"\",\"\",IF('入力シート(地区別)'!L143=\"電気\",0,1)))","v":""}]
[{"$f":"IF('入力シート(地区別)'!$H144=\"\",\"\",\"4000001\")","v":""},{"$f":"IF('入力シート(地区別)'!$H144=\"\",\"\",IF('入力シート(地区別)'!$B144=\"男\",0,1))","v":""},{"$f":"IF('入力シート(地区別)'!$H144=\"\",\"\",'入力シート(地区別)'!C144)","v":""},{"$f":"IF('入力シート(地区別)'!$H144=\"\",\"\",TEXT('入力シート(地区別)'!$E144,\"000\"))","v":""},{"$f":"IF('入力シート(地区別)'!$H144=\"\",\"\",学校番号)","v":""},{"$f":"IF('入力シート(地区別)'!$H144=\"\",\"\",IF('入力シート(地区別)'!B144=\"男\",0,1))","v":""},{"$f":"IF('入力シート(地区別)'!$H144=\"\",\"\",TEXT('入力シート(地区別)'!$H144,\"00\"))","v":""},null,null,{"$f":"IF('入力シート(地区別)'!$H144=\"\",\"\",IF('入力シート(地区別)'!K144=\"\",\"\",'入力シート(地区別)'!K144))","v":""},{"$nulls":3},{"$f":"IF('入力シート(地区別)'!$H144=\"\",\"\",IF('入力シート(地区別)'!L144=\"\",\"\",IF('入力シート(地区別)'!L144=\"電気\",0,1)))","v":""}]
[{"$f":"IF('入力シート(地区別)'!$H145=\"\",\"\",\"4000001\")","v":""},{"$f":"IF('入力シート(地区別)'!$H145=\"\",\"\",IF('入力シート(地区別)'!$B145=\"男\",0,1))","v":""},{"$f":"IF('入力シート(地区別)'!$H145=\"\",\"\",'入力シート(地区別)'!C145)","v":""},{"$f":"IF('入力シート(地区別)'!$H145=\"\",\"\",TEXT('入力シート(地区別)'!$E145,\"000\"))","v":""},{"$f":"IF('入力シート(地区別)'!$H145=\"\",\"\",学校番号)","v":""},{"$f":"IF('入力シート(地区別)'!$H145=\"\",\"\",IF('入力シート(地区別)'!B145=\"男\",0,1))","v":""},{"$f":"IF('入力シート(地区別)'!$H145=\"\",\"\",TEXT('入力シート(地区別)'!$H145,\"00\"))","v":""},null,null,{"$f":"IF('入力シート(地区別)'!$H145=\"\",\"\",IF('入力シート(地区別)'!K145=\"\",\"\",'入力シート(地区別)'!K145))","v":""},{"$nulls":3},{"$f":"IF('入力シート(地区別)'!$H145=\"\",\"\",IF('入力シート(地区別)'!L145=\"\",\"\",IF('入力シート(地区別)'!L145=\"電気\",0,1)))","v":""}]
[{"$f":"IF('入力シート(地区別)'!$H146=\"\",\"\",\"4000001\")","v":""},{"$f":"IF('入力シート(地区別)'!$H146=\"\",\"\",IF('入力シート(地区別)'!$B146=\"男\",0,1))","v":""},{"$f":"IF('入力シート(地区別)'!$H146=\"\",\"\",'入力シート(地区別)'!C146)","v":""},{"$f":"IF('入力シート(地区別)'!$H146=\"\",\"\",TEXT('入力シート(地区別)'!$E146,\"000\"))","v":""},{"$f":"IF('入力シート(地区別)'!$H146=\"\",\"\",学校番号)","v":""},{"$f":"IF('入力シート(地区別)'!$H146=\"\",\"\",IF('入力シート(地区別)'!B146=\"男\",0,1))","v":""},{"$f":"IF('入力シート(地区別)'!$H146=\"\",\"\",TEXT('入力シート(地区別)'!$H146,\"00\"))","v":""},null,null,{"$f":"IF('入力シート(地区別)'!$H146=\"\",\"\",IF('入力シート(地区別)'!K146=\"\",\"\",'入力シート(地区別)'!K146))","v":""},{"$nulls":3},{"$f":"IF('入力シート(地区別)'!$H146=\"\",\"\",IF('入力シート(地区別)'!L146=\"\",\"\",IF('入力シート(地区別)'!L146=\"電気\",0,1)))","v":""}]
[{"$f":"IF('入力シート(地区別)'!$H147=\"\",\"\",\"4000001\")","v":""},{"$f":"IF('入力シート(地区別)'!$H147=\"\",\"\",IF('入力シート(地区別)'!$B147=\"男\",0,1))","v":""},{"$f":"IF('入力シート(地区別)'!$H147=\"\",\"\",'入力シート(地区別)'!C147)","v":""},{"$f":"IF('入力シート(地区別)'!$H147=\"\",\"\",TEXT('入力シート(地区別)'!$E147,\"000\"))","v":""},{"$f":"IF('入力シート(地区別)'!$H147=\"\",\"\",学校番号)","v":""},{"$f":"IF('入力シート(地区別)'!$H147=\"\",\"\",IF('入力シート(地区別)'!B147=\"男\",0,1))","v":""},{"$f":"IF('入力シート(地区別)'!$H147=\"\",\"\",TEXT('入力シート(地区別)'!$H147,\"00\"))","v":""},null,null,{"$f":"IF('入力シート(地区別)'!$H147=\"\",\"\",IF('入力シート(地区別)'!K147=\"\",\"\",'入力シート(地区別)'!K147))","v":""},{"$nulls":3},{"$f":"IF('入力シート(地区別)'!$H147=\"\",\"\",IF('入力シート(地区別)'!L147=\"\",\"\",IF('入力シート(地区別)'!L147=\"電気\",0,1)))","v":""}]
[{"$f":"IF('入力シート(地区別)'!$H148=\"\",\"\",\"4000001\")","v":""},{"$f":"IF('入力シート(地区別)'!$H148=\"\",\"\",IF('入力シート(地区別)'!$B148=\"男\",0,1))","v":""},{"$f":"IF('入力シート(地区別)'!$H148=\"\",\"\",'入力シート(地区別)'!C148)","v":""},{"$f":"IF('入力シート(地区別)'!$H148=\"\",\"\",TEXT('入力シート(地区別)'!$E148,\"000\"))","v":""},{"$f":"IF('入力シート(地区別)'!$H148=\"\",\"\",学校番号)","v":""},{"$f":"IF('入力シート(地区別)'!$H148=\"\",\"\",IF('入力シート(地区別)'!B148=\"男\",0,1))","v":""},{"$f":"IF('入力シート(地区別)'!$H148=\"\",\"\",TEXT('入力シート(地区別)'!$H148,\"00\"))","v":""},null,null,{"$f":"IF('入力シート(地区別)'!$H148=\"\",\"\",IF('入力シート(地区別)'!K148=\"\",\"\",'入力シート(地区別)'!K148))","v":""},{"$nulls":3},{"$f":"IF('入力シート(地区別)'!$H148=\"\",\"\",IF('入力シート(地区別)'!L148=\"\",\"\",IF('入力シート(地区別)'!L148=\"電気\",0,1)))","v":""}]
[{"$f":"IF('入力シート(地区別)'!$H149=\"\",\"\",\"4000001\")","v":""},{"$f":"IF('入力シート(地区別)'!$H149=\"\",\"\",IF('入力シート(地区別)'!$B149=\"男\",0,1))","v":""},{"$f":"IF('入力シート(地区別)'!$H149=\"\",\"\",'入力シート(地区別)'!C149)","v":""},{"$f":"IF('入力シート(地区別)'!$H149=\"\",\"\",TEXT('入力シート(地区別)'!$E149,\"000\"))","v":""},{"$f":"IF('入力シート(地区別)'!$H149=\"\",\"\",学校番号)","v":""},{"$f":"IF('入力シート(地区別)'!$H149=\"\",\"\",IF('入力シート(地区別)'!B149=\"男\",0,1))","v":""},{"$f":"IF('入力シート(地区別)'!$H149=\"\",\"\",TEXT('入力シート(地区別)'!$H149,\"00\"))","v":""},null,null,{"$f":"IF('入力シート(地区別)'!$H149=\"\",\"\",IF('入力シート(地区別)'!K149=\"\",\"\",'入力シート(地区別)'!K149))","v":""},{"$nulls":3},{"$f":"IF('入力シート(地区別)'!$H149=\"\",\"\",IF('入力シート(地区別)'!L149=\"\",\"\",IF('入力シート(地区別)'!L149=\"電気\",0,1)))","v":""}]
[{"$f":"IF('入力シート(地区別)'!$H150=\"\",\"\",\"4000001\")","v":""},{"$f":"IF('入力シート(地区別)'!$H150=\"\",\"\",IF('入力シート(地区別)'!$B150=\"男\",0,1))","v":""},{"$f":"IF('入力シート(地区別)'!$H150=\"\",\"\",'入力シート(地区別)'!C150)","v":""},{"$f":"IF('入力シート(地区別)'!$H150=\"\",\"\",TEXT('入力シート(地区別)'!$E150,\"000\"))","v":""},{"$f":"IF('入力シート(地区別)'!$H150=\"\",\"\",学校番号)","v":""},{"$f":"IF('入力シート(地区別)'!$H150=\"\",\"\",IF('入力シート(地区別)'!B150=\"男\",0,1))","v":""},{"$f":"IF('入力シート(地区別)'!$H150=\"\",\"\",TEXT('入力シート(地区別)'!$H150,\"00\"))","v":""},null,null,{"$f":"IF('入力シート(地区別)'!$H150=\"\",\"\",IF('入力シート(地区別)'!K150=\"\",\"\",'入力シート(地区別)'!K150))","v":""},{"$nulls":3},{"$f":"IF('入力シート(地区別)'!$H150=\"\",\"\",IF('入力シート(地区別)'!L150=\"\",\"\",IF('入力シート(地区別)'!L150=\"電気\",0,1)))","v":""}]
[{"$f":"IF('入力シート(地区別)'!$H151=\"\",\"\",\"4000001\")","v":""},{"$f":"IF('入力シート(地区別)'!$H151=\"\",\"\",IF('入力シート(地区別)'!$B151=\"男\",0,1))","v":""},{"$f":"IF('入力シート(地区別)'!$H151=\"\",\"\",'入力シート(地区別)'!C151)","v":""},{"$f":"IF('入力シート(地区別)'!$H151=\"\",\"\",TEXT('入力シート(地区別)'!$E151,\"000\"))","v":""},{"$f":"IF('入力シート(地区別)'!$H151=\"\",\"\",学校番号)","v":""},{"$f":"IF('入力シート(地区別)'!$H151=\"\",\"\",IF('入力シート(地区別)'!B151=\"男\",0,1))","v":""},{"$f":"IF('入力シート(地区別)'!$H151=\"\",\"\",TEXT('入力シート(地区別)'!$H151,\"00\"))","v":""},null,null,{"$f":"IF('入力シート(地区別)'!$H151=\"\",\"\",IF('入力シート(地区別)'!K151=\"\",\"\",'入力シート(地区別)'!K151))","v":""},{"$nulls":3},{"$f":"IF('入力シート(地区別)'!$H151=\"\",\"\",IF('入力シート(地区別)'!L151=\"\",\"\",IF('入力シート(地区別)'!L151=\"電気\",0,1)))","v":""}]
[{"$f":"IF('入力シート(地区別)'!$H152=\"\",\"\",\"4000001\")","v":""},{"$f":"IF('入力シート(地区別)'!$H152=\"\",\"\",IF('入力シート(地区別)'!$B152=\"男\",0,1))","v":""},{"$f":"IF('入力シート(地区別)'!$H152=\"\",\"\",'入力シート(地区別)'!C152)","v":""},{"$f":"IF('入力シート(地区別)'!$H152=\"\",\"\",TEXT('入力シート(地区別)'!$E152,\"000\"))","v":""},{"$f":"IF('入力シート(地区別)'!$H152=\"\",\"\",学校番号)","v":""},{"$f":"IF('入力シート(地区別)'!$H152=\"\",\"\",IF('入力シート(地区別)'!B152=\"男\",0,1))","v":""},{"$f":"IF('入力シート(地区別)'!$H152=\"\",\"\",TEXT('入力シート(地区別)'!$H152,\"00\"))","v":""},null,null,{"$f":"IF('入力シート(地区別)'!$H152=\"\",\"\",IF('入力シート(地区別)'!K152=\"\",\"\",'入力シート(地区別)'!K152))","v":""},{"$nulls":3},{"$f":"IF('入力シート(地区別)'!$H152=\"\",\"\",IF('入力シート(地区別)'!L152=\"\",\"\",IF('入力シート(地区別)'!L152=\"電気\",0,1)))","v":""}]
[{"$f":"IF('入力シート(地区別)'!$H153=\"\",\"\",\"4000001\")","v":""},{"$f":"IF('入力シート(地区別)'!$H153=\"\",\"\",IF('入力シート(地区別)'!$B153=\"男\",0,1))","v":""},{"$f":"IF('入力シート(地区別)'!$H153=\"\",\"\",'入力シート(地区別)'!C153)","v":""},{"$f":"IF('入力シート(地区別)'!$H153=\"\",\"\",TEXT('入力シート(地区別)'!$E153,\"000\"))","v":""},{"$f":"IF('入力シート(地区別)'!$H153=\"\",\"\",学校番号)","v":""},{"$f":"IF('入力シート(地区別)'!$H153=\"\",\"\",IF('入力シート(地区別)'!B153=\"男\",0,1))","v":""},{"$f":"IF('入力シート(地区別)'!$H153=\"\",\"\",TEXT('入力シート(地区別)'!$H153,\"00\"))","v":""},null,null,{"$f":"IF('入力シート(地区別)'!$H153=\"\",\"\",IF('入力シート(地区別)'!K153=\"\",\"\",'入力シート(地区別)'!K153))","v":""},{"$nulls":3},{"$f":"IF('入力シート(地区別)'!$H153=\"\",\"\",IF('入力シート(地区別)'!L153=\"\",\"\",IF('入力シート(地区別)'!L153=\"電気\",0,1)))","v":""}]
[{"$f":"IF('入力シート(地区別)'!$H154=\"\",\"\",\"4000001\")","v":""},{"$f":"IF('入力シート(地区別)'!$H154=\"\",\"\",IF('入力シート(地区別)'!$B154=\"男\",0,1))","v":""},{"$f":"IF('入力シート(地区別)'!$H154=\"\",\"\",'入力シート(地区別)'!C154)","v":""},{"$f":"IF('入力シート(地区別)'!$H154=\"\",\"\",TEXT('入力シート(地区別)'!$E154,\"000\"))","v":""},{"$f":"IF('入力シート(地区別)'!$H154=\"\",\"\",学校番号)","v":""},{"$f":"IF('入力シート(地区別)'!$H154=\"\",\"\",IF('入力シート(地区別)'!B154=\"男\",0,1))","v":""},{"$f":"IF('入力シート(地区別)'!$H154=\"\",\"\",TEXT('入力シート(地区別)'!$H154,\"00\"))","v":""},null,null,{"$f":"IF('入力シート(地区別)'!$H154=\"\",\"\",IF('入力シート(地区別)'!K154=\"\",\"\",'入力シート(地区別)'!K154))","v":""},{"$nulls":3},{"$f":"IF('入力シート(地区別)'!$H154=\"\",\"\",IF('入力シート(地区別)'!L154=\"\",\"\",IF('入力シート(地区別)'!L154=\"電気\",0,1)))","v":""}]
[{"$f":"IF('入力シート(地区別)'!$H155=\"\",\"\",\"4000001\")","v":""},{"$f":"IF('入力シート(地区別)'!$H155=\"\",\"\",IF('入力シート(地区別)'!$B155=\"男\",0,1))","v":""},{"$f":"IF('入力シート(地区別)'!$H155=\"\",\"\",'入力シート(地区別)'!C155)","v":""},{"$f":"IF('入力シート(地区別)'!$H155=\"\",\"\",TEXT('入力シート(地区別)'!$E155,\"000\"))","v":""},{"$f":"IF('入力シート(地区別)'!$H155=\"\",\"\",学校番号)","v":""},{"$f":"IF('入力シート(地区別)'!$H155=\"\",\"\",IF('入力シート(地区別)'!B155=\"男\",0,1))","v":""},{"$f":"IF('入力シート(地区別)'!$H155=\"\",\"\",TEXT('入力シート(地区別)'!$H155,\"00\"))","v":""},null,null,{"$f":"IF('入力シート(地区別)'!$H155=\"\",\"\",IF('入力シート(地区別)'!K155=\"\",\"\",'入力シート(地区別)'!K155))","v":""},{"$nulls":3},{"$f":"IF('入力シート(地区別)'!$H155=\"\",\"\",IF('入力シート(地区別)'!L155=\"\",\"\",IF('入力シート(地区別)'!L155=\"電気\",0,1)))","v":""}]
[{"$f":"IF('入力シート(地区別)'!$H156=\"\",\"\",\"4000001\")","v":""},{"$f":"IF('入力シート(地区別)'!$H156=\"\",\"\",IF('入力シート(地区別)'!$B156=\"男\",0,1))","v":""},{"$f":"IF('入力シート(地区別)'!$H156=\"\",\"\",'入力シート(地区別)'!C156)","v":""},{"$f":"IF('入力シート(地区別)'!$H156=\"\",\"\",TEXT('入力シート(地区別)'!$E156,\"000\"))","v":""},{"$f":"IF('入力シート(地区別)'!$H156=\"\",\"\",学校番号)","v":""},{"$f":"IF('入力シート(地区別)'!$H156=\"\",\"\",IF('入力シート(地区別)'!B156=\"男\",0,1))","v":""},{"$f":"IF('入力シート(地区別)'!$H156=\"\",\"\",TEXT('入力シート(地区別)'!$H156,\"00\"))","v":""},null,null,{"$f":"IF('入力シート(地区別)'!$H156=\"\",\"\",IF('入力シート(地区別)'!K156=\"\",\"\",'入力シート(地区別)'!K156))","v":""},{"$nulls":3},{"$f":"IF('入力シート(地区別)'!$H156=\"\",\"\",IF('入力シート(地区別)'!L156=\"\",\"\",IF('入力シート(地区別)'!L156=\"電気\",0,1)))","v":""}]
[{"$f":"IF('入力シート(地区別)'!$H157=\"\",\"\",\"4000001\")","v":""},{"$f":"IF('入力シート(地区別)'!$H157=\"\",\"\",IF('入力シート(地区別)'!$B157=\"男\",0,1))","v":""},{"$f":"IF('入力シート(地区別)'!$H157=\"\",\"\",'入力シート(地区別)'!C157)","v":""},{"$f":"IF('入力シート(地区別)'!$H157=\"\",\"\",TEXT('入力シート(地区別)'!$E157,\"000\"))","v":""},{"$f":"IF('入力シート(地区別)'!$H157=\"\",\"\",学校番号)","v":""},{"$f":"IF('入力シート(地区別)'!$H157=\"\",\"\",IF('入力シート(地区別)'!B157=\"男\",0,1))","v":""},{"$f":"IF('入力シート(地区別)'!$H157=\"\",\"\",TEXT('入力シート(地区別)'!$H157,\"00\"))","v":""},null,null,{"$f":"IF('入力シート(地区別)'!$H157=\"\",\"\",IF('入力シート(地区別)'!K157=\"\",\"\",'入力シート(地区別)'!K157))","v":""},{"$nulls":3},{"$f":"IF('入力シート(地区別)'!$H157=\"\",\"\",IF('入力シート(地区別)'!L157=\"\",\"\",IF('入力シート(地区別)'!L157=\"電気\",0,1)))","v":""}]
[{"$f":"IF('入力シート(地区別)'!$H158=\"\",\"\",\"4000001\")","v":""},{"$f":"IF('入力シート(地区別)'!$H158=\"\",\"\",IF('入力シート(地区別)'!$B158=\"男\",0,1))","v":""},{"$f":"IF('入力シート(地区別)'!$H158=\"\",\"\",'入力シート(地区別)'!C158)","v":""},{"$f":"IF('入力シート(地区別)'!$H158=\"\",\"\",TEXT('入力シート(地区別)'!$E158,\"000\"))","v":""},{"$f":"IF('入力シート(地区別)'!$H158=\"\",\"\",学校番号)","v":""},{"$f":"IF('入力シート(地区別)'!$H158=\"\",\"\",IF('入力シート(地区別)'!B158=\"男\",0,1))","v":""},{"$f":"IF('入力シート(地区別)'!$H158=\"\",\"\",TEXT('入力シート(地区別)'!$H158,\"00\"))","v":""},null,null,{"$f":"IF('入力シート(地区別)'!$H158=\"\",\"\",IF('入力シート(地区別)'!K158=\"\",\"\",'入力シート(地区別)'!K158))","v":""},{"$nulls":3},{"$f":"IF('入力シート(地区別)'!$H158=\"\",\"\",IF('入力シート(地区別)'!L158=\"\",\"\",IF('入力シート(地区別)'!L158=\"電気\",0,1)))","v":""}]
[{"$f":"IF('入力シート(地区別)'!$H159=\"\",\"\",\"4000001\")","v":""},{"$f":"IF('入力シート(地区別)'!$H159=\"\",\"\",IF('入力シート(地区別)'!$B159=\"男\",0,1))","v":""},{"$f":"IF('入力シート(地区別)'!$H159=\"\",\"\",'入力シート(地区別)'!C159)","v":""},{"$f":"IF('入力シート(地区別)'!$H159=\"\",\"\",TEXT('入力シート(地区別)'!$E159,\"000\"))","v":""},{"$f":"IF('入力シート(地区別)'!$H159=\"\",\"\",学校番号)","v":""},{"$f":"IF('入力シート(地区別)'!$H159=\"\",\"\",IF('入力シート(地区別)'!B159=\"男\",0,1))","v":""},{"$f":"IF('入力シート(地区別)'!$H159=\"\",\"\",TEXT('入力シート(地区別)'!$H159,\"00\"))","v":""},null,null,{"$f":"IF('入力シート(地区別)'!$H159=\"\",\"\",IF('入力シート(地区別)'!K159=\"\",\"\",'入力シート(地区別)'!K159))","v":""},{"$nulls":3},{"$f":"IF('入力シート(地区別)'!$H159=\"\",\"\",IF('入力シート(地区別)'!L159=\"\",\"\",IF('入力シート(地区別)'!L159=\"電気\",0,1)))","v":""}]
[{"$f":"IF('入力シート(地区別)'!$H160=\"\",\"\",\"4000001\")","v":""},{"$f":"IF('入力シート(地区別)'!$H160=\"\",\"\",IF('入力シート(地区別)'!$B160=\"男\",0,1))","v":""},{"$f":"IF('入力シート(地区別)'!$H160=\"\",\"\",'入力シート(地区別)'!C160)","v":""},{"$f":"IF('入力シート(地区別)'!$H160=\"\",\"\",TEXT('入力シート(地区別)'!$E160,\"000\"))","v":""},{"$f":"IF('入力シート(地区別)'!$H160=\"\",\"\",学校番号)","v":""},{"$f":"IF('入力シート(地区別)'!$H160=\"\",\"\",IF('入力シート(地区別)'!B160=\"男\",0,1))","v":""},{"$f":"IF('入力シート(地区別)'!$H160=\"\",\"\",TEXT('入力シート(地区別)'!$H160,\"00\"))","v":""},null,null,{"$f":"IF('入力シート(地区別)'!$H160=\"\",\"\",IF('入力シート(地区別)'!K160=\"\",\"\",'入力シート(地区別)'!K160))","v":""},{"$nulls":3},{"$f":"IF('入力シート(地区別)'!$H160=\"\",\"\",IF('入力シート(地区別)'!L160=\"\",\"\",IF('入力シート(地区別)'!L160=\"電気\",0,1)))","v":""}]
[{"$f":"IF('入力シート(地区別)'!$H161=\"\",\"\",\"4000001\")","v":""},{"$f":"IF('入力シート(地区別)'!$H161=\"\",\"\",IF('入力シート(地区別)'!$B161=\"男\",0,1))","v":""},{"$f":"IF('入力シート(地区別)'!$H161=\"\",\"\",'入力シート(地区別)'!C161)","v":""},{"$f":"IF('入力シート(地区別)'!$H161=\"\",\"\",TEXT('入力シート(地区別)'!$E161,\"000\"))","v":""},{"$f":"IF('入力シート(地区別)'!$H161=\"\",\"\",学校番号)","v":""},{"$f":"IF('入力シート(地区別)'!$H161=\"\",\"\",IF('入力シート(地区別)'!B161=\"男\",0,1))","v":""},{"$f":"IF('入力シート(地区別)'!$H161=\"\",\"\",TEXT('入力シート(地区別)'!$H161,\"00\"))","v":""},null,null,{"$f":"IF('入力シート(地区別)'!$H161=\"\",\"\",IF('入力シート(地区別)'!K161=\"\",\"\",'入力シート(地区別)'!K161))","v":""},{"$nulls":3},{"$f":"IF('入力シート(地区別)'!$H161=\"\",\"\",IF('入力シート(地区別)'!L161=\"\",\"\",IF('入力シート(地区別)'!L161=\"電気\",0,1)))","v":""}]
[{"$f":"IF('入力シート(地区別)'!$H162=\"\",\"\",\"4000001\")","v":""},{"$f":"IF('入力シート(地区別)'!$H162=\"\",\"\",IF('入力シート(地区別)'!$B162=\"男\",0,1))","v":""},{"$f":"IF('入力シート(地区別)'!$H162=\"\",\"\",'入力シート(地区別)'!C162)","v":""},{"$f":"IF('入力シート(地区別)'!$H162=\"\",\"\",TEXT('入力シート(地区別)'!$E162,\"000\"))","v":""},{"$f":"IF('入力シート(地区別)'!$H162=\"\",\"\",学校番号)","v":""},{"$f":"IF('入力シート(地区別)'!$H162=\"\",\"\",IF('入力シート(地区別)'!B162=\"男\",0,1))","v":""},{"$f":"IF('入力シート(地区別)'!$H162=\"\",\"\",TEXT('入力シート(地区別)'!$H162,\"00\"))","v":""},null,null,{"$f":"IF('入力シート(地区別)'!$H162=\"\",\"\",IF('入力シート(地区別)'!K162=\"\",\"\",'入力シート(地区別)'!K162))","v":""},{"$nulls":3},{"$f":"IF('入力シート(地区別)'!$H162=\"\",\"\",IF('入力シート(地区別)'!L162=\"\",\"\",IF('入力シート(地区別)'!L162=\"電気\",0,1)))","v":""}]
[{"$f":"IF('入力シート(地区別)'!$H163=\"\",\"\",\"4000001\")","v":""},{"$f":"IF('入力シート(地区別)'!$H163=\"\",\"\",IF('入力シート(地区別)'!$B163=\"男\",0,1))","v":""},{"$f":"IF('入力シート(地区別)'!$H163=\"\",\"\",'入力シート(地区別)'!C163)","v":""},{"$f":"IF('入力シート(地区別)'!$H163=\"\",\"\",TEXT('入力シート(地区別)'!$E163,\"000\"))","v":""},{"$f":"IF('入力シート(地区別)'!$H163=\"\",\"\",学校番号)","v":""},{"$f":"IF('入力シート(地区別)'!$H163=\"\",\"\",IF('入力シート(地区別)'!B163=\"男\",0,1))","v":""},{"$f":"IF('入力シート(地区別)'!$H163=\"\",\"\",TEXT('入力シート(地区別)'!$H163,\"00\"))","v":""},null,null,{"$f":"IF('入力シート(地区別)'!$H163=\"\",\"\",IF('入力シート(地区別)'!K163=\"\",\"\",'入力シート(地区別)'!K163))","v":""},{"$nulls":3},{"$f":"IF('入力シート(地区別)'!$H163=\"\",\"\",IF('入力シート(地区別)'!L163=\"\",\"\",IF('入力シート(地区別)'!L163=\"電気\",0,1)))","v":""}]
[{"$f":"IF('入力シート(地区別)'!$H164=\"\",\"\",\"4000001\")","v":""},{"$f":"IF('入力シート(地区別)'!$H164=\"\",\"\",IF('入力シート(地区別)'!$B164=\"男\",0,1))","v":""},{"$f":"IF('入力シート(地区別)'!$H164=\"\",\"\",'入力シート(地区別)'!C164)","v":""},{"$f":"IF('入力シート(地区別)'!$H164=\"\",\"\",TEXT('入力シート(地区別)'!$E164,\"000\"))","v":""},{"$f":"IF('入力シート(地区別)'!$H164=\"\",\"\",学校番号)","v":""},{"$f":"IF('入力シート(地区別)'!$H164=\"\",\"\",IF('入力シート(地区別)'!B164=\"男\",0,1))","v":""},{"$f":"IF('入力シート(地区別)'!$H164=\"\",\"\",TEXT('入力シート(地区別)'!$H164,\"00\"))","v":""},null,null,{"$f":"IF('入力シート(地区別)'!$H164=\"\",\"\",IF('入力シート(地区別)'!K164=\"\",\"\",'入力シート(地区別)'!K164))","v":""},{"$nulls":3},{"$f":"IF('入力シート(地区別)'!$H164=\"\",\"\",IF('入力シート(地区別)'!L164=\"\",\"\",IF('入力シート(地区別)'!L164=\"電気\",0,1)))","v":""}]
[{"$f":"IF('入力シート(地区別)'!$H165=\"\",\"\",\"4000001\")","v":""},{"$f":"IF('入力シート(地区別)'!$H165=\"\",\"\",IF('入力シート(地区別)'!$B165=\"男\",0,1))","v":""},{"$f":"IF('入力シート(地区別)'!$H165=\"\",\"\",'入力シート(地区別)'!C165)","v":""},{"$f":"IF('入力シート(地区別)'!$H165=\"\",\"\",TEXT('入力シート(地区別)'!$E165,\"000\"))","v":""},{"$f":"IF('入力シート(地区別)'!$H165=\"\",\"\",学校番号)","v":""},{"$f":"IF('入力シート(地区別)'!$H165=\"\",\"\",IF('入力シート(地区別)'!B165=\"男\",0,1))","v":""},{"$f":"IF('入力シート(地区別)'!$H165=\"\",\"\",TEXT('入力シート(地区別)'!$H165,\"00\"))","v":""},null,null,{"$f":"IF('入力シート(地区別)'!$H165=\"\",\"\",IF('入力シート(地区別)'!K165=\"\",\"\",'入力シート(地区別)'!K165))","v":""},{"$nulls":3},{"$f":"IF('入力シート(地区別)'!$H165=\"\",\"\",IF('入力シート(地区別)'!L165=\"\",\"\",IF('入力シート(地区別)'!L165=\"電気\",0,1)))","v":""}]
[{"$f":"IF('入力シート(地区別)'!$H166=\"\",\"\",\"4000001\")","v":""},{"$f":"IF('入力シート(地区別)'!$H166=\"\",\"\",IF('入力シート(地区別)'!$B166=\"男\",0,1))","v":""},{"$f":"IF('入力シート(地区別)'!$H166=\"\",\"\",'入力シート(地区別)'!C166)","v":""},{"$f":"IF('入力シート(地区別)'!$H166=\"\",\"\",TEXT('入力シート(地区別)'!$E166,\"000\"))","v":""},{"$f":"IF('入力シート(地区別)'!$H166=\"\",\"\",学校番号)","v":""},{"$f":"IF('入力シート(地区別)'!$H166=\"\",\"\",IF('入力シート(地区別)'!B166=\"男\",0,1))","v":""},{"$f":"IF('入力シート(地区別)'!$H166=\"\",\"\",TEXT('入力シート(地区別)'!$H166,\"00\"))","v":""},null,null,{"$f":"IF('入力シート(地区別)'!$H166=\"\",\"\",IF('入力シート(地区別)'!K166=\"\",\"\",'入力シート(地区別)'!K166))","v":""},{"$nulls":3},{"$f":"IF('入力シート(地区別)'!$H166=\"\",\"\",IF('入力シート(地区別)'!L166=\"\",\"\",IF('入力シート(地区別)'!L166=\"電気\",0,1)))","v":""}]
[{"$f":"IF('入力シート(地区別)'!$H167=\"\",\"\",\"4000001\")","v":""},{"$f":"IF('入力シート(地区別)'!$H167=\"\",\"\",IF('入力シート(地区別)'!$B167=\"男\",0,1))","v":""},{"$f":"IF('入力シート(地区別)'!$H167=\"\",\"\",'入力シート(地区別)'!C167)","v":""},{"$f":"IF('入力シート(地区別)'!$H167=\"\",\"\",TEXT('入力シート(地区別)'!$E167,\"000\"))","v":""},{"$f":"IF('入力シート(地区別)'!$H167=\"\",\"\",学校番号)","v":""},{"$f":"IF('入力シート(地区別)'!$H167=\"\",\"\",IF('入力シート(地区別)'!B167=\"男\",0,1))","v":""},{"$f":"IF('入力シート(地区別)'!$H167=\"\",\"\",TEXT('入力シート(地区別)'!$H167,\"00\"))","v":""},null,null,{"$f":"IF('入力シート(地区別)'!$H167=\"\",\"\",IF('入力シート(地区別)'!K167=\"\",\"\",'入力シート(地区別)'!K167))","v":""},{"$nulls":3},{"$f":"IF('入力シート(地区別)'!$H167=\"\",\"\",IF('入力シート(地区別)'!L167=\"\",\"\",IF('入力シート(地区別)'!L167=\"電気\",0,1)))","v":""}]
[{"$f":"IF('入力シート(地区別)'!$H168=\"\",\"\",\"4000001\")","v":""},{"$f":"IF('入力シート(地区別)'!$H168=\"\",\"\",IF('入力シート(地区別)'!$B168=\"男\",0,1))","v":""},{"$f":"IF('入力シート(地区別)'!$H168=\"\",\"\",'入力シート(地区別)'!C168)","v":""},{"$f":"IF('入力シート(地区別)'!$H168=\"\",\"\",TEXT('入力シート(地区別)'!$E168,\"000\"))","v":""},{"$f":"IF('入力シート(地区別)'!$H168=\"\",\"\",学校番号)","v":""},{"$f":"IF('入力シート(地区別)'!$H168=\"\",\"\",IF('入力シート(地区別)'!B168=\"男\",0,1))","v":""},{"$f":"IF('入力シート(地区別)'!$H168=\"\",\"\",TEXT('入力シート(地区別)'!$H168,\"00\"))","v":""},null,null,{"$f":"IF('入力シート(地区別)'!$H168=\"\",\"\",IF('入力シート(地区別)'!K168=\"\",\"\",'入力シート(地区別)'!K168))","v":""},{"$nulls":3},{"$f":"IF('入力シート(地区別)'!$H168=\"\",\"\",IF('入力シート(地区別)'!L168=\"\",\"\",IF('入力シート(地区別)'!L168=\"電気\",0,1)))","v":""}]
[{"$f":"IF('入力シート(地区別)'!$H169=\"\",\"\",\"4000001\")","v":""},{"$f":"IF('入力シート(地区別)'!$H169=\"\",\"\",IF('入力シート(地区別)'!$B169=\"男\",0,1))","v":""},{"$f":"IF('入力シート(地区別)'!$H169=\"\",\"\",'入力シート(地区別)'!C169)","v":""},{"$f":"IF('入力シート(地区別)'!$H169=\"\",\"\",TEXT('入力シート(地区別)'!$E169,\"000\"))","v":""},{"$f":"IF('入力シート(地区別)'!$H169=\"\",\"\",学校番号)","v":""},{"$f":"IF('入力シート(地区別)'!$H169=\"\",\"\",IF('入力シート(地区別)'!B169=\"男\",0,1))","v":""},{"$f":"IF('入力シート(地区別)'!$H169=\"\",\"\",TEXT('入力シート(地区別)'!$H169,\"00\"))","v":""},null,null,{"$f":"IF('入力シート(地区別)'!$H169=\"\",\"\",IF('入力シート(地区別)'!K169=\"\",\"\",'入力シート(地区別)'!K169))","v":""},{"$nulls":3},{"$f":"IF('入力シート(地区別)'!$H169=\"\",\"\",IF('入力シート(地区別)'!L169=\"\",\"\",IF('入力シート(地区別)'!L169=\"電気\",0,1)))","v":""}]
[{"$f":"IF('入力シート(地区別)'!$H170=\"\",\"\",\"4000001\")","v":""},{"$f":"IF('入力シート(地区別)'!$H170=\"\",\"\",IF('入力シート(地区別)'!$B170=\"男\",0,1))","v":""},{"$f":"IF('入力シート(地区別)'!$H170=\"\",\"\",'入力シート(地区別)'!C170)","v":""},{"$f":"IF('入力シート(地区別)'!$H170=\"\",\"\",TEXT('入力シート(地区別)'!$E170,\"000\"))","v":""},{"$f":"IF('入力シート(地区別)'!$H170=\"\",\"\",学校番号)","v":""},{"$f":"IF('入力シート(地区別)'!$H170=\"\",\"\",IF('入力シート(地区別)'!B170=\"男\",0,1))","v":""},{"$f":"IF('入力シート(地区別)'!$H170=\"\",\"\",TEXT('入力シート(地区別)'!$H170,\"00\"))","v":""},null,null,{"$f":"IF('入力シート(地区別)'!$H170=\"\",\"\",IF('入力シート(地区別)'!K170=\"\",\"\",'入力シート(地区別)'!K170))","v":""},{"$nulls":3},{"$f":"IF('入力シート(地区別)'!$H170=\"\",\"\",IF('入力シート(地区別)'!L170=\"\",\"\",IF('入力シート(地区別)'!L170=\"電気\",0,1)))","v":""}]
[{"$f":"IF('入力シート(地区別)'!$H171=\"\",\"\",\"4000001\")","v":""},{"$f":"IF('入力シート(地区別)'!$H171=\"\",\"\",IF('入力シート(地区別)'!$B171=\"男\",0,1))","v":""},{"$f":"IF('入力シート(地区別)'!$H171=\"\",\"\",'入力シート(地区別)'!C171)","v":""},{"$f":"IF('入力シート(地区別)'!$H171=\"\",\"\",TEXT('入力シート(地区別)'!$E171,\"000\"))","v":""},{"$f":"IF('入力シート(地区別)'!$H171=\"\",\"\",学校番号)","v":""},{"$f":"IF('入力シート(地区別)'!$H171=\"\",\"\",IF('入力シート(地区別)'!B171=\"男\",0,1))","v":""},{"$f":"IF('入力シート(地区別)'!$H171=\"\",\"\",TEXT('入力シート(地区別)'!$H171,\"00\"))","v":""},null,null,{"$f":"IF('入力シート(地区別)'!$H171=\"\",\"\",IF('入力シート(地区別)'!K171=\"\",\"\",'入力シート(地区別)'!K171))","v":""},{"$nulls":3},{"$f":"IF('入力シート(地区別)'!$H171=\"\",\"\",IF('入力シート(地区別)'!L171=\"\",\"\",IF('入力シート(地区別)'!L171=\"電気\",0,1)))","v":""}]
[{"$f":"IF('入力シート(地区別)'!$H172=\"\",\"\",\"4000001\")","v":""},{"$f":"IF('入力シート(地区別)'!$H172=\"\",\"\",IF('入力シート(地区別)'!$B172=\"男\",0,1))","v":""},{"$f":"IF('入力シート(地区別)'!$H172=\"\",\"\",'入力シート(地区別)'!C172)","v":""},{"$f":"IF('入力シート(地区別)'!$H172=\"\",\"\",TEXT('入力シート(地区別)'!$E172,\"000\"))","v":""},{"$f":"IF('入力シート(地区別)'!$H172=\"\",\"\",学校番号)","v":""},{"$f":"IF('入力シート(地区別)'!$H172=\"\",\"\",IF('入力シート(地区別)'!B172=\"男\",0,1))","v":""},{"$f":"IF('入力シート(地区別)'!$H172=\"\",\"\",TEXT('入力シート(地区別)'!$H172,\"00\"))","v":""},null,null,{"$f":"IF('入力シート(地区別)'!$H172=\"\",\"\",IF('入力シート(地区別)'!K172=\"\",\"\",'入力シート(地区別)'!K172))","v":""},{"$nulls":3},{"$f":"IF('入力シート(地区別)'!$H172=\"\",\"\",IF('入力シート(地区別)'!L172=\"\",\"\",IF('入力シート(地区別)'!L172=\"電気\",0,1)))","v":""}]
[{"$f":"IF('入力シート(地区別)'!$H173=\"\",\"\",\"4000001\")","v":""},{"$f":"IF('入力シート(地区別)'!$H173=\"\",\"\",IF('入力シート(地区別)'!$B173=\"男\",0,1))","v":""},{"$f":"IF('入力シート(地区別)'!$H173=\"\",\"\",'入力シート(地区別)'!C173)","v":""},{"$f":"IF('入力シート(地区別)'!$H173=\"\",\"\",TEXT('入力シート(地区別)'!$E173,\"000\"))","v":""},{"$f":"IF('入力シート(地区別)'!$H173=\"\",\"\",学校番号)","v":""},{"$f":"IF('入力シート(地区別)'!$H173=\"\",\"\",IF('入力シート(地区別)'!B173=\"男\",0,1))","v":""},{"$f":"IF('入力シート(地区別)'!$H173=\"\",\"\",TEXT('入力シート(地区別)'!$H173,\"00\"))","v":""},null,null,{"$f":"IF('入力シート(地区別)'!$H173=\"\",\"\",IF('入力シート(地区別)'!K173=\"\",\"\",'入力シート(地区別)'!K173))","v":""},{"$nulls":3},{"$f":"IF('入力シート(地区別)'!$H173=\"\",\"\",IF('入力シート(地区別)'!L173=\"\",\"\",IF('入力シート(地区別)'!L173=\"電気\",0,1)))","v":""}]
[{"$f":"IF('入力シート(地区別)'!$H174=\"\",\"\",\"4000001\")","v":""},{"$f":"IF('入力シート(地区別)'!$H174=\"\",\"\",IF('入力シート(地区別)'!$B174=\"男\",0,1))","v":""},{"$f":"IF('入力シート(地区別)'!$H174=\"\",\"\",'入力シート(地区別)'!C174)","v":""},{"$f":"IF('入力シート(地区別)'!$H174=\"\",\"\",TEXT('入力シート(地区別)'!$E174,\"000\"))","v":""},{"$f":"IF('入力シート(地区別)'!$H174=\"\",\"\",学校番号)","v":""},{"$f":"IF('入力シート(地区別)'!$H174=\"\",\"\",IF('入力シート(地区別)'!B174=\"男\",0,1))","v":""},{"$f":"IF('入力シート(地区別)'!$H174=\"\",\"\",TEXT('入力シート(地区別)'!$H174,\"00\"))","v":""},null,null,{"$f":"IF('入力シート(地区別)'!$H174=\"\",\"\",IF('入力シート(地区別)'!K174=\"\",\"\",'入力シート(地区別)'!K174))","v":""},{"$nulls":3},{"$f":"IF('入力シート(地区別)'!$H174=\"\",\"\",IF('入力シート(地区別)'!L174=\"\",\"\",IF('入力シート(地区別)'!L174=\"電気\",0,1)))","v":""}]
[{"$f":"IF('入力シート(地区別)'!$H175=\"\",\"\",\"4000001\")","v":""},{"$f":"IF('入力シート(地区別)'!$H175=\"\",\"\",IF('入力シート(地区別)'!$B175=\"男\",0,1))","v":""},{"$f":"IF('入力シート(地区別)'!$H175=\"\",\"\",'入力シート(地区別)'!C175)","v":""},{"$f":"IF('入力シート(地区別)'!$H175=\"\",\"\",TEXT('入力シート(地区別)'!$E175,\"000\"))","v":""},{"$f":"IF('入力シート(地区別)'!$H175=\"\",\"\",学校番号)","v":""},{"$f":"IF('入力シート(地区別)'!$H175=\"\",\"\",IF('入力シート(地区別)'!B175=\"男\",0,1))","v":""},{"$f":"IF('入力シート(地区別)'!$H175=\"\",\"\",TEXT('入力シート(地区別)'!$H175,\"00\"))","v":""},null,null,{"$f":"IF('入力シート(地区別)'!$H175=\"\",\"\",IF('入力シート(地区別)'!K175=\"\",\"\",'入力シート(地区別)'!K175))","v":""},{"$nulls":3},{"$f":"IF('入力シート(地区別)'!$H175=\"\",\"\",IF('入力シート(地区別)'!L175=\"\",\"\",IF('入力シート(地区別)'!L175=\"電気\",0,1)))","v":""}]
[{"$f":"IF('入力シート(地区別)'!$H176=\"\",\"\",\"4000001\")","v":""},{"$f":"IF('入力シート(地区別)'!$H176=\"\",\"\",IF('入力シート(地区別)'!$B176=\"男\",0,1))","v":""},{"$f":"IF('入力シート(地区別)'!$H176=\"\",\"\",'入力シート(地区別)'!C176)","v":""},{"$f":"IF('入力シート(地区別)'!$H176=\"\",\"\",TEXT('入力シート(地区別)'!$E176,\"000\"))","v":""},{"$f":"IF('入力シート(地区別)'!$H176=\"\",\"\",学校番号)","v":""},{"$f":"IF('入力シート(地区別)'!$H176=\"\",\"\",IF('入力シート(地区別)'!B176=\"男\",0,1))","v":""},{"$f":"IF('入力シート(地区別)'!$H176=\"\",\"\",TEXT('入力シート(地区別)'!$H176,\"00\"))","v":""},null,null,{"$f":"IF('入力シート(地区別)'!$H176=\"\",\"\",IF('入力シート(地区別)'!K176=\"\",\"\",'入力シート(地区別)'!K176))","v":""},{"$nulls":3},{"$f":"IF('入力シート(地区別)'!$H176=\"\",\"\",IF('入力シート(地区別)'!L176=\"\",\"\",IF('入力シート(地区別)'!L176=\"電気\",0,1)))","v":""}]
[{"$f":"IF('入力シート(地区別)'!$H177=\"\",\"\",\"4000001\")","v":""},{"$f":"IF('入力シート(地区別)'!$H177=\"\",\"\",IF('入力シート(地区別)'!$B177=\"男\",0,1))","v":""},{"$f":"IF('入力シート(地区別)'!$H177=\"\",\"\",'入力シート(地区別)'!C177)","v":""},{"$f":"IF('入力シート(地区別)'!$H177=\"\",\"\",TEXT('入力シート(地区別)'!$E177,\"000\"))","v":""},{"$f":"IF('入力シート(地区別)'!$H177=\"\",\"\",学校番号)","v":""},{"$f":"IF('入力シート(地区別)'!$H177=\"\",\"\",IF('入力シート(地区別)'!B177=\"男\",0,1))","v":""},{"$f":"IF('入力シート(地区別)'!$H177=\"\",\"\",TEXT('入力シート(地区別)'!$H177,\"00\"))","v":""},null,null,{"$f":"IF('入力シート(地区別)'!$H177=\"\",\"\",IF('入力シート(地区別)'!K177=\"\",\"\",'入力シート(地区別)'!K177))","v":""},{"$nulls":3},{"$f":"IF('入力シート(地区別)'!$H177=\"\",\"\",IF('入力シート(地区別)'!L177=\"\",\"\",IF('入力シート(地区別)'!L177=\"電気\",0,1)))","v":""}]
[{"$f":"IF('入力シート(地区別)'!$H178=\"\",\"\",\"4000001\")","v":""},{"$f":"IF('入力シート(地区別)'!$H178=\"\",\"\",IF('入力シート(地区別)'!$B178=\"男\",0,1))","v":""},{"$f":"IF('入力シート(地区別)'!$H178=\"\",\"\",'入力シート(地区別)'!C178)","v":""},{"$f":"IF('入力シート(地区別)'!$H178=\"\",\"\",TEXT('入力シート(地区別)'!$E178,\"000\"))","v":""},{"$f":"IF('入力シート(地区別)'!$H178=\"\",\"\",学校番号)","v":""},{"$f":"IF('入力シート(地区別)'!$H178=\"\",\"\",IF('入力シート(地区別)'!B178=\"男\",0,1))","v":""},{"$f":"IF('入力シート(地区別)'!$H178=\"\",\"\",TEXT('入力シート(地区別)'!$H178,\"00\"))","v":""},null,null,{"$f":"IF('入力シート(地区別)'!$H178=\"\",\"\",IF('入力シート(地区別)'!K178=\"\",\"\",'入力シート(地区別)'!K178))","v":""},{"$nulls":3},{"$f":"IF('入力シート(地区別)'!$H178=\"\",\"\",IF('入力シート(地区別)'!L178=\"\",\"\",IF('入力シート(地区別)'!L178=\"電気\",0,1)))","v":""}]
[{"$f":"IF('入力シート(地区別)'!$H179=\"\",\"\",\"4000001\")","v":""},{"$f":"IF('入力シート(地区別)'!$H179=\"\",\"\",IF('入力シート(地区別)'!$B179=\"男\",0,1))","v":""},{"$f":"IF('入力シート(地区別)'!$H179=\"\",\"\",'入力シート(地区別)'!C179)","v":""},{"$f":"IF('入力シート(地区別)'!$H179=\"\",\"\",TEXT('入力シート(地区別)'!$E179,\"000\"))","v":""},{"$f":"IF('入力シート(地区別)'!$H179=\"\",\"\",学校番号)","v":""},{"$f":"IF('入力シート(地区別)'!$H179=\"\",\"\",IF('入力シート(地区別)'!B179=\"男\",0,1))","v":""},{"$f":"IF('入力シート(地区別)'!$H179=\"\",\"\",TEXT('入力シート(地区別)'!$H179,\"00\"))","v":""},null,null,{"$f":"IF('入力シート(地区別)'!$H179=\"\",\"\",IF('入力シート(地区別)'!K179=\"\",\"\",'入力シート(地区別)'!K179))","v":""},{"$nulls":3},{"$f":"IF('入力シート(地区別)'!$H179=\"\",\"\",IF('入力シート(地区別)'!L179=\"\",\"\",IF('入力シート(地区別)'!L179=\"電気\",0,1)))","v":""}]
[{"$f":"IF('入力シート(地区別)'!$H180=\"\",\"\",\"4000001\")","v":""},{"$f":"IF('入力シート(地区別)'!$H180=\"\",\"\",IF('入力シート(地区別)'!$B180=\"男\",0,1))","v":""},{"$f":"IF('入力シート(地区別)'!$H180=\"\",\"\",'入力シート(地区別)'!C180)","v":""},{"$f":"IF('入力シート(地区別)'!$H180=\"\",\"\",TEXT('入力シート(地区別)'!$E180,\"000\"))","v":""},{"$f":"IF('入力シート(地区別)'!$H180=\"\",\"\",学校番号)","v":""},{"$f":"IF('入力シート(地区別)'!$H180=\"\",\"\",IF('入力シート(地区別)'!B180=\"男\",0,1))","v":""},{"$f":"IF('入力シート(地区別)'!$H180=\"\",\"\",TEXT('入力シート(地区別)'!$H180,\"00\"))","v":""},null,null,{"$f":"IF('入力シート(地区別)'!$H180=\"\",\"\",IF('入力シート(地区別)'!K180=\"\",\"\",'入力シート(地区別)'!K180))","v":""},{"$nulls":3},{"$f":"IF('入力シート(地区別)'!$H180=\"\",\"\",IF('入力シート(地区別)'!L180=\"\",\"\",IF('入力シート(地区別)'!L180=\"電気\",0,1)))","v":""}]
[{"$f":"IF('入力シート(地区別)'!$H181=\"\",\"\",\"4000001\")","v":""},{"$f":"IF('入力シート(地区別)'!$H181=\"\",\"\",IF('入力シート(地区別)'!$B181=\"男\",0,1))","v":""},{"$f":"IF('入力シート(地区別)'!$H181=\"\",\"\",'入力シート(地区別)'!C181)","v":""},{"$f":"IF('入力シート(地区別)'!$H181=\"\",\"\",TEXT('入力シート(地区別)'!$E181,\"000\"))","v":""},{"$f":"IF('入力シート(地区別)'!$H181=\"\",\"\",学校番号)","v":""},{"$f":"IF('入力シート(地区別)'!$H181=\"\",\"\",IF('入力シート(地区別)'!B181=\"男\",0,1))","v":""},{"$f":"IF('入力シート(地区別)'!$H181=\"\",\"\",TEXT('入力シート(地区別)'!$H181,\"00\"))","v":""},null,null,{"$f":"IF('入力シート(地区別)'!$H181=\"\",\"\",IF('入力シート(地区別)'!K181=\"\",\"\",'入力シート(地区別)'!K181))","v":""},{"$nulls":3},{"$f":"IF('入力シート(地区別)'!$H181=\"\",\"\",IF('入力シート(地区別)'!L181=\"\",\"\",IF('入力シート(地区別)'!L181=\"電気\",0,1)))","v":""}]
[{"$f":"IF('入力シート(地区別)'!$H182=\"\",\"\",\"4000001\")","v":""},{"$f":"IF('入力シート(地区別)'!$H182=\"\",\"\",IF('入力シート(地区別)'!$B182=\"男\",0,1))","v":""},{"$f":"IF('入力シート(地区別)'!$H182=\"\",\"\",'入力シート(地区別)'!C182)","v":""},{"$f":"IF('入力シート(地区別)'!$H182=\"\",\"\",TEXT('入力シート(地区別)'!$E182,\"000\"))","v":""},{"$f":"IF('入力シート(地区別)'!$H182=\"\",\"\",学校番号)","v":""},{"$f":"IF('入力シート(地区別)'!$H182=\"\",\"\",IF('入力シート(地区別)'!B182=\"男\",0,1))","v":""},{"$f":"IF('入力シート(地区別)'!$H182=\"\",\"\",TEXT('入力シート(地区別)'!$H182,\"00\"))","v":""},null,null,{"$f":"IF('入力シート(地区別)'!$H182=\"\",\"\",IF('入力シート(地区別)'!K182=\"\",\"\",'入力シート(地区別)'!K182))","v":""},{"$nulls":3},{"$f":"IF('入力シート(地区別)'!$H182=\"\",\"\",IF('入力シート(地区別)'!L182=\"\",\"\",IF('入力シート(地区別)'!L182=\"電気\",0,1)))","v":""}]
[{"$f":"IF('入力シート(地区別)'!$H183=\"\",\"\",\"4000001\")","v":""},{"$f":"IF('入力シート(地区別)'!$H183=\"\",\"\",IF('入力シート(地区別)'!$B183=\"男\",0,1))","v":""},{"$f":"IF('入力シート(地区別)'!$H183=\"\",\"\",'入力シート(地区別)'!C183)","v":""},{"$f":"IF('入力シート(地区別)'!$H183=\"\",\"\",TEXT('入力シート(地区別)'!$E183,\"000\"))","v":""},{"$f":"IF('入力シート(地区別)'!$H183=\"\",\"\",学校番号)","v":""},{"$f":"IF('入力シート(地区別)'!$H183=\"\",\"\",IF('入力シート(地区別)'!B183=\"男\",0,1))","v":""},{"$f":"IF('入力シート(地区別)'!$H183=\"\",\"\",TEXT('入力シート(地区別)'!$H183,\"00\"))","v":""},null,null,{"$f":"IF('入力シート(地区別)'!$H183=\"\",\"\",IF('入力シート(地区別)'!K183=\"\",\"\",'入力シート(地区別)'!K183))","v":""},{"$nulls":3},{"$f":"IF('入力シート(地区別)'!$H183=\"\",\"\",IF('入力シート(地区別)'!L183=\"\",\"\",IF('入力シート(地区別)'!L183=\"電気\",0,1)))","v":""}]
[{"$f":"IF('入力シート(地区別)'!$H184=\"\",\"\",\"4000001\")","v":""},{"$f":"IF('入力シート(地区別)'!$H184=\"\",\"\",IF('入力シート(地区別)'!$B184=\"男\",0,1))","v":""},{"$f":"IF('入力シート(地区別)'!$H184=\"\",\"\",'入力シート(地区別)'!C184)","v":""},{"$f":"IF('入力シート(地区別)'!$H184=\"\",\"\",TEXT('入力シート(地区別)'!$E184,\"000\"))","v":""},{"$f":"IF('入力シート(地区別)'!$H184=\"\",\"\",学校番号)","v":""},{"$f":"IF('入力シート(地区別)'!$H184=\"\",\"\",IF('入力シート(地区別)'!B184=\"男\",0,1))","v":""},{"$f":"IF('入力シート(地区別)'!$H184=\"\",\"\",TEXT('入力シート(地区別)'!$H184,\"00\"))","v":""},null,null,{"$f":"IF('入力シート(地区別)'!$H184=\"\",\"\",IF('入力シート(地区別)'!K184=\"\",\"\",'入力シート(地区別)'!K184))","v":""},{"$nulls":3},{"$f":"IF('入力シート(地区別)'!$H184=\"\",\"\",IF('入力シート(地区別)'!L184=\"\",\"\",IF('入力シート(地区別)'!L184=\"電気\",0,1)))","v":""}]
[{"$f":"IF('入力シート(地区別)'!$H185=\"\",\"\",\"4000001\")","v":""},{"$f":"IF('入力シート(地区別)'!$H185=\"\",\"\",IF('入力シート(地区別)'!$B185=\"男\",0,1))","v":""},{"$f":"IF('入力シート(地区別)'!$H185=\"\",\"\",'入力シート(地区別)'!C185)","v":""},{"$f":"IF('入力シート(地区別)'!$H185=\"\",\"\",TEXT('入力シート(地区別)'!$E185,\"000\"))","v":""},{"$f":"IF('入力シート(地区別)'!$H185=\"\",\"\",学校番号)","v":""},{"$f":"IF('入力シート(地区別)'!$H185=\"\",\"\",IF('入力シート(地区別)'!B185=\"男\",0,1))","v":""},{"$f":"IF('入力シート(地区別)'!$H185=\"\",\"\",TEXT('入力シート(地区別)'!$H185,\"00\"))","v":""},null,null,{"$f":"IF('入力シート(地区別)'!$H185=\"\",\"\",IF('入力シート(地区別)'!K185=\"\",\"\",'入力シート(地区別)'!K185))","v":""},{"$nulls":3},{"$f":"IF('入力シート(地区別)'!$H185=\"\",\"\",IF('入力シート(地区別)'!L185=\"\",\"\",IF('入力シート(地区別)'!L185=\"電気\",0,1)))","v":""}]
[{"$f":"IF('入力シート(地区別)'!$H186=\"\",\"\",\"4000001\")","v":""},{"$f":"IF('入力シート(地区別)'!$H186=\"\",\"\",IF('入力シート(地区別)'!$B186=\"男\",0,1))","v":""},{"$f":"IF('入力シート(地区別)'!$H186=\"\",\"\",'入力シート(地区別)'!C186)","v":""},{"$f":"IF('入力シート(地区別)'!$H186=\"\",\"\",TEXT('入力シート(地区別)'!$E186,\"000\"))","v":""},{"$f":"IF('入力シート(地区別)'!$H186=\"\",\"\",学校番号)","v":""},{"$f":"IF('入力シート(地区別)'!$H186=\"\",\"\",IF('入力シート(地区別)'!B186=\"男\",0,1))","v":""},{"$f":"IF('入力シート(地区別)'!$H186=\"\",\"\",TEXT('入力シート(地区別)'!$H186,\"00\"))","v":""},null,null,{"$f":"IF('入力シート(地区別)'!$H186=\"\",\"\",IF('入力シート(地区別)'!K186=\"\",\"\",'入力シート(地区別)'!K186))","v":""},{"$nulls":3},{"$f":"IF('入力シート(地区別)'!$H186=\"\",\"\",IF('入力シート(地区別)'!L186=\"\",\"\",IF('入力シート(地区別)'!L186=\"電気\",0,1)))","v":""}]
[{"$f":"IF('入力シート(地区別)'!$H187=\"\",\"\",\"4000001\")","v":""},{"$f":"IF('入力シート(地区別)'!$H187=\"\",\"\",IF('入力シート(地区別)'!$B187=\"男\",0,1))","v":""},{"$f":"IF('入力シート(地区別)'!$H187=\"\",\"\",'入力シート(地区別)'!C187)","v":""},{"$f":"IF('入力シート(地区別)'!$H187=\"\",\"\",TEXT('入力シート(地区別)'!$E187,\"000\"))","v":""},{"$f":"IF('入力シート(地区別)'!$H187=\"\",\"\",学校番号)","v":""},{"$f":"IF('入力シート(地区別)'!$H187=\"\",\"\",IF('入力シート(地区別)'!B187=\"男\",0,1))","v":""},{"$f":"IF('入力シート(地区別)'!$H187=\"\",\"\",TEXT('入力シート(地区別)'!$H187,\"00\"))","v":""},null,null,{"$f":"IF('入力シート(地区別)'!$H187=\"\",\"\",IF('入力シート(地区別)'!K187=\"\",\"\",'入力シート(地区別)'!K187))","v":""},{"$nulls":3},{"$f":"IF('入力シート(地区別)'!$H187=\"\",\"\",IF('入力シート(地区別)'!L187=\"\",\"\",IF('入力シート(地区別)'!L187=\"電気\",0,1)))","v":""}]
[{"$f":"IF('入力シート(地区別)'!$H188=\"\",\"\",\"4000001\")","v":""},{"$f":"IF('入力シート(地区別)'!$H188=\"\",\"\",IF('入力シート(地区別)'!$B188=\"男\",0,1))","v":""},{"$f":"IF('入力シート(地区別)'!$H188=\"\",\"\",'入力シート(地区別)'!C188)","v":""},{"$f":"IF('入力シート(地区別)'!$H188=\"\",\"\",TEXT('入力シート(地区別)'!$E188,\"000\"))","v":""},{"$f":"IF('入力シート(地区別)'!$H188=\"\",\"\",学校番号)","v":""},{"$f":"IF('入力シート(地区別)'!$H188=\"\",\"\",IF('入力シート(地区別)'!B188=\"男\",0,1))","v":""},{"$f":"IF('入力シート(地区別)'!$H188=\"\",\"\",TEXT('入力シート(地区別)'!$H188,\"00\"))","v":""},null,null,{"$f":"IF('入力シート(地区別)'!$H188=\"\",\"\",IF('入力シート(地区別)'!K188=\"\",\"\",'入力シート(地区別)'!K188))","v":""},{"$nulls":3},{"$f":"IF('入力シート(地区別)'!$H188=\"\",\"\",IF('入力シート(地区別)'!L188=\"\",\"\",IF('入力シート(地区別)'!L188=\"電気\",0,1)))","v":""}]
[{"$f":"IF('入力シート(地区別)'!$H189=\"\",\"\",\"4000001\")","v":""},{"$f":"IF('入力シート(地区別)'!$H189=\"\",\"\",IF('入力シート(地区別)'!$B189=\"男\",0,1))","v":""},{"$f":"IF('入力シート(地区別)'!$H189=\"\",\"\",'入力シート(地区別)'!C189)","v":""},{"$f":"IF('入力シート(地区別)'!$H189=\"\",\"\",TEXT('入力シート(地区別)'!$E189,\"000\"))","v":""},{"$f":"IF('入力シート(地区別)'!$H189=\"\",\"\",学校番号)","v":""},{"$f":"IF('入力シート(地区別)'!$H189=\"\",\"\",IF('入力シート(地区別)'!B189=\"男\",0,1))","v":""},{"$f":"IF('入力シート(地区別)'!$H189=\"\",\"\",TEXT('入力シート(地区別)'!$H189,\"00\"))","v":""},null,null,{"$f":"IF('入力シート(地区別)'!$H189=\"\",\"\",IF('入力シート(地区別)'!K189=\"\",\"\",'入力シート(地区別)'!K189))","v":""},{"$nulls":3},{"$f":"IF('入力シート(地区別)'!$H189=\"\",\"\",IF('入力シート(地区別)'!L189=\"\",\"\",IF('入力シート(地区別)'!L189=\"電気\",0,1)))","v":""}]
[{"$f":"IF('入力シート(地区別)'!$H190=\"\",\"\",\"4000001\")","v":""},{"$f":"IF('入力シート(地区別)'!$H190=\"\",\"\",IF('入力シート(地区別)'!$B190=\"男\",0,1))","v":""},{"$f":"IF('入力シート(地区別)'!$H190=\"\",\"\",'入力シート(地区別)'!C190)","v":""},{"$f":"IF('入力シート(地区別)'!$H190=\"\",\"\",TEXT('入力シート(地区別)'!$E190,\"000\"))","v":""},{"$f":"IF('入力シート(地区別)'!$H190=\"\",\"\",学校番号)","v":""},{"$f":"IF('入力シート(地区別)'!$H190=\"\",\"\",IF('入力シート(地区別)'!B190=\"男\",0,1))","v":""},{"$f":"IF('入力シート(地区別)'!$H190=\"\",\"\",TEXT('入力シート(地区別)'!$H190,\"00\"))","v":""},null,null,{"$f":"IF('入力シート(地区別)'!$H190=\"\",\"\",IF('入力シート(地区別)'!K190=\"\",\"\",'入力シート(地区別)'!K190))","v":""},{"$nulls":3},{"$f":"IF('入力シート(地区別)'!$H190=\"\",\"\",IF('入力シート(地区別)'!L190=\"\",\"\",IF('入力シート(地区別)'!L190=\"電気\",0,1)))","v":""}]
[{"$f":"IF('入力シート(地区別)'!$H191=\"\",\"\",\"4000001\")","v":""},{"$f":"IF('入力シート(地区別)'!$H191=\"\",\"\",IF('入力シート(地区別)'!$B191=\"男\",0,1))","v":""},{"$f":"IF('入力シート(地区別)'!$H191=\"\",\"\",'入力シート(地区別)'!C191)","v":""},{"$f":"IF('入力シート(地区別)'!$H191=\"\",\"\",TEXT('入力シート(地区別)'!$E191,\"000\"))","v":""},{"$f":"IF('入力シート(地区別)'!$H191=\"\",\"\",学校番号)","v":""},{"$f":"IF('入力シート(地区別)'!$H191=\"\",\"\",IF('入力シート(地区別)'!B191=\"男\",0,1))","v":""},{"$f":"IF('入力シート(地区別)'!$H191=\"\",\"\",TEXT('入力シート(地区別)'!$H191,\"00\"))","v":""},null,null,{"$f":"IF('入力シート(地区別)'!$H191=\"\",\"\",IF('入力シート(地区別)'!K191=\"\",\"\",'入力シート(地区別)'!K191))","v":""},{"$nulls":3},{"$f":"IF('入力シート(地区別)'!$H191=\"\",\"\",IF('入力シート(地区別)'!L191=\"\",\"\",IF('入力シート(地区別)'!L191=\"電気\",0,1)))","v":""}]
[{"$f":"IF('入力シート(地区別)'!$H192=\"\",\"\",\"4000001\")","v":""},{"$f":"IF('入力シート(地区別)'!$H192=\"\",\"\",IF('入力シート(地区別)'!$B192=\"男\",0,1))","v":""},{"$f":"IF('入力シート(地区別)'!$H192=\"\",\"\",'入力シート(地区別)'!C192)","v":""},{"$f":"IF('入力シート(地区別)'!$H192=\"\",\"\",TEXT('入力シート(地区別)'!$E192,\"000\"))","v":""},{"$f":"IF('入力シート(地区別)'!$H192=\"\",\"\",学校番号)","v":""},{"$f":"IF('入力シート(地区別)'!$H192=\"\",\"\",IF('入力シート(地区別)'!B192=\"男\",0,1))","v":""},{"$f":"IF('入力シート(地区別)'!$H192=\"\",\"\",TEXT('入力シート(地区別)'!$H192,\"00\"))","v":""},null,null,{"$f":"IF('入力シート(地区別)'!$H192=\"\",\"\",IF('入力シート(地区別)'!K192=\"\",\"\",'入力シート(地区別)'!K192))","v":""},{"$nulls":3},{"$f":"IF('入力シート(地区別)'!$H192=\"\",\"\",IF('入力シート(地区別)'!L192=\"\",\"\",IF('入力シート(地区別)'!L192=\"電気\",0,1)))","v":""}]
[{"$f":"IF('入力シート(地区別)'!$H193=\"\",\"\",\"4000001\")","v":""},{"$f":"IF('入力シート(地区別)'!$H193=\"\",\"\",IF('入力シート(地区別)'!$B193=\"男\",0,1))","v":""},{"$f":"IF('入力シート(地区別)'!$H193=\"\",\"\",'入力シート(地区別)'!C193)","v":""},{"$f":"IF('入力シート(地区別)'!$H193=\"\",\"\",TEXT('入力シート(地区別)'!$E193,\"000\"))","v":""},{"$f":"IF('入力シート(地区別)'!$H193=\"\",\"\",学校番号)","v":""},{"$f":"IF('入力シート(地区別)'!$H193=\"\",\"\",IF('入力シート(地区別)'!B193=\"男\",0,1))","v":""},{"$f":"IF('入力シート(地区別)'!$H193=\"\",\"\",TEXT('入力シート(地区別)'!$H193,\"00\"))","v":""},null,null,{"$f":"IF('入力シート(地区別)'!$H193=\"\",\"\",IF('入力シート(地区別)'!K193=\"\",\"\",'入力シート(地区別)'!K193))","v":""},{"$nulls":3},{"$f":"IF('入力シート(地区別)'!$H193=\"\",\"\",IF('入力シート(地区別)'!L193=\"\",\"\",IF('入力シート(地区別)'!L193=\"電気\",0,1)))","v":""}]
[{"$f":"IF('入力シート(地区別)'!$H194=\"\",\"\",\"4000001\")","v":""},{"$f":"IF('入力シート(地区別)'!$H194=\"\",\"\",IF('入力シート(地区別)'!$B194=\"男\",0,1))","v":""},{"$f":"IF('入力シート(地区別)'!$H194=\"\",\"\",'入力シート(地区別)'!C194)","v":""},{"$f":"IF('入力シート(地区別)'!$H194=\"\",\"\",TEXT('入力シート(地区別)'!$E194,\"000\"))","v":""},{"$f":"IF('入力シート(地区別)'!$H194=\"\",\"\",学校番号)","v":""},{"$f":"IF('入力シート(地区別)'!$H194=\"\",\"\",IF('入力シート(地区別)'!B194=\"男\",0,1))","v":""},{"$f":"IF('入力シート(地区別)'!$H194=\"\",\"\",TEXT('入力シート(地区別)'!$H194,\"00\"))","v":""},null,null,{"$f":"IF('入力シート(地区別)'!$H194=\"\",\"\",IF('入力シート(地区別)'!K194=\"\",\"\",'入力シート(地区別)'!K194))","v":""},{"$nulls":3},{"$f":"IF('入力シート(地区別)'!$H194=\"\",\"\",IF('入力シート(地区別)'!L194=\"\",\"\",IF('入力シート(地区別)'!L194=\"電気\",0,1)))","v":""}]
[{"$f":"IF('入力シート(地区別)'!$H195=\"\",\"\",\"4000001\")","v":""},{"$f":"IF('入力シート(地区別)'!$H195=\"\",\"\",IF('入力シート(地区別)'!$B195=\"男\",0,1))","v":""},{"$f":"IF('入力シート(地区別)'!$H195=\"\",\"\",'入力シート(地区別)'!C195)","v":""},{"$f":"IF('入力シート(地区別)'!$H195=\"\",\"\",TEXT('入力シート(地区別)'!$E195,\"000\"))","v":""},{"$f":"IF('入力シート(地区別)'!$H195=\"\",\"\",学校番号)","v":""},{"$f":"IF('入力シート(地区別)'!$H195=\"\",\"\",IF('入力シート(地区別)'!B195=\"男\",0,1))","v":""},{"$f":"IF('入力シート(地区別)'!$H195=\"\",\"\",TEXT('入力シート(地区別)'!$H195,\"00\"))","v":""},null,null,{"$f":"IF('入力シート(地区別)'!$H195=\"\",\"\",IF('入力シート(地区別)'!K195=\"\",\"\",'入力シート(地区別)'!K195))","v":""},{"$nulls":3},{"$f":"IF('入力シート(地区別)'!$H195=\"\",\"\",IF('入力シート(地区別)'!L195=\"\",\"\",IF('入力シート(地区別)'!L195=\"電気\",0,1)))","v":""}]
[{"$f":"IF('入力シート(地区別)'!$H196=\"\",\"\",\"4000001\")","v":""},{"$f":"IF('入力シート(地区別)'!$H196=\"\",\"\",IF('入力シート(地区別)'!$B196=\"男\",0,1))","v":""},{"$f":"IF('入力シート(地区別)'!$H196=\"\",\"\",'入力シート(地区別)'!C196)","v":""},{"$f":"IF('入力シート(地区別)'!$H196=\"\",\"\",TEXT('入力シート(地区別)'!$E196,\"000\"))","v":""},{"$f":"IF('入力シート(地区別)'!$H196=\"\",\"\",学校番号)","v":""},{"$f":"IF('入力シート(地区別)'!$H196=\"\",\"\",IF('入力シート(地区別)'!B196=\"男\",0,1))","v":""},{"$f":"IF('入力シート(地区別)'!$H196=\"\",\"\",TEXT('入力シート(地区別)'!$H196,\"00\"))","v":""},null,null,{"$f":"IF('入力シート(地区別)'!$H196=\"\",\"\",IF('入力シート(地区別)'!K196=\"\",\"\",'入力シート(地区別)'!K196))","v":""},{"$nulls":3},{"$f":"IF('入力シート(地区別)'!$H196=\"\",\"\",IF('入力シート(地区別)'!L196=\"\",\"\",IF('入力シート(地区別)'!L196=\"電気\",0,1)))","v":""}]
[{"$f":"IF('入力シート(地区別)'!$H197=\"\",\"\",\"4000001\")","v":""},{"$f":"IF('入力シート(地区別)'!$H197=\"\",\"\",IF('入力シート(地区別)'!$B197=\"男\",0,1))","v":""},{"$f":"IF('入力シート(地区別)'!$H197=\"\",\"\",'入力シート(地区別)'!C197)","v":""},{"$f":"IF('入力シート(地区別)'!$H197=\"\",\"\",TEXT('入力シート(地区別)'!$E197,\"000\"))","v":""},{"$f":"IF('入力シート(地区別)'!$H197=\"\",\"\",学校番号)","v":""},{"$f":"IF('入力シート(地区別)'!$H197=\"\",\"\",IF('入力シート(地区別)'!B197=\"男\",0,1))","v":""},{"$f":"IF('入力シート(地区別)'!$H197=\"\",\"\",TEXT('入力シート(地区別)'!$H197,\"00\"))","v":""},null,null,{"$f":"IF('入力シート(地区別)'!$H197=\"\",\"\",IF('入力シート(地区別)'!K197=\"\",\"\",'入力シート(地区別)'!K197))","v":""},{"$nulls":3},{"$f":"IF('入力シート(地区別)'!$H197=\"\",\"\",IF('入力シート(地区別)'!L197=\"\",\"\",IF('入力シート(地区別)'!L197=\"電気\",0,1)))","v":""}]
[{"$f":"IF('入力シート(地区別)'!$H198=\"\",\"\",\"4000001\")","v":""},{"$f":"IF('入力シート(地区別)'!$H198=\"\",\"\",IF('入力シート(地区別)'!$B198=\"男\",0,1))","v":""},{"$f":"IF('入力シート(地区別)'!$H198=\"\",\"\",'入力シート(地区別)'!C198)","v":""},{"$f":"IF('入力シート(地区別)'!$H198=\"\",\"\",TEXT('入力シート(地区別)'!$E198,\"000\"))","v":""},{"$f":"IF('入力シート(地区別)'!$H198=\"\",\"\",学校番号)","v":""},{"$f":"IF('入力シート(地区別)'!$H198=\"\",\"\",IF('入力シート(地区別)'!B198=\"男\",0,1))","v":""},{"$f":"IF('入力シート(地区別)'!$H198=\"\",\"\",TEXT('入力シート(地区別)'!$H198,\"00\"))","v":""},null,null,{"$f":"IF('入力シート(地区別)'!$H198=\"\",\"\",IF('入力シート(地区別)'!K198=\"\",\"\",'入力シート(地区別)'!K198))","v":""},{"$nulls":3},{"$f":"IF('入力シート(地区別)'!$H198=\"\",\"\",IF('入力シート(地区別)'!L198=\"\",\"\",IF('入力シート(地区別)'!L198=\"電気\",0,1)))","v":""}]
[{"$f":"IF('入力シート(地区別)'!$H199=\"\",\"\",\"4000001\")","v":""},{"$f":"IF('入力シート(地区別)'!$H199=\"\",\"\",IF('入力シート(地区別)'!$B199=\"男\",0,1))","v":""},{"$f":"IF('入力シート(地区別)'!$H199=\"\",\"\",'入力シート(地区別)'!C199)","v":""},{"$f":"IF('入力シート(地区別)'!$H199=\"\",\"\",TEXT('入力シート(地区別)'!$E199,\"000\"))","v":""},{"$f":"IF('入力シート(地区別)'!$H199=\"\",\"\",学校番号)","v":""},{"$f":"IF('入力シート(地区別)'!$H199=\"\",\"\",IF('入力シート(地区別)'!B199=\"男\",0,1))","v":""},{"$f":"IF('入力シート(地区別)'!$H199=\"\",\"\",TEXT('入力シート(地区別)'!$H199,\"00\"))","v":""},null,null,{"$f":"IF('入力シート(地区別)'!$H199=\"\",\"\",IF('入力シート(地区別)'!K199=\"\",\"\",'入力シート(地区別)'!K199))","v":""},{"$nulls":3},{"$f":"IF('入力シート(地区別)'!$H199=\"\",\"\",IF('入力シート(地区別)'!L199=\"\",\"\",IF('入力シート(地区別)'!L199=\"電気\",0,1)))","v":""}]
[{"$f":"IF('入力シート(地区別)'!$H200=\"\",\"\",\"4000001\")","v":""},{"$f":"IF('入力シート(地区別)'!$H200=\"\",\"\",IF('入力シート(地区別)'!$B200=\"男\",0,1))","v":""},{"$f":"IF('入力シート(地区別)'!$H200=\"\",\"\",'入力シート(地区別)'!C200)","v":""},{"$f":"IF('入力シート(地区別)'!$H200=\"\",\"\",TEXT('入力シート(地区別)'!$E200,\"000\"))","v":""},{"$f":"IF('入力シート(地区別)'!$H200=\"\",\"\",学校番号)","v":""},{"$f":"IF('入力シート(地区別)'!$H200=\"\",\"\",IF('入力シート(地区別)'!B200=\"男\",0,1))","v":""},{"$f":"IF('入力シート(地区別)'!$H200=\"\",\"\",TEXT('入力シート(地区別)'!$H200,\"00\"))","v":""},null,null,{"$f":"IF('入力シート(地区別)'!$H200=\"\",\"\",IF('入力シート(地区別)'!K200=\"\",\"\",'入力シート(地区別)'!K200))","v":""},{"$nulls":3},{"$f":"IF('入力シート(地区別)'!$H200=\"\",\"\",IF('入力シート(地区別)'!L200=\"\",\"\",IF('入力シート(地区別)'!L200=\"電気\",0,1)))","v":""}]
[{"$f":"IF('入力シート(地区別)'!$H201=\"\",\"\",\"4000001\")","v":""},{"$f":"IF('入力シート(地区別)'!$H201=\"\",\"\",IF('入力シート(地区別)'!$B201=\"男\",0,1))","v":""},{"$f":"IF('入力シート(地区別)'!$H201=\"\",\"\",'入力シート(地区別)'!C201)","v":""},{"$f":"IF('入力シート(地区別)'!$H201=\"\",\"\",TEXT('入力シート(地区別)'!$E201,\"000\"))","v":""},{"$f":"IF('入力シート(地区別)'!$H201=\"\",\"\",学校番号)","v":""},{"$f":"IF('入力シート(地区別)'!$H201=\"\",\"\",IF('入力シート(地区別)'!B201=\"男\",0,1))","v":""},{"$f":"IF('入力シート(地区別)'!$H201=\"\",\"\",TEXT('入力シート(地区別)'!$H201,\"00\"))","v":""},null,null,{"$f":"IF('入力シート(地区別)'!$H201=\"\",\"\",IF('入力シート(地区別)'!K201=\"\",\"\",'入力シート(地区別)'!K201))","v":""},{"$nulls":3},{"$f":"IF('入力シート(地区別)'!$H201=\"\",\"\",IF('入力シート(地区別)'!L201=\"\",\"\",IF('入力シート(地区別)'!L201=\"電気\",0,1)))","v":""}]
[{"$f":"IF('入力シート(地区別)'!$H202=\"\",\"\",\"4000001\")","v":""},{"$f":"IF('入力シート(地区別)'!$H202=\"\",\"\",IF('入力シート(地区別)'!$B202=\"男\",0,1))","v":""},{"$f":"IF('入力シート(地区別)'!$H202=\"\",\"\",'入力シート(地区別)'!C202)","v":""},{"$f":"IF('入力シート(地区別)'!$H202=\"\",\"\",TEXT('入力シート(地区別)'!$E202,\"000\"))","v":""},{"$f":"IF('入力シート(地区別)'!$H202=\"\",\"\",学校番号)","v":""},{"$f":"IF('入力シート(地区別)'!$H202=\"\",\"\",IF('入力シート(地区別)'!B202=\"男\",0,1))","v":""},{"$f":"IF('入力シート(地区別)'!$H202=\"\",\"\",TEXT('入力シート(地区別)'!$H202,\"00\"))","v":""},null,null,{"$f":"IF('入力シート(地区別)'!$H202=\"\",\"\",IF('入力シート(地区別)'!K202=\"\",\"\",'入力シート(地区別)'!K202))","v":""},{"$nulls":3},{"$f":"IF('入力シート(地区別)'!$H202=\"\",\"\",IF('入力シート(地区別)'!L202=\"\",\"\",IF('入力シート(地区別)'!L202=\"電気\",0,1)))","v":""}]
[{"$f":"IF('入力シート(地区別)'!$H203=\"\",\"\",\"4000001\")","v":""},{"$f":"IF('入力シート(地区別)'!$H203=\"\",\"\",IF('入力シート(地区別)'!$B203=\"男\",0,1))","v":""},{"$f":"IF('入力シート(地区別)'!$H203=\"\",\"\",'入力シート(地区別)'!C203)","v":""},{"$f":"IF('入力シート(地区別)'!$H203=\"\",\"\",TEXT('入力シート(地区別)'!$E203,\"000\"))","v":""},{"$f":"IF('入力シート(地区別)'!$H203=\"\",\"\",学校番号)","v":""},{"$f":"IF('入力シート(地区別)'!$H203=\"\",\"\",IF('入力シート(地区別)'!B203=\"男\",0,1))","v":""},{"$f":"IF('入力シート(地区別)'!$H203=\"\",\"\",TEXT('入力シート(地区別)'!$H203,\"00\"))","v":""},null,null,{"$f":"IF('入力シート(地区別)'!$H203=\"\",\"\",IF('入力シート(地区別)'!K203=\"\",\"\",'入力シート(地区別)'!K203))","v":""},{"$nulls":3},{"$f":"IF('入力シート(地区別)'!$H203=\"\",\"\",IF('入力シート(地区別)'!L203=\"\",\"\",IF('入力シート(地区別)'!L203=\"電気\",0,1)))","v":""}]
[{"$f":"IF('入力シート(地区別)'!$H204=\"\",\"\",\"4000001\")","v":""},{"$f":"IF('入力シート(地区別)'!$H204=\"\",\"\",IF('入力シート(地区別)'!$B204=\"男\",0,1))","v":""},{"$f":"IF('入力シート(地区別)'!$H204=\"\",\"\",'入力シート(地区別)'!C204)","v":""},{"$f":"IF('入力シート(地区別)'!$H204=\"\",\"\",TEXT('入力シート(地区別)'!$E204,\"000\"))","v":""},{"$f":"IF('入力シート(地区別)'!$H204=\"\",\"\",学校番号)","v":""},{"$f":"IF('入力シート(地区別)'!$H204=\"\",\"\",IF('入力シート(地区別)'!B204=\"男\",0,1))","v":""},{"$f":"IF('入力シート(地区別)'!$H204=\"\",\"\",TEXT('入力シート(地区別)'!$H204,\"00\"))","v":""},null,null,{"$f":"IF('入力シート(地区別)'!$H204=\"\",\"\",IF('入力シート(地区別)'!K204=\"\",\"\",'入力シート(地区別)'!K204))","v":""},{"$nulls":3},{"$f":"IF('入力シート(地区別)'!$H204=\"\",\"\",IF('入力シート(地区別)'!L204=\"\",\"\",IF('入力シート(地区別)'!L204=\"電気\",0,1)))","v":""}]
[{"$f":"IF('入力シート(地区別)'!$H205=\"\",\"\",\"4000001\")","v":""},{"$f":"IF('入力シート(地区別)'!$H205=\"\",\"\",IF('入力シート(地区別)'!$B205=\"男\",0,1))","v":""},{"$f":"IF('入力シート(地区別)'!$H205=\"\",\"\",'入力シート(地区別)'!C205)","v":""},{"$f":"IF('入力シート(地区別)'!$H205=\"\",\"\",TEXT('入力シート(地区別)'!$E205,\"000\"))","v":""},{"$f":"IF('入力シート(地区別)'!$H205=\"\",\"\",学校番号)","v":""},{"$f":"IF('入力シート(地区別)'!$H205=\"\",\"\",IF('入力シート(地区別)'!B205=\"男\",0,1))","v":""},{"$f":"IF('入力シート(地区別)'!$H205=\"\",\"\",TEXT('入力シート(地区別)'!$H205,\"00\"))","v":""},null,null,{"$f":"IF('入力シート(地区別)'!$H205=\"\",\"\",IF('入力シート(地区別)'!K205=\"\",\"\",'入力シート(地区別)'!K205))","v":""},{"$nulls":3},{"$f":"IF('入力シート(地区別)'!$H205=\"\",\"\",IF('入力シート(地区別)'!L205=\"\",\"\",IF('入力シート(地区別)'!L205=\"電気\",0,1)))","v":""}]
[{"$f":"IF('入力シート(地区別)'!$H206=\"\",\"\",\"4000001\")","v":""},{"$f":"IF('入力シート(地区別)'!$H206=\"\",\"\",IF('入力シート(地区別)'!$B206=\"男\",0,1))","v":""},{"$f":"IF('入力シート(地区別)'!$H206=\"\",\"\",'入力シート(地区別)'!C206)","v":""},{"$f":"IF('入力シート(地区別)'!$H206=\"\",\"\",TEXT('入力シート(地区別)'!$E206,\"000\"))","v":""},{"$f":"IF('入力シート(地区別)'!$H206=\"\",\"\",学校番号)","v":""},{"$f":"IF('入力シート(地区別)'!$H206=\"\",\"\",IF('入力シート(地区別)'!B206=\"男\",0,1))","v":""},{"$f":"IF('入力シート(地区別)'!$H206=\"\",\"\",TEXT('入力シート(地区別)'!$H206,\"00\"))","v":""},null,null,{"$f":"IF('入力シート(地区別)'!$H206=\"\",\"\",IF('入力シート(地区別)'!K206=\"\",\"\",'入力シート(地区別)'!K206))","v":""},{"$nulls":3},{"$f":"IF('入力シート(地区別)'!$H206=\"\",\"\",IF('入力シート(地区別)'!L206=\"\",\"\",IF('入力シート(地区別)'!L206=\"電気\",0,1)))","v":""}]
[{"$f":"IF('入力シート(地区別)'!$H207=\"\",\"\",\"4000001\")","v":""},{"$f":"IF('入力シート(地区別)'!$H207=\"\",\"\",IF('入力シート(地区別)'!$B207=\"男\",0,1))","v":""},{"$f":"IF('入力シート(地区別)'!$H207=\"\",\"\",'入力シート(地区別)'!C207)","v":""},{"$f":"IF('入力シート(地区別)'!$H207=\"\",\"\",TEXT('入力シート(地区別)'!$E207,\"000\"))","v":""},{"$f":"IF('入力シート(地区別)'!$H207=\"\",\"\",学校番号)","v":""},{"$f":"IF('入力シート(地区別)'!$H207=\"\",\"\",IF('入力シート(地区別)'!B207=\"男\",0,1))","v":""},{"$f":"IF('入力シート(地区別)'!$H207=\"\",\"\",TEXT('入力シート(地区別)'!$H207,\"00\"))","v":""},null,null,{"$f":"IF('入力シート(地区別)'!$H207=\"\",\"\",IF('入力シート(地区別)'!K207=\"\",\"\",'入力シート(地区別)'!K207))","v":""},{"$nulls":3},{"$f":"IF('入力シート(地区別)'!$H207=\"\",\"\",IF('入力シート(地区別)'!L207=\"\",\"\",IF('入力シート(地区別)'!L207=\"電気\",0,1)))","v":""}]
[{"$f":"IF('入力シート(地区別)'!$H208=\"\",\"\",\"4000001\")","v":""},{"$f":"IF('入力シート(地区別)'!$H208=\"\",\"\",IF('入力シート(地区別)'!$B208=\"男\",0,1))","v":""},{"$f":"IF('入力シート(地区別)'!$H208=\"\",\"\",'入力シート(地区別)'!C208)","v":""},{"$f":"IF('入力シート(地区別)'!$H208=\"\",\"\",TEXT('入力シート(地区別)'!$E208,\"000\"))","v":""},{"$f":"IF('入力シート(地区別)'!$H208=\"\",\"\",学校番号)","v":""},{"$f":"IF('入力シート(地区別)'!$H208=\"\",\"\",IF('入力シート(地区別)'!B208=\"男\",0,1))","v":""},{"$f":"IF('入力シート(地区別)'!$H208=\"\",\"\",TEXT('入力シート(地区別)'!$H208,\"00\"))","v":""},null,null,{"$f":"IF('入力シート(地区別)'!$H208=\"\",\"\",IF('入力シート(地区別)'!K208=\"\",\"\",'入力シート(地区別)'!K208))","v":""},{"$nulls":3},{"$f":"IF('入力シート(地区別)'!$H208=\"\",\"\",IF('入力シート(地区別)'!L208=\"\",\"\",IF('入力シート(地区別)'!L208=\"電気\",0,1)))","v":""}]
[{"$f":"IF('入力シート(地区別)'!$H209=\"\",\"\",\"4000001\")","v":""},{"$f":"IF('入力シート(地区別)'!$H209=\"\",\"\",IF('入力シート(地区別)'!$B209=\"男\",0,1))","v":""},{"$f":"IF('入力シート(地区別)'!$H209=\"\",\"\",'入力シート(地区別)'!C209)","v":""},{"$f":"IF('入力シート(地区別)'!$H209=\"\",\"\",TEXT('入力シート(地区別)'!$E209,\"000\"))","v":""},{"$f":"IF('入力シート(地区別)'!$H209=\"\",\"\",学校番号)","v":""},{"$f":"IF('入力シート(地区別)'!$H209=\"\",\"\",IF('入力シート(地区別)'!B209=\"男\",0,1))","v":""},{"$f":"IF('入力シート(地区別)'!$H209=\"\",\"\",TEXT('入力シート(地区別)'!$H209,\"00\"))","v":""},null,null,{"$f":"IF('入力シート(地区別)'!$H209=\"\",\"\",IF('入力シート(地区別)'!K209=\"\",\"\",'入力シート(地区別)'!K209))","v":""},{"$nulls":3},{"$f":"IF('入力シート(地区別)'!$H209=\"\",\"\",IF('入力シート(地区別)'!L209=\"\",\"\",IF('入力シート(地区別)'!L209=\"電気\",0,1)))","v":""}]
[{"$f":"IF('入力シート(地区別)'!$H210=\"\",\"\",\"4000001\")","v":""},{"$f":"IF('入力シート(地区別)'!$H210=\"\",\"\",IF('入力シート(地区別)'!$B210=\"男\",0,1))","v":""},{"$f":"IF('入力シート(地区別)'!$H210=\"\",\"\",'入力シート(地区別)'!C210)","v":""},{"$f":"IF('入力シート(地区別)'!$H210=\"\",\"\",TEXT('入力シート(地区別)'!$E210,\"000\"))","v":""},{"$f":"IF('入力シート(地区別)'!$H210=\"\",\"\",学校番号)","v":""},{"$f":"IF('入力シート(地区別)'!$H210=\"\",\"\",IF('入力シート(地区別)'!B210=\"男\",0,1))","v":""},{"$f":"IF('入力シート(地区別)'!$H210=\"\",\"\",TEXT('入力シート(地区別)'!$H210,\"00\"))","v":""},null,null,{"$f":"IF('入力シート(地区別)'!$H210=\"\",\"\",IF('入力シート(地区別)'!K210=\"\",\"\",'入力シート(地区別)'!K210))","v":""},{"$nulls":3},{"$f":"IF('入力シート(地区別)'!$H210=\"\",\"\",IF('入力シート(地区別)'!L210=\"\",\"\",IF('入力シート(地区別)'!L210=\"電気\",0,1)))","v":""}]
[{"$f":"IF('入力シート(地区別)'!$H211=\"\",\"\",\"4000001\")","v":""},{"$f":"IF('入力シート(地区別)'!$H211=\"\",\"\",IF('入力シート(地区別)'!$B211=\"男\",0,1))","v":""},{"$f":"IF('入力シート(地区別)'!$H211=\"\",\"\",'入力シート(地区別)'!C211)","v":""},{"$f":"IF('入力シート(地区別)'!$H211=\"\",\"\",TEXT('入力シート(地区別)'!$E211,\"000\"))","v":""},{"$f":"IF('入力シート(地区別)'!$H211=\"\",\"\",学校番号)","v":""},{"$f":"IF('入力シート(地区別)'!$H211=\"\",\"\",IF('入力シート(地区別)'!B211=\"男\",0,1))","v":""},{"$f":"IF('入力シート(地区別)'!$H211=\"\",\"\",TEXT('入力シート(地区別)'!$H211,\"00\"))","v":""},null,null,{"$f":"IF('入力シート(地区別)'!$H211=\"\",\"\",IF('入力シート(地区別)'!K211=\"\",\"\",'入力シート(地区別)'!K211))","v":""},{"$nulls":3},{"$f":"IF('入力シート(地区別)'!$H211=\"\",\"\",IF('入力シート(地区別)'!L211=\"\",\"\",IF('入力シート(地区別)'!L211=\"電気\",0,1)))","v":""}]
[{"$f":"IF('入力シート(地区別)'!$H212=\"\",\"\",\"4000001\")","v":""},{"$f":"IF('入力シート(地区別)'!$H212=\"\",\"\",IF('入力シート(地区別)'!$B212=\"男\",0,1))","v":""},{"$f":"IF('入力シート(地区別)'!$H212=\"\",\"\",'入力シート(地区別)'!C212)","v":""},{"$f":"IF('入力シート(地区別)'!$H212=\"\",\"\",TEXT('入力シート(地区別)'!$E212,\"000\"))","v":""},{"$f":"IF('入力シート(地区別)'!$H212=\"\",\"\",学校番号)","v":""},{"$f":"IF('入力シート(地区別)'!$H212=\"\",\"\",IF('入力シート(地区別)'!B212=\"男\",0,1))","v":""},{"$f":"IF('入力シート(地区別)'!$H212=\"\",\"\",TEXT('入力シート(地区別)'!$H212,\"00\"))","v":""},null,null,{"$f":"IF('入力シート(地区別)'!$H212=\"\",\"\",IF('入力シート(地区別)'!K212=\"\",\"\",'入力シート(地区別)'!K212))","v":""},{"$nulls":3},{"$f":"IF('入力シート(地区別)'!$H212=\"\",\"\",IF('入力シート(地区別)'!L212=\"\",\"\",IF('入力シート(地区別)'!L212=\"電気\",0,1)))","v":""}]
[{"$f":"IF('入力シート(地区別)'!$H213=\"\",\"\",\"4000001\")","v":""},{"$f":"IF('入力シート(地区別)'!$H213=\"\",\"\",IF('入力シート(地区別)'!$B213=\"男\",0,1))","v":""},{"$f":"IF('入力シート(地区別)'!$H213=\"\",\"\",'入力シート(地区別)'!C213)","v":""},{"$f":"IF('入力シート(地区別)'!$H213=\"\",\"\",TEXT('入力シート(地区別)'!$E213,\"000\"))","v":""},{"$f":"IF('入力シート(地区別)'!$H213=\"\",\"\",学校番号)","v":""},{"$f":"IF('入力シート(地区別)'!$H213=\"\",\"\",IF('入力シート(地区別)'!B213=\"男\",0,1))","v":""},{"$f":"IF('入力シート(地区別)'!$H213=\"\",\"\",TEXT('入力シート(地区別)'!$H213,\"00\"))","v":""},null,null,{"$f":"IF('入力シート(地区別)'!$H213=\"\",\"\",IF('入力シート(地区別)'!K213=\"\",\"\",'入力シート(地区別)'!K213))","v":""},{"$nulls":3},{"$f":"IF('入力シート(地区別)'!$H213=\"\",\"\",IF('入力シート(地区別)'!L213=\"\",\"\",IF('入力シート(地区別)'!L213=\"電気\",0,1)))","v":""}]
[{"$f":"IF('入力シート(地区別)'!$H214=\"\",\"\",\"4000001\")","v":""},{"$f":"IF('入力シート(地区別)'!$H214=\"\",\"\",IF('入力シート(地区別)'!$B214=\"男\",0,1))","v":""},{"$f":"IF('入力シート(地区別)'!$H214=\"\",\"\",'入力シート(地区別)'!C214)","v":""},{"$f":"IF('入力シート(地区別)'!$H214=\"\",\"\",TEXT('入力シート(地区別)'!$E214,\"000\"))","v":""},{"$f":"IF('入力シート(地区別)'!$H214=\"\",\"\",学校番号)","v":""},{"$f":"IF('入力シート(地区別)'!$H214=\"\",\"\",IF('入力シート(地区別)'!B214=\"男\",0,1))","v":""},{"$f":"IF('入力シート(地区別)'!$H214=\"\",\"\",TEXT('入力シート(地区別)'!$H214,\"00\"))","v":""},null,null,{"$f":"IF('入力シート(地区別)'!$H214=\"\",\"\",IF('入力シート(地区別)'!K214=\"\",\"\",'入力シート(地区別)'!K214))","v":""},{"$nulls":3},{"$f":"IF('入力シート(地区別)'!$H214=\"\",\"\",IF('入力シート(地区別)'!L214=\"\",\"\",IF('入力シート(地区別)'!L214=\"電気\",0,1)))","v":""}]
[{"$f":"IF('入力シート(地区別)'!$H215=\"\",\"\",\"4000001\")","v":""},{"$f":"IF('入力シート(地区別)'!$H215=\"\",\"\",IF('入力シート(地区別)'!$B215=\"男\",0,1))","v":""},{"$f":"IF('入力シート(地区別)'!$H215=\"\",\"\",'入力シート(地区別)'!C215)","v":""},{"$f":"IF('入力シート(地区別)'!$H215=\"\",\"\",TEXT('入力シート(地区別)'!$E215,\"000\"))","v":""},{"$f":"IF('入力シート(地区別)'!$H215=\"\",\"\",学校番号)","v":""},{"$f":"IF('入力シート(地区別)'!$H215=\"\",\"\",IF('入力シート(地区別)'!B215=\"男\",0,1))","v":""},{"$f":"IF('入力シート(地区別)'!$H215=\"\",\"\",TEXT('入力シート(地区別)'!$H215,\"00\"))","v":""},null,null,{"$f":"IF('入力シート(地区別)'!$H215=\"\",\"\",IF('入力シート(地区別)'!K215=\"\",\"\",'入力シート(地区別)'!K215))","v":""},{"$nulls":3},{"$f":"IF('入力シート(地区別)'!$H215=\"\",\"\",IF('入力シート(地区別)'!L215=\"\",\"\",IF('入力シート(地区別)'!L215=\"電気\",0,1)))","v":""}]
[{"$f":"IF('入力シート(地区別)'!$H216=\"\",\"\",\"4000001\")","v":""},{"$f":"IF('入力シート(地区別)'!$H216=\"\",\"\",IF('入力シート(地区別)'!$B216=\"男\",0,1))","v":""},{"$f":"IF('入力シート(地区別)'!$H216=\"\",\"\",'入力シート(地区別)'!C216)","v":""},{"$f":"IF('入力シート(地区別)'!$H216=\"\",\"\",TEXT('入力シート(地区別)'!$E216,\"000\"))","v":""},{"$f":"IF('入力シート(地区別)'!$H216=\"\",\"\",学校番号)","v":""},{"$f":"IF('入力シート(地区別)'!$H216=\"\",\"\",IF('入力シート(地区別)'!B216=\"男\",0,1))","v":""},{"$f":"IF('入力シート(地区別)'!$H216=\"\",\"\",TEXT('入力シート(地区別)'!$H216,\"00\"))","v":""},null,null,{"$f":"IF('入力シート(地区別)'!$H216=\"\",\"\",IF('入力シート(地区別)'!K216=\"\",\"\",'入力シート(地区別)'!K216))","v":""},{"$nulls":3},{"$f":"IF('入力シート(地区別)'!$H216=\"\",\"\",IF('入力シート(地区別)'!L216=\"\",\"\",IF('入力シート(地区別)'!L216=\"電気\",0,1)))","v":""}]
[{"$f":"IF('入力シート(地区別)'!$H217=\"\",\"\",\"4000001\")","v":""},{"$f":"IF('入力シート(地区別)'!$H217=\"\",\"\",IF('入力シート(地区別)'!$B217=\"男\",0,1))","v":""},{"$f":"IF('入力シート(地区別)'!$H217=\"\",\"\",'入力シート(地区別)'!C217)","v":""},{"$f":"IF('入力シート(地区別)'!$H217=\"\",\"\",TEXT('入力シート(地区別)'!$E217,\"000\"))","v":""},{"$f":"IF('入力シート(地区別)'!$H217=\"\",\"\",学校番号)","v":""},{"$f":"IF('入力シート(地区別)'!$H217=\"\",\"\",IF('入力シート(地区別)'!B217=\"男\",0,1))","v":""},{"$f":"IF('入力シート(地区別)'!$H217=\"\",\"\",TEXT('入力シート(地区別)'!$H217,\"00\"))","v":""},null,null,{"$f":"IF('入力シート(地区別)'!$H217=\"\",\"\",IF('入力シート(地区別)'!K217=\"\",\"\",'入力シート(地区別)'!K217))","v":""},{"$nulls":3},{"$f":"IF('入力シート(地区別)'!$H217=\"\",\"\",IF('入力シート(地区別)'!L217=\"\",\"\",IF('入力シート(地区別)'!L217=\"電気\",0,1)))","v":""}]
[{"$f":"IF('入力シート(地区別)'!$H218=\"\",\"\",\"4000001\")","v":""},{"$f":"IF('入力シート(地区別)'!$H218=\"\",\"\",IF('入力シート(地区別)'!$B218=\"男\",0,1))","v":""},{"$f":"IF('入力シート(地区別)'!$H218=\"\",\"\",'入力シート(地区別)'!C218)","v":""},{"$f":"IF('入力シート(地区別)'!$H218=\"\",\"\",TEXT('入力シート(地区別)'!$E218,\"000\"))","v":""},{"$f":"IF('入力シート(地区別)'!$H218=\"\",\"\",学校番号)","v":""},{"$f":"IF('入力シート(地区別)'!$H218=\"\",\"\",IF('入力シート(地区別)'!B218=\"男\",0,1))","v":""},{"$f":"IF('入力シート(地区別)'!$H218=\"\",\"\",TEXT('入力シート(地区別)'!$H218,\"00\"))","v":""},null,null,{"$f":"IF('入力シート(地区別)'!$H218=\"\",\"\",IF('入力シート(地区別)'!K218=\"\",\"\",'入力シート(地区別)'!K218))","v":""},{"$nulls":3},{"$f":"IF('入力シート(地区別)'!$H218=\"\",\"\",IF('入力シート(地区別)'!L218=\"\",\"\",IF('入力シート(地区別)'!L218=\"電気\",0,1)))","v":""}]
[{"$f":"IF('入力シート(地区別)'!$H219=\"\",\"\",\"4000001\")","v":""},{"$f":"IF('入力シート(地区別)'!$H219=\"\",\"\",IF('入力シート(地区別)'!$B219=\"男\",0,1))","v":""},{"$f":"IF('入力シート(地区別)'!$H219=\"\",\"\",'入力シート(地区別)'!C219)","v":""},{"$f":"IF('入力シート(地区別)'!$H219=\"\",\"\",TEXT('入力シート(地区別)'!$E219,\"000\"))","v":""},{"$f":"IF('入力シート(地区別)'!$H219=\"\",\"\",学校番号)","v":""},{"$f":"IF('入力シート(地区別)'!$H219=\"\",\"\",IF('入力シート(地区別)'!B219=\"男\",0,1))","v":""},{"$f":"IF('入力シート(地区別)'!$H219=\"\",\"\",TEXT('入力シート(地区別)'!$H219,\"00\"))","v":""},null,null,{"$f":"IF('入力シート(地区別)'!$H219=\"\",\"\",IF('入力シート(地区別)'!K219=\"\",\"\",'入力シート(地区別)'!K219))","v":""},{"$nulls":3},{"$f":"IF('入力シート(地区別)'!$H219=\"\",\"\",IF('入力シート(地区別)'!L219=\"\",\"\",IF('入力シート(地区別)'!L219=\"電気\",0,1)))","v":""}]
[{"$f":"IF('入力シート(地区別)'!$H220=\"\",\"\",\"4000001\")","v":""},{"$f":"IF('入力シート(地区別)'!$H220=\"\",\"\",IF('入力シート(地区別)'!$B220=\"男\",0,1))","v":""},{"$f":"IF('入力シート(地区別)'!$H220=\"\",\"\",'入力シート(地区別)'!C220)","v":""},{"$f":"IF('入力シート(地区別)'!$H220=\"\",\"\",TEXT('入力シート(地区別)'!$E220,\"000\"))","v":""},{"$f":"IF('入力シート(地区別)'!$H220=\"\",\"\",学校番号)","v":""},{"$f":"IF('入力シート(地区別)'!$H220=\"\",\"\",IF('入力シート(地区別)'!B220=\"男\",0,1))","v":""},{"$f":"IF('入力シート(地区別)'!$H220=\"\",\"\",TEXT('入力シート(地区別)'!$H220,\"00\"))","v":""},null,null,{"$f":"IF('入力シート(地区別)'!$H220=\"\",\"\",IF('入力シート(地区別)'!K220=\"\",\"\",'入力シート(地区別)'!K220))","v":""},{"$nulls":3},{"$f":"IF('入力シート(地区別)'!$H220=\"\",\"\",IF('入力シート(地区別)'!L220=\"\",\"\",IF('入力シート(地区別)'!L220=\"電気\",0,1)))","v":""}]
[{"$f":"IF('入力シート(地区別)'!$H221=\"\",\"\",\"4000001\")","v":""},{"$f":"IF('入力シート(地区別)'!$H221=\"\",\"\",IF('入力シート(地区別)'!$B221=\"男\",0,1))","v":""},{"$f":"IF('入力シート(地区別)'!$H221=\"\",\"\",'入力シート(地区別)'!C221)","v":""},{"$f":"IF('入力シート(地区別)'!$H221=\"\",\"\",TEXT('入力シート(地区別)'!$E221,\"000\"))","v":""},{"$f":"IF('入力シート(地区別)'!$H221=\"\",\"\",学校番号)","v":""},{"$f":"IF('入力シート(地区別)'!$H221=\"\",\"\",IF('入力シート(地区別)'!B221=\"男\",0,1))","v":""},{"$f":"IF('入力シート(地区別)'!$H221=\"\",\"\",TEXT('入力シート(地区別)'!$H221,\"00\"))","v":""},null,null,{"$f":"IF('入力シート(地区別)'!$H221=\"\",\"\",IF('入力シート(地区別)'!K221=\"\",\"\",'入力シート(地区別)'!K221))","v":""},{"$nulls":3},{"$f":"IF('入力シート(地区別)'!$H221=\"\",\"\",IF('入力シート(地区別)'!L221=\"\",\"\",IF('入力シート(地区別)'!L221=\"電気\",0,1)))","v":""}]
[{"$f":"IF('入力シート(地区別)'!$H222=\"\",\"\",\"4000001\")","v":""},{"$f":"IF('入力シート(地区別)'!$H222=\"\",\"\",IF('入力シート(地区別)'!$B222=\"男\",0,1))","v":""},{"$f":"IF('入力シート(地区別)'!$H222=\"\",\"\",'入力シート(地区別)'!C222)","v":""},{"$f":"IF('入力シート(地区別)'!$H222=\"\",\"\",TEXT('入力シート(地区別)'!$E222,\"000\"))","v":""},{"$f":"IF('入力シート(地区別)'!$H222=\"\",\"\",学校番号)","v":""},{"$f":"IF('入力シート(地区別)'!$H222=\"\",\"\",IF('入力シート(地区別)'!B222=\"男\",0,1))","v":""},{"$f":"IF('入力シート(地区別)'!$H222=\"\",\"\",TEXT('入力シート(地区別)'!$H222,\"00\"))","v":""},null,null,{"$f":"IF('入力シート(地区別)'!$H222=\"\",\"\",IF('入力シート(地区別)'!K222=\"\",\"\",'入力シート(地区別)'!K222))","v":""},{"$nulls":3},{"$f":"IF('入力シート(地区別)'!$H222=\"\",\"\",IF('入力シート(地区別)'!L222=\"\",\"\",IF('入力シート(地区別)'!L222=\"電気\",0,1)))","v":""}]
[{"$f":"IF('入力シート(地区別)'!$H223=\"\",\"\",\"4000001\")","v":""},{"$f":"IF('入力シート(地区別)'!$H223=\"\",\"\",IF('入力シート(地区別)'!$B223=\"男\",0,1))","v":""},{"$f":"IF('入力シート(地区別)'!$H223=\"\",\"\",'入力シート(地区別)'!C223)","v":""},{"$f":"IF('入力シート(地区別)'!$H223=\"\",\"\",TEXT('入力シート(地区別)'!$E223,\"000\"))","v":""},{"$f":"IF('入力シート(地区別)'!$H223=\"\",\"\",学校番号)","v":""},{"$f":"IF('入力シート(地区別)'!$H223=\"\",\"\",IF('入力シート(地区別)'!B223=\"男\",0,1))","v":""},{"$f":"IF('入力シート(地区別)'!$H223=\"\",\"\",TEXT('入力シート(地区別)'!$H223,\"00\"))","v":""},null,null,{"$f":"IF('入力シート(地区別)'!$H223=\"\",\"\",IF('入力シート(地区別)'!K223=\"\",\"\",'入力シート(地区別)'!K223))","v":""},{"$nulls":3},{"$f":"IF('入力シート(地区別)'!$H223=\"\",\"\",IF('入力シート(地区別)'!L223=\"\",\"\",IF('入力シート(地区別)'!L223=\"電気\",0,1)))","v":""}]
[]
[{"$f":"IF('入力シート(地区別)'!$H225=\"\",\"\",\"4000001\")","v":""},{"$f":"IF('入力シート(地区別)'!$H225=\"\",\"\",IF('入力シート(地区別)'!$B225=\"男\",0,1))","v":""},{"$f":"IF('入力シート(地区別)'!$H225=\"\",\"\",'入力シート(地区別)'!C225)","v":""},{"$f":"IF('入力シート(地区別)'!$H225=\"\",\"\",TEXT('入力シート(地区別)'!$E225,\"000\"))","v":""},{"$f":"IF('入力シート(地区別)'!$H225=\"\",\"\",学校番号)","v":""},{"$f":"IF('入力シート(地区別)'!$H225=\"\",\"\",IF('入力シート(地区別)'!B225=\"男\",0,1))","v":""},{"$f":"IF('入力シート(地区別)'!$H225=\"\",\"\",TEXT('入力シート(地区別)'!$H225,\"00\"))","v":""},null,null,{"$f":"IF('入力シート(地区別)'!$H225=\"\",\"\",IF('入力シート(地区別)'!K225=\"\",\"\",'入力シート(地区別)'!K225))","v":""},{"$nulls":3},{"$f":"IF('入力シート(地区別)'!$H225=\"\",\"\",IF('入力シート(地区別)'!L225=\"\",\"\",IF('入力シート(地区別)'!L225=\"電気\",0,1)))","v":""}]
[{"$f":"IF('入力シート(地区別)'!$H226=\"\",\"\",\"4000001\")","v":""},{"$f":"IF('入力シート(地区別)'!$H226=\"\",\"\",IF('入力シート(地区別)'!$B226=\"男\",0,1))","v":""},{"$f":"IF('入力シート(地区別)'!$H226=\"\",\"\",'入力シート(地区別)'!C226)","v":""},{"$f":"IF('入力シート(地区別)'!$H226=\"\",\"\",TEXT('入力シート(地区別)'!$E226,\"000\"))","v":""},{"$f":"IF('入力シート(地区別)'!$H226=\"\",\"\",学校番号)","v":""},{"$f":"IF('入力シート(地区別)'!$H226=\"\",\"\",IF('入力シート(地区別)'!B226=\"男\",0,1))","v":""},{"$f":"IF('入力シート(地区別)'!$H226=\"\",\"\",TEXT('入力シート(地区別)'!$H226,\"00\"))","v":""},null,null,{"$f":"IF('入力シート(地区別)'!$H226=\"\",\"\",IF('入力シート(地区別)'!K226=\"\",\"\",'入力シート(地区別)'!K226))","v":""},{"$nulls":3},{"$f":"IF('入力シート(地区別)'!$H226=\"\",\"\",IF('入力シート(地区別)'!L226=\"\",\"\",IF('入力シート(地区別)'!L226=\"電気\",0,1)))","v":""}]
[{"$f":"IF('入力シート(地区別)'!$H227=\"\",\"\",\"4000001\")","v":""},{"$f":"IF('入力シート(地区別)'!$H227=\"\",\"\",IF('入力シート(地区別)'!$B227=\"男\",0,1))","v":""},{"$f":"IF('入力シート(地区別)'!$H227=\"\",\"\",'入力シート(地区別)'!C227)","v":""},{"$f":"IF('入力シート(地区別)'!$H227=\"\",\"\",TEXT('入力シート(地区別)'!$E227,\"000\"))","v":""},{"$f":"IF('入力シート(地区別)'!$H227=\"\",\"\",学校番号)","v":""},{"$f":"IF('入力シート(地区別)'!$H227=\"\",\"\",IF('入力シート(地区別)'!B227=\"男\",0,1))","v":""},{"$f":"IF('入力シート(地区別)'!$H227=\"\",\"\",TEXT('入力シート(地区別)'!$H227,\"00\"))","v":""},null,null,{"$f":"IF('入力シート(地区別)'!$H227=\"\",\"\",IF('入力シート(地区別)'!K227=\"\",\"\",'入力シート(地区別)'!K227))","v":""},{"$nulls":3},{"$f":"IF('入力シート(地区別)'!$H227=\"\",\"\",IF('入力シート(地区別)'!L227=\"\",\"\",IF('入力シート(地区別)'!L227=\"電気\",0,1)))","v":""}]
[{"$f":"IF('入力シート(地区別)'!$H228=\"\",\"\",\"4000001\")","v":""},{"$f":"IF('入力シート(地区別)'!$H228=\"\",\"\",IF('入力シート(地区別)'!$B228=\"男\",0,1))","v":""},{"$f":"IF('入力シート(地区別)'!$H228=\"\",\"\",'入力シート(地区別)'!C228)","v":""},{"$f":"IF('入力シート(地区別)'!$H228=\"\",\"\",TEXT('入力シート(地区別)'!$E228,\"000\"))","v":""},{"$f":"IF('入力シート(地区別)'!$H228=\"\",\"\",学校番号)","v":""},{"$f":"IF('入力シート(地区別)'!$H228=\"\",\"\",IF('入力シート(地区別)'!B228=\"男\",0,1))","v":""},{"$f":"IF('入力シート(地区別)'!$H228=\"\",\"\",TEXT('入力シート(地区別)'!$H228,\"00\"))","v":""},null,null,{"$f":"IF('入力シート(地区別)'!$H228=\"\",\"\",IF('入力シート(地区別)'!K228=\"\",\"\",'入力シート(地区別)'!K228))","v":""},{"$nulls":3},{"$f":"IF('入力シート(地区別)'!$H228=\"\",\"\",IF('入力シート(地区別)'!L228=\"\",\"\",IF('入力シート(地区別)'!L228=\"電気\",0,1)))","v":""}]
[]
["大会コード","性別","学年","競技種目コード","学校コード","性別1","選手コード","エントリ記録","当日記録","順位","順番","条件項目","競技－１記録","競技－１得点","競技－１試技順番","競技－１組","競技－１条件項目","計測区分1","未記録区分１","最高記録１","公認最高記録１","三種最高記録１","最高条件項目１","公認最高条件項目１","三種最高条件項目１","競技－２記録","競技－２得点","競技－２試技順番","競技－２組","競技－２条件項目","計測区分２","未記録区分２","最高記録２","公認最高記録２","三種最高記録２","最高条件項目２","公認最高条件項目２","三種最高条件項目２","競技－３記録","競技－３得点","競技－３試技順番","競技－３組","競技－３条件項目","計測区分３","未記録区分３","最高記録３","公認最高記録３","三種最高記録３","最高条件項目３","公認最高条件項目３","三種最高条件項目３","競技－４記録","競技－４得点","競技－４試技順番","競技－４組","競技－４条件項目","計測区分４","未記録区分４","最高記録４","公認最高記録４","三種最高記録４","最高条件項目４","公認最高条件項目４","三種最高条件項目４","競技－５記録","競技－５得点","競技－５試技順番","競技－５組","競技－５条件項目","大会順位","公認記録"]
[{"$f":"IF('入力シート(地区別)'!$H104=\"\",\"\",\"4000001\")","v":""},{"$f":"IF('入力シート(地区別)'!$H104=\"\",\"\",IF('入力シート(地区別)'!$B104=\"男\",0,1))","v":""},{"$f":"IF('入力シート(地区別)'!$H104=\"\",\"\",'入力シート(地区別)'!C104)","v":""},{"$f":"IF('入力シート(地区別)'!$H104=\"\",\"\",TEXT('入力シート(地区別)'!$E104,\"000\"))","v":""},{"$f":"IF('入力シート(地区別)'!$H104=\"\",\"\",学校番号)","v":""},{"$f":"IF('入力シート(地区別)'!$H104=\"\",\"\",B195)","v":""},{"$f":"IF('入力シート(地区別)'!$H104=\"\",\"\",TEXT('入力シート(地区別)'!$H104,\"00\"))","v":""},{"$f":"IF('入力シート(地区別)'!$H104=\"\",\"\",IF('入力シート(地区別)'!$K104=\"\",\"\",'入力シート(地区別)'!$K104))","v":""},{"$nulls":4},{"$f":"IF('入力シート(地区別)'!$H104=\"\",\"\",IF('入力シート(地区別)'!$K105=\"\",\"\",'入力シート(地区別)'!$K105))","v":""},{"$nulls":12},{"$f":"IF('入力シート(地区別)'!$H104=\"\",\"\",IF('入力シート(地区別)'!$K106=\"\",\"\",'入力シート(地区別)'!$K106))","v":""},{"$nulls":12},{"$f":"IF('入力シート(地区別)'!$H104=\"\",\"\",IF('入力シート(地区別)'!$K107=\"\",\"\",'入力シート(地区別)'!$K107))","v":""},{"$nulls":12},{"$f":"IF('入力シート(地区別)'!$H104=\"\",\"\",IF('入力シート(地区別)'!$K108=\"\",\"\",'入力シート(地区別)'!$K108))","v":""}]
[{"$f":"IF('入力シート(地区別)'!$H109=\"\",\"\",\"4000001\")","v":""},{"$f":"IF('入力シート(地区別)'!$H109=\"\",\"\",IF('入力シート(地区別)'!$B109=\"男\",0,1))","v":""},{"$f":"IF('入力シート(地区別)'!$H109=\"\",\"\",'入力シート(地区別)'!C109)","v":""},{"$f":"IF('入力シート(地区別)'!$H109=\"\",\"\",TEXT('入力シート(地区別)'!$E109,\"000\"))","v":""},{"$f":"IF('入力シート(地区別)'!$H109=\"\",\"\",学校番号)","v":""},{"$f":"IF('入力シート(地区別)'!$H109=\"\",\"\",B196)","v":""},{"$f":"IF('入力シート(地区別)'!$H109=\"\",\"\",TEXT('入力シート(地区別)'!$H109,\"00\"))","v":""},{"$f":"IF('入力シート(地区別)'!$H109=\"\",\"\",IF('入力シート(地区別)'!$K109=\"\",\"\",'入力シート(地区別)'!$K109))","v":""},{"$nulls":4},{"$f":"IF('入力シート(地区別)'!$H109=\"\",\"\",IF('入力シート(地区別)'!$K110=\"\",\"\",'入力シート(地区別)'!$K110))","v":""},{"$nulls":12},{"$f":"IF('入力シート(地区別)'!$H109=\"\",\"\",IF('入力シート(地区別)'!$K111=\"\",\"\",'入力シート(地区別)'!$K111))","v":""},{"$nulls":12},{"$f":"IF('入力シート(地区別)'!$H109=\"\",\"\",IF('入力シート(地区別)'!$K112=\"\",\"\",'入力シート(地区別)'!$K112))","v":""},{"$nulls":12},{"$f":"IF('入力シート(地区別)'!$H109=\"\",\"\",IF('入力シート(地区別)'!$K113=\"\",\"\",'入力シート(地区別)'!$K113))","v":""}]
[{"$f":"IF('入力シート(地区別)'!$H114=\"\",\"\",\"4000001\")","v":""},{"$f":"IF('入力シート(地区別)'!$H114=\"\",\"\",IF('入力シート(地区別)'!$B114=\"男\",0,1))","v":""},{"$f":"IF('入力シート(地区別)'!$H114=\"\",\"\",'入力シート(地区別)'!C114)","v":""},{"$f":"IF('入力シート(地区別)'!$H114=\"\",\"\",TEXT('入力シート(地区別)'!$E114,\"000\"))","v":""},{"$f":"IF('入力シート(地区別)'!$H114=\"\",\"\",学校番号)","v":""},{"$f":"IF('入力シート(地区別)'!$H114=\"\",\"\",B197)","v":""},{"$f":"IF('入力シート(地区別)'!$H114=\"\",\"\",TEXT('入力シート(地区別)'!$H114,\"00\"))","v":""},{"$f":"IF('入力シート(地区別)'!$H114=\"\",\"\",IF('入力シート(地区別)'!$K114=\"\",\"\",'入力シート(地区別)'!$K114))","v":""},{"$nulls":4},{"$f":"IF('入力シート(地区別)'!$H114=\"\",\"\",IF('入力シート(地区別)'!$K115=\"\",\"\",'入力シート(地区別)'!$K115))","v":""},{"$nulls":12},{"$f":"IF('入力シート(地区別)'!$H114=\"\",\"\",IF('入力シート(地区別)'!$K116=\"\",\"\",'入力シート(地区別)'!$K116))","v":""},{"$nulls":12},{"$f":"IF('入力シート(地区別)'!$H114=\"\",\"\",IF('入力シート(地区別)'!$K117=\"\",\"\",'入力シート(地区別)'!$K117))","v":""},{"$nulls":12},{"$f":"IF('入力シート(地区別)'!$H114=\"\",\"\",IF('入力シート(地区別)'!$K118=\"\",\"\",'入力シート(地区別)'!$K118))","v":""}]
[{"$f":"IF('入力シート(地区別)'!$H119=\"\",\"\",\"4000001\")","v":""},{"$f":"IF('入力シート(地区別)'!$H119=\"\",\"\",IF('入力シート(地区別)'!$B119=\"男\",0,1))","v":""},{"$f":"IF('入力シート(地区別)'!$H119=\"\",\"\",'入力シート(地区別)'!C119)","v":""},{"$f":"IF('入力シート(地区別)'!$H119=\"\",\"\",TEXT('入力シート(地区別)'!$E119,\"000\"))","v":""},{"$f":"IF('入力シート(地区別)'!$H119=\"\",\"\",学校番号)","v":""},{"$f":"IF('入力シート(地区別)'!$H119=\"\",\"\",B198)","v":""},{"$f":"IF('入力シート(地区別)'!$H119=\"\",\"\",TEXT('入力シート(地区別)'!$H119,\"00\"))","v":""},{"$f":"IF('入力シート(地区別)'!$H119=\"\",\"\",IF('入力シート(地区別)'!$K119=\"\",\"\",'入力シート(地区別)'!$K119))","v":""},{"$nulls":4},{"$f":"IF('入力シート(地区別)'!$H119=\"\",\"\",IF('入力シート(地区別)'!$K120=\"\",\"\",'入力シート(地区別)'!$K120))","v":""},{"$nulls":12},{"$f":"IF('入力シート(地区別)'!$H119=\"\",\"\",IF('入力シート(地区別)'!$K121=\"\",\"\",'入力シート(地区別)'!$K121))","v":""},{"$nulls":12},{"$f":"IF('入力シート(地区別)'!$H119=\"\",\"\",IF('入力シート(地区別)'!$K122=\"\",\"\",'入力シート(地区別)'!$K122))","v":""},{"$nulls":12},{"$f":"IF('入力シート(地区別)'!$H119=\"\",\"\",IF('入力シート(地区別)'!$K123=\"\",\"\",'入力シート(地区別)'!$K123))","v":""}]
[{"$f":"IF('入力シート(地区別)'!$H124=\"\",\"\",\"4000001\")","v":""},{"$f":"IF('入力シート(地区別)'!$H124=\"\",\"\",IF('入力シート(地区別)'!$B124=\"男\",0,1))","v":""},{"$f":"IF('入力シート(地区別)'!$H124=\"\",\"\",'入力シート(地区別)'!C124)","v":""},{"$f":"IF('入力シート(地区別)'!$H124=\"\",\"\",TEXT('入力シート(地区別)'!$E124,\"000\"))","v":""},{"$f":"IF('入力シート(地区別)'!$H124=\"\",\"\",学校番号)","v":""},{"$f":"IF('入力シート(地区別)'!$H124=\"\",\"\",B199)","v":""},{"$f":"IF('入力シート(地区別)'!$H124=\"\",\"\",TEXT('入力シート(地区別)'!$H124,\"00\"))","v":""},{"$f":"IF('入力シート(地区別)'!$H124=\"\",\"\",IF('入力シート(地区別)'!$K124=\"\",\"\",'入力シート(地区別)'!$K124))","v":""},{"$nulls":4},{"$f":"IF('入力シート(地区別)'!$H124=\"\",\"\",IF('入力シート(地区別)'!$K125=\"\",\"\",'入力シート(地区別)'!$K125))","v":""},{"$nulls":12},{"$f":"IF('入力シート(地区別)'!$H124=\"\",\"\",IF('入力シート(地区別)'!$K126=\"\",\"\",'入力シート(地区別)'!$K126))","v":""},{"$nulls":12},{"$f":"IF('入力シート(地区別)'!$H124=\"\",\"\",IF('入力シート(地区別)'!$K127=\"\",\"\",'入力シート(地区別)'!$K127))","v":""},{"$nulls":12},{"$f":"IF('入力シート(地区別)'!$H124=\"\",\"\",IF('入力シート(地区別)'!$K128=\"\",\"\",'入力シート(地区別)'!$K128))","v":""}]
[{"$f":"IF('入力シート(地区別)'!$H129=\"\",\"\",\"4000001\")","v":""},{"$f":"IF('入力シート(地区別)'!$H129=\"\",\"\",IF('入力シート(地区別)'!$B129=\"男\",0,1))","v":""},{"$f":"IF('入力シート(地区別)'!$H129=\"\",\"\",'入力シート(地区別)'!C129)","v":""},{"$f":"IF('入力シート(地区別)'!$H129=\"\",\"\",TEXT('入力シート(地区別)'!$E129,\"000\"))","v":""},{"$f":"IF('入力シート(地区別)'!$H129=\"\",\"\",学校番号)","v":""},{"$f":"IF('入力シート(地区別)'!$H129=\"\",\"\",B200)","v":""},{"$f":"IF('入力シート(地区別)'!$H129=\"\",\"\",TEXT('入力シート(地区別)'!$H129,\"00\"))","v":""},{"$f":"IF('入力シート(地区別)'!$H129=\"\",\"\",IF('入力シート(地区別)'!$K129=\"\",\"\",'入力シート(地区別)'!$K129))","v":""},{"$nulls":4},{"$f":"IF('入力シート(地区別)'!$H129=\"\",\"\",IF('入力シート(地区別)'!$K130=\"\",\"\",'入力シート(地区別)'!$K130))","v":""},{"$nulls":12},{"$f":"IF('入力シート(地区別)'!$H129=\"\",\"\",IF('入力シート(地区別)'!$K131=\"\",\"\",'入力シート(地区別)'!$K131))","v":""},{"$nulls":12},{"$f":"IF('入力シート(地区別)'!$H129=\"\",\"\",IF('入力シート(地区別)'!$K132=\"\",\"\",'入力シート(地区別)'!$K132))","v":""},{"$nulls":12},{"$f":"IF('入力シート(地区別)'!$H129=\"\",\"\",IF('入力シート(地区別)'!$K133=\"\",\"\",'入力シート(地区別)'!$K133))","v":""}]
[{"$f":"IF('入力シート(地区別)'!$H224=\"\",\"\",\"4000001\")","v":""},{"$f":"IF('入力シート(地区別)'!$H224=\"\",\"\",IF('入力シート(地区別)'!$B224=\"男\",0,1))","v":""},{"$f":"IF('入力シート(地区別)'!$H224=\"\",\"\",'入力シート(地区別)'!C224)","v":""},{"$f":"IF('入力シート(地区別)'!$H224=\"\",\"\",TEXT('入力シート(地区別)'!$E224,\"000\"))","v":""},{"$f":"IF('入力シート(地区別)'!$H224=\"\",\"\",学校番号)","v":""},{"$f":"IF('入力シート(地区別)'!$H224=\"\",\"\",B201)","v":""},{"$f":"IF('入力シート(地区別)'!$H224=\"\",\"\",TEXT('入力シート(地区別)'!$H224,\"00\"))","v":""},{"$f":"IF('入力シート(地区別)'!$H224=\"\",\"\",IF('入力シート(地区別)'!$K224=\"\",\"\",'入力シート(地区別)'!$K224))","v":""},{"$nulls":4},{"$f":"IF('入力シート(地区別)'!$H224=\"\",\"\",IF('入力シート(地区別)'!$K225=\"\",\"\",'入力シート(地区別)'!$K225))","v":""},{"$nulls":12},{"$f":"IF('入力シート(地区別)'!$H224=\"\",\"\",IF('入力シート(地区別)'!$K226=\"\",\"\",'入力シート(地区別)'!$K226))","v":""},{"$nulls":12},{"$f":"IF('入力シート(地区別)'!$H224=\"\",\"\",IF('入力シート(地区別)'!$K227=\"\",\"\",'入力シート(地区別)'!$K227))","v":""},{"$nulls":12},{"$f":"IF('入力シート(地区別)'!$H224=\"\",\"\",IF('入力シート(地区別)'!$K228=\"\",\"\",'入力シート(地区別)'!$K228))","v":""}]
[{"$f":"IF('入力シート(地区別)'!$H229=\"\",\"\",\"4000001\")","v":""},{"$f":"IF('入力シート(地区別)'!$H229=\"\",\"\",IF('入力シート(地区別)'!$B229=\"男\",0,1))","v":""},{"$f":"IF('入力シート(地区別)'!$H229=\"\",\"\",'入力シート(地区別)'!C229)","v":""},{"$f":"IF('入力シート(地区別)'!$H229=\"\",\"\",TEXT('入力シート(地区別)'!$E229,\"000\"))","v":""},{"$f":"IF('入力シート(地区別)'!$H229=\"\",\"\",学校番号)","v":""},{"$f":"IF('入力シート(地区別)'!$H229=\"\",\"\",B202)","v":""},{"$f":"IF('入力シート(地区別)'!$H229=\"\",\"\",TEXT('入力シート(地区別)'!$H229,\"00\"))","v":""},{"$f":"IF('入力シート(地区別)'!$H229=\"\",\"\",IF('入力シート(地区別)'!$K229=\"\",\"\",'入力シート(地区別)'!$K229))","v":""},{"$nulls":4},{"$f":"IF('入力シート(地区別)'!$H229=\"\",\"\",IF('入力シート(地区別)'!$K230=\"\",\"\",'入力シート(地区別)'!$K230))","v":""},{"$nulls":12},{"$f":"IF('入力シート(地区別)'!$H229=\"\",\"\",IF('入力シート(地区別)'!$K231=\"\",\"\",'入力シート(地区別)'!$K231))","v":""},{"$nulls":12},{"$f":"IF('入力シート(地区別)'!$H229=\"\",\"\",IF('入力シート(地区別)'!$K232=\"\",\"\",'入力シート(地区別)'!$K232))","v":""},{"$nulls":12},{"$f":"IF('入力シート(地区別)'!$H229=\"\",\"\",IF('入力シート(地区別)'!$K233=\"\",\"\",'入力シート(地区別)'!$K233))","v":""}]
[{"$f":"IF('入力シート(地区別)'!$H234=\"\",\"\",\"4000001\")","v":""},{"$f":"IF('入力シート(地区別)'!$H234=\"\",\"\",IF('入力シート(地区別)'!$B234=\"男\",0,1))","v":""},{"$f":"IF('入力シート(地区別)'!$H234=\"\",\"\",'入力シート(地区別)'!C234)","v":""},{"$f":"IF('入力シート(地区別)'!$H234=\"\",\"\",TEXT('入力シート(地区別)'!$E234,\"000\"))","v":""},{"$f":"IF('入力シート(地区別)'!$H234=\"\",\"\",学校番号)","v":""},{"$f":"IF('入力シート(地区別)'!$H234=\"\",\"\",B203)","v":""},{"$f":"IF('入力シート(地区別)'!$H234=\"\",\"\",TEXT('入力シート(地区別)'!$H234,\"00\"))","v":""},{"$f":"IF('入力シート(地区別)'!$H234=\"\",\"\",IF('入力シート(地区別)'!$K234=\"\",\"\",'入力シート(地区別)'!$K234))","v":""},{"$nulls":4},{"$f":"IF('入力シート(地区別)'!$H234=\"\",\"\",IF('入力シート(地区別)'!$K235=\"\",\"\",'入力シート(地区別)'!$K235))","v":""},{"$nulls":12},{"$f":"IF('入力シート(地区別)'!$H234=\"\",\"\",IF('入力シート(地区別)'!$K236=\"\",\"\",'入力シート(地区別)'!$K236))","v":""},{"$nulls":12},{"$f":"IF('入力シート(地区別)'!$H234=\"\",\"\",IF('入力シート(地区別)'!$K237=\"\",\"\",'入力シート(地区別)'!$K237))","v":""},{"$nulls":12},{"$f":"IF('入力シート(地区別)'!$H234=\"\",\"\",IF('入力シート(地区別)'!$K238=\"\",\"\",'入力シート(地区別)'!$K238))","v":""}]
[{"$f":"IF('入力シート(地区別)'!$H239=\"\",\"\",\"4000001\")","v":""},{"$f":"IF('入力シート(地区別)'!$H239=\"\",\"\",IF('入力シート(地区別)'!$B239=\"男\",0,1))","v":""},{"$f":"IF('入力シート(地区別)'!$H239=\"\",\"\",'入力シート(地区別)'!C239)","v":""},{"$f":"IF('入力シート(地区別)'!$H239=\"\",\"\",TEXT('入力シート(地区別)'!$E239,\"000\"))","v":""},{"$f":"IF('入力シート(地区別)'!$H239=\"\",\"\",学校番号)","v":""},{"$f":"IF('入力シート(地区別)'!$H239=\"\",\"\",B204)","v":""},{"$f":"IF('入力シート(地区別)'!$H239=\"\",\"\",TEXT('入力シート(地区別)'!$H239,\"00\"))","v":""},{"$f":"IF('入力シート(地区別)'!$H239=\"\",\"\",IF('入力シート(地区別)'!$K239=\"\",\"\",'入力シート(地区別)'!$K239))","v":""},{"$nulls":4},{"$f":"IF('入力シート(地区別)'!$H239=\"\",\"\",IF('入力シート(地区別)'!$K240=\"\",\"\",'入力シート(地区別)'!$K240))","v":""},{"$nulls":12},{"$f":"IF('入力シート(地区別)'!$H239=\"\",\"\",IF('入力シート(地区別)'!$K241=\"\",\"\",'入力シート(地区別)'!$K241))","v":""},{"$nulls":12},{"$f":"IF('入力シート(地区別)'!$H239=\"\",\"\",IF('入力シート(地区別)'!$K242=\"\",\"\",'入力シート(地区別)'!$K242))","v":""},{"$nulls":12},{"$f":"IF('入力シート(地区別)'!$H239=\"\",\"\",IF('入力シート(地区別)'!$K243=\"\",\"\",'入力シート(地区別)'!$K243))","v":""}]
[{"$f":"IF('入力シート(地区別)'!$H244=\"\",\"\",\"4000001\")","v":""},{"$f":"IF('入力シート(地区別)'!$H244=\"\",\"\",IF('入力シート(地区別)'!$B244=\"男\",0,1))","v":""},{"$f":"IF('入力シート(地区別)'!$H244=\"\",\"\",'入力シート(地区別)'!C244)","v":""},{"$f":"IF('入力シート(地区別)'!$H244=\"\",\"\",TEXT('入力シート(地区別)'!$E244,\"000\"))","v":""},{"$f":"IF('入力シート(地区別)'!$H244=\"\",\"\",学校番号)","v":""},{"$f":"IF('入力シート(地区別)'!$H244=\"\",\"\",B205)","v":""},{"$f":"IF('入力シート(地区別)'!$H244=\"\",\"\",TEXT('入力シート(地区別)'!$H244,\"00\"))","v":""},{"$f":"IF('入力シート(地区別)'!$H244=\"\",\"\",IF('入力シート(地区別)'!$K244=\"\",\"\",'入力シート(地区別)'!$K244))","v":""},{"$nulls":4},{"$f":"IF('入力シート(地区別)'!$H244=\"\",\"\",IF('入力シート(地区別)'!$K245=\"\",\"\",'入力シート(地区別)'!$K245))","v":""},{"$nulls":12},{"$f":"IF('入力シート(地区別)'!$H244=\"\",\"\",IF('入力シート(地区別)'!$K246=\"\",\"\",'入力シート(地区別)'!$K246))","v":""},{"$nulls":12},{"$f":"IF('入力シート(地区別)'!$H244=\"\",\"\",IF('入力シート(地区別)'!$K247=\"\",\"\",'入力シート(地区別)'!$K247))","v":""},{"$nulls":12},{"$f":"IF('入力シート(地区別)'!$H244=\"\",\"\",IF('入力シート(地区別)'!$K248=\"\",\"\",'入力シート(地区別)'!$K248))","v":""}]
[{"$f":"IF('入力シート(地区別)'!$H249=\"\",\"\",\"4000001\")","v":""},{"$f":"IF('入力シート(地区別)'!$H249=\"\",\"\",IF('入力シート(地区別)'!$B249=\"男\",0,1))","v":""},{"$f":"IF('入力シート(地区別)'!$H249=\"\",\"\",'入力シート(地区別)'!C249)","v":""},{"$f":"IF('入力シート(地区別)'!$H249=\"\",\"\",TEXT('入力シート(地区別)'!$E249,\"000\"))","v":""},{"$f":"IF('入力シート(地区別)'!$H249=\"\",\"\",学校番号)","v":""},{"$f":"IF('入力シート(地区別)'!$H249=\"\",\"\",B206)","v":""},{"$f":"IF('入力シート(地区別)'!$H249=\"\",\"\",TEXT('入力シート(地区別)'!$H249,\"00\"))","v":""},{"$f":"IF('入力シート(地区別)'!$H249=\"\",\"\",IF('入力シート(地区別)'!$K249=\"\",\"\",'入力シート(地区別)'!$K249))","v":""},{"$nulls":4},{"$f":"IF('入力シート(地区別)'!$H249=\"\",\"\",IF('入力シート(地区別)'!$K250=\"\",\"\",'入力シート(地区別)'!$K250))","v":""},{"$nulls":12},{"$f":"IF('入力シート(地区別)'!$H249=\"\",\"\",IF('入力シート(地区別)'!$K251=\"\",\"\",'入力シート(地区別)'!$K251))","v":""},{"$nulls":12},{"$f":"IF('入力シート(地区別)'!$H249=\"\",\"\",IF('入力シート(地区別)'!$K252=\"\",\"\",'入力シート(地区別)'!$K252))","v":""},{"$nulls":12},{"$f":"IF('入力シート(地区別)'!$H249=\"\",\"\",IF('入力シート(地区別)'!$K253=\"\",\"\",'入力シート(地区別)'!$K253))","v":""}]
[{"$f":"IF('入力シート(地区別)'!$H254=\"\",\"\",\"4000001\")","v":""},{"$f":"IF('入力シート(地区別)'!$H254=\"\",\"\",IF('入力シート(地区別)'!$B254=\"男\",0,1))","v":""},{"$f":"IF('入力シート(地区別)'!$H254=\"\",\"\",'入力シート(地区別)'!C254)","v":""},{"$f":"IF('入力シート(地区別)'!$H254=\"\",\"\",TEXT('入力シート(地区別)'!$E254,\"000\"))","v":""},{"$f":"IF('入力シート(地区別)'!$H254=\"\",\"\",学校番号)","v":""},{"$f":"IF('入力シート(地区別)'!$H254=\"\",\"\",B207)","v":""},{"$f":"IF('入力シート(地区別)'!$H254=\"\",\"\",TEXT('入力シート(地区別)'!$H254,\"00\"))","v":""},{"$f":"IF('入力シート(地区別)'!$H254=\"\",\"\",IF('入力シート(地区別)'!$K254=\"\",\"\",'入力シート(地区別)'!$K254))","v":""},{"$nulls":4},{"$f":"IF('入力シート(地区別)'!$H254=\"\",\"\",IF('入力シート(地区別)'!$K255=\"\",\"\",'入力シート(地区別)'!$K255))","v":""},{"$nulls":12},{"$f":"IF('入力シート(地区別)'!$H254=\"\",\"\",IF('入力シート(地区別)'!$K256=\"\",\"\",'入力シート(地区別)'!$K256))","v":""},{"$nulls":12},{"$f":"IF('入力シート(地区別)'!$H254=\"\",\"\",IF('入力シート(地区別)'!$K257=\"\",\"\",'入力シート(地区別)'!$K257))","v":""},{"$nulls":12},{"$f":"IF('入力シート(地区別)'!$H254=\"\",\"\",IF('入力シート(地区別)'!$K258=\"\",\"\",'入力シート(地区別)'!$K258))","v":""}]
[]
[]
[]
[{"$f":"IF('入力シート(地区別)'!$H255=\"\",\"\",\"4000001\")","v":""},{"$f":"IF('入力シート(地区別)'!$H255=\"\",\"\",IF('入力シート(地区別)'!$B255=\"男\",0,1))","v":""},{"$f":"IF('入力シート(地区別)'!$H255=\"\",\"\",'入力シート(地区別)'!C255)","v":""},{"$f":"IF('入力シート(地区別)'!$H255=\"\",\"\",TEXT('入力シート(地区別)'!$E255,\"000\"))","v":""},{"$f":"IF('入力シート(地区別)'!$H255=\"\",\"\",学校番号)","v":""},{"$f":"IF('入力シート(地区別)'!$H255=\"\",\"\",B211)","v":""},{"$f":"IF('入力シート(地区別)'!$H255=\"\",\"\",TEXT('入力シート(地区別)'!$H255,\"00\"))","v":""},{"$f":"IF('入力シート(地区別)'!$H255=\"\",\"\",IF('入力シート(地区別)'!$K255=\"\",\"\",'入力シート(地区別)'!$K255))","v":""},{"$nulls":4},{"$f":"IF('入力シート(地区別)'!$H255=\"\",\"\",IF('入力シート(地区別)'!$K256=\"\",\"\",'入力シート(地区別)'!$K256))","v":""},{"$nulls":12},{"$f":"IF('入力シート(地区別)'!$H255=\"\",\"\",IF('入力シート(地区別)'!$K257=\"\",\"\",'入力シート(地区別)'!$K257))","v":""},{"$nulls":12},{"$f":"IF('入力シート(地区別)'!$H255=\"\",\"\",IF('入力シート(地区別)'!$K258=\"\",\"\",'入力シート(地区別)'!$K258))","v":""},{"$nulls":12},{"$f":"IF('入力シート(地区別)'!$H255=\"\",\"\",IF('入力シート(地区別)'!#REF!=\"\",\"\",'入力シート(地区別)'!#REF!))","v":""}]
{"$rows_empty":32}
["大会コード","性別","学年","競技種目コード","組","レーン","学校コード","エントリ記録","当日記録","順位","条件項目","選手コード１","出場区分１","選手コード２","出場区分２","選手コード３","出場区分３","選手コード４","出場区分４","選手コード５","出場区分５","選手コード６","出場区分６","計測区分","未記録区分","大会順位"]
[{"$f":"IF('入力シート(地区別)'!$H134=\"\",\"\",\"4000001\")","v":""},{"$f":"IF('入力シート(地区別)'!$H134=\"\",\"\",IF('入力シート(地区別)'!$B20=\"男\",0,1))","v":""},{"$f":"IF('入力シート(地区別)'!$H134=\"\",\"\",'入力シート(地区別)'!C134)","v":""},{"$f":"IF('入力シート(地区別)'!$H134=\"\",\"\",TEXT('入力シート(地区別)'!$E134,\"000\"))","v":""},null,null,{"$f":"IF('入力シート(地区別)'!$H134=\"\",\"\",学校番号)","v":""},{"$f":"IF('入力シート(地区別)'!$H134=\"\",\"\",'入力シート(地区別)'!$K134)","v":""},{"$nulls":3},{"$f":"IF('入力シート(地区別)'!$H134=\"\",\"\",TEXT('入力シート(地区別)'!$H134,\"00\"))","v":""},null,{"$f":"IF('入力シート(地区別)'!$H135=\"\",\"\",TEXT('入力シート(地区別)'!$H135,\"00\"))","v":""},null,{"$f":"IF('入力シート(地区別)'!$H136=\"\",\"\",TEXT('入力シート(地区別)'!$H136,\"00\"))","v":""},null,{"$f":"IF('入力シート(地区別)'!$H137=\"\",\"\",TEXT('入力シート(地区別)'!$H137,\"00\"))","v":""},null,{"$f":"IF('入力シート(地区別)'!$H138=\"\",\"\",TEXT('入力シート(地区別)'!$H138,\"00\"))","v":""},null,{"$f":"IF('入力シート(地区別)'!$H139=\"\",\"\",TEXT('入力シート(地区別)'!$H139,\"00\"))","v":""}]
[{"$f":"IF('入力シート(地区別)'!$H259=\"\",\"\",\"4000001\")","v":""},{"$f":"IF('入力シート(地区別)'!$H259=\"\",\"\",IF('入力シート(地区別)'!$B259=\"男\",0,1))","v":""},{"$f":"IF('入力シート(地区別)'!$H259=\"\",\"\",'入力シート(地区別)'!C259)","v":""},{"$f":"IF('入力シート(地区別)'!$H259=\"\",\"\",TEXT('入力シート(地区別)'!$E259,\"000\"))","v":""},null,null,{"$f":"IF('入力シート(地区別)'!$H259=\"\",\"\",学校番号)","v":""},{"$f":"IF('入力シート(地区別)'!$H259=\"\",\"\",'入力シート(地区別)'!$K259)","v":""},{"$nulls":3},{"$f":"IF('入力シート(地区別)'!$H259=\"\",\"\",TEXT('入力シート(地区別)'!$H259,\"00\"))","v":""},null,{"$f":"IF('入力シート(地区別)'!$H260=\"\",\"\",TEXT('入力シート(地区別)'!$H260,\"00\"))","v":""},null,{"$f":"IF('入力シート(地区別)'!$H261=\"\",\"\",TEXT('入力シート(地区別)'!$H261,\"00\"))","v":""},null,{"$f":"IF('入力シート(地区別)'!$H262=\"\",\"\",TEXT('入力シート(地区別)'!$H262,\"00\"))","v":""},null,{"$f":"IF('入力シート(地区別)'!$H263=\"\",\"\",TEXT('入力シート(地区別)'!$H263,\"00\"))","v":""},null,{"$f":"IF('入力シート(地区別)'!$H264=\"\",\"\",TEXT('入力シート(地区別)'!$H264,\"00\"))","v":""}]

{"sheet":"地区別(男)","index":18,"n_rows":123,"n_cols":38,"rows_kept":123,"hidden":true,"merged":[[1,1,1,36],[2,1,2,36],[5,1,5,6],[5,8,5,12],[5,15,5,19],[5,22,5,26],[5,29,5,36],[6,1,117,1],[6,2,22,2],[6,3,10,3],[6,4,10,6],[6,7,7,7],[6,8,6,12],[6,13,7,13],[6,14,7,14],[6,15,6,19],[6,20,7,20],[6,21,7,21],[6,22,6,26],[6,27,7,27],[6,28,7,28],[6,29,7,36],[6,37,7,37],[7,8,7,12],[7,15,7,19],[7,22,7,26],[9,7,10,7],[9,8,9,12],[9,13,10,13],[9,14,10,14],[9,15,9,19],[9,20,10,20],[9,21,10,21],[9,22,9,26],[9,27,10,27],[9,29,9,36],[10,8,10,12],[10,15,10,19],[10,22,10,26],[10,28,12,28],[10,29,12,36],[10,37,12,37],[12,3,16,3],[12,4,16,6],[12,7,13,7],[12,8,12,12],[12,13,13,13],[12,14,13,14],[12,15,12,19],[12,20,13,20],[12,21,13,21],[12,22,12,26],[12,27,13,27],[13,8,13,12],[13,15,13,19],[13,22,13,26],[15,7,16,7],[15,8,15,12],[15,13,16,13],[15,14,16,14],[15,15,15,19],[15,20,16,20],[15,21,16,21],[15,22,15,26],[15,27,16,27],[15,29,18,29],[15,30,16,36],[16,8,16,12],[16,15,16,19],[16,22,16,26],[18,3,22,3],[18,4,22,6],[18,7,19,7],[18,8,18,12],[18,13,19,13],[18,14,19,14],[18,15,18,19],[18,20,19,20],[18,21,19,21],[18,22,18,26],[18,27,19,27],[18,33,18,36],[19,8,19,12],[19,15,19,19],[19,22,19,26],[21,7,22,7],[21,8,21,12],[21,13,22,13],[21,14,22,14],[21,15,21,19],[21,20,22,20],[21,21,22,21],[21,22,21,26],[21,27,22,27],[21,29,30,29],[21,31,21,36],[22,8,22,12],[22,15,22,19],[22,22,22,26],[22,30,30,36],[24,2,34,2],[24,3,28,3],[24,4,28,6],[24,7,25,7],[24,8,24,12],[24,13,25,13],[24,14,25,14],[24,15,24,19],[24,20,25,20],[24,21,25,21],[24,22,24,26],[24,27,25,27],[25,8,25,12],[25,15,25,19],[25,22,25,26],[27,7,28,7],[27,8,27,12],[27,13,28,13],[27,14,28,14],[27,15,27,19],[27,20,28,20],[27,21,28,21],[27,22,27,26],[27,27,28,27],[28,8,28,12],[28,15,28,19],[28,22,28,26],[30,3,34,3],[30,4,34,6],[30,7,31,7],[30,8,30,12],[30,13,31,13],[30,14,31,14],[30,15,30,19],[30,20,31,20],[30,21,31,21],[30,22,30,26],[30,27,31,27],[31,8,31,12],[31,15,31,19],[31,22,31,26],[33,7,34,7],[33,8,33,12],[33,13,34,13],[33,14,34,14],[33,15,33,19],[33,20,34,20],[33,21,34,21],[33,22,33,26],[33,27,34,27],[33,29,33,36],[34,8,34,12],[34,15,34,19],[34,22,34,26],[34,29,37,29],[34,30,37,35],[36,2,46,2],[36,3,40,3],[36,4,40,6],[36,7,37,7],[36,8,36,12],[36,13,37,13],[36,14,37,14],[36,15,36,19],[36,20,37,20],[36,21,37,21],[36,22,36,26],[36,27,37,27],[37,8,37,12],[37,15,37,19],[37,22,37,26],[39,7,40,7],[39,8,39,12],[39,13,40,13],[39,14,40,14],[39,15,39,19],[39,20,40,20],[39,21,40,21],[39,22,39,26],[39,27,40,27],[39,28,40,28],[39,29,40,29],[39,30,40,36],[40,8,40,12],[40,15,40,19],[40,22,40,26],[42,3,46,3],[42,4,46,6],[42,7,43,7],[42,8,42,12],[42,13,43,13],[42,14,43,14],[42,15,42,19],[42,20,43,20],[42,21,43,21],[42,22,42,26],[42,27,43,27],[43,8,43,12],[43,15,43,19],[43,22,43,26],[43,29,54,29],[43,30,45,36],[45,7,46,7],[45,8,45,12],[45,13,46,13],[45,14,46,14],[45,15,45,19],[45,20,46,20],[45,21,46,21],[45,22,45,26],[45,27,46,27],[46,8,46,12],[46,15,46,19],[46,22,46,26],[46,30,48,36],[48,2,112,2],[48,3,52,3],[48,4,52,6],[48,7,49,7],[48,8,48,12],[48,13,49,13],[48,14,49,14],[48,15,48,19],[48,20,49,20],[48,21,49,21],[48,22,48,26],[48,27,49,27],[49,8,49,12],[49,15,49,19],[49,22,49,26],[49,30,51,36],[51,7,52,7],[51,8,51,12],[51,13,52,13],[51,14,52,14],[51,15,51,19],[51,20,52,20],[51,21,52,21],[51,22,51,26],[51,27,52,27],[52,8,52,12],[52,15,52,19],[52,22,52,26],[52,30,54,36],[54,3,58,3],[54,4,58,6],[54,7,55,7],[54,8,54,12],[54,13,55,13],[54,14,55,14],[54,15,54,19],[54,20,55,20],[54,21,55,21],[54,22,54,26],[54,27,55,27],[55,8,55,12],[55,15,55,19],[55,22,55,26],[57,7,58,7],[57,8,57,12],[57,13,58,13],[57,14,58,14],[57,15,57,19],[57,20,58,20],[57,21,58,21],[57,22,57,26],[57,27,58,27],[58,8,58,12],[58,15,58,19],[58,22,58,26],[60,3,64,3],[60,4,64,6],[60,7,61,7],[60,8,60,12],[60,13,61,13],[60,14,61,14],[60,15,60,19],[60,20,61,20],[60,21,61,21],[60,22,60,26],[60,27,61,27],[61,8,61,12],[61,15,61,19],[61,22,61,26],[61,29,61,36],[63,7,64,7],[63,8,63,12],[63,13,64,13],[63,14,64,14],[63,15,63,19],[63,20,64,20],[63,21,64,21],[63,22,63,26],[63,27,64,27],[63,30,63,31],[63,32,63,33],[63,34,63,36],[64,8,64,12],[64,15,64,19],[64,22,64,26],[64,29,66,29],[64,30,66,31],[64,32,66,33],[64,34,66,36],[66,3,70,3],[66,4,70,6],[66,7,67,7],[66,8,66,12],[66,13,67,13],[66,14,67,14],[66,15,66,19],[66,20,67,20],[66,21,67,21],[66,22,66,26],[66,27,67,27],[66,28,67,28],[67,8,67,12],[67,15,67,19],[67,22,67,26],[67,29,69,29],[67,30,69,31],[67,32,69,33],[67,34,69,36],[69,7,70,7],[69,8,69,12],[69,13,70,13],[69,14,70,14],[69,15,69,19],[69,20,70,20],[69,21,70,21],[69,22,69,26],[69,27,70,27],[70,8,70,12],[70,15,70,19],[70,22,70,26],[70,29,72,29],[70,30,72,31],[70,32,72,33],[70,34,72,36],[72,3,76,3],[72,4,76,6],[72,7,73,7],[72,8,72,12],[72,13,73,13],[72,14,73,14],[72,15,72,19],[72,20,73,20],[72,21,73,21],[72,22,72,26],[72,27,73,27],[73,8,73,12],[73,15,73,19],[73,22,73,26],[73,29,75,29],[73,30,75,31],[73,32,75,33],[73,34,75,36],[75,7,76,7],[75,8,75,12],[75,13,76,13],[75,14,76,14],[75,15,75,19],[75,20,76,20],[75,21,76,21],[75,22,75,26],[75,27,76,27],[76,8,76,12],[76,15,76,19],[76,22,76,26],[78,3,82,3],[78,4,82,6],[78,7,79,7],[78,8,78,12],[78,13,79,13],[78,14,79,14],[78,15,78,19],[78,20,79,20],[78,21,79,21],[78,22,78,26],[78,27,79,27],[78,29,79,32],[78,33,79,36],[79,8,79,12],[79,15,79,19],[79,22,79,26],[81,7,82,7],[81,8,81,12],[81,13,82,13],[81,14,82,14],[81,15,81,19],[81,20,82,20],[81,21,82,21],[81,22,81,26],[81,27,82,27],[81,29,82,32],[81,33,82,36],[82,8,82,12],[82,15,82,19],[82,22,82,26],[84,3,88,3],[84,4,88,6],[84,7,85,7],[84,8,84,12],[84,13,85,13],[84,14,85,14],[84,15,84,19],[84,20,85,20],[84,21,85,21],[84,22,84,26],[84,27,85,27],[85,8,85,12],[85,15,85,19],[85,22,85,26],[87,7,88,7],[87,8,87,12],[87,13,88,13],[87,14,88,14],[87,15,87,19],[87,20,88,20],[87,21,88,21],[87,22,87,26],[87,27,88,27],[88,8,88,12],[88,15,88,19],[88,22,88,26],[90,3,94,3],[90,4,94,6],[90,7,91,7],[90,8,90,12],[90,13,91,13],[90,14,91,14],[90,15,90,19],[90,20,91,20],[90,21,91,21],[90,22,90,26],[90,27,91,27],[91,8,91,12],[91,15,91,19],[91,22,91,26],[93,7,94,7],[93,8,93,12],[93,13,94,13],[93,14,94,14],[93,15,93,19],[93,20,94,20],[93,21,94,21],[93,22,93,26],[93,27,94,27],[93,29,94,30],[93,31,94,34],[93,35,94,36],[94,8,94,12],[94,15,94,19],[94,22,94,26],[96,3,100,3],[96,4,100,6],[96,7,97,7],[96,8,96,12],[96,13,97,13],[96,14,97,14],[96,15,96,19],[96,20,97,20],[96,21,97,21],[96,22,96,26],[96,27,97,27],[96,29,97,30],[96,31,97,32],[96,33,97,33],[96,34,97,35],[96,36,97,36],[97,8,97,12],[97,15,97,19],[97,22,97,26],[99,7,100,7],[99,8,99,12],[99,13,100,13],[99,14,100,14],[99,15,99,19],[99,20,100,20],[99,21,100,21],[99,22,99,26],[99,27,100,27],[99,29,100,36],[100,8,100,12],[100,15,100,19],[100,22,100,26],[102,3,106,3],[102,4,106,6],[102,7,103,7],[102,8,102,12],[102,13,103,13],[102,14,103,14],[102,15,102,19],[102,20,103,20],[102,21,103,21],[102,22,102,26],[102,27,103,27],[103,8,103,12],[103,15,103,19],[103,22,103,26],[105,7,106,7],[105,8,105,12],[105,13,106,13],[105,14,106,14],[105,15,105,19],[105,20,106,20],[105,21,106,21],[105,22,105,26],[105,27,106,27],[106,8,106,12],[106,15,106,19],[106,22,106,26],[108,3,112,3],[108,4,112,6],[108,7,109,7],[108,8,108,12],[108,13,109,13],[108,14,109,14],[108,15,108,19],[108,20,109,20],[108,21,109,21],[108,22,108,26],[108,27,109,27],[109,8,109,12],[109,15,109,19],[109,22,109,26],[111,7,112,7],[111,8,111,12],[111,13,112,13],[111,14,112,14],[111,15,111,19],[111,20,112,20],[111,21,112,21],[111,22,111,26],[111,27,112,27],[112,8,112,12],[112,15,112,19],[112,22,112,26],[114,2,117,2],[114,3,117,3],[114,4,115,6],[114,7,115,7],[114,8,115,12],[114,13,115,13],[114,14,115,14],[114,15,115,19],[114,20,115,20],[114,21,115,21],[114,22,115,26],[114,27,115,27],[116,4,117,6],[116,7,117,7],[116,8,117,12],[116,13,117,13],[116,14,117,14],[116,15,117,19],[116,20,117,20],[116,21,117,21],[116,22,117,26],[116,27,117,27],[120,1,120,36],[122,7,122,8],[122,10,122,11],[122,14,122,20],[122,25,122,27],[122,28,122,33]]}
[]
[null,{"$f":"DBCS(TEXT(TODAY(),\"ggge\")) & \"年度  第２回兵庫県中学校陸上競技記録会（地区別）\"","v":"平成２８年度  第２回兵庫県中学校陸上競技記録会（地区別）"}]
[null,"参加選手申込一覧表　（Ａ）（男子）"]
[null,"１日目実施　●"]
[]
[null,"種目",{"$nulls":5},"個人\n番号","氏名",{"$nulls":4},"学年","個人\n番号","氏名",{"$nulls":4},"学年","個人\n番号","氏名",{"$nulls":4},"学年",null,"学校番号"]
[null,"男子","１年生",null,"１００ｍ",null,null,{"$f":"IF('入力シート(地区別)'!$H2=\"\",\"\",'入力シート(地区別)'!$H2)","v":""},{"$f":"IF($H7=\"\",\"\",IF('入力シート(地区別)'!$I2=\"\",\"\",'入力シート(地区別)'!$I2))","v":""},{"$nulls":4},{"$f":"IF($H7=\"\",\"\",IF('入力シート(地区別)'!$J2=\"\",\"\",'入力シート(地区別)'!$J2))","v":""},{"$f":"IF('入力シート(地区別)'!$H3=\"\",\"\",'入力シート(地区別)'!$H3)","v":""},{"$f":"IF($O7=\"\",\"\",IF('入力シート(地区別)'!$I3=\"\",\"\",'入力シート(地区別)'!$I3))","v":""},{"$nulls":4},{"$f":"IF('入力シート(地区別)'!$J3=\"\",\"\",'入力シート(地区別)'!$J3)","v":""},{"$f":"IF('入力シート(地区別)'!$H4=\"\",\"\",'入力シート(地区別)'!$H4)","v":""},{"$f":"IF($V7=\"\",\"\",IF('入力シート(地区別)'!$I4=\"\",\"\",'入力シート(地区別)'!$I4))","v":""},{"$nulls":4},{"$f":"IF($V7=\"\",\"\",IF('入力シート(地区別)'!$H4=\"\",\"\",'入力シート(地区別)'!$J4))","v":""},"(",{"$f":"DBCS(学校番号)","v":""},{"$nulls":7},")"]
[{"$nulls":8},{"$f":"IF($H7=\"\",\"\",IF('入力シート(地区別)'!$K2=\"\",\"\",format_kiroku('入力シート(地区別)'!$K2,$E7)))","v":""},{"$nulls":6},{"$f":"IF($O7=\"\",\"\",IF('入力シート(地区別)'!$K3=\"\",\"\",format_kiroku('入力シート(地区別)'!$K3,$E7)))","v":""},{"$nulls":6},{"$f":"IF($V7=\"\",\"\",IF('入力シート(地区別)'!$K4=\"\",\"\",format_kiroku('入力シート(地区別)'!$K4,$E7)))","v":""}]
[]
[{"$nulls":7},{"$f":"IF('入力シート(地区別)'!$H5=\"\",\"\",'入力シート(地区別)'!$H5)","v":""},{"$f":"IF($H10=\"\",\"\",IF('入力シート(地区別)'!$I5=\"\",\"\",'入力シート(地区別)'!$I5))","v":""},{"$nulls":4},{"$f":"IF($H10=\"\",\"\",IF('入力シート(地区別)'!$J5=\"\",\"\",'入力シート(地区別)'!$J5))","v":""},{"$f":"IF('入力シート(地区別)'!$H6=\"\",\"\",'入力シート(地区別)'!$H6)","v":""},{"$f":"IF($O10=\"\",\"\",IF('入力シート(地区別)'!$I6=\"\",\"\",'入力シート(地区別)'!$I6))","v":""},{"$nulls":4},{"$f":"IF('入力シート(地区別)'!$J6=\"\",\"\",'入力シート(地区別)'!$J6)","v":""},{"$f":"IF('入力シート(地区別)'!$H7=\"\",\"\",'入力シート(地区別)'!$H7)","v":""},{"$f":"IF($V10=\"\",\"\",IF('入力シート(地区別)'!$I7=\"\",\"\",'入力シート(地区別)'!$I7))","v":""},{"$nulls":4},{"$f":"IF($V10=\"\",\"\",IF('入力シート(地区別)'!$H7=\"\",\"\",'入力シート(地区別)'!$J7))","v":""},null,"学校名"]
[{"$nulls":8},{"$f":"IF($H10=\"\",\"\",IF('入力シート(地区別)'!$K5=\"\",\"\",format_kiroku('入力シート(地区別)'!$K5,$E7)))","v":""},{"$nulls":6},{"$f":"IF($O10=\"\",\"\",IF('入力シート(地区別)'!$K6=\"\",\"\",format_kiroku('入力シート(地区別)'!$K6,$E7)))","v":""},{"$nulls":6},{"$f":"IF($V10=\"\",\"\",IF('入力シート(地区別)'!$K7=\"\",\"\",format_kiroku('入力シート(地区別)'!$K7,$E7)))","v":""},{"$nulls":5},"(",{"$f":"学校名&\"　中学校\"","v":"　中学校"},{"$nulls":7},")"]
[]
[{"$nulls":3},"●","１５００ｍ",null,null,{"$f":"IF('入力シート(地区別)'!$H8=\"\",\"\",'入力シート(地区別)'!$H8)","v":""},{"$f":"IF($H13=\"\",\"\",IF('入力シート(地区別)'!$I8=\"\",\"\",'入力シート(地区別)'!$I8))","v":""},{"$nulls":4},{"$f":"IF($H13=\"\",\"\",IF('入力シート(地区別)'!$J8=\"\",\"\",'入力シート(地区別)'!$J8))","v":""},{"$f":"IF('入力シート(地区別)'!$H9=\"\",\"\",'入力シート(地区別)'!$H9)","v":""},{"$f":"IF($O13=\"\",\"\",IF('入力シート(地区別)'!$I9=\"\",\"\",'入力シート(地区別)'!$I9))","v":""},{"$nulls":4},{"$f":"IF('入力シート(地区別)'!$J9=\"\",\"\",'入力シート(地区別)'!$J9)","v":""},{"$f":"IF('入力シート(地区別)'!$H10=\"\",\"\",'入力シート(地区別)'!$H10)","v":""},{"$f":"IF($V13=\"\",\"\",IF('入力シート(地区別)'!$I10=\"\",\"\",'入力シート(地区別)'!$I10))","v":""},{"$nulls":4},{"$f":"IF($V13=\"\",\"\",IF('入力シート(地区別)'!$H10=\"\",\"\",'入力シート(地区別)'!$J10))","v":""}]
[{"$nulls":8},{"$f":"IF($H13=\"\",\"\",IF('入力シート(地区別)'!$K8=\"\",\"\",format_kiroku('入力シート(地区別)'!$K8,$E13)))","v":""},{"$nulls":6},{"$f":"IF($O13=\"\",\"\",IF('入力シート(地区別)'!$K9=\"\",\"\",format_kiroku('入力シート(地区別)'!$K9,$E13)))","v":""},{"$nulls":6},{"$f":"IF($V13=\"\",\"\",IF('入力シート(地区別)'!$K10=\"\",\"\",format_kiroku('入力シート(地区別)'!$K10,$E13)))","v":""}]
[]
[{"$nulls":7},{"$f":"IF('入力シート(地区別)'!$H11=\"\",\"\",'入力シート(地区別)'!$H11)","v":""},{"$f":"IF($H16=\"\",\"\",IF('入力シート(地区別)'!$I11=\"\",\"\",'入力シート(地区別)'!$I11))","v":""},{"$nulls":4},{"$f":"IF($H16=\"\",\"\",IF('入力シート(地区別)'!$J11=\"\",\"\",'入力シート(地区別)'!$J11))","v":""},{"$f":"IF('入力シート(地区別)'!$H12=\"\",\"\",'入力シート(地区別)'!$H12)","v":""},{"$f":"IF($O16=\"\",\"\",IF('入力シート(地区別)'!$I12=\"\",\"\",'入力シート(地区別)'!$I12))","v":""},{"$nulls":4},{"$f":"IF('入力シート(地区別)'!$J12=\"\",\"\",'入力シート(地区別)'!$J12)","v":""},{"$f":"IF('入力シート(地区別)'!$H13=\"\",\"\",'入力シート(地区別)'!$H13)","v":""},{"$f":"IF($V16=\"\",\"\",IF('入力シート(地区別)'!$I13=\"\",\"\",'入力シート(地区別)'!$I13))","v":""},{"$nulls":4},{"$f":"IF($V16=\"\",\"\",IF('入力シート(地区別)'!$H13=\"\",\"\",'入力シート(地区別)'!$J13))","v":""},null,"学校名",{"$f":"学校名","v":0}]
[{"$nulls":8},{"$f":"IF($H16=\"\",\"\",IF('入力シート(地区別)'!$K11=\"\",\"\",format_kiroku('入力シート(地区別)'!$K11,$E13)))","v":""},{"$nulls":6},{"$f":"IF($O16=\"\",\"\",IF('入力シート(地区別)'!$K12=\"\",\"\",format_kiroku('入力シート(地区別)'!$K12,$E13)))","v":""},{"$nulls":6},{"$f":"IF($V16=\"\",\"\",IF('入力シート(地区別)'!$K13=\"\",\"\",format_kiroku('入力シート(地区別)'!$K13,$E13)))","v":""}]
[]
[{"$nulls":4},"走幅跳",null,null,{"$f":"IF('入力シート(地区別)'!$H68=\"\",\"\",'入力シート(地区別)'!$H68)","v":""},{"$f":"IF($H19=\"\",\"\",IF('入力シート(地区別)'!$I68=\"\",\"\",'入力シート(地区別)'!$I68))","v":""},{"$nulls":4},{"$f":"IF($H19=\"\",\"\",IF('入力シート(地区別)'!$J68=\"\",\"\",'入力シート(地区別)'!$J68))","v":""},{"$f":"IF('入力シート(地区別)'!$H69=\"\",\"\",'入力シート(地区別)'!$H69)","v":""},{"$f":"IF($O19=\"\",\"\",IF('入力シート(地区別)'!$I69=\"\",\"\",'入力シート(地区別)'!$I69))","v":""},{"$nulls":4},{"$f":"IF($O19=\"\",\"\",IF('入力シート(地区別)'!$H69=\"\",\"\",'入力シート(地区別)'!$J69))","v":""},{"$f":"IF('入力シート(地区別)'!$H70=\"\",\"\",'入力シート(地区別)'!$H70)","v":""},{"$f":"IF($V19=\"\",\"\",IF('入力シート(地区別)'!$I70=\"\",\"\",'入力シート(地区別)'!$I70))","v":""},{"$nulls":4},{"$f":"IF($V19=\"\",\"\",IF('入力シート(地区別)'!$H70=\"\",\"\",'入力シート(地区別)'!$J70))","v":""},{"$nulls":5},"中学校"]
[{"$nulls":8},{"$f":"IF($H19=\"\",\"\",IF('入力シート(地区別)'!$K68=\"\",\"\",format_kiroku('入力シート(地区別)'!$K68,$E19)))","v":""},{"$nulls":6},{"$f":"IF($O19=\"\",\"\",IF('入力シート(地区別)'!$K69=\"\",\"\",format_kiroku('入力シート(地区別)'!$K69,$E19)))","v":""},{"$nulls":6},{"$f":"IF($V19=\"\",\"\",IF('入力シート(地区別)'!$K70=\"\",\"\",format_kiroku('入力シート(地区別)'!$K70,$E19)))","v":""}]
[]
[{"$nulls":7},{"$f":"IF('入力シート(地区別)'!$H71=\"\",\"\",'入力シート(地区別)'!$H71)","v":""},{"$f":"IF($H22=\"\",\"\",IF('入力シート(地区別)'!$I71=\"\",\"\",'入力シート(地区別)'!$I71))","v":""},{"$nulls":4},{"$f":"IF($H22=\"\",\"\",IF('入力シート(地区別)'!$J71=\"\",\"\",'入力シート(地区別)'!$J71))","v":""},{"$f":"IF('入力シート(地区別)'!$H72=\"\",\"\",'入力シート(地区別)'!$H72)","v":""},{"$f":"IF($O22=\"\",\"\",IF('入力シート(地区別)'!$I72=\"\",\"\",'入力シート(地区別)'!$I72))","v":""},{"$nulls":4},{"$f":"IF('入力シート(地区別)'!$J72=\"\",\"\",'入力シート(地区別)'!$J72)","v":""},{"$f":"IF('入力シート(地区別)'!$H73=\"\",\"\",'入力シート(地区別)'!$H73)","v":""},{"$f":"IF($V22=\"\",\"\",IF('入力シート(地区別)'!$I73=\"\",\"\",'入力シート(地区別)'!$I73))","v":""},{"$nulls":4},{"$f":"IF($V22=\"\",\"\",IF('入力シート(地区別)'!$H73=\"\",\"\",'入力シート(地区別)'!$J73))","v":""},null,"学校住所","〒",{"$f":"郵便番号","v":0}]
[{"$nulls":8},{"$f":"IF($H22=\"\",\"\",IF('入力シート(地区別)'!$K71=\"\",\"\",format_kiroku('入力シート(地区別)'!$K71,$E19)))","v":""},{"$nulls":6},{"$f":"IF($O22=\"\",\"\",IF('入力シート(地区別)'!$K72=\"\",\"\",format_kiroku('入力シート(地区別)'!$K72,$E19)))","v":""},{"$nulls":6},{"$f":"IF($V22=\"\",\"\",IF('入力シート(地区別)'!$K73=\"\",\"\",format_kiroku('入力シート(地区別)'!$K73,$E19)))","v":""},{"$nulls":7},{"$f":"住所","v":0}]
[]
[null,null,"２年生","●","１００ｍ",null,null,{"$f":"IF('入力シート(地区別)'!$H14=\"\",\"\",'入力シート(地区別)'!$H14)","v":""},{"$f":"IF($H25=\"\",\"\",IF('入力シート(地区別)'!$I14=\"\",\"\",'入力シート(地区別)'!$I14))","v":""},{"$nulls":4},{"$f":"IF($H25=\"\",\"\",IF('入力シート(地区別)'!$J14=\"\",\"\",'入力シート(地区別)'!$J14))","v":""},{"$f":"IF('入力シート(地区別)'!$H15=\"\",\"\",'入力シート(地区別)'!$H15)","v":""},{"$f":"IF($O25=\"\",\"\",IF('入力シート(地区別)'!$I15=\"\",\"\",'入力シート(地区別)'!$I15))","v":""},{"$nulls":4},{"$f":"IF('入力シート(地区別)'!$J15=\"\",\"\",'入力シート(地区別)'!$J15)","v":""},{"$f":"IF('入力シート(地区別)'!$H16=\"\",\"\",'入力シート(地区別)'!$H16)","v":""},{"$f":"IF($V25=\"\",\"\",IF('入力シート(地区別)'!$I16=\"\",\"\",'入力シート(地区別)'!$I16))","v":""},{"$nulls":4},{"$f":"IF($V25=\"\",\"\",IF('入力シート(地区別)'!$H16=\"\",\"\",'入力シート(地区別)'!$J16))","v":""}]
[{"$nulls":8},{"$f":"IF($H25=\"\",\"\",IF('入力シート(地区別)'!$K14=\"\",\"\",format_kiroku('入力シート(地区別)'!$K14,$E25)))","v":""},{"$nulls":6},{"$f":"IF($O25=\"\",\"\",IF('入力シート(地区別)'!$K15=\"\",\"\",format_kiroku('入力シート(地区別)'!$K15,$E25)))","v":""},{"$nulls":6},{"$f":"IF($V25=\"\",\"\",IF('入力シート(地区別)'!$K16=\"\",\"\",format_kiroku('入力シート(地区別)'!$K16,$E25)))","v":""}]
[]
[{"$nulls":7},{"$f":"IF('入力シート(地区別)'!$H17=\"\",\"\",'入力シート(地区別)'!$H17)","v":""},{"$f":"IF($H28=\"\",\"\",IF('入力シート(地区別)'!$I17=\"\",\"\",'入力シート(地区別)'!$I17))","v":""},{"$nulls":4},{"$f":"IF($H28=\"\",\"\",IF('入力シート(地区別)'!$J17=\"\",\"\",'入力シート(地区別)'!$J17))","v":""},{"$f":"IF('入力シート(地区別)'!$H18=\"\",\"\",'入力シート(地区別)'!$H18)","v":""},{"$f":"IF($O28=\"\",\"\",IF('入力シート(地区別)'!$I18=\"\",\"\",'入力シート(地区別)'!$I18))","v":""},{"$nulls":4},{"$f":"IF('入力シート(地区別)'!$J18=\"\",\"\",'入力シート(地区別)'!$J18)","v":""},{"$f":"IF('入力シート(地区別)'!$H19=\"\",\"\",'入力シート(地区別)'!$H19)","v":""},{"$f":"IF($V28=\"\",\"\",IF('入力シート(地区別)'!$I19=\"\",\"\",'入力シート(地区別)'!$I19))","v":""},{"$nulls":4},{"$f":"IF($V28=\"\",\"\",IF('入力シート(地区別)'!$H19=\"\",\"\",'入力シート(地区別)'!$J19))","v":""}]
[{"$nulls":8},{"$f":"IF($H28=\"\",\"\",IF('入力シート(地区別)'!$K17=\"\",\"\",format_kiroku('入力シート(地区別)'!$K17,$E25)))","v":""},{"$nulls":6},{"$f":"IF($O28=\"\",\"\",IF('入力シート(地区別)'!$K18=\"\",\"\",format_kiroku('入力シート(地区別)'!$K18,$E25)))","v":""},{"$nulls":6},{"$f":"IF($V28=\"\",\"\",IF('入力シート(地区別)'!$K19=\"\",\"\",format_kiroku('入力シート(地区別)'!$K19,$E25)))","v":""}]
[]
[{"$nulls":3},"●","１５００ｍ",null,null,{"$f":"IF('入力シート(地区別)'!$H20=\"\",\"\",'入力シート(地区別)'!$H20)","v":""},{"$f":"IF($H31=\"\",\"\",IF('入力シート(地区別)'!$I20=\"\",\"\",'入力シート(地区別)'!$I20))","v":""},{"$nulls":4},{"$f":"IF($H31=\"\",\"\",IF('入力シート(地区別)'!$J20=\"\",\"\",'入力シート(地区別)'!$J20))","v":""},{"$f":"IF('入力シート(地区別)'!$H21=\"\",\"\",'入力シート(地区別)'!$H21)","v":""},{"$f":"IF($O31=\"\",\"\",IF('入力シート(地区別)'!$I21=\"\",\"\",'入力シート(地区別)'!$I21))","v":""},{"$nulls":4},{"$f":"IF('入力シート(地区別)'!$J21=\"\",\"\",'入力シート(地区別)'!$J21)","v":""},{"$f":"IF('入力シート(地区別)'!$H22=\"\",\"\",'入力シート(地区別)'!$H22)","v":""},{"$f":"IF($V31=\"\",\"\",IF('入力シート(地区別)'!$I22=\"\",\"\",'入力シート(地区別)'!$I22))","v":""},{"$nulls":4},{"$f":"IF($V31=\"\",\"\",IF('入力シート(地区別)'!$H22=\"\",\"\",'入力シート(地区別)'!$J22))","v":""}]
[{"$nulls":8},{"$f":"IF($H31=\"\",\"\",IF('入力シート(地区別)'!$K20=\"\",\"\",format_kiroku('入力シート(地区別)'!$K20,$E31)))","v":""},{"$nulls":6},{"$f":"IF($O31=\"\",\"\",IF('入力シート(地区別)'!$K21=\"\",\"\",format_kiroku('入力シート(地区別)'!$K21,$E31)))","v":""},{"$nulls":6},{"$f":"IF($V31=\"\",\"\",IF('入力シート(地区別)'!$K22=\"\",\"\",format_kiroku('入力シート(地区別)'!$K22,$E31)))","v":""}]
[]
[{"$nulls":7},{"$f":"IF('入力シート(地区別)'!$H23=\"\",\"\",'入力シート(地区別)'!$H23)","v":""},{"$f":"IF($H34=\"\",\"\",IF('入力シート(地区別)'!$I23=\"\",\"\",'入力シート(地区別)'!$I23))","v":""},{"$nulls":4},{"$f":"IF($H34=\"\",\"\",IF('入力シート(地区別)'!$J23=\"\",\"\",'入力シート(地区別)'!$J23))","v":""},{"$f":"IF('入力シート(地区別)'!$H24=\"\",\"\",'入力シート(地区別)'!$H24)","v":""},{"$f":"IF($O34=\"\",\"\",IF('入力シート(地区別)'!$I24=\"\",\"\",'入力シート(地区別)'!$I24))","v":""},{"$nulls":4},{"$f":"IF('入力シート(地区別)'!$J24=\"\",\"\",'入力シート(地区別)'!$J24)","v":""},{"$f":"IF('入力シート(地区別)'!$H25=\"\",\"\",'入力シート(地区別)'!$H25)","v":""},{"$f":"IF($V34=\"\",\"\",IF('入力シート(地区別)'!$I25=\"\",\"\",'入力シート(地区別)'!$I25))","v":""},{"$nulls":4},{"$f":"IF($V34=\"\",\"\",IF('入力シート(地区別)'!$H25=\"\",\"\",'入力シート(地区別)'!$J25))","v":""},null,"申込責任者"]
[{"$nulls":8},{"$f":"IF($H34=\"\",\"\",IF('入力シート(地区別)'!$K23=\"\",\"\",format_kiroku('入力シート(地区別)'!$K23,$E31)))","v":""},{"$nulls":6},{"$f":"IF($O34=\"\",\"\",IF('入力シート(地区別)'!$K24=\"\",\"\",format_kiroku('入力シート(地区別)'!$K24,$E31)))","v":""},{"$nulls":6},{"$f":"IF($V34=\"\",\"\",IF('入力シート(地区別)'!$K25=\"\",\"\",format_kiroku('入力シート(地区別)'!$K25,$E31)))","v":""},{"$nulls":6},"氏名",{"$f":"責任者","v":"　"}]
[]
[null,null,"３年生","●","１００ｍ",null,null,{"$f":"IF('入力シート(地区別)'!$H26=\"\",\"\",'入力シート(地区別)'!$H26)","v":""},{"$f":"IF($H37=\"\",\"\",IF('入力シート(地区別)'!$I26=\"\",\"\",'入力シート(地区別)'!$I26))","v":""},{"$nulls":4},{"$f":"IF($H37=\"\",\"\",IF('入力シート(地区別)'!$J26=\"\",\"\",'入力シート(地区別)'!$J26))","v":""},{"$f":"IF('入力シート(地区別)'!$H27=\"\",\"\",'入力シート(地区別)'!$H27)","v":""},{"$f":"IF($O37=\"\",\"\",IF('入力シート(地区別)'!$I27=\"\",\"\",'入力シート(地区別)'!$I27))","v":""},{"$nulls":4},{"$f":"IF('入力シート(地区別)'!$J27=\"\",\"\",'入力シート(地区別)'!$J27)","v":""},{"$f":"IF('入力シート(地区別)'!$H28=\"\",\"\",'入力シート(地区別)'!$H28)","v":""},{"$f":"IF($V37=\"\",\"\",IF('入力シート(地区別)'!$I28=\"\",\"\",'入力シート(地区別)'!$I28))","v":""},{"$nulls":4},{"$f":"IF($V37=\"\",\"\",IF('入力シート(地区別)'!$H28=\"\",\"\",'入力シート(地区別)'!$J28))","v":""},{"$nulls":8},"印"]
[{"$nulls":8},{"$f":"IF($H37=\"\",\"\",IF('入力シート(地区別)'!$K26=\"\",\"\",format_kiroku('入力シート(地区別)'!$K26,$E37)))","v":""},{"$nulls":6},{"$f":"IF($O37=\"\",\"\",IF('入力シート(地区別)'!$K27=\"\",\"\",format_kiroku('入力シート(地区別)'!$K27,$E37)))","v":""},{"$nulls":6},{"$f":"IF($V37=\"\",\"\",IF('入力シート(地区別)'!$K28=\"\",\"\",format_kiroku('入力シート(地区別)'!$K28,$E37)))","v":""}]
[]
[{"$nulls":7},{"$f":"IF('入力シート(地区別)'!$H29=\"\",\"\",'入力シート(地区別)'!$H29)","v":""},{"$f":"IF($H40=\"\",\"\",IF('入力シート(地区別)'!$I29=\"\",\"\",'入力シート(地区別)'!$I29))","v":""},{"$nulls":4},{"$f":"IF($H40=\"\",\"\",IF('入力シート(地区別)'!$J29=\"\",\"\",'入力シート(地区別)'!$J29))","v":""},{"$f":"IF('入力シート(地区別)'!$H30=\"\",\"\",'入力シート(地区別)'!$H30)","v":""},{"$f":"IF($O40=\"\",\"\",IF('入力シート(地区別)'!$I30=\"\",\"\",'入力シート(地区別)'!$I30))","v":""},{"$nulls":4},{"$f":"IF('入力シート(地区別)'!$J30=\"\",\"\",'入力シート(地区別)'!$J30)","v":""},{"$f":"IF('入力シート(地区別)'!$H31=\"\",\"\",'入力シート(地区別)'!$H31)","v":""},{"$f":"IF($V40=\"\",\"\",IF('入力シート(地区別)'!$I31=\"\",\"\",'入力シート(地区別)'!$I31))","v":""},{"$nulls":4},{"$f":"IF($V40=\"\",\"\",IF('入力シート(地区別)'!$H31=\"\",\"\",'入力シート(地区別)'!$J31))","v":""},null,"電話",{"$f":"責任者電話","v":"－－"}]
[{"$nulls":8},{"$f":"IF($H40=\"\",\"\",IF('入力シート(地区別)'!$K29=\"\",\"\",format_kiroku('入力シート(地区別)'!$K29,$E37)))","v":""},{"$nulls":6},{"$f":"IF($O40=\"\",\"\",IF('入力シート(地区別)'!$K30=\"\",\"\",format_kiroku('入力シート(地区別)'!$K30,$E37)))","v":""},{"$nulls":6},{"$f":"IF($V40=\"\",\"\",IF('入力シート(地区別)'!$K31=\"\",\"\",format_kiroku('入力シート(地区別)'!$K31,$E37)))","v":""}]
[]
[{"$nulls":3},"●","１５００ｍ",null,null,{"$f":"IF('入力シート(地区別)'!$H32=\"\",\"\",'入力シート(地区別)'!$H32)","v":""},{"$f":"IF($H43=\"\",\"\",IF('入力シート(地区別)'!$I32=\"\",\"\",'入力シート(地区別)'!$I32))","v":""},{"$nulls":4},{"$f":"IF($H43=\"\",\"\",IF('入力シート(地区別)'!$J32=\"\",\"\",'入力シート(地区別)'!$J32))","v":""},{"$f":"IF('入力シート(地区別)'!$H33=\"\",\"\",'入力シート(地区別)'!$H33)","v":""},{"$f":"IF($O43=\"\",\"\",IF('入力シート(地区別)'!$I33=\"\",\"\",'入力シート(地区別)'!$I33))","v":""},{"$nulls":4},{"$f":"IF('入力シート(地区別)'!$J33=\"\",\"\",'入力シート(地区別)'!$J33)","v":""},{"$f":"IF('入力シート(地区別)'!$H34=\"\",\"\",'入力シート(地区別)'!$H34)","v":""},{"$f":"IF($V43=\"\",\"\",IF('入力シート(地区別)'!$I34=\"\",\"\",'入力シート(地区別)'!$I34))","v":""},{"$nulls":4},{"$f":"IF($V43=\"\",\"\",IF('入力シート(地区別)'!$H34=\"\",\"\",'入力シート(地区別)'!$J34))","v":""}]
[{"$nulls":8},{"$f":"IF($H43=\"\",\"\",IF('入力シート(地区別)'!$K32=\"\",\"\",format_kiroku('入力シート(地区別)'!$K32,$E43)))","v":""},{"$nulls":6},{"$f":"IF($O43=\"\",\"\",IF('入力シート(地区別)'!$K33=\"\",\"\",format_kiroku('入力シート(地区別)'!$K33,$E43)))","v":""},{"$nulls":6},{"$f":"IF($V43=\"\",\"\",IF('入力シート(地区別)'!$K34=\"\",\"\",format_kiroku('入力シート(地区別)'!$K34,$E43)))","v":""},{"$nulls":6},"審判氏名",{"$f":"IF(Sinpan1,責任者,\"\")","v":""}]
[]
[{"$nulls":7},{"$f":"IF('入力シート(地区別)'!$H35=\"\",\"\",'入力シート(地区別)'!$H35)","v":""},{"$f":"IF($H46=\"\",\"\",IF('入力シート(地区別)'!$I35=\"\",\"\",'入力シート(地区別)'!$I35))","v":""},{"$nulls":4},{"$f":"IF($H46=\"\",\"\",IF('入力シート(地区別)'!$J35=\"\",\"\",'入力シート(地区別)'!$J35))","v":""},{"$f":"IF('入力シート(地区別)'!$H36=\"\",\"\",'入力シート(地区別)'!$H36)","v":""},{"$f":"IF($O46=\"\",\"\",IF('入力シート(地区別)'!$I36=\"\",\"\",'入力シート(地区別)'!$I36))","v":""},{"$nulls":4},{"$f":"IF('入力シート(地区別)'!$J36=\"\",\"\",'入力シート(地区別)'!$J36)","v":""},{"$f":"IF('入力シート(地区別)'!$H37=\"\",\"\",'入力シート(地区別)'!$H37)","v":""},{"$f":"IF($V46=\"\",\"\",IF('入力シート(地区別)'!$I37=\"\",\"\",'入力シート(地区別)'!$I37))","v":""},{"$nulls":4},{"$f":"IF($V46=\"\",\"\",IF('入力シート(地区別)'!$H37=\"\",\"\",'入力シート(地区別)'!$J37))","v":""}]
[{"$nulls":8},{"$f":"IF($H46=\"\",\"\",IF('入力シート(地区別)'!$K35=\"\",\"\",format_kiroku('入力シート(地区別)'!$K35,$E43)))","v":""},{"$nulls":6},{"$f":"IF($O46=\"\",\"\",IF('入力シート(地区別)'!$K36=\"\",\"\",format_kiroku('入力シート(地区別)'!$K36,$E43)))","v":""},{"$nulls":6},{"$f":"IF($V46=\"\",\"\",IF('入力シート(地区別)'!$K37=\"\",\"\",format_kiroku('入力シート(地区別)'!$K37,$E43)))","v":""},{"$nulls":7},{"$f":"IF(Shinpan2,顧問１,\"\")","v":""}]
[]
[null,null,"２・３年共通",null,"２００ｍ",null,null,{"$f":"IF('入力シート(地区別)'!$H38=\"\",\"\",'入力シート(地区別)'!$H38)","v":""},{"$f":"IF($H49=\"\",\"\",IF('入力シート(地区別)'!$I38=\"\",\"\",'入力シート(地区別)'!$I38))","v":""},{"$nulls":4},{"$f":"IF($H49=\"\",\"\",IF('入力シート(地区別)'!$J38=\"\",\"\",'入力シート(地区別)'!$J38))","v":""},{"$f":"IF('入力シート(地区別)'!$H39=\"\",\"\",'入力シート(地区別)'!$H39)","v":""},{"$f":"IF($O49=\"\",\"\",IF('入力シート(地区別)'!$I39=\"\",\"\",'入力シート(地区別)'!$I39))","v":""},{"$nulls":4},{"$f":"IF('入力シート(地区別)'!$J39=\"\",\"\",'入力シート(地区別)'!$J39)","v":""},{"$f":"IF('入力シート(地区別)'!$H40=\"\",\"\",'入力シート(地区別)'!$H40)","v":""},{"$f":"IF($V49=\"\",\"\",IF('入力シート(地区別)'!$I40=\"\",\"\",'入力シート(地区別)'!$I40))","v":""},{"$nulls":4},{"$f":"IF($V49=\"\",\"\",IF('入力シート(地区別)'!$H40=\"\",\"\",'入力シート(地区別)'!$J40))","v":""}]
[{"$nulls":8},{"$f":"IF($H49=\"\",\"\",IF('入力シート(地区別)'!$K38=\"\",\"\",format_kiroku('入力シート(地区別)'!$K38,$E49)))","v":""},{"$nulls":6},{"$f":"IF($O49=\"\",\"\",IF('入力シート(地区別)'!$K39=\"\",\"\",format_kiroku('入力シート(地区別)'!$K39,$E49)))","v":""},{"$nulls":6},{"$f":"IF($V49=\"\",\"\",IF('入力シート(地区別)'!$K40=\"\",\"\",format_kiroku('入力シート(地区別)'!$K40,$E49)))","v":""},{"$nulls":7},{"$f":"IF(Shinpan2,顧問２,\"\")","v":""}]
[]
[{"$nulls":7},{"$f":"IF('入力シート(地区別)'!$H41=\"\",\"\",'入力シート(地区別)'!$H41)","v":""},{"$f":"IF($H52=\"\",\"\",IF('入力シート(地区別)'!$I41=\"\",\"\",'入力シート(地区別)'!$I41))","v":""},{"$nulls":4},{"$f":"IF($H52=\"\",\"\",IF('入力シート(地区別)'!$J41=\"\",\"\",'入力シート(地区別)'!$J41))","v":""},{"$f":"IF('入力シート(地区別)'!$H42=\"\",\"\",'入力シート(地区別)'!$H42)","v":""},{"$f":"IF($O52=\"\",\"\",IF('入力シート(地区別)'!$I42=\"\",\"\",'入力シート(地区別)'!$I42))","v":""},{"$nulls":4},{"$f":"IF('入力シート(地区別)'!$J42=\"\",\"\",'入力シート(地区別)'!$J42)","v":""},{"$f":"IF('入力シート(地区別)'!$H43=\"\",\"\",'入力シート(地区別)'!$H43)","v":""},{"$f":"IF($V52=\"\",\"\",IF('入力シート(地区別)'!$I43=\"\",\"\",'入力シート(地区別)'!$I43))","v":""},{"$nulls":4},{"$f":"IF($V52=\"\",\"\",IF('入力シート(地区別)'!$H43=\"\",\"\",'入力シート(地区別)'!$J43))","v":""}]
[{"$nulls":8},{"$f":"IF($H52=\"\",\"\",IF('入力シート(地区別)'!$K41=\"\",\"\",format_kiroku('入力シート(地区別)'!$K41,$E49)))","v":""},{"$nulls":6},{"$f":"IF($O52=\"\",\"\",IF('入力シート(地区別)'!$K42=\"\",\"\",format_kiroku('入力シート(地区別)'!$K42,$E49)))","v":""},{"$nulls":6},{"$f":"IF($V52=\"\",\"\",IF('入力シート(地区別)'!$K43=\"\",\"\",format_kiroku('入力シート(地区別)'!$K43,$E49)))","v":""},{"$nulls":7},{"$f":"IF(Shinpan2,顧問３,\"\")","v":""}]
[]
[{"$nulls":3},"●","４００ｍ",null,null,{"$f":"IF('入力シート(地区別)'!$H44=\"\",\"\",'入力シート(地区別)'!$H44)","v":""},{"$f":"IF($H55=\"\",\"\",IF('入力シート(地区別)'!$I44=\"\",\"\",'入力シート(地区別)'!$I44))","v":""},{"$nulls":4},{"$f":"IF($H55=\"\",\"\",IF('入力シート(地区別)'!$J44=\"\",\"\",'入力シート(地区別)'!$J44))","v":""},{"$f":"IF('入力シート(地区別)'!$H45=\"\",\"\",'入力シート(地区別)'!$H45)","v":""},{"$f":"IF($O55=\"\",\"\",IF('入力シート(地区別)'!$I45=\"\",\"\",'入力シート(地区別)'!$I45))","v":""},{"$nulls":4},{"$f":"IF('入力シート(地区別)'!$J45=\"\",\"\",'入力シート(地区別)'!$J45)","v":""},{"$f":"IF('入力シート(地区別)'!$H46=\"\",\"\",'入力シート(地区別)'!$H46)","v":""},{"$f":"IF($V55=\"\",\"\",IF('入力シート(地区別)'!$I46=\"\",\"\",'入力シート(地区別)'!$I46))","v":""},{"$nulls":4},{"$f":"IF($V55=\"\",\"\",IF('入力シート(地区別)'!$H46=\"\",\"\",'入力シート(地区別)'!$J46))","v":""}]
[{"$nulls":8},{"$f":"IF($H55=\"\",\"\",IF('入力シート(地区別)'!$K44=\"\",\"\",format_kiroku('入力シート(地区別)'!$K44,$E55)))","v":""},{"$nulls":6},{"$f":"IF($O55=\"\",\"\",IF('入力シート(地区別)'!$K45=\"\",\"\",format_kiroku('入力シート(地区別)'!$K45,$E55)))","v":""},{"$nulls":6},{"$f":"IF($V55=\"\",\"\",IF('入力シート(地区別)'!$K46=\"\",\"\",format_kiroku('入力シート(地区別)'!$K46,$E55)))","v":""}]
[]
[{"$nulls":7},{"$f":"IF('入力シート(地区別)'!$H47=\"\",\"\",'入力シート(地区別)'!$H47)","v":""},{"$f":"IF($H58=\"\",\"\",IF('入力シート(地区別)'!$I47=\"\",\"\",'入力シート(地区別)'!$I47))","v":""},{"$nulls":4},{"$f":"IF($H58=\"\",\"\",IF('入力シート(地区別)'!$J47=\"\",\"\",'入力シート(地区別)'!$J47))","v":""},{"$f":"IF('入力シート(地区別)'!$H48=\"\",\"\",'入力シート(地区別)'!$H48)","v":""},{"$f":"IF($O58=\"\",\"\",IF('入力シート(地区別)'!$I48=\"\",\"\",'入力シート(地区別)'!$I48))","v":""},{"$nulls":4},{"$f":"IF('入力シート(地区別)'!$J48=\"\",\"\",'入力シート(地区別)'!$J48)","v":""},{"$f":"IF('入力シート(地区別)'!$H49=\"\",\"\",'入力シート(地区別)'!$H49)","v":""},{"$f":"IF($V58=\"\",\"\",IF('入力シート(地区別)'!$I49=\"\",\"\",'入力シート(地区別)'!$I49))","v":""},{"$nulls":4},{"$f":"IF($V58=\"\",\"\",IF('入力シート(地区別)'!$H49=\"\",\"\",'入力シート(地区別)'!$J49))","v":""}]
[{"$nulls":8},{"$f":"IF($H58=\"\",\"\",IF('入力シート(地区別)'!$K47=\"\",\"\",format_kiroku('入力シート(地区別)'!$K47,$E55)))","v":""},{"$nulls":6},{"$f":"IF($O58=\"\",\"\",IF('入力シート(地区別)'!$K48=\"\",\"\",format_kiroku('入力シート(地区別)'!$K48,$E55)))","v":""},{"$nulls":6},{"$f":"IF($V58=\"\",\"\",IF('入力シート(地区別)'!$K49=\"\",\"\",format_kiroku('入力シート(地区別)'!$K49,$E55)))","v":""}]
[]
[{"$nulls":4},"８００ｍ",null,null,{"$f":"IF('入力シート(地区別)'!$H50=\"\",\"\",'入力シート(地区別)'!$H50)","v":""},{"$f":"IF($H61=\"\",\"\",IF('入力シート(地区別)'!$I50=\"\",\"\",'入力シート(地区別)'!$I50))","v":""},{"$nulls":4},{"$f":"IF($H61=\"\",\"\",IF('入力シート(地区別)'!$J50=\"\",\"\",'入力シート(地区別)'!$J50))","v":""},{"$f":"IF('入力シート(地区別)'!$H51=\"\",\"\",'入力シート(地区別)'!$H51)","v":""},{"$f":"IF($O61=\"\",\"\",IF('入力シート(地区別)'!$I51=\"\",\"\",'入力シート(地区別)'!$I51))","v":""},{"$nulls":4},{"$f":"IF('入力シート(地区別)'!$J51=\"\",\"\",'入力シート(地区別)'!$J51)","v":""},{"$f":"IF('入力シート(地区別)'!$H52=\"\",\"\",'入力シート(地区別)'!$H52)","v":""},{"$f":"IF($V61=\"\",\"\",IF('入力シート(地区別)'!$I52=\"\",\"\",'入力シート(地区別)'!$I52))","v":""},{"$nulls":4},{"$f":"IF($V61=\"\",\"\",IF('入力シート(地区別)'!$H52=\"\",\"\",'入力シート(地区別)'!$J52))","v":""}]
[{"$nulls":8},{"$f":"IF($H61=\"\",\"\",IF('入力シート(地区別)'!$K50=\"\",\"\",format_kiroku('入力シート(地区別)'!$K50,$E61)))","v":""},{"$nulls":6},{"$f":"IF($O61=\"\",\"\",IF('入力シート(地区別)'!$K51=\"\",\"\",format_kiroku('入力シート(地区別)'!$K51,$E61)))","v":""},{"$nulls":6},{"$f":"IF($V61=\"\",\"\",IF('入力シート(地区別)'!$K52=\"\",\"\",format_kiroku('入力シート(地区別)'!$K52,$E61)))","v":""},{"$nulls":6},"男子申込料"]
[]
[{"$nulls":7},{"$f":"IF('入力シート(地区別)'!$H53=\"\",\"\",'入力シート(地区別)'!$H53)","v":""},{"$f":"IF($H64=\"\",\"\",IF('入力シート(地区別)'!$I53=\"\",\"\",'入力シート(地区別)'!$I53))","v":""},{"$nulls":4},{"$f":"IF($H64=\"\",\"\",IF('入力シート(地区別)'!$J53=\"\",\"\",'入力シート(地区別)'!$J53))","v":""},{"$f":"IF('入力シート(地区別)'!$H54=\"\",\"\",'入力シート(地区別)'!$H54)","v":""},{"$f":"IF($O64=\"\",\"\",IF('入力シート(地区別)'!$I54=\"\",\"\",'入力シート(地区別)'!$I54))","v":""},{"$nulls":4},{"$f":"IF('入力シート(地区別)'!$J54=\"\",\"\",'入力シート(地区別)'!$J54)","v":""},{"$f":"IF('入力シート(地区別)'!$H55=\"\",\"\",'入力シート(地区別)'!$H55)","v":""},{"$f":"IF($V64=\"\",\"\",IF('入力シート(地区別)'!$I55=\"\",\"\",'入力シート(地区別)'!$I55))","v":""},{"$nulls":4},{"$f":"IF($V64=\"\",\"\",IF('入力シート(地区別)'!$H55=\"\",\"\",'入力シート(地区別)'!$J55))","v":""},null,null,"人数",null,"金額",null,"合計"]
[{"$nulls":8},{"$f":"IF($H64=\"\",\"\",IF('入力シート(地区別)'!$K53=\"\",\"\",format_kiroku('入力シート(地区別)'!$K53,$E61)))","v":""},{"$nulls":6},{"$f":"IF($O64=\"\",\"\",IF('入力シート(地区別)'!$K54=\"\",\"\",format_kiroku('入力シート(地区別)'!$K54,$E61)))","v":""},{"$nulls":6},{"$f":"IF($V64=\"\",\"\",IF('入力シート(地区別)'!$K55=\"\",\"\",format_kiroku('入力シート(地区別)'!$K55,$E61)))","v":""},{"$nulls":6},"個人\n種目",{"$f":"COUNT(H7:H107)+COUNT(O7:O107)+COUNT(V7:V107)","v":0},null,{"v":500,"d":"¥500"},null,{"$f":"AE65*AG65","v":{"v":0,"d":"¥0"}}]
[]
[{"$nulls":4},"３０００ｍ",null,null,{"$f":"IF('入力シート(地区別)'!$H56=\"\",\"\",'入力シート(地区別)'!$H56)","v":""},{"$f":"IF($H67=\"\",\"\",IF('入力シート(地区別)'!$I56=\"\",\"\",'入力シート(地区別)'!$I56))","v":""},{"$nulls":4},{"$f":"IF($H67=\"\",\"\",IF('入力シート(地区別)'!$J56=\"\",\"\",'入力シート(地区別)'!$J56))","v":""},{"$f":"IF('入力シート(地区別)'!$H57=\"\",\"\",'入力シート(地区別)'!$H57)","v":""},{"$f":"IF($O67=\"\",\"\",IF('入力シート(地区別)'!$I57=\"\",\"\",'入力シート(地区別)'!$I57))","v":""},{"$nulls":4},{"$f":"IF('入力シート(地区別)'!$J57=\"\",\"\",'入力シート(地区別)'!$J57)","v":""},{"$f":"IF('入力シート(地区別)'!$H58=\"\",\"\",'入力シート(地区別)'!$H58)","v":""},{"$f":"IF($V67=\"\",\"\",IF('入力シート(地区別)'!$I58=\"\",\"\",'入力シート(地区別)'!$I58))","v":""},{"$nulls":4},{"$f":"IF($V67=\"\",\"\",IF('入力シート(地区別)'!$H58=\"\",\"\",'入力シート(地区別)'!$J58))","v":""}]
[{"$nulls":8},{"$f":"IF($H67=\"\",\"\",IF('入力シート(地区別)'!$K56=\"\",\"\",format_kiroku('入力シート(地区別)'!$K56,$E67)))","v":""},{"$nulls":6},{"$f":"IF($O67=\"\",\"\",IF('入力シート(地区別)'!$K57=\"\",\"\",format_kiroku('入力シート(地区別)'!$K57,$E67)))","v":""},{"$nulls":6},{"$f":"IF($V67=\"\",\"\",IF('入力シート(地区別)'!$K58=\"\",\"\",format_kiroku('入力シート(地区別)'!$K58,$E67)))","v":""},{"$nulls":6},"四種競技",{"$f":"COUNT(H109:H113)+COUNT(O109:O113)+COUNT(V109:V113)","v":0},null,{"v":700,"d":"¥700"},null,{"v":0,"d":"¥0"}]
[]
[{"$nulls":7},{"$f":"IF('入力シート(地区別)'!$H59=\"\",\"\",'入力シート(地区別)'!$H59)","v":""},{"$f":"IF($H70=\"\",\"\",IF('入力シート(地区別)'!$I59=\"\",\"\",'入力シート(地区別)'!$I59))","v":""},{"$nulls":4},{"$f":"IF($H70=\"\",\"\",IF('入力シート(地区別)'!$J59=\"\",\"\",'入力シート(地区別)'!$J59))","v":""},{"$f":"IF('入力シート(地区別)'!$H60=\"\",\"\",'入力シート(地区別)'!$H60)","v":""},{"$f":"IF($O70=\"\",\"\",IF('入力シート(地区別)'!$I60=\"\",\"\",'入力シート(地区別)'!$I60))","v":""},{"$nulls":4},{"$f":"IF('入力シート(地区別)'!$J60=\"\",\"\",'入力シート(地区別)'!$J60)","v":""},{"$f":"IF('入力シート(地区別)'!$H61=\"\",\"\",'入力シート(地区別)'!$H61)","v":""},{"$f":"IF($V70=\"\",\"\",IF('入力シート(地区別)'!$I61=\"\",\"\",'入力シート(地区別)'!$I61))","v":""},{"$nulls":4},{"$f":"IF($V70=\"\",\"\",IF('入力シート(地区別)'!$H61=\"\",\"\",'入力シート(地区別)'!$J61))","v":""}]
[{"$nulls":8},{"$f":"IF($H70=\"\",\"\",IF('入力シート(地区別)'!$K59=\"\",\"\",format_kiroku('入力シート(地区別)'!$K59,$E67)))","v":""},{"$nulls":6},{"$f":"IF($O70=\"\",\"\",IF('入力シート(地区別)'!$K60=\"\",\"\",format_kiroku('入力シート(地区別)'!$K60,$E67)))","v":""},{"$nulls":6},{"$f":"IF($V70=\"\",\"\",IF('入力シート(地区別)'!$K61=\"\",\"\",format_kiroku('入力シート(地区別)'!$K61,$E67)))","v":""},{"$nulls":6},"リレ\nー",{"$f":"IF((COUNT(H115:H118)+COUNT(O115:O118)+COUNT(V115:V118))<2,0,1)","v":0},null,{"v":600,"d":"¥600"},null,{"v":0,"d":"¥0"}]
[]
[{"$nulls":4},"１１０ｍＨ",null,null,{"$f":"IF('入力シート(地区別)'!$H62=\"\",\"\",'入力シート(地区別)'!$H62)","v":""},{"$f":"IF($H73=\"\",\"\",IF('入力シート(地区別)'!$I62=\"\",\"\",'入力シート(地区別)'!$I62))","v":""},{"$nulls":4},{"$f":"IF($H73=\"\",\"\",IF('入力シート(地区別)'!$J62=\"\",\"\",'入力シート(地区別)'!$J62))","v":""},{"$f":"IF('入力シート(地区別)'!$H63=\"\",\"\",'入力シート(地区別)'!$H63)","v":""},{"$f":"IF($O73=\"\",\"\",IF('入力シート(地区別)'!$I63=\"\",\"\",'入力シート(地区別)'!$I63))","v":""},{"$nulls":4},{"$f":"IF('入力シート(地区別)'!$J63=\"\",\"\",'入力シート(地区別)'!$J63)","v":""},{"$f":"IF('入力シート(地区別)'!$H64=\"\",\"\",'入力シート(地区別)'!$H64)","v":""},{"$f":"IF($V73=\"\",\"\",IF('入力シート(地区別)'!$I64=\"\",\"\",'入力シート(地区別)'!$I64))","v":""},{"$nulls":4},{"$f":"IF($V73=\"\",\"\",IF('入力シート(地区別)'!$H64=\"\",\"\",'入力シート(地区別)'!$J64))","v":""}]
[{"$nulls":8},{"$f":"IF($H73=\"\",\"\",IF('入力シート(地区別)'!$K62=\"\",\"\",format_kiroku('入力シート(地区別)'!$K62,$E73)))","v":""},{"$nulls":6},{"$f":"IF($O73=\"\",\"\",IF('入力シート(地区別)'!$K63=\"\",\"\",format_kiroku('入力シート(地区別)'!$K63,$E73)))","v":""},{"$nulls":6},{"$f":"IF($V73=\"\",\"\",IF('入力シート(地区別)'!$K64=\"\",\"\",format_kiroku('入力シート(地区別)'!$K64,$E73)))","v":""},{"$nulls":6},"実参加数",{"$f":"D_kazu","v":0},null,"総計",null,{"$f":"SUM(AI65:AK73)","v":{"v":0,"d":"¥0"}}]
[]
[{"$nulls":7},{"$f":"IF('入力シート(地区別)'!$H65=\"\",\"\",'入力シート(地区別)'!$H65)","v":""},{"$f":"IF($H76=\"\",\"\",IF('入力シート(地区別)'!$I65=\"\",\"\",'入力シート(地区別)'!$I65))","v":""},{"$nulls":4},{"$f":"IF($H76=\"\",\"\",IF('入力シート(地区別)'!$J65=\"\",\"\",'入力シート(地区別)'!$J65))","v":""},{"$f":"IF('入力シート(地区別)'!$H66=\"\",\"\",'入力シート(地区別)'!$H66)","v":""},{"$f":"IF($O76=\"\",\"\",IF('入力シート(地区別)'!$I66=\"\",\"\",'入力シート(地区別)'!$I66))","v":""},{"$nulls":4},{"$f":"IF('入力シート(地区別)'!$J66=\"\",\"\",'入力シート(地区別)'!$J66)","v":""},{"$f":"IF('入力シート(地区別)'!$H67=\"\",\"\",'入力シート(地区別)'!$H67)","v":""},{"$f":"IF($V76=\"\",\"\",IF('入力シート(地区別)'!$I67=\"\",\"\",'入力シート(地区別)'!$I67))","v":""},{"$nulls":4},{"$f":"IF($V76=\"\",\"\",IF('入力シート(地区別)'!$H67=\"\",\"\",'入力シート(地区別)'!$J67))","v":""}]
[{"$nulls":8},{"$f":"IF($H76=\"\",\"\",IF('入力シート(地区別)'!$K65=\"\",\"\",format_kiroku('入力シート(地区別)'!$K65,$E73)))","v":""},{"$nulls":6},{"$f":"IF($O76=\"\",\"\",IF('入力シート(地区別)'!$K66=\"\",\"\",format_kiroku('入力シート(地区別)'!$K66,$E73)))","v":""},{"$nulls":6},{"$f":"IF($V76=\"\",\"\",IF('入力シート(地区別)'!$K67=\"\",\"\",format_kiroku('入力シート(地区別)'!$K67,$E73)))","v":""}]
[]
[{"$nulls":4},"走高跳",null,null,{"$f":"IF('入力シート(地区別)'!$H74=\"\",\"\",'入力シート(地区別)'!$H74)","v":""},{"$f":"IF($H79=\"\",\"\",IF('入力シート(地区別)'!$I74=\"\",\"\",'入力シート(地区別)'!$I74))","v":""},{"$nulls":4},{"$f":"IF($H79=\"\",\"\",IF('入力シート(地区別)'!$J74=\"\",\"\",'入力シート(地区別)'!$J74))","v":""},{"$f":"IF('入力シート(地区別)'!$H75=\"\",\"\",'入力シート(地区別)'!$H75)","v":""},{"$f":"IF($O79=\"\",\"\",IF('入力シート(地区別)'!$I75=\"\",\"\",'入力シート(地区別)'!$I75))","v":""},{"$nulls":4},{"$f":"IF('入力シート(地区別)'!$J75=\"\",\"\",'入力シート(地区別)'!$J75)","v":""},{"$f":"IF('入力シート(地区別)'!$H76=\"\",\"\",'入力シート(地区別)'!$H76)","v":""},{"$f":"IF($V79=\"\",\"\",IF('入力シート(地区別)'!$I76=\"\",\"\",'入力シート(地区別)'!$I76))","v":""},{"$nulls":4},{"$f":"IF($V79=\"\",\"\",IF('入力シート(地区別)'!$H76=\"\",\"\",'入力シート(地区別)'!$J76))","v":""},null,"女子申込料",{"$nulls":3},{"$f":"'地区別(女)'!AI74","v":{"v":0,"d":"¥0"}}]
[{"$nulls":8},{"$f":"IF($H79=\"\",\"\",IF('入力シート(地区別)'!$K74=\"\",\"\",format_kiroku('入力シート(地区別)'!$K74,$E79)))","v":""},{"$nulls":6},{"$f":"IF($O79=\"\",\"\",IF('入力シート(地区別)'!$K75=\"\",\"\",format_kiroku('入力シート(地区別)'!$K75,$E79)))","v":""},{"$nulls":6},{"$f":"IF($V79=\"\",\"\",IF('入力シート(地区別)'!$K76=\"\",\"\",format_kiroku('入力シート(地区別)'!$K76,$E79)))","v":""}]
[]
[{"$nulls":7},{"$f":"IF('入力シート(地区別)'!$H77=\"\",\"\",'入力シート(地区別)'!$H77)","v":""},{"$f":"IF($H82=\"\",\"\",IF('入力シート(地区別)'!$I77=\"\",\"\",'入力シート(地区別)'!$I77))","v":""},{"$nulls":4},{"$f":"IF($H82=\"\",\"\",IF('入力シート(地区別)'!$J77=\"\",\"\",'入力シート(地区別)'!$J77))","v":""},{"$f":"IF('入力シート(地区別)'!$H78=\"\",\"\",'入力シート(地区別)'!$H78)","v":""},{"$f":"IF($O82=\"\",\"\",IF('入力シート(地区別)'!$I78=\"\",\"\",'入力シート(地区別)'!$I78))","v":""},{"$nulls":4},{"$f":"IF('入力シート(地区別)'!$J78=\"\",\"\",'入力シート(地区別)'!$J78)","v":""},{"$f":"IF('入力シート(地区別)'!$H79=\"\",\"\",'入力シート(地区別)'!$H79)","v":""},{"$f":"IF($V82=\"\",\"\",IF('入力シート(地区別)'!$I79=\"\",\"\",'入力シート(地区別)'!$I79))","v":""},{"$nulls":4},{"$f":"IF($V82=\"\",\"\",IF('入力シート(地区別)'!$H79=\"\",\"\",'入力シート(地区別)'!$J79))","v":""},null,"男女総計",{"$nulls":3},{"$f":"AI74+AH79","v":{"v":0,"d":"¥0"}}]
[{"$nulls":8},{"$f":"IF($H82=\"\",\"\",IF('入力シート(地区別)'!$K77=\"\",\"\",format_kiroku('入力シート(地区別)'!$K77,$E79)))","v":""},{"$nulls":6},{"$f":"IF($O82=\"\",\"\",IF('入力シート(地区別)'!$K78=\"\",\"\",format_kiroku('入力シート(地区別)'!$K78,$E79)))","v":""},{"$nulls":6},{"$f":"IF($V82=\"\",\"\",IF('入力シート(地区別)'!$K79=\"\",\"\",format_kiroku('入力シート(地区別)'!$K79,$E79)))","v":""}]
[]
[{"$nulls":3},"●","棒高跳",null,null,{"$f":"IF('入力シート(地区別)'!$H80=\"\",\"\",'入力シート(地区別)'!$H80)","v":""},{"$f":"IF($H85=\"\",\"\",IF('入力シート(地区別)'!$I80=\"\",\"\",'入力シート(地区別)'!$I80))","v":""},{"$nulls":4},{"$f":"IF($H85=\"\",\"\",IF('入力シート(地区別)'!$J80=\"\",\"\",'入力シート(地区別)'!$J80))","v":""},{"$f":"IF('入力シート(地区別)'!$H81=\"\",\"\",'入力シート(地区別)'!$H81)","v":""},{"$f":"IF($O85=\"\",\"\",IF('入力シート(地区別)'!$I81=\"\",\"\",'入力シート(地区別)'!$I81))","v":""},{"$nulls":4},{"$f":"IF('入力シート(地区別)'!$J81=\"\",\"\",'入力シート(地区別)'!$J81)","v":""},{"$f":"IF('入力シート(地区別)'!$H82=\"\",\"\",'入力シート(地区別)'!$H82)","v":""},{"$f":"IF($V85=\"\",\"\",IF('入力シート(地区別)'!$I82=\"\",\"\",'入力シート(地区別)'!$I82))","v":""},{"$nulls":4},{"$f":"IF($V85=\"\",\"\",IF('入力シート(地区別)'!$H82=\"\",\"\",'入力シート(地区別)'!$J82))","v":""}]
[{"$nulls":8},{"$f":"IF($H85=\"\",\"\",IF('入力シート(地区別)'!$K80=\"\",\"\",format_kiroku('入力シート(地区別)'!$K80,$E85)))","v":""},{"$nulls":6},{"$f":"IF($O85=\"\",\"\",IF('入力シート(地区別)'!$K81=\"\",\"\",format_kiroku('入力シート(地区別)'!$K81,$E85)))","v":""},{"$nulls":6},{"$f":"IF($V85=\"\",\"\",IF('入力シート(地区別)'!$K82=\"\",\"\",format_kiroku('入力シート(地区別)'!$K82,$E85)))","v":""}]
[]
[{"$nulls":7},{"$f":"IF('入力シート(地区別)'!$H83=\"\",\"\",'入力シート(地区別)'!$H83)","v":""},{"$f":"IF($H88=\"\",\"\",IF('入力シート(地区別)'!$I83=\"\",\"\",'入力シート(地区別)'!$I83))","v":""},{"$nulls":4},{"$f":"IF($H88=\"\",\"\",IF('入力シート(地区別)'!$J83=\"\",\"\",'入力シート(地区別)'!$J83))","v":""},{"$f":"IF('入力シート(地区別)'!$H84=\"\",\"\",'入力シート(地区別)'!$H84)","v":""},{"$f":"IF($O88=\"\",\"\",IF('入力シート(地区別)'!$I84=\"\",\"\",'入力シート(地区別)'!$I84))","v":""},{"$nulls":4},{"$f":"IF('入力シート(地区別)'!$J84=\"\",\"\",'入力シート(地区別)'!$J84)","v":""},{"$f":"IF('入力シート(地区別)'!$H85=\"\",\"\",'入力シート(地区別)'!$H85)","v":""},{"$f":"IF($V88=\"\",\"\",IF('入力シート(地区別)'!$I85=\"\",\"\",'入力シート(地区別)'!$I85))","v":""},{"$nulls":4},{"$f":"IF($V88=\"\",\"\",IF('入力シート(地区別)'!$H85=\"\",\"\",'入力シート(地区別)'!$J85))","v":""}]
[{"$nulls":8},{"$f":"IF($H88=\"\",\"\",IF('入力シート(地区別)'!$K83=\"\",\"\",format_kiroku('入力シート(地区別)'!$K83,$E85)))","v":""},{"$nulls":6},{"$f":"IF($O88=\"\",\"\",IF('入力シート(地区別)'!$K84=\"\",\"\",format_kiroku('入力シート(地区別)'!$K84,$E85)))","v":""},{"$nulls":6},{"$f":"IF($V88=\"\",\"\",IF('入力シート(地区別)'!$K85=\"\",\"\",format_kiroku('入力シート(地区別)'!$K85,$E85)))","v":""}]
[]
[{"$nulls":3},"●","走幅跳",null,null,{"$f":"IF('入力シート(地区別)'!$H86=\"\",\"\",'入力シート(地区別)'!$H86)","v":""},{"$f":"IF($H91=\"\",\"\",IF('入力シート(地区別)'!$I86=\"\",\"\",'入力シート(地区別)'!$I86))","v":""},{"$nulls":4},{"$f":"IF($H91=\"\",\"\",IF('入力シート(地区別)'!$J86=\"\",\"\",'入力シート(地区別)'!$J86))","v":""},{"$f":"IF('入力シート(地区別)'!$H87=\"\",\"\",'入力シート(地区別)'!$H87)","v":""},{"$f":"IF($O91=\"\",\"\",IF('入力シート(地区別)'!$I87=\"\",\"\",'入力シート(地区別)'!$I87))","v":""},{"$nulls":4},{"$f":"IF('入力シート(地区別)'!$J87=\"\",\"\",'入力シート(地区別)'!$J87)","v":""},{"$f":"IF('入力シート(地区別)'!$H88=\"\",\"\",'入力シート(地区別)'!$H88)","v":""},{"$f":"IF($V91=\"\",\"\",IF('入力シート(地区別)'!$I88=\"\",\"\",'入力シート(地区別)'!$I88))","v":""},{"$nulls":4},{"$f":"IF($V91=\"\",\"\",IF('入力シート(地区別)'!$H88=\"\",\"\",'入力シート(地区別)'!$J88))","v":""}]
[{"$nulls":8},{"$f":"IF($H91=\"\",\"\",IF('入力シート(地区別)'!$K86=\"\",\"\",format_kiroku('入力シート(地区別)'!$K86,$E91)))","v":""},{"$nulls":6},{"$f":"IF($O91=\"\",\"\",IF('入力シート(地区別)'!$K87=\"\",\"\",format_kiroku('入力シート(地区別)'!$K87,$E91)))","v":""},{"$nulls":6},{"$f":"IF($V91=\"\",\"\",IF('入力シート(地区別)'!$K88=\"\",\"\",format_kiroku('入力シート(地区別)'!$K88,$E91)))","v":""}]
[]
[{"$nulls":7},{"$f":"IF('入力シート(地区別)'!$H89=\"\",\"\",'入力シート(地区別)'!$H89)","v":""},{"$f":"IF($H94=\"\",\"\",IF('入力シート(地区別)'!$I89=\"\",\"\",'入力シート(地区別)'!$I89))","v":""},{"$nulls":4},{"$f":"IF($H94=\"\",\"\",IF('入力シート(地区別)'!$J89=\"\",\"\",'入力シート(地区別)'!$J89))","v":""},{"$f":"IF('入力シート(地区別)'!$H90=\"\",\"\",'入力シート(地区別)'!$H90)","v":""},{"$f":"IF($O94=\"\",\"\",IF('入力シート(地区別)'!$I90=\"\",\"\",'入力シート(地区別)'!$I90))","v":""},{"$nulls":4},{"$f":"IF('入力シート(地区別)'!$J90=\"\",\"\",'入力シート(地区別)'!$J90)","v":""},{"$f":"IF('入力シート(地区別)'!$H91=\"\",\"\",'入力シート(地区別)'!$H91)","v":""},{"$f":"IF($V94=\"\",\"\",IF('入力シート(地区別)'!$I91=\"\",\"\",'入力シート(地区別)'!$I91))","v":""},{"$nulls":4},{"$f":"IF($V94=\"\",\"\",IF('入力シート(地区別)'!$H91=\"\",\"\",'入力シート(地区別)'!$J91))","v":""},null,"振込先：",null,{"$f":"郵便局","v":0},{"$nulls":3},"郵便局"]
[{"$nulls":8},{"$f":"IF($H94=\"\",\"\",IF('入力シート(地区別)'!$K89=\"\",\"\",format_kiroku('入力シート(地区別)'!$K89,$E91)))","v":""},{"$nulls":6},{"$f":"IF($O94=\"\",\"\",IF('入力シート(地区別)'!$K90=\"\",\"\",format_kiroku('入力シート(地区別)'!$K90,$E91)))","v":""},{"$nulls":6},{"$f":"IF($V94=\"\",\"\",IF('入力シート(地区別)'!$K91=\"\",\"\",format_kiroku('入力シート(地区別)'!$K91,$E91)))","v":""}]
[]
[{"$nulls":4},"砲丸投",null,null,{"$f":"IF('入力シート(地区別)'!$H92=\"\",\"\",'入力シート(地区別)'!$H92)","v":""},{"$f":"IF($H97=\"\",\"\",IF('入力シート(地区別)'!$I92=\"\",\"\",'入力シート(地区別)'!$I92))","v":""},{"$nulls":4},{"$f":"IF($H97=\"\",\"\",IF('入力シート(地区別)'!$J92=\"\",\"\",'入力シート(地区別)'!$J92))","v":""},{"$f":"IF('入力シート(地区別)'!$H93=\"\",\"\",'入力シート(地区別)'!$H93)","v":""},{"$f":"IF($O97=\"\",\"\",IF('入力シート(地区別)'!$I93=\"\",\"\",'入力シート(地区別)'!$I93))","v":""},{"$nulls":4},{"$f":"IF('入力シート(地区別)'!$J93=\"\",\"\",'入力シート(地区別)'!$J93)","v":""},{"$f":"IF('入力シート(地区別)'!$H94=\"\",\"\",'入力シート(地区別)'!$H94)","v":""},{"$f":"IF($V97=\"\",\"\",IF('入力シート(地区別)'!$I94=\"\",\"\",'入力シート(地区別)'!$I94))","v":""},{"$nulls":4},{"$f":"IF($V97=\"\",\"\",IF('入力シート(地区別)'!$H94=\"\",\"\",'入力シート(地区別)'!$J94))","v":""},null,"振込日：",null,{"$f":"振込月","v":0},null,"月",{"$f":"振込日","v":0},null,"日"]
[{"$nulls":8},{"$f":"IF($H97=\"\",\"\",IF('入力シート(地区別)'!$K92=\"\",\"\",format_kiroku('入力シート(地区別)'!$K92,$E97)))","v":""},{"$nulls":6},{"$f":"IF($O97=\"\",\"\",IF('入力シート(地区別)'!$K93=\"\",\"\",format_kiroku('入力シート(地区別)'!$K93,$E97)))","v":""},{"$nulls":6},{"$f":"IF($V97=\"\",\"\",IF('入力シート(地区別)'!$K94=\"\",\"\",format_kiroku('入力シート(地区別)'!$K94,$E97)))","v":""}]
[]
[{"$nulls":7},{"$f":"IF('入力シート(地区別)'!$H95=\"\",\"\",'入力シート(地区別)'!$H95)","v":""},{"$f":"IF($H100=\"\",\"\",IF('入力シート(地区別)'!$I95=\"\",\"\",'入力シート(地区別)'!$I95))","v":""},{"$nulls":4},{"$f":"IF($H100=\"\",\"\",IF('入力シート(地区別)'!$J95=\"\",\"\",'入力シート(地区別)'!$J95))","v":""},{"$f":"IF('入力シート(地区別)'!$H96=\"\",\"\",'入力シート(地区別)'!$H96)","v":""},{"$f":"IF($O100=\"\",\"\",IF('入力シート(地区別)'!$I96=\"\",\"\",'入力シート(地区別)'!$I96))","v":""},{"$nulls":4},{"$f":"IF('入力シート(地区別)'!$J96=\"\",\"\",'入力シート(地区別)'!$J96)","v":""},{"$f":"IF('入力シート(地区別)'!$H97=\"\",\"\",'入力シート(地区別)'!$H97)","v":""},{"$f":"IF($V100=\"\",\"\",IF('入力シート(地区別)'!$I97=\"\",\"\",'入力シート(地区別)'!$I97))","v":""},{"$nulls":4},{"$f":"IF($V100=\"\",\"\",IF('入力シート(地区別)'!$H97=\"\",\"\",'入力シート(地区別)'!$J97))","v":""},null,"振込受領書貼り付け"]
[{"$nulls":8},{"$f":"IF($H100=\"\",\"\",IF('入力シート(地区別)'!$K95=\"\",\"\",format_kiroku('入力シート(地区別)'!$K95,$E97)))","v":""},{"$nulls":6},{"$f":"IF($O100=\"\",\"\",IF('入力シート(地区別)'!$K96=\"\",\"\",format_kiroku('入力シート(地区別)'!$K96,$E97)))","v":""},{"$nulls":6},{"$f":"IF($V100=\"\",\"\",IF('入力シート(地区別)'!$K97=\"\",\"\",format_kiroku('入力シート(地区別)'!$K97,$E97)))","v":""}]
[]
[{"$nulls":3},"●","円盤投",null,null,{"$f":"IF('入力シート(地区別)'!$H98=\"\",\"\",'入力シート(地区別)'!$H98)","v":""},{"$f":"IF($H103=\"\",\"\",IF('入力シート(地区別)'!$I98=\"\",\"\",'入力シート(地区別)'!$I98))","v":""},{"$nulls":4},{"$f":"IF($H103=\"\",\"\",IF('入力シート(地区別)'!$J98=\"\",\"\",'入力シート(地区別)'!$J98))","v":""},{"$f":"IF('入力シート(地区別)'!$H99=\"\",\"\",'入力シート(地区別)'!$H99)","v":""},{"$f":"IF($O103=\"\",\"\",IF('入力シート(地区別)'!$I99=\"\",\"\",'入力シート(地区別)'!$I99))","v":""},{"$nulls":4},{"$f":"IF('入力シート(地区別)'!$J99=\"\",\"\",'入力シート(地区別)'!$J99)","v":""},{"$f":"IF('入力シート(地区別)'!$H100=\"\",\"\",'入力シート(地区別)'!$H100)","v":""},{"$f":"IF($V103=\"\",\"\",IF('入力シート(地区別)'!$I100=\"\",\"\",'入力シート(地区別)'!$I100))","v":""},{"$nulls":4},{"$f":"IF($V103=\"\",\"\",IF('入力シート(地区別)'!$H100=\"\",\"\",'入力シート(地区別)'!$J100))","v":""}]
[{"$nulls":8},{"$f":"IF($H103=\"\",\"\",IF('入力シート(地区別)'!$K98=\"\",\"\",format_kiroku('入力シート(地区別)'!$K98,$E103)))","v":""},{"$nulls":6},{"$f":"IF($O103=\"\",\"\",IF('入力シート(地区別)'!$K99=\"\",\"\",format_kiroku('入力シート(地区別)'!$K99,$E103)))","v":""},{"$nulls":6},{"$f":"IF($V103=\"\",\"\",IF('入力シート(地区別)'!$K100=\"\",\"\",format_kiroku('入力シート(地区別)'!$K100,$E103)))","v":""}]
[]
[{"$nulls":7},{"$f":"IF('入力シート(地区別)'!$H101=\"\",\"\",'入力シート(地区別)'!$H101)","v":""},{"$f":"IF($H106=\"\",\"\",IF('入力シート(地区別)'!$I101=\"\",\"\",'入力シート(地区別)'!$I101))","v":""},{"$nulls":4},{"$f":"IF($H106=\"\",\"\",IF('入力シート(地区別)'!$J101=\"\",\"\",'入力シート(地区別)'!$J101))","v":""},{"$f":"IF('入力シート(地区別)'!$H102=\"\",\"\",'入力シート(地区別)'!$H102)","v":""},{"$f":"IF($O106=\"\",\"\",IF('入力シート(地区別)'!$I102=\"\",\"\",'入力シート(地区別)'!$I102))","v":""},{"$nulls":4},{"$f":"IF('入力シート(地区別)'!$J102=\"\",\"\",'入力シート(地区別)'!$J102)","v":""},{"$f":"IF('入力シート(地区別)'!$H103=\"\",\"\",'入力シート(地区別)'!$H103)","v":""},{"$f":"IF($V106=\"\",\"\",IF('入力シート(地区別)'!$I103=\"\",\"\",'入力シート(地区別)'!$I103))","v":""},{"$nulls":4},{"$f":"IF($V106=\"\",\"\",IF('入力シート(地区別)'!$H103=\"\",\"\",'入力シート(地区別)'!$J103))","v":""}]
[{"$nulls":8},{"$f":"IF($H106=\"\",\"\",IF('入力シート(地区別)'!$K101=\"\",\"\",format_kiroku('入力シート(地区別)'!$K101,$E103)))","v":""},{"$nulls":6},{"$f":"IF($O106=\"\",\"\",IF('入力シート(地区別)'!$K102=\"\",\"\",format_kiroku('入力シート(地区別)'!$K102,$E103)))","v":""},{"$nulls":6},{"$f":"IF($V106=\"\",\"\",IF('入力シート(地区別)'!$K103=\"\",\"\",format_kiroku('入力シート(地区別)'!$K103,$E103)))","v":""}]
[]
[{"$nulls":3},"●","四種競技",null,null,{"$f":"IF('入力シート(地区別)'!$H104=\"\",\"\",'入力シート(地区別)'!$H104)","v":""},{"$f":"IF($H109=\"\",\"\",IF('入力シート(地区別)'!$I104=\"\",\"\",'入力シート(地区別)'!$I104))","v":""},{"$nulls":4},{"$f":"IF($H109=\"\",\"\",IF('入力シート(地区別)'!$J104=\"\",\"\",'入力シート(地区別)'!$J104))","v":""},{"$f":"IF('入力シート(地区別)'!$H109=\"\",\"\",'入力シート(地区別)'!$H109)","v":""},{"$f":"IF($O109=\"\",\"\",IF('入力シート(地区別)'!$I109=\"\",\"\",'入力シート(地区別)'!$I109))","v":""},{"$nulls":4},{"$f":"IF('入力シート(地区別)'!$J109=\"\",\"\",'入力シート(地区別)'!$J109)","v":""},{"$f":"IF('入力シート(地区別)'!$H114=\"\",\"\",'入力シート(地区別)'!$H114)","v":""},{"$f":"IF($V109=\"\",\"\",IF('入力シート(地区別)'!$I114=\"\",\"\",'入力シート(地区別)'!$I114))","v":""},{"$nulls":4},{"$f":"IF($V109=\"\",\"\",IF('入力シート(地区別)'!$H114=\"\",\"\",'入力シート(地区別)'!$J114))","v":""}]
[{"$nulls":8},{"$f":"IF($H109=\"\",\"\",IF('入力シート(地区別)'!$K104=\"\",\"\",format_kiroku('入力シート(地区別)'!$K104,$E109)))","v":""},{"$nulls":6},{"$f":"IF($O109=\"\",\"\",IF('入力シート(地区別)'!$K109=\"\",\"\",format_kiroku('入力シート(地区別)'!$K109,$E109)))","v":""},{"$nulls":6},{"$f":"IF($V109=\"\",\"\",IF('入力シート(地区別)'!$K114=\"\",\"\",format_kiroku('入力シート(地区別)'!$K114,$E109)))","v":""}]
[]
[{"$nulls":7},{"$f":"IF('入力シート(地区別)'!$H119=\"\",\"\",'入力シート(地区別)'!$H119)","v":""},{"$f":"IF($H112=\"\",\"\",IF('入力シート(地区別)'!$I119=\"\",\"\",'入力シート(地区別)'!$I119))","v":""},{"$nulls":4},{"$f":"IF($H112=\"\",\"\",IF('入力シート(地区別)'!$J119=\"\",\"\",'入力シート(地区別)'!$J119))","v":""},{"$f":"IF('入力シート(地区別)'!$H124=\"\",\"\",'入力シート(地区別)'!$H124)","v":""},{"$f":"IF($O112=\"\",\"\",IF('入力シート(地区別)'!$I124=\"\",\"\",'入力シート(地区別)'!$I124))","v":""},{"$nulls":4},{"$f":"IF('入力シート(地区別)'!$J124=\"\",\"\",'入力シート(地区別)'!$J124)","v":""},{"$f":"IF('入力シート(地区別)'!$H129=\"\",\"\",'入力シート(地区別)'!$H129)","v":""},{"$f":"IF($V112=\"\",\"\",IF('入力シート(地区別)'!$I129=\"\",\"\",'入力シート(地区別)'!$I129))","v":""},{"$nulls":4},{"$f":"IF($V112=\"\",\"\",IF('入力シート(地区別)'!$H129=\"\",\"\",'入力シート(地区別)'!$J129))","v":""}]
[{"$nulls":8},{"$f":"IF($H112=\"\",\"\",IF('入力シート(地区別)'!$K119=\"\",\"\",format_kiroku('入力シート(地区別)'!$K119,$E109)))","v":""},{"$nulls":6},{"$f":"IF($O112=\"\",\"\",IF('入力シート(地区別)'!$K124=\"\",\"\",format_kiroku('入力シート(地区別)'!$K124,$E109)))","v":""},{"$nulls":6},{"$f":"IF($V112=\"\",\"\",IF('入力シート(地区別)'!$K129=\"\",\"\",format_kiroku('入力シート(地区別)'!$K129,$E109)))","v":""}]
[]
[null,null,"全学年共通",null,"４×１００ｍＲ",null,null,{"$f":"IF('入力シート(地区別)'!$H134=\"\",\"\",'入力シート(地区別)'!$H134)","v":""},{"$f":"IF($H115=\"\",\"\",IF('入力シート(地区別)'!$I134=\"\",\"\",'入力シート(地区別)'!$I134))","v":""},{"$nulls":4},{"$f":"IF($H115=\"\",\"\",IF('入力シート(地区別)'!$J134=\"\",\"\",'入力シート(地区別)'!$J134))","v":""},{"$f":"IF('入力シート(地区別)'!$H135=\"\",\"\",'入力シート(地区別)'!$H135)","v":""},{"$f":"IF($H115=\"\",\"\",IF('入力シート(地区別)'!$I135=\"\",\"\",'入力シート(地区別)'!$I135))","v":""},{"$nulls":4},{"$f":"IF($H115=\"\",\"\",IF('入力シート(地区別)'!$J135=\"\",\"\",'入力シート(地区別)'!$J135))","v":""},{"$f":"IF('入力シート(地区別)'!$H136=\"\",\"\",'入力シート(地区別)'!$H136)","v":""},{"$f":"IF($H115=\"\",\"\",IF('入力シート(地区別)'!$I136=\"\",\"\",'入力シート(地区別)'!$I136))","v":""},{"$nulls":4},{"$f":"IF($H115=\"\",\"\",IF('入力シート(地区別)'!$J136=\"\",\"\",'入力シート(地区別)'!$J136))","v":""}]
[]
[{"$nulls":4},{"$f":"IF($H115=\"\",\"\",IF('入力シート(地区別)'!$K134=\"\",\"\",format_kiroku('入力シート(地区別)'!$K134,$E115)))","v":""},null,null,{"$f":"IF('入力シート(地区別)'!$H137=\"\",\"\",'入力シート(地区別)'!$H137)","v":""},{"$f":"IF($H117=\"\",\"\",IF('入力シート(地区別)'!$I137=\"\",\"\",'入力シート(地区別)'!$I137))","v":""},{"$nulls":4},{"$f":"IF($H117=\"\",\"\",IF('入力シート(地区別)'!$J137=\"\",\"\",'入力シート(地区別)'!$J137))","v":""},{"$f":"IF('入力シート(地区別)'!$H138=\"\",\"\",'入力シート(地区別)'!$H138)","v":""},{"$f":"IF($H117=\"\",\"\",IF('入力シート(地区別)'!$I138=\"\",\"\",'入力シート(地区別)'!$I138))","v":""},{"$nulls":4},{"$f":"IF($H117=\"\",\"\",IF('入力シート(地区別)'!$J138=\"\",\"\",'入力シート(地区別)'!$J138))","v":""},{"$f":"IF('入力シート(地区別)'!$H139=\"\",\"\",'入力シート(地区別)'!$H139)","v":""},{"$f":"IF($H117=\"\",\"\",IF('入力シート(地区別)'!$I139=\"\",\"\",'入力シート(地区別)'!$I139))","v":""},{"$nulls":4},{"$f":"IF($H117=\"\",\"\",IF('入力シート(地区別)'!$J139=\"\",\"\",'入力シート(地区別)'!$J139))","v":""}]
[]
[]
[]
[null,"　以上の通り参加を認めます。また、上記の生徒は本競技大会の参加申込みに際し、大会要項記載内容を確認し、個人情報の取り扱いについて同意を得ています。"]
[]
[{"$nulls":3},{"$f":"TEXT(TODAY(),\"ggge\") & \"年度\"","v":"平成28年度"},{"$nulls":3},{"$f":"TEXT(TODAY(),\"m\")","v":"8"},null,"月",{"$f":"TEXT(TODAY(),\"d\")","v":"17"},null,"日",null,{"$f":"学校名","v":0},{"$nulls":6},"中学校",{"$nulls":3},"学校長",null,null,{"$f":"学校長","v":"　"},{"$nulls":7},"印"]

{"sheet":"地区別(女)","index":19,"n_rows":106,"n_cols":38,"rows_kept":106,"hidden":true,"merged":[[1,1,1,36],[2,1,2,36],[5,1,5,6],[5,8,5,12],[5,15,5,19],[5,22,5,26],[5,29,5,36],[6,1,100,1],[6,2,22,2],[6,3,10,3],[6,4,10,6],[6,7,7,7],[6,8,6,12],[6,13,7,13],[6,14,7,14],[6,15,6,19],[6,20,7,20],[6,21,7,21],[6,22,6,26],[6,27,7,27],[6,28,7,28],[6,29,7,36],[6,37,7,37],[7,8,7,12],[7,15,7,19],[7,22,7,26],[9,7,10,7],[9,8,9,12],[9,13,10,13],[9,14,10,14],[9,15,9,19],[9,20,10,20],[9,21,10,21],[9,22,9,26],[9,27,10,27],[9,29,9,36],[10,8,10,12],[10,15,10,19],[10,22,10,26],[10,28,12,28],[10,29,12,36],[10,37,12,37],[12,3,16,3],[12,4,16,6],[12,7,13,7],[12,8,12,12],[12,13,13,13],[12,14,13,14],[12,15,12,19],[12,20,13,20],[12,21,13,21],[12,22,12,26],[12,27,13,27],[13,8,13,12],[13,15,13,19],[13,22,13,26],[15,7,16,7],[15,8,15,12],[15,13,16,13],[15,14,16,14],[15,15,15,19],[15,20,16,20],[15,21,16,21],[15,22,15,26],[15,27,16,27],[15,29,18,29],[15,30,16,36],[16,8,16,12],[16,15,16,19],[16,22,16,26],[18,3,22,3],[18,4,22,6],[18,7,19,7],[18,8,18,12],[18,13,19,13],[18,14,19,14],[18,15,18,19],[18,20,19,20],[18,21,19,21],[18,22,18,26],[18,27,19,27],[18,33,18,36],[19,8,19,12],[19,15,19,19],[19,22,19,26],[21,7,22,7],[21,8,21,12],[21,13,22,13],[21,14,22,14],[21,15,21,19],[21,20,22,20],[21,21,22,21],[21,22,21,26],[21,27,22,27],[21,29,30,29],[21,31,21,36],[22,8,22,12],[22,15,22,19],[22,22,22,26],[22,30,30,36],[24,2,34,2],[24,3,28,3],[24,4,28,6],[24,7,25,7],[24,8,24,12],[24,13,25,13],[24,14,25,14],[24,15,24,19],[24,20,25,20],[24,21,25,21],[24,22,24,26],[24,27,25,27],[25,8,25,12],[25,15,25,19],[25,22,25,26],[27,7,28,7],[27,8,27,12],[27,13,28,13],[27,14,28,14],[27,15,27,19],[27,20,28,20],[27,21,28,21],[27,22,27,26],[27,27,28,27],[28,8,28,12],[28,15,28,19],[28,22,28,26],[30,3,34,3],[30,4,34,6],[30,7,31,7],[30,8,30,12],[30,13,31,13],[30,14,31,14],[30,15,30,19],[30,20,31,20],[30,21,31,21],[30,22,30,26],[30,27,31,27],[31,8,31,12],[31,15,31,19],[31,22,31,26],[33,7,34,7],[33,8,33,12],[33,13,34,13],[33,14,34,14],[33,15,33,19],[33,20,34,20],[33,21,34,21],[33,22,33,26],[33,27,34,27],[33,29,33,36],[34,8,34,12],[34,15,34,19],[34,22,34,26],[34,29,37,29],[34,30,37,35],[36,2,46,2],[36,3,40,3],[36,4,40,6],[36,7,37,7],[36,8,36,12],[36,13,37,13],[36,14,37,14],[36,15,36,19],[36,20,37,20],[36,21,37,21],[36,22,36,26],[36,27,37,27],[37,8,37,12],[37,15,37,19],[37,22,37,26],[39,7,40,7],[39,8,39,12],[39,13,40,13],[39,14,40,14],[39,15,39,19],[39,20,40,20],[39,21,40,21],[39,22,39,26],[39,27,40,27],[39,28,40,28],[39,29,40,29],[39,30,40,36],[40,8,40,12],[40,15,40,19],[40,22,40,26],[42,3,46,3],[42,4,46,6],[42,7,43,7],[42,8,42,12],[42,13,43,13],[42,14,43,14],[42,15,42,19],[42,20,43,20],[42,21,43,21],[42,22,42,26],[42,27,43,27],[43,8,43,12],[43,15,43,19],[43,22,43,26],[43,29,54,29],[43,30,45,36],[45,7,46,7],[45,8,45,12],[45,13,46,13],[45,14,46,14],[45,15,45,19],[45,20,46,20],[45,21,46,21],[45,22,45,26],[45,27,46,27],[46,8,46,12],[46,15,46,19],[46,22,46,26],[46,30,48,36],[48,2,95,2],[48,3,52,3],[48,4,52,6],[48,7,49,7],[48,8,48,12],[48,13,49,13],[48,14,49,14],[48,15,48,19],[48,20,49,20],[48,21,49,21],[48,22,48,26],[48,27,49,27],[49,8,49,12],[49,15,49,19],[49,22,49,26],[49,30,51,36],[51,7,52,7],[51,8,51,12],[51,13,52,13],[51,14,52,14],[51,15,51,19],[51,20,52,20],[51,21,52,21],[51,22,51,26],[51,27,52,27],[52,8,52,12],[52,15,52,19],[52,22,52,26],[52,30,54,36],[54,3,58,3],[54,4,58,6],[54,7,55,7],[54,8,54,12],[54,13,55,13],[54,14,55,14],[54,15,54,19],[54,20,55,20],[54,21,55,21],[54,22,54,26],[54,27,55,27],[55,8,55,12],[55,15,55,19],[55,22,55,26],[57,7,58,7],[57,8,57,12],[57,13,58,13],[57,14,58,14],[57,15,57,19],[57,20,58,20],[57,21,58,21],[57,22,57,26],[57,27,58,27],[58,8,58,12],[58,15,58,19],[58,22,58,26],[60,3,64,3],[60,4,64,6],[60,7,61,7],[60,8,60,12],[60,13,61,13],[60,14,61,14],[60,15,60,19],[60,20,61,20],[60,21,61,21],[60,22,60,26],[60,27,61,27],[61,8,61,12],[61,15,61,19],[61,22,61,26],[61,29,61,36],[63,7,64,7],[63,8,63,12],[63,13,64,13],[63,14,64,14],[63,15,63,19],[63,20,64,20],[63,21,64,21],[63,22,63,26],[63,27,64,27],[63,30,63,31],[63,32,63,33],[63,34,63,36],[64,8,64,12],[64,15,64,19],[64,22,64,26],[64,29,66,29],[64,30,66,31],[64,32,66,33],[64,34,66,36],[66,3,70,3],[66,4,70,6],[66,7,67,7],[66,8,66,12],[66,13,67,13],[66,14,67,14],[66,15,66,19],[66,20,67,20],[66,21,67,21],[66,22,66,26],[66,27,67,27],[66,28,67,28],[67,8,67,12],[67,15,67,19],[67,22,67,26],[67,29,69,29],[67,30,69,31],[67,32,69,33],[67,34,69,36],[69,7,70,7],[69,8,69,12],[69,13,70,13],[69,14,70,14],[69,15,69,19],[69,20,70,20],[69,21,70,21],[69,22,69,26],[69,27,70,27],[70,8,70,12],[70,15,70,19],[70,22,70,26],[70,29,72,29],[70,30,72,31],[70,32,72,33],[70,34,72,36],[72,3,76,3],[72,4,76,6],[72,7,73,7],[72,8,72,12],[72,13,73,13],[72,14,73,14],[72,15,72,19],[72,20,73,20],[72,21,73,21],[72,22,72,26],[72,27,73,27],[73,8,73,12],[73,15,73,19],[73,22,73,26],[73,29,75,29],[73,30,75,31],[73,32,75,33],[73,34,75,36],[75,7,76,7],[75,8,75,12],[75,13,76,13],[75,14,76,14],[75,15,75,19],[75,20,76,20],[75,21,76,21],[75,22,75,26],[75,27,76,27],[76,8,76,12],[76,15,76,19],[76,22,76,26],[78,3,82,3],[78,4,82,6],[78,7,79,7],[78,8,78,12],[78,13,79,13],[78,14,79,14],[78,15,78,19],[78,20,79,20],[78,21,79,21],[78,22,78,26],[78,27,79,27],[79,8,79,12],[79,15,79,19],[79,22,79,26],[81,7,82,7],[81,8,81,12],[81,13,82,13],[81,14,82,14],[81,15,81,19],[81,20,82,20],[81,21,82,21],[81,22,81,26],[81,27,82,27],[82,8,82,12],[82,15,82,19],[82,22,82,26],[85,3,89,3],[85,4,89,6],[85,7,86,7],[85,8,85,12],[85,13,86,13],[85,14,86,14],[85,15,85,19],[85,20,86,20],[85,21,86,21],[85,22,85,26],[85,27,86,27],[86,8,86,12],[86,15,86,19],[86,22,86,26],[88,7,89,7],[88,8,88,12],[88,13,89,13],[88,14,89,14],[88,15,88,19],[88,20,89,20],[88,21,89,21],[88,22,88,26],[88,27,89,27],[89,8,89,12],[89,15,89,19],[89,22,89,26],[91,3,95,3],[91,4,95,6],[91,7,92,7],[91,8,91,12],[91,13,92,13],[91,14,92,14],[91,15,91,19],[91,20,92,20],[91,21,92,21],[91,22,91,26],[91,27,92,27],[92,8,92,12],[92,15,92,19],[92,22,92,26],[94,7,95,7],[94,8,94,12],[94,13,95,13],[94,14,95,14],[94,15,94,19],[94,20,95,20],[94,21,95,21],[94,22,94,26],[94,27,95,27],[95,8,95,12],[95,15,95,19],[95,22,95,26],[97,2,100,2],[97,3,100,3],[97,4,98,6],[97,7,98,7],[97,8,98,12],[97,13,98,13],[97,14,98,14],[97,15,98,19],[97,20,98,20],[97,21,98,21],[97,22,98,26],[97,27,98,27],[99,4,100,6],[99,7,100,7],[99,8,100,12],[99,13,100,13],[99,14,100,14],[99,15,100,19],[99,20,100,20],[99,21,100,21],[99,22,100,26],[99,27,100,27],[103,1,103,36],[105,7,105,8],[105,10,105,11],[105,14,105,20],[105,25,105,27],[105,28,105,33]]}
[]
[null,{"$f":"DBCS(TEXT(TODAY(),\"ggge\")) & \"年度  第２回兵庫県中学校陸上競技記録会（地区別）\"","v":"平成２８年度  第２回兵庫県中学校陸上競技記録会（地区別）"}]
[null,"参加選手申込一覧表　（Ａ）（女子）"]
[null,"１日目実施　●"]
[]
[null,"種目",{"$nulls":5},"個人\n番号","氏名",{"$nulls":4},"学年","個人\n番号","氏名",{"$nulls":4},"学年","個人\n番号","氏名",{"$nulls":4},"学年",null,"学校番号"]
[null,"男子","１年生",null,"１００ｍ",null,null,{"$f":"IF('入力シート(地区別)'!$H140=\"\",\"\",'入力シート(地区別)'!$H140)","v":""},{"$f":"IF($H7=\"\",\"\",IF('入力シート(地区別)'!$I140=\"\",\"\",'入力シート(地区別)'!$I140))","v":""},{"$nulls":4},{"$f":"IF($H7=\"\",\"\",IF('入力シート(地区別)'!$J140=\"\",\"\",'入力シート(地区別)'!$J140))","v":""},{"$f":"IF('入力シート(地区別)'!$H141=\"\",\"\",'入力シート(地区別)'!$H141)","v":""},{"$f":"IF($O7=\"\",\"\",IF('入力シート(地区別)'!$I141=\"\",\"\",'入力シート(地区別)'!$I141))","v":""},{"$nulls":4},{"$f":"IF('入力シート(地区別)'!$J141=\"\",\"\",'入力シート(地区別)'!$J141)","v":""},{"$f":"IF('入力シート(地区別)'!$H142=\"\",\"\",'入力シート(地区別)'!$H142)","v":""},{"$f":"IF($V7=\"\",\"\",IF('入力シート(地区別)'!$I142=\"\",\"\",'入力シート(地区別)'!$I142))","v":""},{"$nulls":4},{"$f":"IF($V7=\"\",\"\",IF('入力シート(地区別)'!$H142=\"\",\"\",'入力シート(地区別)'!$J142))","v":""},"(",{"$f":"DBCS(学校番号)","v":""},{"$nulls":7},")"]
[{"$nulls":8},{"$f":"IF($H7=\"\",\"\",IF('入力シート(地区別)'!$K140=\"\",\"\",format_kiroku('入力シート(地区別)'!$K140,$E7)))","v":""},{"$nulls":6},{"$f":"IF($O7=\"\",\"\",IF('入力シート(地区別)'!$K141=\"\",\"\",format_kiroku('入力シート(地区別)'!$K141,$E7)))","v":""},{"$nulls":6},{"$f":"IF($V7=\"\",\"\",IF('入力シート(地区別)'!$K142=\"\",\"\",format_kiroku('入力シート(地区別)'!$K142,$E7)))","v":""}]
[]
[{"$nulls":7},{"$f":"IF('入力シート(地区別)'!$H143=\"\",\"\",'入力シート(地区別)'!$H143)","v":""},{"$f":"IF($H10=\"\",\"\",IF('入力シート(地区別)'!$I143=\"\",\"\",'入力シート(地区別)'!$I143))","v":""},{"$nulls":4},{"$f":"IF($H10=\"\",\"\",IF('入力シート(地区別)'!$J143=\"\",\"\",'入力シート(地区別)'!$J143))","v":""},{"$f":"IF('入力シート(地区別)'!$H144=\"\",\"\",'入力シート(地区別)'!$H144)","v":""},{"$f":"IF($O10=\"\",\"\",IF('入力シート(地区別)'!$I144=\"\",\"\",'入力シート(地区別)'!$I144))","v":""},{"$nulls":4},{"$f":"IF('入力シート(地区別)'!$J144=\"\",\"\",'入力シート(地区別)'!$J144)","v":""},{"$f":"IF('入力シート(地区別)'!$H145=\"\",\"\",'入力シート(地区別)'!$H145)","v":""},{"$f":"IF($V10=\"\",\"\",IF('入力シート(地区別)'!$I145=\"\",\"\",'入力シート(地区別)'!$I145))","v":""},{"$nulls":4},{"$f":"IF($V10=\"\",\"\",IF('入力シート(地区別)'!$H145=\"\",\"\",'入力シート(地区別)'!$J145))","v":""},null,"学校名"]
[{"$nulls":8},{"$f":"IF($H10=\"\",\"\",IF('入力シート(地区別)'!$K143=\"\",\"\",format_kiroku('入力シート(地区別)'!$K143,$E7)))","v":""},{"$nulls":6},{"$f":"IF($O10=\"\",\"\",IF('入力シート(地区別)'!$K144=\"\",\"\",format_kiroku('入力シート(地区別)'!$K144,$E7)))","v":""},{"$nulls":6},{"$f":"IF($V10=\"\",\"\",IF('入力シート(地区別)'!$K145=\"\",\"\",format_kiroku('入力シート(地区別)'!$K145,$E7)))","v":""},{"$nulls":5},"(",{"$f":"学校名&\"　中学校\"","v":"　中学校"},{"$nulls":7},")"]
[]
[{"$nulls":4},"８００ｍ",null,null,{"$f":"IF('入力シート(地区別)'!$H146=\"\",\"\",'入力シート(地区別)'!$H146)","v":""},{"$f":"IF($H13=\"\",\"\",IF('入力シート(地区別)'!$I146=\"\",\"\",'入力シート(地区別)'!$I146))","v":""},{"$nulls":4},{"$f":"IF($H13=\"\",\"\",IF('入力シート(地区別)'!$J146=\"\",\"\",'入力シート(地区別)'!$J146))","v":""},{"$f":"IF('入力シート(地区別)'!$H147=\"\",\"\",'入力シート(地区別)'!$H147)","v":""},{"$f":"IF($O13=\"\",\"\",IF('入力シート(地区別)'!$I147=\"\",\"\",'入力シート(地区別)'!$I147))","v":""},{"$nulls":4},{"$f":"IF('入力シート(地区別)'!$J147=\"\",\"\",'入力シート(地区別)'!$J147)","v":""},{"$f":"IF('入力シート(地区別)'!$H148=\"\",\"\",'入力シート(地区別)'!$H148)","v":""},{"$f":"IF($V13=\"\",\"\",IF('入力シート(地区別)'!$I148=\"\",\"\",'入力シート(地区別)'!$I148))","v":""},{"$nulls":4},{"$f":"IF($V13=\"\",\"\",IF('入力シート(地区別)'!$H148=\"\",\"\",'入力シート(地区別)'!$J148))","v":""}]
[{"$nulls":8},{"$f":"IF($H13=\"\",\"\",IF('入力シート(地区別)'!$K146=\"\",\"\",format_kiroku('入力シート(地区別)'!$K146,$E13)))","v":""},{"$nulls":6},{"$f":"IF($O13=\"\",\"\",IF('入力シート(地区別)'!$K147=\"\",\"\",format_kiroku('入力シート(地区別)'!$K147,$E13)))","v":""},{"$nulls":6},{"$f":"IF($V13=\"\",\"\",IF('入力シート(地区別)'!$K148=\"\",\"\",format_kiroku('入力シート(地区別)'!$K148,$E13)))","v":""}]
[]
[{"$nulls":7},{"$f":"IF('入力シート(地区別)'!$H149=\"\",\"\",'入力シート(地区別)'!$H149)","v":""},{"$f":"IF($H16=\"\",\"\",IF('入力シート(地区別)'!$I149=\"\",\"\",'入力シート(地区別)'!$I149))","v":""},{"$nulls":4},{"$f":"IF($H16=\"\",\"\",IF('入力シート(地区別)'!$J149=\"\",\"\",'入力シート(地区別)'!$J149))","v":""},{"$f":"IF('入力シート(地区別)'!$H150=\"\",\"\",'入力シート(地区別)'!$H150)","v":""},{"$f":"IF($O16=\"\",\"\",IF('入力シート(地区別)'!$I150=\"\",\"\",'入力シート(地区別)'!$I150))","v":""},{"$nulls":4},{"$f":"IF('入力シート(地区別)'!$J150=\"\",\"\",'入力シート(地区別)'!$J150)","v":""},{"$f":"IF('入力シート(地区別)'!$H151=\"\",\"\",'入力シート(地区別)'!$H151)","v":""},{"$f":"IF($V16=\"\",\"\",IF('入力シート(地区別)'!$I151=\"\",\"\",'入力シート(地区別)'!$I151))","v":""},{"$nulls":4},{"$f":"IF($V16=\"\",\"\",IF('入力シート(地区別)'!$H151=\"\",\"\",'入力シート(地区別)'!$J151))","v":""},null,"学校名",{"$f":"学校名","v":0}]
[{"$nulls":8},{"$f":"IF($H16=\"\",\"\",IF('入力シート(地区別)'!$K149=\"\",\"\",format_kiroku('入力シート(地区別)'!$K149,$E13)))","v":""},{"$nulls":6},{"$f":"IF($O16=\"\",\"\",IF('入力シート(地区別)'!$K150=\"\",\"\",format_kiroku('入力シート(地区別)'!$K150,$E13)))","v":""},{"$nulls":6},{"$f":"IF($V16=\"\",\"\",IF('入力シート(地区別)'!$K151=\"\",\"\",format_kiroku('入力シート(地区別)'!$K151,$E13)))","v":""}]
[]
[{"$nulls":4},"走幅跳",null,null,{"$f":"IF('入力シート(地区別)'!$H194=\"\",\"\",'入力シート(地区別)'!$H194)","v":""},{"$f":"IF($H19=\"\",\"\",IF('入力シート(地区別)'!$I194=\"\",\"\",'入力シート(地区別)'!$I194))","v":""},{"$nulls":4},{"$f":"IF($H19=\"\",\"\",IF('入力シート(地区別)'!$J194=\"\",\"\",'入力シート(地区別)'!$J194))","v":""},{"$f":"IF('入力シート(地区別)'!$H195=\"\",\"\",'入力シート(地区別)'!$H195)","v":""},{"$f":"IF($O19=\"\",\"\",IF('入力シート(地区別)'!$I195=\"\",\"\",'入力シート(地区別)'!$I195))","v":""},{"$nulls":4},{"$f":"IF('入力シート(地区別)'!$J195=\"\",\"\",'入力シート(地区別)'!$J195)","v":""},{"$f":"IF('入力シート(地区別)'!$H196=\"\",\"\",'入力シート(地区別)'!$H196)","v":""},{"$f":"IF($V19=\"\",\"\",IF('入力シート(地区別)'!$I196=\"\",\"\",'入力シート(地区別)'!$I196))","v":""},{"$nulls":4},{"$f":"IF($V19=\"\",\"\",IF('入力シート(地区別)'!$H196=\"\",\"\",'入力シート(地区別)'!$J196))","v":""},{"$nulls":5},"中学校"]
[{"$nulls":8},{"$f":"IF($H19=\"\",\"\",IF('入力シート(地区別)'!$K194=\"\",\"\",format_kiroku('入力シート(地区別)'!$K194,$E19)))","v":""},{"$nulls":6},{"$f":"IF($O19=\"\",\"\",IF('入力シート(地区別)'!$K195=\"\",\"\",format_kiroku('入力シート(地区別)'!$K195,$E19)))","v":""},{"$nulls":6},{"$f":"IF($V19=\"\",\"\",IF('入力シート(地区別)'!$K196=\"\",\"\",format_kiroku('入力シート(地区別)'!$K196,$E19)))","v":""}]
[]
[{"$nulls":7},{"$f":"IF('入力シート(地区別)'!$H197=\"\",\"\",'入力シート(地区別)'!$H197)","v":""},{"$f":"IF($H22=\"\",\"\",IF('入力シート(地区別)'!$I197=\"\",\"\",'入力シート(地区別)'!$I197))","v":""},{"$nulls":4},{"$f":"IF($H22=\"\",\"\",IF('入力シート(地区別)'!$J197=\"\",\"\",'入力シート(地区別)'!$J197))","v":""},{"$f":"IF('入力シート(地区別)'!$H198=\"\",\"\",'入力シート(地区別)'!$H198)","v":""},{"$f":"IF($O22=\"\",\"\",IF('入力シート(地区別)'!$I198=\"\",\"\",'入力シート(地区別)'!$I198))","v":""},{"$nulls":4},{"$f":"IF('入力シート(地区別)'!$J198=\"\",\"\",'入力シート(地区別)'!$J198)","v":""},{"$f":"IF('入力シート(地区別)'!$H199=\"\",\"\",'入力シート(地区別)'!$H199)","v":""},{"$f":"IF($V22=\"\",\"\",IF('入力シート(地区別)'!$I199=\"\",\"\",'入力シート(地区別)'!$I199))","v":""},{"$nulls":4},{"$f":"IF($V22=\"\",\"\",IF('入力シート(地区別)'!$H199=\"\",\"\",'入力シート(地区別)'!$J199))","v":""},null,"学校住所","〒",{"$f":"郵便番号","v":0}]
[{"$nulls":8},{"$f":"IF($H22=\"\",\"\",IF('入力シート(地区別)'!$K197=\"\",\"\",format_kiroku('入力シート(地区別)'!$K197,$E19)))","v":""},{"$nulls":6},{"$f":"IF($O22=\"\",\"\",IF('入力シート(地区別)'!$K198=\"\",\"\",format_kiroku('入力シート(地区別)'!$K198,$E19)))","v":""},{"$nulls":6},{"$f":"IF($V22=\"\",\"\",IF('入力シート(地区別)'!$K199=\"\",\"\",format_kiroku('入力シート(地区別)'!$K199,$E19)))","v":""},{"$nulls":7},{"$f":"住所","v":0}]
[]
[null,null,"２年生","●","１００ｍ",null,null,{"$f":"IF('入力シート(地区別)'!$H152=\"\",\"\",'入力シート(地区別)'!$H152)","v":""},{"$f":"IF($H25=\"\",\"\",IF('入力シート(地区別)'!$I152=\"\",\"\",'入力シート(地区別)'!$I152))","v":""},{"$nulls":4},{"$f":"IF($H25=\"\",\"\",IF('入力シート(地区別)'!$J152=\"\",\"\",'入力シート(地区別)'!$J152))","v":""},{"$f":"IF('入力シート(地区別)'!$H153=\"\",\"\",'入力シート(地区別)'!$H153)","v":""},{"$f":"IF($O25=\"\",\"\",IF('入力シート(地区別)'!$I153=\"\",\"\",'入力シート(地区別)'!$I153))","v":""},{"$nulls":4},{"$f":"IF('入力シート(地区別)'!$J153=\"\",\"\",'入力シート(地区別)'!$J153)","v":""},{"$f":"IF('入力シート(地区別)'!$H154=\"\",\"\",'入力シート(地区別)'!$H154)","v":""},{"$f":"IF($V25=\"\",\"\",IF('入力シート(地区別)'!$I154=\"\",\"\",'入力シート(地区別)'!$I154))","v":""},{"$nulls":4},{"$f":"IF($V25=\"\",\"\",IF('入力シート(地区別)'!$H154=\"\",\"\",'入力シート(地区別)'!$J154))","v":""}]
[{"$nulls":8},{"$f":"IF($H25=\"\",\"\",IF('入力シート(地区別)'!$K152=\"\",\"\",format_kiroku('入力シート(地区別)'!$K152,$E25)))","v":""},{"$nulls":6},{"$f":"IF($O25=\"\",\"\",IF('入力シート(地区別)'!$K153=\"\",\"\",format_kiroku('入力シート(地区別)'!$K153,$E25)))","v":""},{"$nulls":6},{"$f":"IF($V25=\"\",\"\",IF('入力シート(地区別)'!$K154=\"\",\"\",format_kiroku('入力シート(地区別)'!$K154,$E25)))","v":""}]
[]
[{"$nulls":7},{"$f":"IF('入力シート(地区別)'!$H155=\"\",\"\",'入力シート(地区別)'!$H155)","v":""},{"$f":"IF($H28=\"\",\"\",IF('入力シート(地区別)'!$I155=\"\",\"\",'入力シート(地区別)'!$I155))","v":""},{"$nulls":4},{"$f":"IF($H28=\"\",\"\",IF('入力シート(地区別)'!$J155=\"\",\"\",'入力シート(地区別)'!$J155))","v":""},{"$f":"IF('入力シート(地区別)'!$H156=\"\",\"\",'入力シート(地区別)'!$H156)","v":""},{"$f":"IF($O28=\"\",\"\",IF('入力シート(地区別)'!$I156=\"\",\"\",'入力シート(地区別)'!$I156))","v":""},{"$nulls":4},{"$f":"IF('入力シート(地区別)'!$J156=\"\",\"\",'入力シート(地区別)'!$J156)","v":""},{"$f":"IF('入力シート(地区別)'!$H157=\"\",\"\",'入力シート(地区別)'!$H157)","v":""},{"$f":"IF($V28=\"\",\"\",IF('入力シート(地区別)'!$I157=\"\",\"\",'入力シート(地区別)'!$I157))","v":""},{"$nulls":4},{"$f":"IF($V28=\"\",\"\",IF('入力シート(地区別)'!$H157=\"\",\"\",'入力シート(地区別)'!$J157))","v":""}]
[{"$nulls":8},{"$f":"IF($H28=\"\",\"\",IF('入力シート(地区別)'!$K155=\"\",\"\",format_kiroku('入力シート(地区別)'!$K155,$E25)))","v":""},{"$nulls":6},{"$f":"IF($O28=\"\",\"\",IF('入力シート(地区別)'!$K156=\"\",\"\",format_kiroku('入力シート(地区別)'!$K156,$E25)))","v":""},{"$nulls":6},{"$f":"IF($V28=\"\",\"\",IF('入力シート(地区別)'!$K157=\"\",\"\",format_kiroku('入力シート(地区別)'!$K157,$E25)))","v":""}]
[]
[{"$nulls":4},"８００ｍ",null,null,{"$f":"IF('入力シート(地区別)'!$H158=\"\",\"\",'入力シート(地区別)'!$H158)","v":""},{"$f":"IF($H31=\"\",\"\",IF('入力シート(地区別)'!$I158=\"\",\"\",'入力シート(地区別)'!$I158))","v":""},{"$nulls":4},{"$f":"IF($H31=\"\",\"\",IF('入力シート(地区別)'!$J158=\"\",\"\",'入力シート(地区別)'!$J158))","v":""},{"$f":"IF('入力シート(地区別)'!$H159=\"\",\"\",'入力シート(地区別)'!$H159)","v":""},{"$f":"IF($O31=\"\",\"\",IF('入力シート(地区別)'!$I159=\"\",\"\",'入力シート(地区別)'!$I159))","v":""},{"$nulls":4},{"$f":"IF('入力シート(地区別)'!$J159=\"\",\"\",'入力シート(地区別)'!$J159)","v":""},{"$f":"IF('入力シート(地区別)'!$H160=\"\",\"\",'入力シート(地区別)'!$H160)","v":""},{"$f":"IF($V31=\"\",\"\",IF('入力シート(地区別)'!$I160=\"\",\"\",'入力シート(地区別)'!$I160))","v":""},{"$nulls":4},{"$f":"IF($V31=\"\",\"\",IF('入力シート(地区別)'!$H160=\"\",\"\",'入力シート(地区別)'!$J160))","v":""}]
[{"$nulls":8},{"$f":"IF($H31=\"\",\"\",IF('入力シート(地区別)'!$K158=\"\",\"\",format_kiroku('入力シート(地区別)'!$K158,$E31)))","v":""},{"$nulls":6},{"$f":"IF($O31=\"\",\"\",IF('入力シート(地区別)'!$K159=\"\",\"\",format_kiroku('入力シート(地区別)'!$K159,$E31)))","v":""},{"$nulls":6},{"$f":"IF($V31=\"\",\"\",IF('入力シート(地区別)'!$K160=\"\",\"\",format_kiroku('入力シート(地区別)'!$K160,$E31)))","v":""}]
[]
[{"$nulls":7},{"$f":"IF('入力シート(地区別)'!$H161=\"\",\"\",'入力シート(地区別)'!$H161)","v":""},{"$f":"IF($H34=\"\",\"\",IF('入力シート(地区別)'!$I161=\"\",\"\",'入力シート(地区別)'!$I161))","v":""},{"$nulls":4},{"$f":"IF($H34=\"\",\"\",IF('入力シート(地区別)'!$J161=\"\",\"\",'入力シート(地区別)'!$J161))","v":""},{"$f":"IF('入力シート(地区別)'!$H162=\"\",\"\",'入力シート(地区別)'!$H162)","v":""},{"$f":"IF($O34=\"\",\"\",IF('入力シート(地区別)'!$I162=\"\",\"\",'入力シート(地区別)'!$I162))","v":""},{"$nulls":4},{"$f":"IF('入力シート(地区別)'!$J162=\"\",\"\",'入力シート(地区別)'!$J162)","v":""},{"$f":"IF('入力シート(地区別)'!$H163=\"\",\"\",'入力シート(地区別)'!$H163)","v":""},{"$f":"IF($V34=\"\",\"\",IF('入力シート(地区別)'!$I163=\"\",\"\",'入力シート(地区別)'!$I163))","v":""},{"$nulls":4},{"$f":"IF($V34=\"\",\"\",IF('入力シート(地区別)'!$H163=\"\",\"\",'入力シート(地区別)'!$J163))","v":""},null,"申込責任者"]
[{"$nulls":8},{"$f":"IF($H34=\"\",\"\",IF('入力シート(地区別)'!$K161=\"\",\"\",format_kiroku('入力シート(地区別)'!$K161,$E31)))","v":""},{"$nulls":6},{"$f":"IF($O34=\"\",\"\",IF('入力シート(地区別)'!$K162=\"\",\"\",format_kiroku('入力シート(地区別)'!$K162,$E31)))","v":""},{"$nulls":6},{"$f":"IF($V34=\"\",\"\",IF('入力シート(地区別)'!$K163=\"\",\"\",format_kiroku('入力シート(地区別)'!$K163,$E31)))","v":""},{"$nulls":6},"氏名",{"$f":"責任者","v":"　"}]
[]
[null,null,"３年生","●","１００ｍ",null,null,{"$f":"IF('入力シート(地区別)'!$H164=\"\",\"\",'入力シート(地区別)'!$H164)","v":""},{"$f":"IF($H37=\"\",\"\",IF('入力シート(地区別)'!$I164=\"\",\"\",'入力シート(地区別)'!$I164))","v":""},{"$nulls":4},{"$f":"IF($H37=\"\",\"\",IF('入力シート(地区別)'!$J164=\"\",\"\",'入力シート(地区別)'!$J164))","v":""},{"$f":"IF('入力シート(地区別)'!$H165=\"\",\"\",'入力シート(地区別)'!$H165)","v":""},{"$f":"IF($O37=\"\",\"\",IF('入力シート(地区別)'!$I165=\"\",\"\",'入力シート(地区別)'!$I165))","v":""},{"$nulls":4},{"$f":"IF('入力シート(地区別)'!$J165=\"\",\"\",'入力シート(地区別)'!$J165)","v":""},{"$f":"IF('入力シート(地区別)'!$H166=\"\",\"\",'入力シート(地区別)'!$H166)","v":""},{"$f":"IF($V37=\"\",\"\",IF('入力シート(地区別)'!$I166=\"\",\"\",'入力シート(地区別)'!$I166))","v":""},{"$nulls":4},{"$f":"IF($V37=\"\",\"\",IF('入力シート(地区別)'!$H166=\"\",\"\",'入力シート(地区別)'!$J166))","v":""},{"$nulls":8},"印"]
[{"$nulls":8},{"$f":"IF($H37=\"\",\"\",IF('入力シート(地区別)'!$K164=\"\",\"\",format_kiroku('入力シート(地区別)'!$K164,$E37)))","v":""},{"$nulls":6},{"$f":"IF($O37=\"\",\"\",IF('入力シート(地区別)'!$K165=\"\",\"\",format_kiroku('入力シート(地区別)'!$K165,$E37)))","v":""},{"$nulls":6},{"$f":"IF($V37=\"\",\"\",IF('入力シート(地区別)'!$K166=\"\",\"\",format_kiroku('入力シート(地区別)'!$K166,$E37)))","v":""}]
[]
[{"$nulls":7},{"$f":"IF('入力シート(地区別)'!$H167=\"\",\"\",'入力シート(地区別)'!$H167)","v":""},{"$f":"IF($H40=\"\",\"\",IF('入力シート(地区別)'!$I167=\"\",\"\",'入力シート(地区別)'!$I167))","v":""},{"$nulls":4},{"$f":"IF($H40=\"\",\"\",IF('入力シート(地区別)'!$J167=\"\",\"\",'入力シート(地区別)'!$J167))","v":""},{"$f":"IF('入力シート(地区別)'!$H168=\"\",\"\",'入力シート(地区別)'!$H168)","v":""},{"$f":"IF($O40=\"\",\"\",IF('入力シート(地区別)'!$I168=\"\",\"\",'入力シート(地区別)'!$I168))","v":""},{"$nulls":4},{"$f":"IF('入力シート(地区別)'!$J168=\"\",\"\",'入力シート(地区別)'!$J168)","v":""},{"$f":"IF('入力シート(地区別)'!$H169=\"\",\"\",'入力シート(地区別)'!$H169)","v":""},{"$f":"IF($V40=\"\",\"\",IF('入力シート(地区別)'!$I169=\"\",\"\",'入力シート(地区別)'!$I169))","v":""},{"$nulls":4},{"$f":"IF($V40=\"\",\"\",IF('入力シート(地区別)'!$H169=\"\",\"\",'入力シート(地区別)'!$J169))","v":""},null,"電話",{"$f":"責任者電話","v":"－－"}]
[{"$nulls":8},{"$f":"IF($H40=\"\",\"\",IF('入力シート(地区別)'!$K167=\"\",\"\",format_kiroku('入力シート(地区別)'!$K167,$E37)))","v":""},{"$nulls":6},{"$f":"IF($O40=\"\",\"\",IF('入力シート(地区別)'!$K168=\"\",\"\",format_kiroku('入力シート(地区別)'!$K168,$E37)))","v":""},{"$nulls":6},{"$f":"IF($V40=\"\",\"\",IF('入力シート(地区別)'!$K169=\"\",\"\",format_kiroku('入力シート(地区別)'!$K169,$E37)))","v":""}]
[]
[{"$nulls":4},"８００ｍ",null,null,{"$f":"IF('入力シート(地区別)'!$H170=\"\",\"\",'入力シート(地区別)'!$H170)","v":""},{"$f":"IF($H43=\"\",\"\",IF('入力シート(地区別)'!$I170=\"\",\"\",'入力シート(地区別)'!$I170))","v":""},{"$nulls":4},{"$f":"IF($H43=\"\",\"\",IF('入力シート(地区別)'!$J170=\"\",\"\",'入力シート(地区別)'!$J170))","v":""},{"$f":"IF('入力シート(地区別)'!$H171=\"\",\"\",'入力シート(地区別)'!$H171)","v":""},{"$f":"IF($O43=\"\",\"\",IF('入力シート(地区別)'!$I171=\"\",\"\",'入力シート(地区別)'!$I171))","v":""},{"$nulls":4},{"$f":"IF('入力シート(地区別)'!$J171=\"\",\"\",'入力シート(地区別)'!$J171)","v":""},{"$f":"IF('入力シート(地区別)'!$H172=\"\",\"\",'入力シート(地区別)'!$H172)","v":""},{"$f":"IF($V43=\"\",\"\",IF('入力シート(地区別)'!$I172=\"\",\"\",'入力シート(地区別)'!$I172))","v":""},{"$nulls":4},{"$f":"IF($V43=\"\",\"\",IF('入力シート(地区別)'!$H172=\"\",\"\",'入力シート(地区別)'!$J172))","v":""}]
[{"$nulls":8},{"$f":"IF($H43=\"\",\"\",IF('入力シート(地区別)'!$K170=\"\",\"\",format_kiroku('入力シート(地区別)'!$K170,$E43)))","v":""},{"$nulls":6},{"$f":"IF($O43=\"\",\"\",IF('入力シート(地区別)'!$K171=\"\",\"\",format_kiroku('入力シート(地区別)'!$K171,$E43)))","v":""},{"$nulls":6},{"$f":"IF($V43=\"\",\"\",IF('入力シート(地区別)'!$K172=\"\",\"\",format_kiroku('入力シート(地区別)'!$K172,$E43)))","v":""},{"$nulls":6},"審判氏名",{"$f":"IF(Sinpan1,責任者,\"\")","v":""}]
[]
[{"$nulls":7},{"$f":"IF('入力シート(地区別)'!$H173=\"\",\"\",'入力シート(地区別)'!$H173)","v":""},{"$f":"IF($H46=\"\",\"\",IF('入力シート(地区別)'!$I173=\"\",\"\",'入力シート(地区別)'!$I173))","v":""},{"$nulls":4},{"$f":"IF($H46=\"\",\"\",IF('入力シート(地区別)'!$J173=\"\",\"\",'入力シート(地区別)'!$J173))","v":""},{"$f":"IF('入力シート(地区別)'!$H174=\"\",\"\",'入力シート(地区別)'!$H174)","v":""},{"$f":"IF($O46=\"\",\"\",IF('入力シート(地区別)'!$I174=\"\",\"\",'入力シート(地区別)'!$I174))","v":""},{"$nulls":4},{"$f":"IF('入力シート(地区別)'!$J174=\"\",\"\",'入力シート(地区別)'!$J174)","v":""},{"$f":"IF('入力シート(地区別)'!$H175=\"\",\"\",'入力シート(地区別)'!$H175)","v":""},{"$f":"IF($V46=\"\",\"\",IF('入力シート(地区別)'!$I175=\"\",\"\",'入力シート(地区別)'!$I175))","v":""},{"$nulls":4},{"$f":"IF($V46=\"\",\"\",IF('入力シート(地区別)'!$H175=\"\",\"\",'入力シート(地区別)'!$J175))","v":""}]
[{"$nulls":8},{"$f":"IF($H46=\"\",\"\",IF('入力シート(地区別)'!$K173=\"\",\"\",format_kiroku('入力シート(地区別)'!$K173,$E43)))","v":""},{"$nulls":6},{"$f":"IF($O46=\"\",\"\",IF('入力シート(地区別)'!$K174=\"\",\"\",format_kiroku('入力シート(地区別)'!$K174,$E43)))","v":""},{"$nulls":6},{"$f":"IF($V46=\"\",\"\",IF('入力シート(地区別)'!$K175=\"\",\"\",format_kiroku('入力シート(地区別)'!$K175,$E43)))","v":""},{"$nulls":7},{"$f":"IF(Shinpan2,顧問１,\"\")","v":""}]
[]
[null,null,"２・３年共通",null,"２００ｍ",null,null,{"$f":"IF('入力シート(地区別)'!$H176=\"\",\"\",'入力シート(地区別)'!$H176)","v":""},{"$f":"IF($H49=\"\",\"\",IF('入力シート(地区別)'!$I176=\"\",\"\",'入力シート(地区別)'!$I176))","v":""},{"$nulls":4},{"$f":"IF($H49=\"\",\"\",IF('入力シート(地区別)'!$J176=\"\",\"\",'入力シート(地区別)'!$J176))","v":""},{"$f":"IF('入力シート(地区別)'!$H177=\"\",\"\",'入力シート(地区別)'!$H177)","v":""},{"$f":"IF($O49=\"\",\"\",IF('入力シート(地区別)'!$I177=\"\",\"\",'入力シート(地区別)'!$I177))","v":""},{"$nulls":4},{"$f":"IF('入力シート(地区別)'!$J177=\"\",\"\",'入力シート(地区別)'!$J177)","v":""},{"$f":"IF('入力シート(地区別)'!$H178=\"\",\"\",'入力シート(地区別)'!$H178)","v":""},{"$f":"IF($V49=\"\",\"\",IF('入力シート(地区別)'!$I178=\"\",\"\",'入力シート(地区別)'!$I178))","v":""},{"$nulls":4},{"$f":"IF($V49=\"\",\"\",IF('入力シート(地区別)'!$H178=\"\",\"\",'入力シート(地区別)'!$J178))","v":""}]
[{"$nulls":8},{"$f":"IF($H49=\"\",\"\",IF('入力シート(地区別)'!$K176=\"\",\"\",format_kiroku('入力シート(地区別)'!$K176,$E49)))","v":""},{"$nulls":6},{"$f":"IF($O49=\"\",\"\",IF('入力シート(地区別)'!$K177=\"\",\"\",format_kiroku('入力シート(地区別)'!$K177,$E49)))","v":""},{"$nulls":6},{"$f":"IF($V49=\"\",\"\",IF('入力シート(地区別)'!$K178=\"\",\"\",format_kiroku('入力シート(地区別)'!$K178,$E49)))","v":""},{"$nulls":7},{"$f":"IF(Shinpan2,顧問２,\"\")","v":""}]
[]
[{"$nulls":7},{"$f":"IF('入力シート(地区別)'!$H179=\"\",\"\",'入力シート(地区別)'!$H179)","v":""},{"$f":"IF($H52=\"\",\"\",IF('入力シート(地区別)'!$I179=\"\",\"\",'入力シート(地区別)'!$I179))","v":""},{"$nulls":4},{"$f":"IF($H52=\"\",\"\",IF('入力シート(地区別)'!$J179=\"\",\"\",'入力シート(地区別)'!$J179))","v":""},{"$f":"IF('入力シート(地区別)'!$H180=\"\",\"\",'入力シート(地区別)'!$H180)","v":""},{"$f":"IF($O52=\"\",\"\",IF('入力シート(地区別)'!$I180=\"\",\"\",'入力シート(地区別)'!$I180))","v":""},{"$nulls":4},{"$f":"IF('入力シート(地区別)'!$J180=\"\",\"\",'入力シート(地区別)'!$J180)","v":""},{"$f":"IF('入力シート(地区別)'!$H181=\"\",\"\",'入力シート(地区別)'!$H181)","v":""},{"$f":"IF($V52=\"\",\"\",IF('入力シート(地区別)'!$I181=\"\",\"\",'入力シート(地区別)'!$I181))","v":""},{"$nulls":4},{"$f":"IF($V52=\"\",\"\",IF('入力シート(地区別)'!$H181=\"\",\"\",'入力シート(地区別)'!$J181))","v":""}]
[{"$nulls":8},{"$f":"IF($H52=\"\",\"\",IF('入力シート(地区別)'!$K179=\"\",\"\",format_kiroku('入力シート(地区別)'!$K179,$E49)))","v":""},{"$nulls":6},{"$f":"IF($O52=\"\",\"\",IF('入力シート(地区別)'!$K180=\"\",\"\",format_kiroku('入力シート(地区別)'!$K180,$E49)))","v":""},{"$nulls":6},{"$f":"IF($V52=\"\",\"\",IF('入力シート(地区別)'!$K181=\"\",\"\",format_kiroku('入力シート(地区別)'!$K181,$E49)))","v":""},{"$nulls":7},{"$f":"IF(Shinpan2,顧問３,\"\")","v":""}]
[]
[{"$nulls":3},"●","１５００ｍ",null,null,{"$f":"IF('入力シート(地区別)'!$H182=\"\",\"\",'入力シート(地区別)'!$H182)","v":""},{"$f":"IF($H55=\"\",\"\",IF('入力シート(地区別)'!$I182=\"\",\"\",'入力シート(地区別)'!$I182))","v":""},{"$nulls":4},{"$f":"IF($H55=\"\",\"\",IF('入力シート(地区別)'!$J182=\"\",\"\",'入力シート(地区別)'!$J182))","v":""},{"$f":"IF('入力シート(地区別)'!$H183=\"\",\"\",'入力シート(地区別)'!$H183)","v":""},{"$f":"IF($O55=\"\",\"\",IF('入力シート(地区別)'!$I183=\"\",\"\",'入力シート(地区別)'!$I183))","v":""},{"$nulls":4},{"$f":"IF('入力シート(地区別)'!$J183=\"\",\"\",'入力シート(地区別)'!$J183)","v":""},{"$f":"IF('入力シート(地区別)'!$H184=\"\",\"\",'入力シート(地区別)'!$H184)","v":""},{"$f":"IF($V55=\"\",\"\",IF('入力シート(地区別)'!$I184=\"\",\"\",'入力シート(地区別)'!$I184))","v":""},{"$nulls":4},{"$f":"IF($V55=\"\",\"\",IF('入力シート(地区別)'!$H184=\"\",\"\",'入力シート(地区別)'!$J184))","v":""}]
[{"$nulls":8},{"$f":"IF($H55=\"\",\"\",IF('入力シート(地区別)'!$K182=\"\",\"\",format_kiroku('入力シート(地区別)'!$K182,$E55)))","v":""},{"$nulls":6},{"$f":"IF($O55=\"\",\"\",IF('入力シート(地区別)'!$K183=\"\",\"\",format_kiroku('入力シート(地区別)'!$K183,$E55)))","v":""},{"$nulls":6},{"$f":"IF($V55=\"\",\"\",IF('入力シート(地区別)'!$K184=\"\",\"\",format_kiroku('入力シート(地区別)'!$K184,$E55)))","v":""}]
[]
[{"$nulls":7},{"$f":"IF('入力シート(地区別)'!$H185=\"\",\"\",'入力シート(地区別)'!$H185)","v":""},{"$f":"IF($H58=\"\",\"\",IF('入力シート(地区別)'!$I185=\"\",\"\",'入力シート(地区別)'!$I185))","v":""},{"$nulls":4},{"$f":"IF($H58=\"\",\"\",IF('入力シート(地区別)'!$J185=\"\",\"\",'入力シート(地区別)'!$J185))","v":""},{"$f":"IF('入力シート(地区別)'!$H186=\"\",\"\",'入力シート(地区別)'!$H186)","v":""},{"$f":"IF($O58=\"\",\"\",IF('入力シート(地区別)'!$I186=\"\",\"\",'入力シート(地区別)'!$I186))","v":""},{"$nulls":4},{"$f":"IF('入力シート(地区別)'!$J186=\"\",\"\",'入力シート(地区別)'!$J186)","v":""},{"$f":"IF('入力シート(地区別)'!$H187=\"\",\"\",'入力シート(地区別)'!$H187)","v":""},{"$f":"IF($V58=\"\",\"\",IF('入力シート(地区別)'!$I187=\"\",\"\",'入力シート(地区別)'!$I187))","v":""},{"$nulls":4},{"$f":"IF($V58=\"\",\"\",IF('入力シート(地区別)'!$H187=\"\",\"\",'入力シート(地区別)'!$J187))","v":""}]
[{"$nulls":8},{"$f":"IF($H58=\"\",\"\",IF('入力シート(地区別)'!$K185=\"\",\"\",format_kiroku('入力シート(地区別)'!$K185,$E55)))","v":""},{"$nulls":6},{"$f":"IF($O58=\"\",\"\",IF('入力シート(地区別)'!$K186=\"\",\"\",format_kiroku('入力シート(地区別)'!$K186,$E55)))","v":""},{"$nulls":6},{"$f":"IF($V58=\"\",\"\",IF('入力シート(地区別)'!$K187=\"\",\"\",format_kiroku('入力シート(地区別)'!$K187,$E55)))","v":""}]
[]
[{"$nulls":4},"１００ｍＨ",null,null,{"$f":"IF('入力シート(地区別)'!$H188=\"\",\"\",'入力シート(地区別)'!$H188)","v":""},{"$f":"IF($H61=\"\",\"\",IF('入力シート(地区別)'!$I188=\"\",\"\",'入力シート(地区別)'!$I188))","v":""},{"$nulls":4},{"$f":"IF($H61=\"\",\"\",IF('入力シート(地区別)'!$J188=\"\",\"\",'入力シート(地区別)'!$J188))","v":""},{"$f":"IF('入力シート(地区別)'!$H189=\"\",\"\",'入力シート(地区別)'!$H189)","v":""},{"$f":"IF($O61=\"\",\"\",IF('入力シート(地区別)'!$I189=\"\",\"\",'入力シート(地区別)'!$I189))","v":""},{"$nulls":4},{"$f":"IF('入力シート(地区別)'!$J189=\"\",\"\",'入力シート(地区別)'!$J189)","v":""},{"$f":"IF('入力シート(地区別)'!$H190=\"\",\"\",'入力シート(地区別)'!$H190)","v":""},{"$f":"IF($V61=\"\",\"\",IF('入力シート(地区別)'!$I190=\"\",\"\",'入力シート(地区別)'!$I190))","v":""},{"$nulls":4},{"$f":"IF($V61=\"\",\"\",IF('入力シート(地区別)'!$H190=\"\",\"\",'入力シート(地区別)'!$J190))","v":""}]
[{"$nulls":8},{"$f":"IF($H61=\"\",\"\",IF('入力シート(地区別)'!$K188=\"\",\"\",format_kiroku('入力シート(地区別)'!$K188,$E61)))","v":""},{"$nulls":6},{"$f":"IF($O61=\"\",\"\",IF('入力シート(地区別)'!$K189=\"\",\"\",format_kiroku('入力シート(地区別)'!$K189,$E61)))","v":""},{"$nulls":6},{"$f":"IF($V61=\"\",\"\",IF('入力シート(地区別)'!$K190=\"\",\"\",format_kiroku('入力シート(地区別)'!$K190,$E61)))","v":""},{"$nulls":6},"女子申込料"]
[]
[{"$nulls":7},{"$f":"IF('入力シート(地区別)'!$H191=\"\",\"\",'入力シート(地区別)'!$H191)","v":""},{"$f":"IF($H64=\"\",\"\",IF('入力シート(地区別)'!$I191=\"\",\"\",'入力シート(地区別)'!$I191))","v":""},{"$nulls":4},{"$f":"IF($H64=\"\",\"\",IF('入力シート(地区別)'!$J191=\"\",\"\",'入力シート(地区別)'!$J191))","v":""},{"$f":"IF('入力シート(地区別)'!$H192=\"\",\"\",'入力シート(地区別)'!$H192)","v":""},{"$f":"IF($O64=\"\",\"\",IF('入力シート(地区別)'!$I192=\"\",\"\",'入力シート(地区別)'!$I192))","v":""},{"$nulls":4},{"$f":"IF('入力シート(地区別)'!$J192=\"\",\"\",'入力シート(地区別)'!$J192)","v":""},{"$f":"IF('入力シート(地区別)'!$H193=\"\",\"\",'入力シート(地区別)'!$H193)","v":""},{"$f":"IF($V64=\"\",\"\",IF('入力シート(地区別)'!$I193=\"\",\"\",'入力シート(地区別)'!$I193))","v":""},{"$nulls":4},{"$f":"IF($V64=\"\",\"\",IF('入力シート(地区別)'!$H193=\"\",\"\",'入力シート(地区別)'!$J193))","v":""},null,null,"人数",null,"金額",null,"合計"]
[{"$nulls":8},{"$f":"IF($H64=\"\",\"\",IF('入力シート(地区別)'!$K191=\"\",\"\",format_kiroku('入力シート(地区別)'!$K191,$E61)))","v":""},{"$nulls":6},{"$f":"IF($O64=\"\",\"\",IF('入力シート(地区別)'!$K192=\"\",\"\",format_kiroku('入力シート(地区別)'!$K192,$E61)))","v":""},{"$nulls":6},{"$f":"IF($V64=\"\",\"\",IF('入力シート(地区別)'!$K193=\"\",\"\",format_kiroku('入力シート(地区別)'!$K193,$E61)))","v":""},{"$nulls":6},"個人\n種目",{"$f":"COUNT(H7:H90)+COUNT(O7:O90)+COUNT(V7:V90)","v":0},null,{"v":500,"d":"¥500"},null,{"$f":"AE65*AG65","v":{"v":0,"d":"¥0"}}]
[]
[{"$nulls":4},"走高跳",null,null,{"$f":"IF('入力シート(地区別)'!$H200=\"\",\"\",'入力シート(地区別)'!$H200)","v":""},{"$f":"IF($H67=\"\",\"\",IF('入力シート(地区別)'!$I200=\"\",\"\",'入力シート(地区別)'!$I200))","v":""},{"$nulls":4},{"$f":"IF($H67=\"\",\"\",IF('入力シート(地区別)'!$J200=\"\",\"\",'入力シート(地区別)'!$J200))","v":""},{"$f":"IF('入力シート(地区別)'!$H201=\"\",\"\",'入力シート(地区別)'!$H201)","v":""},{"$f":"IF($O67=\"\",\"\",IF('入力シート(地区別)'!$I201=\"\",\"\",'入力シート(地区別)'!$I201))","v":""},{"$nulls":4},{"$f":"IF('入力シート(地区別)'!$J201=\"\",\"\",'入力シート(地区別)'!$J201)","v":""},{"$f":"IF('入力シート(地区別)'!$H202=\"\",\"\",'入力シート(地区別)'!$H202)","v":""},{"$f":"IF($V67=\"\",\"\",IF('入力シート(地区別)'!$I202=\"\",\"\",'入力シート(地区別)'!$I202))","v":""},{"$nulls":4},{"$f":"IF($V67=\"\",\"\",IF('入力シート(地区別)'!$H202=\"\",\"\",'入力シート(地区別)'!$J202))","v":""}]
[{"$nulls":8},{"$f":"IF($H67=\"\",\"\",IF('入力シート(地区別)'!$K200=\"\",\"\",format_kiroku('入力シート(地区別)'!$K200,$E67)))","v":""},{"$nulls":6},{"$f":"IF($O67=\"\",\"\",IF('入力シート(地区別)'!$K201=\"\",\"\",format_kiroku('入力シート(地区別)'!$K201,$E67)))","v":""},{"$nulls":6},{"$f":"IF($V67=\"\",\"\",IF('入力シート(地区別)'!$K202=\"\",\"\",format_kiroku('入力シート(地区別)'!$K202,$E67)))","v":""},{"$nulls":6},"四種競技",{"$f":"COUNT(H92:H96)+COUNT(O92:O96)+COUNT(V92:V96)","v":0},null,{"v":700,"d":"¥700"},null,{"v":0,"d":"¥0"}]
[]
[{"$nulls":7},{"$f":"IF('入力シート(地区別)'!$H203=\"\",\"\",'入力シート(地区別)'!$H203)","v":""},{"$f":"IF($H70=\"\",\"\",IF('入力シート(地区別)'!$I203=\"\",\"\",'入力シート(地区別)'!$I203))","v":""},{"$nulls":4},{"$f":"IF($H70=\"\",\"\",IF('入力シート(地区別)'!$J203=\"\",\"\",'入力シート(地区別)'!$J203))","v":""},{"$f":"IF('入力シート(地区別)'!$H204=\"\",\"\",'入力シート(地区別)'!$H204)","v":""},{"$f":"IF($O70=\"\",\"\",IF('入力シート(地区別)'!$I204=\"\",\"\",'入力シート(地区別)'!$I204))","v":""},{"$nulls":4},{"$f":"IF('入力シート(地区別)'!$J204=\"\",\"\",'入力シート(地区別)'!$J204)","v":""},{"$f":"IF('入力シート(地区別)'!$H205=\"\",\"\",'入力シート(地区別)'!$H205)","v":""},{"$f":"IF($V70=\"\",\"\",IF('入力シート(地区別)'!$I205=\"\",\"\",'入力シート(地区別)'!$I205))","v":""},{"$nulls":4},{"$f":"IF($V70=\"\",\"\",IF('入力シート(地区別)'!$H205=\"\",\"\",'入力シート(地区別)'!$J205))","v":""}]
[{"$nulls":8},{"$f":"IF($H70=\"\",\"\",IF('入力シート(地区別)'!$K203=\"\",\"\",format_kiroku('入力シート(地区別)'!$K203,$E67)))","v":""},{"$nulls":6},{"$f":"IF($O70=\"\",\"\",IF('入力シート(地区別)'!$K204=\"\",\"\",format_kiroku('入力シート(地区別)'!$K204,$E67)))","v":""},{"$nulls":6},{"$f":"IF($V70=\"\",\"\",IF('入力シート(地区別)'!$K205=\"\",\"\",format_kiroku('入力シート(地区別)'!$K205,$E67)))","v":""},{"$nulls":6},"リレ\nー",{"$f":"IF((COUNT(H98:H101)+COUNT(O98:O101)+COUNT(V98:V101))<2,0,1)","v":0},null,{"v":600,"d":"¥600"},null,{"v":0,"d":"¥0"}]
[]
[{"$nulls":3},"●","走幅跳",null,null,{"$f":"IF('入力シート(地区別)'!$H206=\"\",\"\",'入力シート(地区別)'!$H206)","v":""},{"$f":"IF($H73=\"\",\"\",IF('入力シート(地区別)'!$I206=\"\",\"\",'入力シート(地区別)'!$I206))","v":""},{"$nulls":4},{"$f":"IF($H73=\"\",\"\",IF('入力シート(地区別)'!$J206=\"\",\"\",'入力シート(地区別)'!$J206))","v":""},{"$f":"IF('入力シート(地区別)'!$H207=\"\",\"\",'入力シート(地区別)'!$H207)","v":""},{"$f":"IF($O73=\"\",\"\",IF('入力シート(地区別)'!$I207=\"\",\"\",'入力シート(地区別)'!$I207))","v":""},{"$nulls":4},{"$f":"IF('入力シート(地区別)'!$J207=\"\",\"\",'入力シート(地区別)'!$J207)","v":""},{"$f":"IF('入力シート(地区別)'!$H208=\"\",\"\",'入力シート(地区別)'!$H208)","v":""},{"$f":"IF($V73=\"\",\"\",IF('入力シート(地区別)'!$I208=\"\",\"\",'入力シート(地区別)'!$I208))","v":""},{"$nulls":4},{"$f":"IF($V73=\"\",\"\",IF('入力シート(地区別)'!$H208=\"\",\"\",'入力シート(地区別)'!$J208))","v":""}]
[{"$nulls":8},{"$f":"IF($H73=\"\",\"\",IF('入力シート(地区別)'!$K206=\"\",\"\",format_kiroku('入力シート(地区別)'!$K206,$E73)))","v":""},{"$nulls":6},{"$f":"IF($O73=\"\",\"\",IF('入力シート(地区別)'!$K207=\"\",\"\",format_kiroku('入力シート(地区別)'!$K207,$E73)))","v":""},{"$nulls":6},{"$f":"IF($V73=\"\",\"\",IF('入力シート(地区別)'!$K208=\"\",\"\",format_kiroku('入力シート(地区別)'!$K208,$E73)))","v":""},{"$nulls":6},"実参加数",{"$f":"J_Kazu","v":0},null,"総計",null,{"$f":"SUM(AI65:AK73)","v":{"v":0,"d":"¥0"}}]
[]
[{"$nulls":7},{"$f":"IF('入力シート(地区別)'!$H209=\"\",\"\",'入力シート(地区別)'!$H209)","v":""},{"$f":"IF($H76=\"\",\"\",IF('入力シート(地区別)'!$I209=\"\",\"\",'入力シート(地区別)'!$I209))","v":""},{"$nulls":4},{"$f":"IF($H76=\"\",\"\",IF('入力シート(地区別)'!$J209=\"\",\"\",'入力シート(地区別)'!$J209))","v":""},{"$f":"IF('入力シート(地区別)'!$H210=\"\",\"\",'入力シート(地区別)'!$H210)","v":""},{"$f":"IF($O76=\"\",\"\",IF('入力シート(地区別)'!$I210=\"\",\"\",'入力シート(地区別)'!$I210))","v":""},{"$nulls":4},{"$f":"IF('入力シート(地区別)'!$J210=\"\",\"\",'入力シート(地区別)'!$J210)","v":""},{"$f":"IF('入力シート(地区別)'!$H211=\"\",\"\",'入力シート(地区別)'!$H211)","v":""},{"$f":"IF($V76=\"\",\"\",IF('入力シート(地区別)'!$I211=\"\",\"\",'入力シート(地区別)'!$I211))","v":""},{"$nulls":4},{"$f":"IF($V76=\"\",\"\",IF('入力シート(地区別)'!$H211=\"\",\"\",'入力シート(地区別)'!$J211))","v":""}]
[{"$nulls":8},{"$f":"IF($H76=\"\",\"\",IF('入力シート(地区別)'!$K209=\"\",\"\",format_kiroku('入力シート(地区別)'!$K209,$E73)))","v":""},{"$nulls":6},{"$f":"IF($O76=\"\",\"\",IF('入力シート(地区別)'!$K210=\"\",\"\",format_kiroku('入力シート(地区別)'!$K210,$E73)))","v":""},{"$nulls":6},{"$f":"IF($V76=\"\",\"\",IF('入力シート(地区別)'!$K211=\"\",\"\",format_kiroku('入力シート(地区別)'!$K211,$E73)))","v":""}]
[]
[{"$nulls":4},"砲丸投",null,null,{"$f":"IF('入力シート(地区別)'!$H212=\"\",\"\",'入力シート(地区別)'!$H212)","v":""},{"$f":"IF($H79=\"\",\"\",IF('入力シート(地区別)'!$I212=\"\",\"\",'入力シート(地区別)'!$I212))","v":""},{"$nulls":4},{"$f":"IF($H79=\"\",\"\",IF('入力シート(地区別)'!$J212=\"\",\"\",'入力シート(地区別)'!$J212))","v":""},{"$f":"IF('入力シート(地区別)'!$H213=\"\",\"\",'入力シート(地区別)'!$H213)","v":""},{"$f":"IF($O79=\"\",\"\",IF('入力シート(地区別)'!$I213=\"\",\"\",'入力シート(地区別)'!$I213))","v":""},{"$nulls":4},{"$f":"IF('入力シート(地区別)'!$J213=\"\",\"\",'入力シート(地区別)'!$J213)","v":""},{"$f":"IF('入力シート(地区別)'!$H214=\"\",\"\",'入力シート(地区別)'!$H214)","v":""},{"$f":"IF($V79=\"\",\"\",IF('入力シート(地区別)'!$I214=\"\",\"\",'入力シート(地区別)'!$I214))","v":""},{"$nulls":4},{"$f":"IF($V79=\"\",\"\",IF('入力シート(地区別)'!$H214=\"\",\"\",'入力シート(地区別)'!$J214))","v":""}]
[{"$nulls":8},{"$f":"IF($H79=\"\",\"\",IF('入力シート(地区別)'!$K212=\"\",\"\",format_kiroku('入力シート(地区別)'!$K212,$E79)))","v":""},{"$nulls":6},{"$f":"IF($O79=\"\",\"\",IF('入力シート(地区別)'!$K213=\"\",\"\",format_kiroku('入力シート(地区別)'!$K213,$E79)))","v":""},{"$nulls":6},{"$f":"IF($V79=\"\",\"\",IF('入力シート(地区別)'!$K214=\"\",\"\",format_kiroku('入力シート(地区別)'!$K214,$E79)))","v":""}]
[]
[{"$nulls":7},{"$f":"IF('入力シート(地区別)'!$H215=\"\",\"\",'入力シート(地区別)'!$H215)","v":""},{"$f":"IF($H82=\"\",\"\",IF('入力シート(地区別)'!$I215=\"\",\"\",'入力シート(地区別)'!$I215))","v":""},{"$nulls":4},{"$f":"IF($H82=\"\",\"\",IF('入力シート(地区別)'!$J215=\"\",\"\",'入力シート(地区別)'!$J215))","v":""},{"$f":"IF('入力シート(地区別)'!$H216=\"\",\"\",'入力シート(地区別)'!$H216)","v":""},{"$f":"IF($O82=\"\",\"\",IF('入力シート(地区別)'!$I216=\"\",\"\",'入力シート(地区別)'!$I216))","v":""},{"$nulls":4},{"$f":"IF('入力シート(地区別)'!$J216=\"\",\"\",'入力シート(地区別)'!$J216)","v":""},{"$f":"IF('入力シート(地区別)'!$H217=\"\",\"\",'入力シート(地区別)'!$H217)","v":""},{"$f":"IF($V82=\"\",\"\",IF('入力シート(地区別)'!$I217=\"\",\"\",'入力シート(地区別)'!$I217))","v":""},{"$nulls":4},{"$f":"IF($V82=\"\",\"\",IF('入力シート(地区別)'!$H217=\"\",\"\",'入力シート(地区別)'!$J217))","v":""}]
[{"$nulls":8},{"$f":"IF($H82=\"\",\"\",IF('入力シート(地区別)'!$K215=\"\",\"\",format_kiroku('入力シート(地区別)'!$K215,$E79)))","v":""},{"$nulls":6},{"$f":"IF($O82=\"\",\"\",IF('入力シート(地区別)'!$K216=\"\",\"\",format_kiroku('入力シート(地区別)'!$K216,$E79)))","v":""},{"$nulls":6},{"$f":"IF($V82=\"\",\"\",IF('入力シート(地区別)'!$K217=\"\",\"\",format_kiroku('入力シート(地区別)'!$K217,$E79)))","v":""}]
[]
[]
[{"$nulls":3},"●","円盤投",null,null,{"$f":"IF('入力シート(地区別)'!$H218=\"\",\"\",'入力シート(地区別)'!$H218)","v":""},{"$f":"IF($H86=\"\",\"\",IF('入力シート(地区別)'!$I218=\"\",\"\",'入力シート(地区別)'!$I218))","v":""},{"$nulls":4},{"$f":"IF($H86=\"\",\"\",IF('入力シート(地区別)'!$J218=\"\",\"\",'入力シート(地区別)'!$J218))","v":""},{"$f":"IF('入力シート(地区別)'!$H219=\"\",\"\",'入力シート(地区別)'!$H219)","v":""},{"$f":"IF($O86=\"\",\"\",IF('入力シート(地区別)'!$I219=\"\",\"\",'入力シート(地区別)'!$I219))","v":""},{"$nulls":4},{"$f":"IF('入力シート(地区別)'!$J219=\"\",\"\",'入力シート(地区別)'!$J219)","v":""},{"$f":"IF('入力シート(地区別)'!$H220=\"\",\"\",'入力シート(地区別)'!$H220)","v":""},{"$f":"IF($V86=\"\",\"\",IF('入力シート(地区別)'!$I220=\"\",\"\",'入力シート(地区別)'!$I220))","v":""},{"$nulls":4},{"$f":"IF($V86=\"\",\"\",IF('入力シート(地区別)'!$H220=\"\",\"\",'入力シート(地区別)'!$J220))","v":""}]
[{"$nulls":8},{"$f":"IF($H86=\"\",\"\",IF('入力シート(地区別)'!$K218=\"\",\"\",format_kiroku('入力シート(地区別)'!$K218,$E86)))","v":""},{"$nulls":6},{"$f":"IF($O86=\"\",\"\",IF('入力シート(地区別)'!$K219=\"\",\"\",format_kiroku('入力シート(地区別)'!$K219,$E86)))","v":""},{"$nulls":6},{"$f":"IF($V86=\"\",\"\",IF('入力シート(地区別)'!$K220=\"\",\"\",format_kiroku('入力シート(地区別)'!$K220,$E86)))","v":""}]
[]
[{"$nulls":7},{"$f":"IF('入力シート(地区別)'!$H221=\"\",\"\",'入力シート(地区別)'!$H221)","v":""},{"$f":"IF($H89=\"\",\"\",IF('入力シート(地区別)'!$I221=\"\",\"\",'入力シート(地区別)'!$I221))","v":""},{"$nulls":4},{"$f":"IF($H89=\"\",\"\",IF('入力シート(地区別)'!$J221=\"\",\"\",'入力シート(地区別)'!$J221))","v":""},{"$f":"IF('入力シート(地区別)'!$H222=\"\",\"\",'入力シート(地区別)'!$H222)","v":""},{"$f":"IF($O89=\"\",\"\",IF('入力シート(地区別)'!$I222=\"\",\"\",'入力シート(地区別)'!$I222))","v":""},{"$nulls":4},{"$f":"IF('入力シート(地区別)'!$J222=\"\",\"\",'入力シート(地区別)'!$J222)","v":""},{"$f":"IF('入力シート(地区別)'!$H223=\"\",\"\",'入力シート(地区別)'!$H223)","v":""},{"$f":"IF($V89=\"\",\"\",IF('入力シート(地区別)'!$I223=\"\",\"\",'入力シート(地区別)'!$I223))","v":""},{"$nulls":4},{"$f":"IF($V89=\"\",\"\",IF('入力シート(地区別)'!$H223=\"\",\"\",'入力シート(地区別)'!$J223))","v":""}]
[{"$nulls":8},{"$f":"IF($H89=\"\",\"\",IF('入力シート(地区別)'!$K221=\"\",\"\",format_kiroku('入力シート(地区別)'!$K221,$E86)))","v":""},{"$nulls":6},{"$f":"IF($O89=\"\",\"\",IF('入力シート(地区別)'!$K222=\"\",\"\",format_kiroku('入力シート(地区別)'!$K222,$E86)))","v":""},{"$nulls":6},{"$f":"IF($V89=\"\",\"\",IF('入力シート(地区別)'!$K223=\"\",\"\",format_kiroku('入力シート(地区別)'!$K223,$E86)))","v":""}]
[]
[{"$nulls":3},"●","四種競技",null,null,{"$f":"IF('入力シート(地区別)'!$H224=\"\",\"\",'入力シート(地区別)'!$H224)","v":""},{"$f":"IF($H92=\"\",\"\",IF('入力シート(地区別)'!$I224=\"\",\"\",'入力シート(地区別)'!$I224))","v":""},{"$nulls":4},{"$f":"IF($H92=\"\",\"\",IF('入力シート(地区別)'!$J224=\"\",\"\",'入力シート(地区別)'!$J224))","v":""},{"$f":"IF('入力シート(地区別)'!$H229=\"\",\"\",'入力シート(地区別)'!$H229)","v":""},{"$f":"IF($O92=\"\",\"\",IF('入力シート(地区別)'!$I229=\"\",\"\",'入力シート(地区別)'!$I229))","v":""},{"$nulls":4},{"$f":"IF('入力シート(地区別)'!$J229=\"\",\"\",'入力シート(地区別)'!$J229)","v":""},{"$f":"IF('入力シート(地区別)'!$H234=\"\",\"\",'入力シート(地区別)'!$H234)","v":""},{"$f":"IF($V92=\"\",\"\",IF('入力シート(地区別)'!$I234=\"\",\"\",'入力シート(地区別)'!$I234))","v":""},{"$nulls":4},{"$f":"IF($V92=\"\",\"\",IF('入力シート(地区別)'!$H234=\"\",\"\",'入力シート(地区別)'!$J234))","v":""}]
[{"$nulls":8},{"$f":"IF($H92=\"\",\"\",IF('入力シート(地区別)'!$K224=\"\",\"\",format_kiroku('入力シート(地区別)'!$K224,$E92)))","v":""},{"$nulls":6},{"$f":"IF($O92=\"\",\"\",IF('入力シート(地区別)'!$K229=\"\",\"\",format_kiroku('入力シート(地区別)'!$K229,$E92)))","v":""},{"$nulls":6},{"$f":"IF($V92=\"\",\"\",IF('入力シート(地区別)'!$K234=\"\",\"\",format_kiroku('入力シート(地区別)'!$K234,$E92)))","v":""}]
[]
[{"$nulls":7},{"$f":"IF('入力シート(地区別)'!$H239=\"\",\"\",'入力シート(地区別)'!$H239)","v":""},{"$f":"IF($H95=\"\",\"\",IF('入力シート(地区別)'!$I239=\"\",\"\",'入力シート(地区別)'!$I239))","v":""},{"$nulls":4},{"$f":"IF($H95=\"\",\"\",IF('入力シート(地区別)'!$J239=\"\",\"\",'入力シート(地区別)'!$J239))","v":""},{"$f":"IF('入力シート(地区別)'!$H244=\"\",\"\",'入力シート(地区別)'!$H244)","v":""},{"$f":"IF($O95=\"\",\"\",IF('入力シート(地区別)'!$I244=\"\",\"\",'入力シート(地区別)'!$I244))","v":""},{"$nulls":4},{"$f":"IF('入力シート(地区別)'!$J244=\"\",\"\",'入力シート(地区別)'!$J244)","v":""},{"$f":"IF('入力シート(地区別)'!$H249=\"\",\"\",'入力シート(地区別)'!$H249)","v":""},{"$f":"IF($V95=\"\",\"\",IF('入力シート(地区別)'!$I249=\"\",\"\",'入力シート(地区別)'!$I249))","v":""},{"$nulls":4},{"$f":"IF($V95=\"\",\"\",IF('入力シート(地区別)'!$H249=\"\",\"\",'入力シート(地区別)'!$J249))","v":""}]
[{"$nulls":8},{"$f":"IF($H95=\"\",\"\",IF('入力シート(地区別)'!$K239=\"\",\"\",format_kiroku('入力シート(地区別)'!$K239,$E92)))","v":""},{"$nulls":6},{"$f":"IF($O95=\"\",\"\",IF('入力シート(地区別)'!$K244=\"\",\"\",format_kiroku('入力シート(地区別)'!$K244,$E92)))","v":""},{"$nulls":6},{"$f":"IF($V95=\"\",\"\",IF('入力シート(地区別)'!$K249=\"\",\"\",format_kiroku('入力シート(地区別)'!$K249,$E92)))","v":""}]
[]
[null,null,"全学年共通",null,"４×１００ｍＲ",null,null,{"$f":"IF('入力シート(地区別)'!$H259=\"\",\"\",'入力シート(地区別)'!$H259)","v":""},{"$f":"IF($H98=\"\",\"\",IF('入力シート(地区別)'!$I259=\"\",\"\",'入力シート(地区別)'!$I259))","v":""},{"$nulls":4},{"$f":"IF($H98=\"\",\"\",IF('入力シート(地区別)'!$J259=\"\",\"\",'入力シート(地区別)'!$J259))","v":""},{"$f":"IF('入力シート(地区別)'!$H260=\"\",\"\",'入力シート(地区別)'!$H260)","v":""},{"$f":"IF($H98=\"\",\"\",IF('入力シート(地区別)'!$I260=\"\",\"\",'入力シート(地区別)'!$I260))","v":""},{"$nulls":4},{"$f":"IF($H98=\"\",\"\",IF('入力シート(地区別)'!$J260=\"\",\"\",'入力シート(地区別)'!$J260))","v":""},{"$f":"IF('入力シート(地区別)'!$H261=\"\",\"\",'入力シート(地区別)'!$H261)","v":""},{"$f":"IF($H98=\"\",\"\",IF('入力シート(地区別)'!$I261=\"\",\"\",'入力シート(地区別)'!$I261))","v":""},{"$nulls":4},{"$f":"IF($H98=\"\",\"\",IF('入力シート(地区別)'!$J261=\"\",\"\",'入力シート(地区別)'!$J261))","v":""}]
[]
[{"$nulls":4},{"$f":"IF($H98=\"\",\"\",IF('入力シート(地区別)'!$K259=\"\",\"\",format_kiroku('入力シート(地区別)'!$K259,$E98)))","v":""},null,null,{"$f":"IF('入力シート(地区別)'!$H262=\"\",\"\",'入力シート(地区別)'!$H262)","v":""},{"$f":"IF($H100=\"\",\"\",IF('入力シート(地区別)'!$I262=\"\",\"\",'入力シート(地区別)'!$I262))","v":""},{"$nulls":4},{"$f":"IF($H100=\"\",\"\",IF('入力シート(地区別)'!$J262=\"\",\"\",'入力シート(地区別)'!$J262))","v":""},{"$f":"IF('入力シート(地区別)'!$H263=\"\",\"\",'入力シート(地区別)'!$H263)","v":""},{"$f":"IF($H100=\"\",\"\",IF('入力シート(地区別)'!$I263=\"\",\"\",'入力シート(地区別)'!$I263))","v":""},{"$nulls":4},{"$f":"IF($H100=\"\",\"\",IF('入力シート(地区別)'!$J263=\"\",\"\",'入力シート(地区別)'!$J263))","v":""},{"$f":"IF('入力シート(地区別)'!$H264=\"\",\"\",'入力シート(地区別)'!$H264)","v":""},{"$f":"IF($H100=\"\",\"\",IF('入力シート(地区別)'!$I264=\"\",\"\",'入力シート(地区別)'!$I264))","v":""},{"$nulls":4},{"$f":"IF($H100=\"\",\"\",IF('入力シート(地区別)'!$J264=\"\",\"\",'入力シート(地区別)'!$J264))","v":""}]
[]
[]
[]
[null,"　以上の通り参加を認めます。また、上記の生徒は本競技大会の参加申込みに際し、大会要項記載内容を確認し、個人情報の取り扱いについて同意を得ています。"]
[]
[{"$nulls":3},{"$f":"TEXT(TODAY(),\"ggge\") & \"年度\"","v":"平成28年度"},{"$nulls":3},{"$f":"TEXT(TODAY(),\"m\")","v":"8"},null,"月",{"$f":"TEXT(TODAY(),\"d\")","v":"17"},null,"日",null,{"$f":"学校名","v":0},{"$nulls":6},"中学校",{"$nulls":3},"学校長",null,null,{"$f":"学校長","v":"　"},{"$nulls":7},"印"]

{"sheet":"入力シート(市総体)","index":20,"n_rows":101,"n_cols":28,"rows_kept":101,"hidden":true,"merged":[[1,0,54,0],[40,10,44,12],[46,3,49,7],[46,8,46,9],[46,12,49,12],[47,8,47,9],[48,8,48,9],[49,8,49,9],[51,3,54,7],[51,8,51,9],[51,12,54,12],[52,8,52,9],[53,8,53,9],[54,8,54,9],[55,0,100,0],[86,10,90,12],[92,3,95,7],[92,8,92,9],[92,12,95,12],[93,8,93,9],[94,8,94,9],[95,8,95,9],[97,3,100,7],[97,8,97,9],[97,12,100,12],[98,8,98,9],[99,8,99,9],[100,8,100,9]]}
["性別","性別","種別コード","種別","種目コード","種目","学校番号","個人番号","氏名","学年","申込記録","計測区分","大会名",{"$nulls":12},1,2,3]
["男子","男",1,{"$f":"VLOOKUP(C2,出場種別,2,FALSE)","v":"１年"},"001",{"$f":"VLOOKUP(E2,種目コード,2,FALSE)","v":"１００ｍ"},{"$f":"学校番号","v":0},null,{"$f":"IF(H2=\"\",\"\",VLOOKUP(P2,部員データ,3,FALSE)&\"　\"&VLOOKUP(P2,部員データ,4,FALSE))","v":""},{"$f":"IF(H2=\"\",\"\",VLOOKUP(P2,部員データ,2,FALSE))","v":""},{"$nulls":4},{"$f":"VLOOKUP(E2,種目コード,3,FALSE)","v":1},{"$f":"IF(H2=\"\",\"\",B2&DBCS(TEXT(H2,\"００\")))","v":""},{"$f":"COUNTIF($P$2:$P$39,P2)+COUNTIF($P$46:$P$51,P2)","v":44},{"$f":"IF(VLOOKUP(E2,男子標準記録,C2+3,FALSE)=\"\",\"\",VLOOKUP(E2,男子標準記録,C2+3,FALSE))","v":""},{"$f":"VLOOKUP(E2,種目コード,4,FALSE)","v":10},{"$f":"IF(FIND(\".\",TEXT(K2,\"#.00\"))>3,MID(TEXT(K2,\"#.00\"),FIND(\".\",TEXT(K2,\"#.00\"))-2,2)/1,\"\")","v":""},null,{"$f":"IF(COUNTIF($P$2:P2,P2)>1,\"*\",1)","v":1},null,null,"男",{"$f":"COUNTIFS($J$2:$J$51,$Z$1,$V$2:$V$51,Z1)","v":0},{"$f":"COUNTIFS($J$2:$J$51,$AA$1,$V$2:$V$51,1)","v":0},{"$f":"COUNTIFS($J$2:$J$51,$AB$1,$V$2:$V$51,1)","v":0}]
[null,"男",1,"１年","001","１００ｍ",0,null,{"$f":"IF(H3=\"\",\"\",VLOOKUP(P3,部員データ,3,FALSE)&\"　\"&VLOOKUP(P3,部員データ,4,FALSE))","v":""},"",{"$nulls":4},1,"",44,"",10,{"$f":"IF(FIND(\".\",TEXT(K3,\"#.00\"))>3,MID(TEXT(K3,\"#.00\"),FIND(\".\",TEXT(K3,\"#.00\"))-2,2)/1,\"\")","v":""},null,{"$f":"IF(COUNTIF($P$2:P3,P3)>1,\"*\",1)","v":"*"},null,null,"女",{"$f":"COUNTIFS($J$56:$J$97,$Z$1,$V$56:$V$97,1)","v":0},{"$f":"COUNTIFS($J$56:$J$97,$AA$1,$V$56:$V$97,1)","v":0},{"$f":"COUNTIFS($J$56:$J$97,$AB$1,$V$56:$V$97,1)","v":0}]
[null,"男",1,"１年","015","１５００ｍ",0,null,{"$f":"IF(H4=\"\",\"\",VLOOKUP(P4,部員データ,3,FALSE)&\"　\"&VLOOKUP(P4,部員データ,4,FALSE))","v":""},"",{"$nulls":4},1,"",44,"",340,"",null,{"$f":"IF(COUNTIF($P$2:P4,P4)>1,\"*\",1)","v":"*"}]
[null,"男",1,"１年","015","１５００ｍ",0,null,"","",{"$nulls":4},1,"",44,"",340,"",null,{"$f":"IF(COUNTIF($P$2:P5,P5)>1,\"*\",1)","v":"*"}]
[null,"男",1,"１年","510","走高跳",0,null,"","",{"$nulls":4},2,"",44,"",2.4,"",null,{"$f":"IF(COUNTIF($P$2:P6,P6)>1,\"*\",1)","v":"*"}]
[null,"男",1,"１年","510","走高跳",0,null,"","",{"$nulls":4},2,"",44,"",2.4,"",null,{"$f":"IF(COUNTIF($P$2:P7,P7)>1,\"*\",1)","v":"*"}]
[null,"男",1,"１年","530","走幅跳",0,null,"","",{"$nulls":4},2,"",44,"",8,"",null,{"$f":"IF(COUNTIF($P$2:P8,P8)>1,\"*\",1)","v":"*"}]
[null,"男",1,{"$f":"VLOOKUP(C9,出場種別,2,FALSE)","v":"１年"},"530",{"$f":"VLOOKUP(E9,種目コード,2,FALSE)","v":"走幅跳"},0,null,{"$f":"IF(H9=\"\",\"\",VLOOKUP(P9,部員データ,3,FALSE)&\"　\"&VLOOKUP(P9,部員データ,4,FALSE))","v":""},{"$f":"IF(H9=\"\",\"\",VLOOKUP(P9,部員データ,2,FALSE))","v":""},{"$nulls":4},2,{"$f":"IF(H9=\"\",\"\",B9&DBCS(TEXT(H9,\"００\")))","v":""},44,{"$f":"IF(VLOOKUP(E9,男子標準記録,C9+3,FALSE)=\"\",\"\",VLOOKUP(E9,男子標準記録,C9+3,FALSE))","v":""},{"$f":"VLOOKUP(E9,種目コード,4,FALSE)","v":8},{"$f":"IF(FIND(\".\",TEXT(K9,\"#.00\"))>3,MID(TEXT(K9,\"#.00\"),FIND(\".\",TEXT(K9,\"#.00\"))-2,2)/1,\"\")","v":""},null,{"$f":"IF(COUNTIF($P$2:P9,P9)>1,\"*\",1)","v":"*"}]
[null,"男",1,"１年","563","砲丸投(4.0㎏)",0,null,"","",{"$nulls":4},2,"",44,"",30,"",null,{"$f":"IF(COUNTIF($P$2:P10,P10)>1,\"*\",1)","v":"*"}]
[null,"男",1,"１年","563","砲丸投(4.0㎏)",0,null,"","",{"$nulls":4},2,"",44,"",30,"",null,{"$f":"IF(COUNTIF($P$2:P11,P11)>1,\"*\",1)","v":"*"}]
[null,"男",2,"２年","001","１００ｍ",0,null,"","",{"$nulls":4},1,"",44,"",10,"",null,{"$f":"IF(COUNTIF($P$2:P12,P12)>1,\"*\",1)","v":"*"}]
[null,"男",2,"２年","001","１００ｍ",0,null,"","",{"$nulls":4},1,"",44,"",10,"",null,{"$f":"IF(COUNTIF($P$2:P13,P13)>1,\"*\",1)","v":"*"}]
[null,"男",3,"３年","001","１００ｍ",0,null,"","",{"$nulls":4},1,"",44,"",10,"",null,{"$f":"IF(COUNTIF($P$2:P14,P14)>1,\"*\",1)","v":"*"}]
[null,"男",3,"３年","001","１００ｍ",0,null,"","",{"$nulls":4},1,"",44,"",10,"",null,{"$f":"IF(COUNTIF($P$2:P15,P15)>1,\"*\",1)","v":"*"}]
[null,"男",5,"２．３年","015","１５００ｍ",0,null,"","",{"$nulls":4},1,{"$f":"IF(H16=\"\",\"\",B16&DBCS(TEXT(H16,\"００\")))","v":""},44,"",340,"",null,{"$f":"IF(COUNTIF($P$2:P16,P16)>1,\"*\",1)","v":"*"}]
[null,"男",5,"２．３年","015","１５００ｍ",0,null,"","",{"$nulls":4},1,"",44,"",340,"",null,{"$f":"IF(COUNTIF($P$2:P17,P17)>1,\"*\",1)","v":"*"}]
[null,"男",5,"２．３年","510","走高跳",0,null,"","",{"$nulls":4},2,"",44,"",2.4,"",null,{"$f":"IF(COUNTIF($P$2:P18,P18)>1,\"*\",1)","v":"*"}]
[null,"男",5,"２．３年","510","走高跳",0,null,"","",{"$nulls":4},2,"",44,"",2.4,"",null,{"$f":"IF(COUNTIF($P$2:P19,P19)>1,\"*\",1)","v":"*"}]
[null,"男",5,"２．３年","520","棒高跳",0,null,"","",{"$nulls":4},2,"",44,"",5.5,"",null,{"$f":"IF(COUNTIF($P$2:P20,P20)>1,\"*\",1)","v":"*"}]
[null,"男",5,"２．３年","520","棒高跳",0,null,"","",{"$nulls":4},2,"",44,"",5.5,"",null,{"$f":"IF(COUNTIF($P$2:P21,P21)>1,\"*\",1)","v":"*"}]
[null,"男",5,"２．３年","530","走幅跳",0,null,"","",{"$nulls":4},2,"",44,"",8,"",null,{"$f":"IF(COUNTIF($P$2:P22,P22)>1,\"*\",1)","v":"*"}]
[null,"男",5,"２．３年","530","走幅跳",0,null,"","",{"$nulls":4},2,"",44,"",8,"",null,{"$f":"IF(COUNTIF($P$2:P23,P23)>1,\"*\",1)","v":"*"}]
[null,"男",5,"２．３年","540","三段跳",0,null,"","",{"$nulls":4},2,"",44,"",17,"",null,{"$f":"IF(COUNTIF($P$2:P24,P24)>1,\"*\",1)","v":"*"}]
[null,"男",5,"２．３年","540","三段跳",0,null,"","",{"$nulls":4},2,"",44,"",17,"",null,{"$f":"IF(COUNTIF($P$2:P25,P25)>1,\"*\",1)","v":"*"}]
[null,"男",5,"２．３年","562","砲丸投(5.0㎏)",0,null,"","",{"$nulls":4},2,"",44,"",20,"",null,{"$f":"IF(COUNTIF($P$2:P26,P26)>1,\"*\",1)","v":"*"}]
[null,"男",5,"２．３年","562","砲丸投(5.0㎏)",0,null,"","",{"$nulls":4},2,"",44,"",20,"",null,{"$f":"IF(COUNTIF($P$2:P27,P27)>1,\"*\",1)","v":"*"}]
[null,"男",0,{"$f":"VLOOKUP(C28,出場種別,2,FALSE)","v":"共通"},"002",{"$f":"VLOOKUP(E28,種目コード,2,FALSE)","v":"２００ｍ"},0,null,{"$f":"IF(H28=\"\",\"\",VLOOKUP(P28,部員データ,3,FALSE)&\"　\"&VLOOKUP(P28,部員データ,4,FALSE))","v":""},{"$f":"IF(H28=\"\",\"\",VLOOKUP(P28,部員データ,2,FALSE))","v":""},{"$nulls":4},1,{"$f":"IF(H28=\"\",\"\",B28&DBCS(TEXT(H28,\"００\")))","v":""},44,{"$f":"IF(VLOOKUP(E28,男子標準記録,C28+3,FALSE)=\"\",\"\",VLOOKUP(E28,男子標準記録,C28+3,FALSE))","v":""},{"$f":"VLOOKUP(E28,種目コード,4,FALSE)","v":20.5},{"$f":"IF(FIND(\".\",TEXT(K28,\"#.00\"))>3,MID(TEXT(K28,\"#.00\"),FIND(\".\",TEXT(K28,\"#.00\"))-2,2)/1,\"\")","v":""},null,{"$f":"IF(COUNTIF($P$2:P28,P28)>1,\"*\",1)","v":"*"}]
[null,"男",0,"共通","002","２００ｍ",0,null,"","",{"$nulls":4},1,"",44,"",20.5,"",null,{"$f":"IF(COUNTIF($P$2:P29,P29)>1,\"*\",1)","v":"*"}]
[null,"男",0,{"$f":"VLOOKUP(C30,出場種別,2,FALSE)","v":"共通"},"004",{"$f":"VLOOKUP(E30,種目コード,2,FALSE)","v":"４００ｍ"},0,null,{"$f":"IF(H30=\"\",\"\",VLOOKUP(P30,部員データ,3,FALSE)&\"　\"&VLOOKUP(P30,部員データ,4,FALSE))","v":""},{"$f":"IF(H30=\"\",\"\",VLOOKUP(P30,部員データ,2,FALSE))","v":""},{"$nulls":4},1,{"$f":"IF(H30=\"\",\"\",B30&DBCS(TEXT(H30,\"００\")))","v":""},44,{"$f":"IF(VLOOKUP(E30,男子標準記録,C30+3,FALSE)=\"\",\"\",VLOOKUP(E30,男子標準記録,C30+3,FALSE))","v":""},{"$f":"VLOOKUP(E30,種目コード,4,FALSE)","v":42},{"$f":"IF(FIND(\".\",TEXT(K30,\"#.00\"))>3,MID(TEXT(K30,\"#.00\"),FIND(\".\",TEXT(K30,\"#.00\"))-2,2)/1,\"\")","v":""},null,{"$f":"IF(COUNTIF($P$2:P30,P30)>1,\"*\",1)","v":"*"}]
[null,"男",0,"共通","004","４００ｍ",0,null,"","",{"$nulls":4},1,"",44,"",42,"",null,{"$f":"IF(COUNTIF($P$2:P31,P31)>1,\"*\",1)","v":"*"}]
[null,"男",0,"共通","008","８００ｍ",0,null,"","",{"$nulls":4},1,"",44,"",150,"",null,{"$f":"IF(COUNTIF($P$2:P32,P32)>1,\"*\",1)","v":"*"}]
[null,"男",0,"共通","008","８００ｍ",0,null,"","",{"$nulls":4},1,"",44,"",150,"",null,{"$f":"IF(COUNTIF($P$2:P33,P33)>1,\"*\",1)","v":"*"}]
[null,"男",0,"共通","030","３０００ｍ",0,null,"","",{"$nulls":4},1,"",44,"",800,"",null,{"$f":"IF(COUNTIF($P$2:P34,P34)>1,\"*\",1)","v":"*"}]
[null,"男",0,"共通","030","３０００ｍ",0,null,"","",{"$nulls":4},1,"",44,"",800,"",null,{"$f":"IF(COUNTIF($P$2:P35,P35)>1,\"*\",1)","v":"*"}]
[null,"男",0,"共通","111","１１０ｍＨ",0,null,"","",{"$nulls":4},1,"",44,"",12,"",null,{"$f":"IF(COUNTIF($P$2:P36,P36)>1,\"*\",1)","v":"*"}]
[null,"男",0,"共通","111","１１０ｍＨ",0,null,"","",{"$nulls":4},1,"",44,"",12,"",null,{"$f":"IF(COUNTIF($P$2:P37,P37)>1,\"*\",1)","v":"*"}]
[null,"男",0,"共通","551","円盤投(1.5㎏)",0,null,"","",{"$nulls":4},2,"",44,"",70,"",null,{"$f":"IF(COUNTIF($P$2:P38,P38)>1,\"*\",1)","v":"*"}]
[null,"男",0,"共通","551","円盤投(1.5㎏)",0,null,"","",{"$nulls":4},2,"",44,"",70,"",null,{"$f":"IF(COUNTIF($P$2:P39,P39)>1,\"*\",1)","v":"*"}]
[null,"男",0,"共通","410","４×１００ｍＲ",0,null,"","",{"$nulls":4},1,{"$f":"IF(H40=\"\",\"\",B40&DBCS(TEXT(H40,\"００\")))","v":""},{"$f":"COUNTIF($P$40:$P$45,P40)","v":6},"",38,"",null,{"$f":"IF(COUNTIF($P$2:P40,P40)>1,\"*\",1)","v":"*"}]
[null,"男",0,"共通","410","４×１００ｍＲ",0,null,"","",{"$nulls":4},1,"",6,null,null,"",null,{"$f":"IF(COUNTIF($P$2:P41,P41)>1,\"*\",1)","v":"*"}]
[null,"男",0,"共通","410",{"$f":"VLOOKUP(E42,種目コード,2,FALSE)","v":"４×１００ｍＲ"},0,null,"","",{"$nulls":4},1,"",6,null,null,"",null,{"$f":"IF(COUNTIF($P$2:P42,P42)>1,\"*\",1)","v":"*"}]
[null,"男",0,"共通","410","４×１００ｍＲ",0,null,"","",{"$nulls":4},1,"",6,null,null,"",null,{"$f":"IF(COUNTIF($P$2:P43,P43)>1,\"*\",1)","v":"*"}]
[null,"男",0,"共通","410","４×１００ｍＲ",0,null,"","",{"$nulls":4},1,"",6,null,null,"",null,{"$f":"IF(COUNTIF($P$2:P44,P44)>1,\"*\",1)","v":"*"}]
[null,"男",0,"共通","410","４×１００ｍＲ",0,null,"","",{"$nulls":4},1,"",6,null,null,"",null,{"$f":"IF(COUNTIF($P$2:P45,P45)>1,\"*\",1)","v":"*"}]
[null,"男",0,"共通","710","男子四種競技",0,null,"","",{"$nulls":4},3,"",{"$f":"COUNTIF($P$2:$P$39,P46)+COUNTIF($P$46:$P$51,P46)","v":44},{"$f":"IF(VLOOKUP(E46,男子標準記録,C46+3,FALSE)=\"\",\"\",VLOOKUP(E46,男子標準記録,C46+3,FALSE))","v":""},{"$f":"VLOOKUP(E46,種目コード,4,FALSE)","v":3800},"",null,{"$f":"IF(COUNTIF($P$2:P46,P46)>1,\"*\",1)","v":"*"}]
[{"$nulls":8},"１１０ｍH",{"$nulls":7},{"$f":"COUNTIF($P$2:$P$9,P47)+COUNTIF($P$46:$P$51,P47)+COUNTIF($P$16:$P$27,P47)","v":0},null,null,"",null,{"$f":"IF(COUNTIF($P$2:P47,P47)>1,\"*\",1)","v":1}]
[{"$nulls":8},"砲丸投げ",{"$nulls":7},{"$f":"COUNTIF($P$2:$P$9,P48)+COUNTIF($P$46:$P$51,P48)+COUNTIF($P$16:$P$27,P48)","v":0},null,null,"",null,{"$f":"IF(COUNTIF($P$2:P48,P48)>1,\"*\",1)","v":1}]
[{"$nulls":8},"走高跳",{"$nulls":7},{"$f":"COUNTIF($P$2:$P$9,P49)+COUNTIF($P$46:$P$51,P49)+COUNTIF($P$16:$P$27,P49)","v":0},null,null,"",null,{"$f":"IF(COUNTIF($P$2:P49,P49)>1,\"*\",1)","v":1}]
[{"$nulls":8},"４００ｍ",{"$nulls":7},{"$f":"COUNTIF($P$2:$P$9,P50)+COUNTIF($P$46:$P$51,P50)+COUNTIF($P$16:$P$27,P50)","v":0},null,null,"",null,{"$f":"IF(COUNTIF($P$2:P50,P50)>1,\"*\",1)","v":1}]
[null,"男",0,{"$f":"VLOOKUP(C51,出場種別,2,FALSE)","v":"共通"},"710",{"$f":"VLOOKUP(E51,種目コード,2,FALSE)","v":"男子四種競技"},{"$f":"学校番号","v":0},null,{"$f":"IF(H51=\"\",\"\",VLOOKUP(P51,部員データ,3,FALSE)&\"　\"&VLOOKUP(P51,部員データ,4,FALSE))","v":""},{"$f":"IF(H51=\"\",\"\",VLOOKUP(P51,部員データ,2,FALSE))","v":""},{"$nulls":4},{"$f":"VLOOKUP(E51,種目コード,3,FALSE)","v":3},{"$f":"IF(H51=\"\",\"\",B51&DBCS(TEXT(H51,\"００\")))","v":""},{"$f":"COUNTIF($P$2:$P$39,P51)+COUNTIF($P$46:$P$51,P51)","v":44},{"$f":"IF(VLOOKUP(E51,男子標準記録,C51+3,FALSE)=\"\",\"\",VLOOKUP(E51,男子標準記録,C51+3,FALSE))","v":""},{"$f":"VLOOKUP(E51,種目コード,4,FALSE)","v":3800},"",null,{"$f":"IF(COUNTIF($P$2:P51,P51)>1,\"*\",1)","v":"*"}]
[{"$nulls":8},"１１０ｍH",{"$nulls":10},"",null,{"$f":"IF(COUNTIF($P$2:P52,P52)>1,\"*\",1)","v":1}]
[{"$nulls":8},"砲丸投げ",{"$nulls":10},"",null,{"$f":"IF(COUNTIF($P$2:P53,P53)>1,\"*\",1)","v":1}]
[{"$nulls":8},"走高跳",{"$nulls":10},"",null,{"$f":"IF(COUNTIF($P$2:P54,P54)>1,\"*\",1)","v":1}]
[{"$nulls":8},"４００ｍ",{"$nulls":10},"",null,{"$f":"IF(COUNTIF($P$2:P55,P55)>1,\"*\",1)","v":1}]
["女子","女",1,{"$f":"VLOOKUP(C56,出場種別,2,FALSE)","v":"１年"},"001",{"$f":"VLOOKUP(E56,種目コード,2,FALSE)","v":"１００ｍ"},{"$f":"学校番号","v":0},null,{"$f":"IF(H56=\"\",\"\",VLOOKUP(P56,部員データ,3,FALSE)&\"　\"&VLOOKUP(P56,部員データ,4,FALSE))","v":""},{"$f":"IF(H56=\"\",\"\",VLOOKUP(P56,部員データ,2,FALSE))","v":""},{"$nulls":4},{"$f":"VLOOKUP(E56,種目コード,3,FALSE)","v":1},{"$f":"IF(H56=\"\",\"\",B56&DBCS(TEXT(H56,\"００\")))","v":""},{"$f":"COUNTIF($P$56:$P$85,P56)+COUNTIF($P$92:$P$97,P56)","v":36},{"$f":"IF(VLOOKUP(E56,女子標準記録,C56+3,FALSE)=\"\",\"\",VLOOKUP(E56,女子標準記録,C56+3,FALSE))","v":""},{"$f":"VLOOKUP(E56,種目コード,6,FALSE)","v":11},"",null,{"$f":"IF(COUNTIF($P$2:P56,P56)>1,\"*\",1)","v":"*"}]
[null,"女",1,"１年","001","１００ｍ",0,null,"","",{"$nulls":4},1,"",36,"",11,"",null,{"$f":"IF(COUNTIF($P$2:P57,P57)>1,\"*\",1)","v":"*"}]
[null,"女",1,"１年","015","１５００ｍ",0,null,"","",{"$nulls":4},1,"",36,"",400,"",null,{"$f":"IF(COUNTIF($P$2:P58,P58)>1,\"*\",1)","v":"*"}]
[null,"女",1,"１年","015","１５００ｍ",0,null,"","",{"$nulls":4},1,"",36,"",400,"",null,{"$f":"IF(COUNTIF($P$2:P59,P59)>1,\"*\",1)","v":"*"}]
[null,"女",1,"１年","510","走高跳",0,null,"","",{"$nulls":4},2,"",36,"",1.9,"",null,{"$f":"IF(COUNTIF($P$2:P60,P60)>1,\"*\",1)","v":"*"}]
[null,"女",1,"１年","510","走高跳",0,null,"","",{"$nulls":4},2,"",36,"",1.9,"",null,{"$f":"IF(COUNTIF($P$2:P61,P61)>1,\"*\",1)","v":"*"}]
[null,"女",1,{"$f":"VLOOKUP(C62,出場種別,2,FALSE)","v":"１年"},"530",{"$f":"VLOOKUP(E62,種目コード,2,FALSE)","v":"走幅跳"},0,null,{"$f":"IF(H62=\"\",\"\",VLOOKUP(P62,部員データ,3,FALSE)&\"　\"&VLOOKUP(P62,部員データ,4,FALSE))","v":""},{"$f":"IF(H62=\"\",\"\",VLOOKUP(P62,部員データ,2,FALSE))","v":""},{"$nulls":4},2,{"$f":"IF(H62=\"\",\"\",B62&DBCS(TEXT(H62,\"００\")))","v":""},36,{"$f":"IF(VLOOKUP(E62,女子標準記録,C62+3,FALSE)=\"\",\"\",VLOOKUP(E62,女子標準記録,C62+3,FALSE))","v":""},{"$f":"VLOOKUP(E62,種目コード,6,FALSE)","v":7},{"$f":"IF(FIND(\".\",TEXT(K62,\"#.00\"))>3,MID(TEXT(K62,\"#.00\"),FIND(\".\",TEXT(K62,\"#.00\"))-2,2)/1,\"\")","v":""},null,{"$f":"IF(COUNTIF($P$2:P62,P62)>1,\"*\",1)","v":"*"}]
[null,"女",1,"１年","530","走幅跳",0,null,"","",{"$nulls":4},2,"",36,"",7,"",null,{"$f":"IF(COUNTIF($P$2:P63,P63)>1,\"*\",1)","v":"*"}]
[null,"女",1,"１年","560","砲丸投",0,null,"","",{"$nulls":4},2,"",36,"",18,"",null,{"$f":"IF(COUNTIF($P$2:P64,P64)>1,\"*\",1)","v":"*"}]
[null,"女",1,"１年","560","砲丸投",0,null,"","",{"$nulls":4},2,"",36,"",18,"",null,{"$f":"IF(COUNTIF($P$2:P65,P65)>1,\"*\",1)","v":"*"}]
[null,"女",2,"２年","001","１００ｍ",0,null,"","",{"$nulls":4},1,"",36,"",11,"",null,{"$f":"IF(COUNTIF($P$2:P66,P66)>1,\"*\",1)","v":"*"}]
[null,"女",2,"２年","001","１００ｍ",0,null,"","",{"$nulls":4},1,"",36,"",11,"",null,{"$f":"IF(COUNTIF($P$2:P67,P67)>1,\"*\",1)","v":"*"}]
[null,"女",3,"３年","001","１００ｍ",0,null,"","",{"$nulls":4},1,"",36,"",11,"",null,{"$f":"IF(COUNTIF($P$2:P68,P68)>1,\"*\",1)","v":"*"}]
[null,"女",3,{"$f":"VLOOKUP(C69,出場種別,2,FALSE)","v":"３年"},"001",{"$f":"VLOOKUP(E69,種目コード,2,FALSE)","v":"１００ｍ"},0,null,{"$f":"IF(H69=\"\",\"\",VLOOKUP(P69,部員データ,3,FALSE)&\"　\"&VLOOKUP(P69,部員データ,4,FALSE))","v":""},{"$f":"IF(H69=\"\",\"\",VLOOKUP(P69,部員データ,2,FALSE))","v":""},{"$nulls":4},1,{"$f":"IF(H69=\"\",\"\",B69&DBCS(TEXT(H69,\"００\")))","v":""},36,{"$f":"IF(VLOOKUP(E69,女子標準記録,C69+3,FALSE)=\"\",\"\",VLOOKUP(E69,女子標準記録,C69+3,FALSE))","v":""},{"$f":"VLOOKUP(E69,種目コード,6,FALSE)","v":11},"",null,{"$f":"IF(COUNTIF($P$2:P69,P69)>1,\"*\",1)","v":"*"}]
[null,"女",5,{"$f":"VLOOKUP(C70,出場種別,2,FALSE)","v":"２．３年"},"015",{"$f":"VLOOKUP(E70,種目コード,2,FALSE)","v":"１５００ｍ"},0,null,{"$f":"IF(H70=\"\",\"\",VLOOKUP(P70,部員データ,3,FALSE)&\"　\"&VLOOKUP(P70,部員データ,4,FALSE))","v":""},{"$f":"IF(H70=\"\",\"\",VLOOKUP(P70,部員データ,2,FALSE))","v":""},{"$nulls":4},1,"",36,{"$f":"IF(VLOOKUP(E70,女子標準記録,C70+3,FALSE)=\"\",\"\",VLOOKUP(E70,女子標準記録,C70+3,FALSE))","v":""},{"$f":"VLOOKUP(E70,種目コード,6,FALSE)","v":400},{"$f":"IF(FIND(\".\",TEXT(K70,\"#.00\"))>3,MID(TEXT(K70,\"#.00\"),FIND(\".\",TEXT(K70,\"#.00\"))-2,2)/1,\"\")","v":""},null,{"$f":"IF(COUNTIF($P$2:P70,P70)>1,\"*\",1)","v":"*"}]
[null,"女",5,"２．３年","015","１５００ｍ",0,null,"","",{"$nulls":4},1,"",36,"",400,"",null,{"$f":"IF(COUNTIF($P$2:P71,P71)>1,\"*\",1)","v":"*"}]
[null,"女",5,"２．３年","510","走高跳",0,null,"","",{"$nulls":4},2,"",36,"",1.9,"",null,{"$f":"IF(COUNTIF($P$2:P72,P72)>1,\"*\",1)","v":"*"}]
[null,"女",5,"２．３年","510","走高跳",0,null,"","",{"$nulls":4},2,"",36,"",1.9,"",null,{"$f":"IF(COUNTIF($P$2:P73,P73)>1,\"*\",1)","v":"*"}]
[null,"女",5,"２．３年","530","走幅跳",0,null,"","",{"$nulls":4},2,"",36,"",7,"",null,{"$f":"IF(COUNTIF($P$2:P74,P74)>1,\"*\",1)","v":"*"}]
[null,"女",5,"２．３年","530","走幅跳",0,null,"","",{"$nulls":4},2,"",36,"",7,"",null,{"$f":"IF(COUNTIF($P$2:P75,P75)>1,\"*\",1)","v":"*"}]
[null,"女",5,"２．３年","560","砲丸投",0,null,"","",{"$nulls":4},2,"",36,"",18,"",null,{"$f":"IF(COUNTIF($P$2:P76,P76)>1,\"*\",1)","v":"*"}]
[null,"女",5,{"$f":"VLOOKUP(C77,出場種別,2,FALSE)","v":"２．３年"},"560",{"$f":"VLOOKUP(E77,種目コード,2,FALSE)","v":"砲丸投"},0,null,{"$f":"IF(H77=\"\",\"\",VLOOKUP(P77,部員データ,3,FALSE)&\"　\"&VLOOKUP(P77,部員データ,4,FALSE))","v":""},{"$f":"IF(H77=\"\",\"\",VLOOKUP(P77,部員データ,2,FALSE))","v":""},{"$nulls":4},2,"",36,{"$f":"IF(VLOOKUP(E77,女子標準記録,C77+3,FALSE)=\"\",\"\",VLOOKUP(E77,女子標準記録,C77+3,FALSE))","v":""},{"$f":"VLOOKUP(E77,種目コード,6,FALSE)","v":18},"",null,{"$f":"IF(COUNTIF($P$2:P77,P77)>1,\"*\",1)","v":"*"}]
[null,"女",0,{"$f":"VLOOKUP(C78,出場種別,2,FALSE)","v":"共通"},"002",{"$f":"VLOOKUP(E78,種目コード,2,FALSE)","v":"２００ｍ"},0,null,{"$f":"IF(H78=\"\",\"\",VLOOKUP(P78,部員データ,3,FALSE)&\"　\"&VLOOKUP(P78,部員データ,4,FALSE))","v":""},{"$f":"IF(H78=\"\",\"\",VLOOKUP(P78,部員データ,2,FALSE))","v":""},{"$nulls":4},1,"",36,{"$f":"IF(VLOOKUP(E78,女子標準記録,C78+3,FALSE)=\"\",\"\",VLOOKUP(E78,女子標準記録,C78+3,FALSE))","v":""},{"$f":"VLOOKUP(E78,種目コード,6,FALSE)","v":22},"",null,{"$f":"IF(COUNTIF($P$2:P78,P78)>1,\"*\",1)","v":"*"}]
[null,"女",0,{"$f":"VLOOKUP(C79,出場種別,2,FALSE)","v":"共通"},"002",{"$f":"VLOOKUP(E79,種目コード,2,FALSE)","v":"２００ｍ"},0,null,{"$f":"IF(H79=\"\",\"\",VLOOKUP(P79,部員データ,3,FALSE)&\"　\"&VLOOKUP(P79,部員データ,4,FALSE))","v":""},{"$f":"IF(H79=\"\",\"\",VLOOKUP(P79,部員データ,2,FALSE))","v":""},{"$nulls":4},1,{"$f":"IF(H79=\"\",\"\",B79&DBCS(TEXT(H79,\"００\")))","v":""},36,{"$f":"IF(VLOOKUP(E79,女子標準記録,C79+3,FALSE)=\"\",\"\",VLOOKUP(E79,女子標準記録,C79+3,FALSE))","v":""},{"$f":"VLOOKUP(E79,種目コード,6,FALSE)","v":22},{"$f":"IF(FIND(\".\",TEXT(K79,\"#.00\"))>3,MID(TEXT(K79,\"#.00\"),FIND(\".\",TEXT(K79,\"#.00\"))-2,2)/1,\"\")","v":""},null,{"$f":"IF(COUNTIF($P$2:P79,P79)>1,\"*\",1)","v":"*"}]
[null,"女",0,"共通","008","８００ｍ",0,null,"","",{"$nulls":4},1,"",36,"",200,"",null,{"$f":"IF(COUNTIF($P$2:P80,P80)>1,\"*\",1)","v":"*"}]
[null,"女",0,"共通","008","８００ｍ",0,null,"","",{"$nulls":4},1,"",36,"",200,"",null,{"$f":"IF(COUNTIF($P$2:P81,P81)>1,\"*\",1)","v":"*"}]
[null,"女",0,"共通","110","１００ｍＨ",0,null,"","",{"$nulls":4},1,"",36,"",12,"",null,{"$f":"IF(COUNTIF($P$2:P82,P82)>1,\"*\",1)","v":"*"}]
[null,"女",0,"共通","110","１００ｍＨ",0,null,"","",{"$nulls":4},1,"",36,"",12,"",null,{"$f":"IF(COUNTIF($P$2:P83,P83)>1,\"*\",1)","v":"*"}]
[null,"女",0,"共通","550","円盤投",0,null,"","",{"$nulls":4},2,"",36,"",45,"",null,{"$f":"IF(COUNTIF($P$2:P84,P84)>1,\"*\",1)","v":"*"}]
[null,"女",0,{"$f":"VLOOKUP(C85,出場種別,2,FALSE)","v":"共通"},"550",{"$f":"VLOOKUP(E85,種目コード,2,FALSE)","v":"円盤投"},0,null,{"$f":"IF(H85=\"\",\"\",VLOOKUP(P85,部員データ,3,FALSE)&\"　\"&VLOOKUP(P85,部員データ,4,FALSE))","v":""},{"$f":"IF(H85=\"\",\"\",VLOOKUP(P85,部員データ,2,FALSE))","v":""},{"$nulls":4},2,{"$f":"IF(H85=\"\",\"\",B85&DBCS(TEXT(H85,\"００\")))","v":""},36,{"$f":"IF(VLOOKUP(E85,女子標準記録,C85+3,FALSE)=\"\",\"\",VLOOKUP(E85,女子標準記録,C85+3,FALSE))","v":""},{"$f":"VLOOKUP(E85,種目コード,6,FALSE)","v":45},"",null,{"$f":"IF(COUNTIF($P$2:P85,P85)>1,\"*\",1)","v":"*"}]
[null,"女",0,"共通","410","４×１００ｍＲ",0,null,"","",{"$nulls":4},1,{"$f":"IF(H86=\"\",\"\",B86&DBCS(TEXT(H86,\"００\")))","v":""},{"$f":"COUNTIF($P$86:$P$91,P86)","v":6},"",{"$f":"VLOOKUP(E86,種目コード,6,FALSE)","v":41},"",null,{"$f":"IF(COUNTIF($P$2:P86,P86)>1,\"*\",1)","v":"*"}]
[null,"女",0,"共通","410","４×１００ｍＲ",0,null,"","",{"$nulls":4},1,{"$f":"IF(H87=\"\",\"\",B87&DBCS(TEXT(H87,\"００\")))","v":""},6,"",null,"",null,{"$f":"IF(COUNTIF($P$2:P87,P87)>1,\"*\",1)","v":"*"}]
[null,"女",0,"共通","410","４×１００ｍＲ",0,null,"","",{"$nulls":4},1,{"$f":"IF(H88=\"\",\"\",B88&DBCS(TEXT(H88,\"００\")))","v":""},6,"",null,"",null,{"$f":"IF(COUNTIF($P$2:P88,P88)>1,\"*\",1)","v":"*"}]
[null,"女",0,"共通","410","４×１００ｍＲ",0,null,"","",{"$nulls":4},1,{"$f":"IF(H89=\"\",\"\",B89&DBCS(TEXT(H89,\"００\")))","v":""},6,"",null,"",null,{"$f":"IF(COUNTIF($P$2:P89,P89)>1,\"*\",1)","v":"*"}]
[null,"女",0,"共通","410","４×１００ｍＲ",0,null,"","",{"$nulls":4},1,{"$f":"IF(H90=\"\",\"\",B90&DBCS(TEXT(H90,\"００\")))","v":""},6,"",null,"",null,{"$f":"IF(COUNTIF($P$2:P90,P90)>1,\"*\",1)","v":"*"}]
[null,"女",0,"共通","410","４×１００ｍＲ",0,null,"","",{"$nulls":4},1,"",6,"",null,"",null,{"$f":"IF(COUNTIF($P$2:P91,P91)>1,\"*\",1)","v":"*"}]
[null,"女",0,"共通","760","女子四種競技",0,null,"","",{"$nulls":4},3,"",{"$f":"COUNTIF($P$56:$P$85,P92)+COUNTIF($P$92:$P$97,P92)","v":36},"",{"$f":"VLOOKUP(E92,種目コード,6,FALSE)","v":4000},{"$f":"IF(FIND(\".\",TEXT(K92,\"#.00\"))>3,MID(TEXT(K92,\"#.00\"),FIND(\".\",TEXT(K92,\"#.00\"))-2,2)/1,\"\")","v":""},null,{"$f":"IF(COUNTIF($P$2:P92,P92)>1,\"*\",1)","v":"*"}]
[{"$nulls":8},"１００ｍH",{"$nulls":10},"",null,{"$f":"IF(COUNTIF($P$2:P93,P93)>1,\"*\",1)","v":1}]
[{"$nulls":8},"走高跳",{"$nulls":10},"",null,{"$f":"IF(COUNTIF($P$2:P94,P94)>1,\"*\",1)","v":1}]
[{"$nulls":8},"砲丸投",{"$nulls":10},"",null,{"$f":"IF(COUNTIF($P$2:P95,P95)>1,\"*\",1)","v":1}]
[{"$nulls":8},"２００ｍ",{"$nulls":10},"",null,{"$f":"IF(COUNTIF($P$2:P96,P96)>1,\"*\",1)","v":1}]
[null,"女",0,{"$f":"VLOOKUP(C97,出場種別,2,FALSE)","v":"共通"},"760",{"$f":"VLOOKUP(E97,種目コード,2,FALSE)","v":"女子四種競技"},{"$f":"学校番号","v":0},null,{"$f":"IF(H97=\"\",\"\",VLOOKUP(P97,部員データ,3,FALSE)&\"　\"&VLOOKUP(P97,部員データ,4,FALSE))","v":""},{"$f":"IF(H97=\"\",\"\",VLOOKUP(P97,部員データ,2,FALSE))","v":""},{"$nulls":4},{"$f":"VLOOKUP(E97,種目コード,3,FALSE)","v":3},"",{"$f":"COUNTIF($P$56:$P$85,P97)+COUNTIF($P$92:$P$97,P97)","v":36},{"$f":"IF(VLOOKUP(E97,女子標準記録,C97+3,FALSE)=\"\",\"\",VLOOKUP(E97,女子標準記録,C97+3,FALSE))","v":""},{"$f":"VLOOKUP(E97,種目コード,6,FALSE)","v":4000},"",null,{"$f":"IF(COUNTIF($P$2:P97,P97)>1,\"*\",1)","v":"*"}]
[{"$nulls":8},"１００ｍH",{"$nulls":10},""]
[{"$nulls":8},"走高跳",{"$nulls":10},""]
[{"$nulls":8},"砲丸投",{"$nulls":10},""]
[{"$nulls":8},"２００ｍ",{"$nulls":10},""]

{"sheet":"市総体","index":21,"n_rows":63,"n_cols":150,"rows_kept":63,"hidden":true,"merged":[[1,1,1,135],[2,1,2,135],[3,117,3,135],[4,2,4,25],[4,74,4,83],[4,87,4,98],[4,102,4,111],[4,114,4,133],[5,2,5,25],[5,71,5,94],[7,1,7,10],[7,11,7,16],[7,17,7,34],[7,35,7,38],[7,39,7,44],[7,45,7,62],[7,63,7,66],[7,70,7,79],[7,80,7,85],[7,86,7,103],[7,104,7,107],[7,108,7,113],[7,114,7,131],[7,132,7,135],[8,1,8,10],[8,11,9,16],[8,17,8,34],[8,35,9,38],[8,39,9,44],[8,45,8,62],[8,63,9,66],[8,70,8,79],[8,80,9,85],[8,86,8,103],[8,104,9,107],[8,108,9,113],[8,114,8,131],[8,132,9,135],[9,1,9,10],[9,17,9,34],[9,45,9,62],[9,70,9,79],[9,86,9,103],[9,114,9,131],[10,1,10,10],[10,11,11,16],[10,17,10,34],[10,35,11,38],[10,39,11,44],[10,45,10,62],[10,63,11,66],[10,70,10,79],[10,80,11,85],[10,86,10,103],[10,104,11,107],[10,108,11,113],[10,114,10,131],[10,132,11,135],[11,1,11,10],[11,17,11,34],[11,45,11,62],[11,70,11,79],[11,86,11,103],[11,114,11,131],[12,1,12,10],[12,11,13,16],[12,17,12,34],[12,35,13,38],[12,39,13,44],[12,45,12,62],[12,63,13,66],[12,70,12,79],[12,80,13,85],[12,86,12,103],[12,104,13,107],[12,108,13,113],[12,114,12,131],[12,132,13,135],[13,1,13,10],[13,17,13,34],[13,45,13,62],[13,70,13,79],[13,86,13,103],[13,114,13,131],[14,1,14,10],[14,11,15,16],[14,17,14,34],[14,35,15,38],[14,39,15,44],[14,45,14,62],[14,63,15,66],[14,70,14,79],[14,80,15,85],[14,86,14,103],[14,104,15,107],[14,108,15,113],[14,114,14,131],[14,132,15,135],[15,1,15,10],[15,17,15,34],[15,45,15,62],[15,70,15,79],[15,86,15,103],[15,114,15,131],[16,1,16,10],[16,11,17,16],[16,17,16,34],[16,35,17,38],[16,39,17,44],[16,45,16,62],[16,63,17,66],[16,70,16,79],[16,80,17,85],[16,86,16,103],[16,104,17,107],[16,108,17,113],[16,114,16,131],[16,132,17,135],[17,1,17,10],[17,17,17,34],[17,45,17,62],[17,70,17,79],[17,86,17,103],[17,114,17,131],[18,1,18,10],[18,11,19,16],[18,17,18,34],[18,35,19,38],[18,39,19,44],[18,45,18,62],[18,63,19,66],[18,70,18,79],[18,80,19,85],[18,86,18,103],[18,104,19,107],[18,108,19,113],[18,114,18,131],[18,132,19,135],[19,1,19,10],[19,17,19,34],[19,45,19,62],[19,70,19,79],[19,86,19,103],[19,114,19,131],[20,1,20,10],[20,11,21,16],[20,17,20,34],[20,35,21,38],[20,39,21,44],[20,45,20,62],[20,63,21,66],[20,70,20,79],[20,80,21,85],[20,86,20,103],[20,104,21,107],[20,108,21,113],[20,114,20,131],[20,132,21,135],[21,1,21,10],[21,17,21,34],[21,45,21,62],[21,70,21,79],[21,86,21,103],[21,114,21,131],[22,1,22,10],[22,11,23,16],[22,17,22,34],[22,35,23,38],[22,39,23,44],[22,45,22,62],[22,63,23,66],[22,70,22,79],[22,80,23,85],[22,86,22,103],[22,104,23,107],[22,108,23,113],[22,114,22,131],[22,132,23,135],[23,1,23,10],[23,17,23,34],[23,45,23,62],[23,70,23,79],[23,86,23,103],[23,114,23,131],[24,1,24,10],[24,11,25,16],[24,17,24,34],[24,35,25,38],[24,39,25,44],[24,45,24,62],[24,63,25,66],[24,70,24,79],[24,80,25,85],[24,86,24,103],[24,104,25,107],[24,108,25,113],[24,114,24,131],[24,132,25,135],[25,1,25,10],[25,17,25,34],[25,45,25,62],[25,70,25,79],[25,86,25,103],[25,114,25,131],[26,1,26,10],[26,11,27,16],[26,17,26,34],[26,35,27,38],[26,39,27,44],[26,45,26,62],[26,63,27,66],[26,70,26,79],[26,80,27,85],[26,86,26,103],[26,104,27,107],[26,108,27,113],[26,114,26,131],[26,132,27,135],[27,1,27,10],[27,17,27,34],[27,45,27,62],[27,70,27,79],[27,86,27,103],[27,114,27,131],[28,1,28,10],[28,11,29,16],[28,17,28,34],[28,35,29,38],[28,39,29,44],[28,45,28,62],[28,63,29,66],[28,70,28,79],[28,80,29,85],[28,86,28,103],[28,104,29,107],[28,108,29,113],[28,114,28,131],[28,132,29,135],[29,1,29,10],[29,17,29,34],[29,45,29,62],[29,70,29,79],[29,86,29,103],[29,114,29,131],[30,1,30,10],[30,11,31,16],[30,17,30,34],[30,35,31,38],[30,39,31,44],[30,45,30,62],[30,63,31,66],[30,70,30,79],[30,80,31,85],[30,86,30,103],[30,104,31,107],[30,108,31,113],[30,114,30,131],[30,132,31,135],[31,1,31,10],[31,17,31,34],[31,45,31,62],[31,70,31,79],[31,86,31,103],[31,114,31,131],[32,1,32,10],[32,11,33,16],[32,17,32,34],[32,35,33,38],[32,39,33,44],[32,45,32,62],[32,63,33,66],[32,70,32,79],[32,80,33,85],[32,86,32,103],[32,104,33,107],[32,108,33,113],[32,114,32,131],[32,132,33,135],[33,1,33,10],[33,17,33,34],[33,45,33,62],[33,70,33,79],[33,86,33,103],[33,114,33,131],[34,1,34,10],[34,11,35,16],[34,17,34,34],[34,35,35,38],[34,39,35,44],[34,45,34,62],[34,63,35,66],[34,70,34,79],[34,80,35,85],[34,86,34,103],[34,104,35,107],[34,108,35,113],[34,114,34,131],[34,132,35,135],[35,1,35,10],[35,17,35,34],[35,45,35,62],[35,70,35,79],[35,86,35,103],[35,114,35,131],[36,1,36,10],[36,11,37,16],[36,17,36,34],[36,35,37,38],[36,39,37,44],[36,45,36,62],[36,63,37,66],[36,70,36,79],[36,80,37,85],[36,86,36,103],[36,104,37,107],[36,108,37,113],[36,114,36,131],[36,132,37,135],[37,1,37,10],[37,17,37,34],[37,45,37,62],[37,70,37,79],[37,86,37,103],[37,114,37,131],[38,1,38,10],[38,11,39,16],[38,17,38,34],[38,35,39,38],[38,39,39,44],[38,45,38,62],[38,63,39,66],[38,70,38,79],[38,80,39,85],[38,86,38,103],[38,104,39,107],[38,108,39,113],[38,114,38,131],[38,132,39,135],[39,1,39,10],[39,17,39,34],[39,45,39,62],[39,70,39,79],[39,86,39,103],[39,114,39,131],[40,1,40,10],[40,11,41,16],[40,17,40,34],[40,35,41,38],[40,39,41,44],[40,45,40,62],[40,63,41,66],[40,70,44,79],[40,80,41,85],[40,86,41,103],[40,104,41,107],[40,108,41,113],[40,114,41,131],[40,132,41,135],[41,1,41,10],[41,17,41,34],[41,45,41,62],[42,1,42,10],[42,11,43,16],[42,17,42,34],[42,35,43,38],[42,39,43,44],[42,45,42,62],[42,63,43,66],[42,80,43,85],[42,86,43,103],[42,104,43,107],[42,108,43,113],[42,114,43,131],[42,132,43,135],[43,1,43,10],[43,17,43,34],[43,45,43,62],[44,1,44,10],[44,11,45,16],[44,17,44,34],[44,35,45,38],[44,39,45,44],[44,45,44,62],[44,63,45,66],[44,80,45,85],[44,86,45,103],[44,104,45,107],[44,108,45,113],[44,114,45,131],[44,132,45,135],[45,1,45,10],[45,17,45,34],[45,45,45,62],[45,70,45,79],[46,1,46,10],[46,11,47,16],[46,17,46,34],[46,35,47,38],[46,39,47,44],[46,45,46,62],[46,63,47,66],[47,1,47,10],[47,17,47,34],[47,45,47,62],[48,1,52,10],[48,11,49,16],[48,17,49,34],[48,35,49,38],[48,39,49,44],[48,45,49,62],[48,63,49,66],[48,70,49,79],[48,80,49,90],[48,91,49,101],[48,102,49,112],[48,113,49,123],[48,124,49,135],[50,11,51,16],[50,17,51,34],[50,35,51,38],[50,39,51,44],[50,45,51,62],[50,63,51,66],[50,70,51,79],[50,80,51,90],[50,91,51,101],[50,102,51,112],[50,113,51,123],[50,124,53,135],[52,11,53,16],[52,17,53,34],[52,35,53,38],[52,39,53,44],[52,45,53,62],[52,63,53,66],[52,70,53,79],[52,80,53,90],[52,91,53,101],[52,102,53,112],[52,113,53,123],[53,1,53,10],[56,4,56,132],[58,4,58,9],[58,10,58,15],[58,16,58,19],[58,20,58,27],[58,28,58,31],[58,32,58,41],[58,42,58,45],[58,48,58,67],[58,69,58,79],[58,81,58,91],[58,94,58,125],[58,128,58,132],[60,2,60,9],[60,11,60,12],[60,13,60,37],[60,38,60,39],[60,42,60,43],[60,44,60,68],[60,69,60,70],[60,73,60,74],[60,75,60,99],[60,100,60,101],[60,104,60,105],[60,106,60,130],[60,131,60,132],[62,3,62,133]]}
[1,2,3,4,5,6,7,8,9,10,11,12,13,14,15,16,17,18,19,20,21,22,23,24,25,26,27,28,29,30,31,32,33,34,35,36,37,38,39,40,41,42,43,44,45,46,47,48,49,50,51,52,53,54,55,56,57,58,59,60,61,62,63,64,65,66,67,68,69,70,71,72,73,74,75,76,77,78,79,80,81,82,83,84,85,86,87,88,89,90,91,92,93,94,95,96,97,98,99,100,101,102,103,104,105,106,107,108,109,110,111,112,113,114,115,116,117,118,119,120,121,122,123,124,125,126,127,128,129,130,131,132,133,134,135,136,137,138,139,140]
[null,"平成28年度　姫路市中学校総合体育大会\n第60回　姫路市中学校陸上競技大会　参加申込書"]
[null,"第60回　姫路市中学校陸上競技大会　参加申込書"]
[{"$nulls":117},"2部提出"]
[null,null,"（ 共通　＝ １，２，３年種目 ）",{"$nulls":71},"学校番号",{"$nulls":11},"（",{"$f":"学校番号","v":0},{"$nulls":11},"）",null,null,"学 校 名",{"$nulls":10},"（",{"$f":"略称","v":0},{"$nulls":20},"）"]
[null,null,"〔 男　子 〕　１日目実施●",{"$nulls":68},"〔 女　子 〕　１日目実施●"]
[]
[null,"種　目",{"$nulls":9},"個人\n番号",{"$nulls":5},"名　　前",{"$nulls":17},"学年",{"$nulls":3},"個人\n番号",{"$nulls":5},"名　　前",{"$nulls":17},"学年",{"$nulls":6},"種　目",{"$nulls":9},"個人\n番号",{"$nulls":5},"名　　前",{"$nulls":17},"学年",{"$nulls":3},"個人\n番号",{"$nulls":5},"名　　前",{"$nulls":17},"学年"]
[null,"１年",{"$nulls":9},{"$f":"IF('入力シート(市総体)'!$H2=\"\",\"\",'入力シート(市総体)'!$H2)","v":""},{"$nulls":5},{"$f":"IF(L9<>\"\",VLOOKUP(EM9,部員データ,3,FALSE)&\"  \"&VLOOKUP(EM9,部員データ,4,FALSE),\"\")","v":""},{"$nulls":17},1,{"$nulls":3},{"$f":"IF('入力シート(市総体)'!$H3=\"\",\"\",'入力シート(市総体)'!$H3)","v":""},{"$nulls":5},{"$f":"IF(AN9<>\"\",VLOOKUP(EN9,部員データ,3,FALSE)&\"  \"&VLOOKUP(EN9,部員データ,4,FALSE),\"\")","v":""},{"$nulls":17},1,{"$nulls":6},"１年",{"$nulls":9},{"$f":"IF('入力シート(市総体)'!$H56=\"\",\"\",'入力シート(市総体)'!$H56)","v":""},{"$nulls":5},{"$f":"IF(CC9<>\"\",VLOOKUP(EO9,部員データ,3,FALSE)&\"  \"&VLOOKUP(EO9,部員データ,4,FALSE),\"\")","v":""},{"$nulls":17},1,{"$nulls":3},{"$f":"IF('入力シート(市総体)'!$H57=\"\",\"\",'入力シート(市総体)'!$H57)","v":""},{"$nulls":5},{"$f":"IF(DE9<>\"\",VLOOKUP(EP9,部員データ,3,FALSE)&\"  \"&VLOOKUP(EP9,部員データ,4,FALSE),\"\")","v":""},{"$nulls":17},1,{"$nulls":9},{"$f":"\"男\"&DBCS(TEXT(L9,\"00\"))","v":"男"},{"$f":"\"男\"&DBCS(TEXT(AN9,\"00\"))","v":"男"},{"$f":"\"女\"&DBCS(TEXT(CC9,\"00\"))","v":"女"},{"$f":"\"女\"&DBCS(TEXT(DE9,\"00\"))","v":"女"},{"$f":"IF(OR(EM9=\"男\",EM9=\"\"),\"\",COUNTIF($EM$9:$EN$50,EM9))","v":""},"",{"$f":"IF(OR(EO9=\"女\",EO9=\"\"),\"\",COUNTIF($EO$9:$EP$47,EO9))","v":""},""]
[null,"100m",{"$nulls":15},{"$f":"IF(L9=\"\",\"\",IF('入力シート(市総体)'!$K2=\"\",\"\",format_kiroku('入力シート(市総体)'!$K2,$B10)))","v":""},{"$nulls":27},{"$f":"IF(AN9=\"\",\"\",IF('入力シート(市総体)'!$K3=\"\",\"\",format_kiroku('入力シート(市総体)'!$K3,$B10)))","v":""},{"$nulls":24},"100m",{"$nulls":15},{"$f":"IF(CC9=\"\",\"\",IF('入力シート(市総体)'!$K56=\"\",\"\",format_kiroku('入力シート(市総体)'!$K56,$BS10)))","v":""},{"$nulls":27},{"$f":"IF(DE9=\"\",\"\",IF('入力シート(市総体)'!$K57=\"\",\"\",format_kiroku('入力シート(市総体)'!$K57,$BS10)))","v":""},{"$nulls":31},"","","",""]
[null,"●１年",{"$nulls":9},{"$f":"IF('入力シート(市総体)'!$H4=\"\",\"\",'入力シート(市総体)'!$H4)","v":""},{"$nulls":5},{"$f":"IF(L11<>\"\",VLOOKUP(EM11,部員データ,3,FALSE)&\"  \"&VLOOKUP(EM11,部員データ,4,FALSE),\"\")","v":""},{"$nulls":17},1,{"$nulls":3},{"$f":"IF('入力シート(市総体)'!$H5=\"\",\"\",'入力シート(市総体)'!$H5)","v":""},{"$nulls":5},{"$f":"IF(AN11<>\"\",VLOOKUP(EN11,部員データ,3,FALSE)&\"  \"&VLOOKUP(EN11,部員データ,4,FALSE),\"\")","v":""},{"$nulls":17},1,{"$nulls":6},"●1年",{"$nulls":9},{"$f":"IF('入力シート(市総体)'!$H58=\"\",\"\",'入力シート(市総体)'!$H58)","v":""},{"$nulls":5},{"$f":"IF(CC11<>\"\",VLOOKUP(EO11,部員データ,3,FALSE)&\"  \"&VLOOKUP(EO11,部員データ,4,FALSE),\"\")","v":""},{"$nulls":17},1,{"$nulls":3},{"$f":"IF('入力シート(市総体)'!$H59=\"\",\"\",'入力シート(市総体)'!$H59)","v":""},{"$nulls":5},{"$f":"IF(DE11<>\"\",VLOOKUP(EP11,部員データ,3,FALSE)&\"  \"&VLOOKUP(EP11,部員データ,4,FALSE),\"\")","v":""},{"$nulls":17},1,{"$nulls":9},{"$f":"\"男\"&DBCS(TEXT(L11,\"00\"))","v":"男"},{"$f":"\"男\"&DBCS(TEXT(AN11,\"00\"))","v":"男"},{"$f":"\"女\"&DBCS(TEXT(CC11,\"00\"))","v":"女"},{"$f":"\"女\"&DBCS(TEXT(DE11,\"00\"))","v":"女"},"","","",""]
[null,"1500m",{"$nulls":15},{"$f":"IF(L11=\"\",\"\",IF('入力シート(市総体)'!$K4=\"\",\"\",format_kiroku('入力シート(市総体)'!$K4,$B12)))","v":""},{"$nulls":27},{"$f":"IF(AN11=\"\",\"\",IF('入力シート(市総体)'!$K5=\"\",\"\",format_kiroku('入力シート(市総体)'!$K5,$B12)))","v":""},{"$nulls":24},"1500m",{"$nulls":15},{"$f":"IF(CC11=\"\",\"\",IF('入力シート(市総体)'!$K58=\"\",\"\",format_kiroku('入力シート(市総体)'!$K58,$BS12)))","v":""},{"$nulls":27},{"$f":"IF(DE11=\"\",\"\",IF('入力シート(市総体)'!$K59=\"\",\"\",format_kiroku('入力シート(市総体)'!$K59,$BS12)))","v":""},{"$nulls":31},"","","",""]
[null,"●１年",{"$nulls":9},{"$f":"IF('入力シート(市総体)'!$H6=\"\",\"\",'入力シート(市総体)'!$H6)","v":""},{"$nulls":5},{"$f":"IF(L13<>\"\",VLOOKUP(EM13,部員データ,3,FALSE)&\"  \"&VLOOKUP(EM13,部員データ,4,FALSE),\"\")","v":""},{"$nulls":17},1,{"$nulls":3},{"$f":"IF('入力シート(市総体)'!$H7=\"\",\"\",'入力シート(市総体)'!$H7)","v":""},{"$nulls":5},{"$f":"IF(AN13<>\"\",VLOOKUP(EN13,部員データ,3,FALSE)&\"  \"&VLOOKUP(EN13,部員データ,4,FALSE),\"\")","v":""},{"$nulls":17},1,{"$nulls":6},"●1年",{"$nulls":9},{"$f":"IF('入力シート(市総体)'!$H60=\"\",\"\",'入力シート(市総体)'!$H60)","v":""},{"$nulls":5},{"$f":"IF(CC13<>\"\",VLOOKUP(EO13,部員データ,3,FALSE)&\"  \"&VLOOKUP(EO13,部員データ,4,FALSE),\"\")","v":""},{"$nulls":17},1,{"$nulls":3},{"$f":"IF('入力シート(市総体)'!$H61=\"\",\"\",'入力シート(市総体)'!$H61)","v":""},{"$nulls":5},{"$f":"IF(DE13<>\"\",VLOOKUP(EP13,部員データ,3,FALSE)&\"  \"&VLOOKUP(EP13,部員データ,4,FALSE),\"\")","v":""},{"$nulls":17},1,{"$nulls":9},{"$f":"\"男\"&DBCS(TEXT(L13,\"00\"))","v":"男"},{"$f":"\"男\"&DBCS(TEXT(AN13,\"00\"))","v":"男"},{"$f":"\"女\"&DBCS(TEXT(CC13,\"00\"))","v":"女"},{"$f":"\"女\"&DBCS(TEXT(DE13,\"00\"))","v":"女"},"","","",""]
[null,"走高跳",{"$nulls":15},{"$f":"IF(L13=\"\",\"\",IF('入力シート(市総体)'!$K6=\"\",\"\",format_kiroku('入力シート(市総体)'!$K6,$B14)))","v":""},{"$nulls":27},{"$f":"IF(AN13=\"\",\"\",IF('入力シート(市総体)'!$K7=\"\",\"\",format_kiroku('入力シート(市総体)'!$K7,$B14)))","v":""},{"$nulls":24},"走高跳",{"$nulls":15},{"$f":"IF(CC13=\"\",\"\",IF('入力シート(市総体)'!$K60=\"\",\"\",format_kiroku('入力シート(市総体)'!$K60,$BS14)))","v":""},{"$nulls":27},{"$f":"IF(DE13=\"\",\"\",IF('入力シート(市総体)'!$K61=\"\",\"\",format_kiroku('入力シート(市総体)'!$K61,$BS14)))","v":""},{"$nulls":31},"","","",""]
[null,"１年",{"$nulls":9},{"$f":"IF('入力シート(市総体)'!$H8=\"\",\"\",'入力シート(市総体)'!$H8)","v":""},{"$nulls":5},{"$f":"IF(L15<>\"\",VLOOKUP(EM15,部員データ,3,FALSE)&\"  \"&VLOOKUP(EM15,部員データ,4,FALSE),\"\")","v":""},{"$nulls":17},1,{"$nulls":3},{"$f":"IF('入力シート(市総体)'!$H9=\"\",\"\",'入力シート(市総体)'!$H9)","v":""},{"$nulls":5},{"$f":"IF(AN15<>\"\",VLOOKUP(EN15,部員データ,3,FALSE)&\"  \"&VLOOKUP(EN15,部員データ,4,FALSE),\"\")","v":""},{"$nulls":17},1,{"$nulls":6},"1年",{"$nulls":9},{"$f":"IF('入力シート(市総体)'!$H62=\"\",\"\",'入力シート(市総体)'!$H62)","v":""},{"$nulls":5},{"$f":"IF(CC15<>\"\",VLOOKUP(EO15,部員データ,3,FALSE)&\"  \"&VLOOKUP(EO15,部員データ,4,FALSE),\"\")","v":""},{"$nulls":17},1,{"$nulls":3},{"$f":"IF('入力シート(市総体)'!$H63=\"\",\"\",'入力シート(市総体)'!$H63)","v":""},{"$nulls":5},{"$f":"IF(DE15<>\"\",VLOOKUP(EP15,部員データ,3,FALSE)&\"  \"&VLOOKUP(EP15,部員データ,4,FALSE),\"\")","v":""},{"$nulls":17},1,{"$nulls":9},{"$f":"\"男\"&DBCS(TEXT(L15,\"00\"))","v":"男"},{"$f":"\"男\"&DBCS(TEXT(AN15,\"00\"))","v":"男"},{"$f":"\"女\"&DBCS(TEXT(CC15,\"00\"))","v":"女"},{"$f":"\"女\"&DBCS(TEXT(DE15,\"00\"))","v":"女"},"","","",""]
[null,"走幅跳",{"$nulls":15},{"$f":"IF(L15=\"\",\"\",IF('入力シート(市総体)'!$K8=\"\",\"\",format_kiroku('入力シート(市総体)'!$K8,$B16)))","v":""},{"$nulls":27},{"$f":"IF(AN15=\"\",\"\",IF('入力シート(市総体)'!$K9=\"\",\"\",format_kiroku('入力シート(市総体)'!$K9,$B16)))","v":""},{"$nulls":24},"走幅跳",{"$nulls":15},{"$f":"IF(CC15=\"\",\"\",IF('入力シート(市総体)'!$K62=\"\",\"\",format_kiroku('入力シート(市総体)'!$K62,$BS16)))","v":""},{"$nulls":27},{"$f":"IF(DE15=\"\",\"\",IF('入力シート(市総体)'!$K63=\"\",\"\",format_kiroku('入力シート(市総体)'!$K63,$BS16)))","v":""},{"$nulls":31},"","","",""]
[null,"１年",{"$nulls":9},{"$f":"IF('入力シート(市総体)'!$H10=\"\",\"\",'入力シート(市総体)'!$H10)","v":""},{"$nulls":5},{"$f":"IF(L17<>\"\",VLOOKUP(EM17,部員データ,3,FALSE)&\"  \"&VLOOKUP(EM17,部員データ,4,FALSE),\"\")","v":""},{"$nulls":17},1,{"$nulls":3},{"$f":"IF('入力シート(市総体)'!$H11=\"\",\"\",'入力シート(市総体)'!$H11)","v":""},{"$nulls":5},{"$f":"IF(AN17<>\"\",VLOOKUP(EN17,部員データ,3,FALSE)&\"  \"&VLOOKUP(EN17,部員データ,4,FALSE),\"\")","v":""},{"$nulls":17},1,{"$nulls":6},"1年",{"$nulls":9},{"$f":"IF('入力シート(市総体)'!$H64=\"\",\"\",'入力シート(市総体)'!$H64)","v":""},{"$nulls":5},{"$f":"IF(CC17<>\"\",VLOOKUP(EO17,部員データ,3,FALSE)&\"  \"&VLOOKUP(EO17,部員データ,4,FALSE),\"\")","v":""},{"$nulls":17},1,{"$nulls":3},{"$f":"IF('入力シート(市総体)'!$H65=\"\",\"\",'入力シート(市総体)'!$H65)","v":""},{"$nulls":5},{"$f":"IF(DE17<>\"\",VLOOKUP(EP17,部員データ,3,FALSE)&\"  \"&VLOOKUP(EP17,部員データ,4,FALSE),\"\")","v":""},{"$nulls":17},1,{"$nulls":5},{"$f":"COUNTA(#REF!,#REF!)","v":2},{"$f":"COUNTA(#REF!,#REF!)","v":2},null,null,{"$f":"\"男\"&DBCS(TEXT(L17,\"00\"))","v":"男"},{"$f":"\"男\"&DBCS(TEXT(AN17,\"00\"))","v":"男"},{"$f":"\"女\"&DBCS(TEXT(CC17,\"00\"))","v":"女"},{"$f":"\"女\"&DBCS(TEXT(DE17,\"00\"))","v":"女"},"","","",""]
[null,"砲丸投",{"$nulls":15},{"$f":"IF(L17=\"\",\"\",IF('入力シート(市総体)'!$K10=\"\",\"\",format_kiroku('入力シート(市総体)'!$K10,$B18)))","v":""},{"$nulls":27},{"$f":"IF(AN17=\"\",\"\",IF('入力シート(市総体)'!$K11=\"\",\"\",format_kiroku('入力シート(市総体)'!$K11,$B18)))","v":""},{"$nulls":24},"砲丸投",{"$nulls":15},{"$f":"IF(CC17=\"\",\"\",IF('入力シート(市総体)'!$K64=\"\",\"\",format_kiroku('入力シート(市総体)'!$K64,$BS18)))","v":""},{"$nulls":27},{"$f":"IF(DE17=\"\",\"\",IF('入力シート(市総体)'!$K65=\"\",\"\",format_kiroku('入力シート(市総体)'!$K65,$BS18)))","v":""},{"$nulls":31},"","","",""]
[null,"●2年",{"$nulls":9},{"$f":"IF('入力シート(市総体)'!$H12=\"\",\"\",'入力シート(市総体)'!$H12)","v":""},{"$nulls":5},{"$f":"IF(L19<>\"\",VLOOKUP(EM19,部員データ,3,FALSE)&\"  \"&VLOOKUP(EM19,部員データ,4,FALSE),\"\")","v":""},{"$nulls":17},2,{"$nulls":3},{"$f":"IF('入力シート(市総体)'!$H13=\"\",\"\",'入力シート(市総体)'!$H13)","v":""},{"$nulls":5},{"$f":"IF(AN19<>\"\",VLOOKUP(EN19,部員データ,3,FALSE)&\"  \"&VLOOKUP(EN19,部員データ,4,FALSE),\"\")","v":""},{"$nulls":17},2,{"$nulls":6},"●2年",{"$nulls":9},{"$f":"IF('入力シート(市総体)'!$H66=\"\",\"\",'入力シート(市総体)'!$H66)","v":""},{"$nulls":5},{"$f":"IF(CC19<>\"\",VLOOKUP(EO19,部員データ,3,FALSE)&\"  \"&VLOOKUP(EO19,部員データ,4,FALSE),\"\")","v":""},{"$nulls":17},2,{"$nulls":3},{"$f":"IF('入力シート(市総体)'!$H67=\"\",\"\",'入力シート(市総体)'!$H67)","v":""},{"$nulls":5},{"$f":"IF(DE19<>\"\",VLOOKUP(EP19,部員データ,3,FALSE)&\"  \"&VLOOKUP(EP19,部員データ,4,FALSE),\"\")","v":""},{"$nulls":17},2,{"$nulls":5},{"$f":"COUNTA(L21,AN21)","v":2},{"$f":"COUNTA(CC13,DE13)","v":2},null,null,{"$f":"\"男\"&DBCS(TEXT(L19,\"00\"))","v":"男"},{"$f":"\"男\"&DBCS(TEXT(AN19,\"00\"))","v":"男"},{"$f":"\"女\"&DBCS(TEXT(CC19,\"00\"))","v":"女"},{"$f":"\"女\"&DBCS(TEXT(DE19,\"00\"))","v":"女"},"","","",""]
[null,"100m",{"$nulls":15},{"$f":"IF(L19=\"\",\"\",IF('入力シート(市総体)'!$K12=\"\",\"\",format_kiroku('入力シート(市総体)'!$K12,$B20)))","v":""},{"$nulls":27},{"$f":"IF(AN19=\"\",\"\",IF('入力シート(市総体)'!$K13=\"\",\"\",format_kiroku('入力シート(市総体)'!$K13,$B20)))","v":""},{"$nulls":24},"100m",{"$nulls":15},{"$f":"IF(CC19=\"\",\"\",IF('入力シート(市総体)'!$K66=\"\",\"\",format_kiroku('入力シート(市総体)'!$K66,$BS20)))","v":""},{"$nulls":27},{"$f":"IF(DE19=\"\",\"\",IF('入力シート(市総体)'!$K67=\"\",\"\",format_kiroku('入力シート(市総体)'!$K67,$BS20)))","v":""},{"$nulls":31},"","","",""]
[null,"●３年",{"$nulls":9},{"$f":"IF('入力シート(市総体)'!$H14=\"\",\"\",'入力シート(市総体)'!$H14)","v":""},{"$nulls":5},{"$f":"IF(L21<>\"\",VLOOKUP(EM21,部員データ,3,FALSE)&\"  \"&VLOOKUP(EM21,部員データ,4,FALSE),\"\")","v":""},{"$nulls":17},3,{"$nulls":3},{"$f":"IF('入力シート(市総体)'!$H15=\"\",\"\",'入力シート(市総体)'!$H15)","v":""},{"$nulls":5},{"$f":"IF(AN21<>\"\",VLOOKUP(EN21,部員データ,3,FALSE)&\"  \"&VLOOKUP(EN21,部員データ,4,FALSE),\"\")","v":""},{"$nulls":17},3,{"$nulls":6},"●３年",{"$nulls":9},{"$f":"IF('入力シート(市総体)'!$H68=\"\",\"\",'入力シート(市総体)'!$H68)","v":""},{"$nulls":5},{"$f":"IF(CC21<>\"\",VLOOKUP(EO21,部員データ,3,FALSE)&\"  \"&VLOOKUP(EO21,部員データ,4,FALSE),\"\")","v":""},{"$nulls":17},3,{"$nulls":3},{"$f":"IF('入力シート(市総体)'!$H69=\"\",\"\",'入力シート(市総体)'!$H69)","v":""},{"$nulls":5},{"$f":"IF(DE21<>\"\",VLOOKUP(EP21,部員データ,3,FALSE)&\"  \"&VLOOKUP(EP21,部員データ,4,FALSE),\"\")","v":""},{"$nulls":17},3,{"$nulls":9},{"$f":"\"男\"&DBCS(TEXT(L21,\"00\"))","v":"男"},{"$f":"\"男\"&DBCS(TEXT(AN21,\"00\"))","v":"男"},{"$f":"\"女\"&DBCS(TEXT(CC21,\"00\"))","v":"女"},{"$f":"\"女\"&DBCS(TEXT(DE21,\"00\"))","v":"女"},"","","",""]
[null,"100m",{"$nulls":15},{"$f":"IF(L21=\"\",\"\",IF('入力シート(市総体)'!$K14=\"\",\"\",format_kiroku('入力シート(市総体)'!$K14,$B22)))","v":""},{"$nulls":27},{"$f":"IF(AN21=\"\",\"\",IF('入力シート(市総体)'!$K15=\"\",\"\",format_kiroku('入力シート(市総体)'!$K15,$B22)))","v":""},{"$nulls":24},"100m",{"$nulls":15},{"$f":"IF(CC21=\"\",\"\",IF('入力シート(市総体)'!$K68=\"\",\"\",format_kiroku('入力シート(市総体)'!$K68,$BS22)))","v":""},{"$nulls":27},{"$f":"IF(DE21=\"\",\"\",IF('入力シート(市総体)'!$K69=\"\",\"\",format_kiroku('入力シート(市総体)'!$K69,$BS22)))","v":""},{"$nulls":31},"","","",""]
[null,"●2.3年",{"$nulls":9},{"$f":"IF('入力シート(市総体)'!$H16=\"\",\"\",'入力シート(市総体)'!$H16)","v":""},{"$nulls":5},{"$f":"IF(L23<>\"\",VLOOKUP(EM23,部員データ,3,FALSE)&\"  \"&VLOOKUP(EM23,部員データ,4,FALSE),\"\")","v":""},{"$nulls":17},{"$f":"IF(L23<>\"\",VLOOKUP(EM23,部員データ,2,FALSE),\"\")","v":""},{"$nulls":3},{"$f":"IF('入力シート(市総体)'!$H17=\"\",\"\",'入力シート(市総体)'!$H17)","v":""},{"$nulls":5},{"$f":"IF(AN23<>\"\",VLOOKUP(EN23,部員データ,3,FALSE)&\"  \"&VLOOKUP(EN23,部員データ,4,FALSE),\"\")","v":""},{"$nulls":17},{"$f":"IF(AN23<>\"\",VLOOKUP(EN23,部員データ,2,FALSE),\"\")","v":""},{"$nulls":6},"●2.3年",{"$nulls":9},{"$f":"IF('入力シート(市総体)'!$H70=\"\",\"\",'入力シート(市総体)'!$H70)","v":""},{"$nulls":5},{"$f":"IF(CC23<>\"\",VLOOKUP(EO23,部員データ,3,FALSE)&\"  \"&VLOOKUP(EO23,部員データ,4,FALSE),\"\")","v":""},{"$nulls":17},{"$f":"IF(CC23<>\"\",VLOOKUP(EO23,部員データ,2,FALSE),\"\")","v":""},{"$nulls":3},{"$f":"IF('入力シート(市総体)'!$H71=\"\",\"\",'入力シート(市総体)'!$H71)","v":""},{"$nulls":5},{"$f":"IF(DE23<>\"\",VLOOKUP(EP23,部員データ,3,FALSE)&\"  \"&VLOOKUP(EP23,部員データ,4,FALSE),\"\")","v":""},{"$nulls":17},{"$f":"IF(DE23<>\"\",VLOOKUP(EP23,部員データ,2,FALSE),\"\")","v":""},{"$nulls":9},{"$f":"\"男\"&DBCS(TEXT(L23,\"00\"))","v":"男"},{"$f":"\"男\"&DBCS(TEXT(AN23,\"00\"))","v":"男"},{"$f":"\"女\"&DBCS(TEXT(CC23,\"00\"))","v":"女"},{"$f":"\"女\"&DBCS(TEXT(DE23,\"00\"))","v":"女"},"","","",""]
[null,"1500m",{"$nulls":15},{"$f":"IF(L23=\"\",\"\",IF('入力シート(市総体)'!$K16=\"\",\"\",format_kiroku('入力シート(市総体)'!$K16,$B24)))","v":""},{"$nulls":27},{"$f":"IF(AN23=\"\",\"\",IF('入力シート(市総体)'!$K17=\"\",\"\",format_kiroku('入力シート(市総体)'!$K17,$B24)))","v":""},{"$nulls":24},"1500m",{"$nulls":15},{"$f":"IF(CC23=\"\",\"\",IF('入力シート(市総体)'!$K70=\"\",\"\",format_kiroku('入力シート(市総体)'!$K70,$BS24)))","v":""},{"$nulls":27},{"$f":"IF(DE23=\"\",\"\",IF('入力シート(市総体)'!$K71=\"\",\"\",format_kiroku('入力シート(市総体)'!$K71,$BS24)))","v":""},{"$nulls":31},"","","",""]
[null,"2.3年",{"$nulls":9},{"$f":"IF('入力シート(市総体)'!$H18=\"\",\"\",'入力シート(市総体)'!$H18)","v":""},{"$nulls":5},{"$f":"IF(L25<>\"\",VLOOKUP(EM25,部員データ,3,FALSE)&\"  \"&VLOOKUP(EM25,部員データ,4,FALSE),\"\")","v":""},{"$nulls":17},{"$f":"IF(L25<>\"\",VLOOKUP(EM25,部員データ,2,FALSE),\"\")","v":""},{"$nulls":3},{"$f":"IF('入力シート(市総体)'!$H19=\"\",\"\",'入力シート(市総体)'!$H19)","v":""},{"$nulls":5},{"$f":"IF(AN25<>\"\",VLOOKUP(EN25,部員データ,3,FALSE)&\"  \"&VLOOKUP(EN25,部員データ,4,FALSE),\"\")","v":""},{"$nulls":17},{"$f":"IF(AN25<>\"\",VLOOKUP(EN25,部員データ,2,FALSE),\"\")","v":""},{"$nulls":6},"2.3年",{"$nulls":9},{"$f":"IF('入力シート(市総体)'!$H72=\"\",\"\",'入力シート(市総体)'!$H72)","v":""},{"$nulls":5},{"$f":"IF(CC25<>\"\",VLOOKUP(EO25,部員データ,3,FALSE)&\"  \"&VLOOKUP(EO25,部員データ,4,FALSE),\"\")","v":""},{"$nulls":17},{"$f":"IF(CC25<>\"\",VLOOKUP(EO25,部員データ,2,FALSE),\"\")","v":""},{"$nulls":3},{"$f":"IF('入力シート(市総体)'!$H73=\"\",\"\",'入力シート(市総体)'!$H73)","v":""},{"$nulls":5},{"$f":"IF(DE25<>\"\",VLOOKUP(EP25,部員データ,3,FALSE)&\"  \"&VLOOKUP(EP25,部員データ,4,FALSE),\"\")","v":""},{"$nulls":17},{"$f":"IF(DE25<>\"\",VLOOKUP(EP25,部員データ,2,FALSE),\"\")","v":""},{"$nulls":9},{"$f":"\"男\"&DBCS(TEXT(L25,\"00\"))","v":"男"},{"$f":"\"男\"&DBCS(TEXT(AN25,\"00\"))","v":"男"},{"$f":"\"女\"&DBCS(TEXT(CC25,\"00\"))","v":"女"},{"$f":"\"女\"&DBCS(TEXT(DE25,\"00\"))","v":"女"},"","","",""]
[null,"走高跳",{"$nulls":15},{"$f":"IF(L25=\"\",\"\",IF('入力シート(市総体)'!$K18=\"\",\"\",format_kiroku('入力シート(市総体)'!$K18,$B26)))","v":""},{"$nulls":27},{"$f":"IF(AN25=\"\",\"\",IF('入力シート(市総体)'!$K19=\"\",\"\",format_kiroku('入力シート(市総体)'!$K19,$B26)))","v":""},{"$nulls":24},"走高跳",{"$nulls":15},{"$f":"IF(CC25=\"\",\"\",IF('入力シート(市総体)'!$K72=\"\",\"\",format_kiroku('入力シート(市総体)'!$K72,$BS26)))","v":""},{"$nulls":27},{"$f":"IF(DE25=\"\",\"\",IF('入力シート(市総体)'!$K73=\"\",\"\",format_kiroku('入力シート(市総体)'!$K73,$BS26)))","v":""},{"$nulls":31},"","","",""]
[null,"●2.3年",{"$nulls":9},{"$f":"IF('入力シート(市総体)'!$H20=\"\",\"\",'入力シート(市総体)'!$H20)","v":""},{"$nulls":5},{"$f":"IF(L27<>\"\",VLOOKUP(EM27,部員データ,3,FALSE)&\"  \"&VLOOKUP(EM27,部員データ,4,FALSE),\"\")","v":""},{"$nulls":17},{"$f":"IF(L27<>\"\",VLOOKUP(EM27,部員データ,2,FALSE),\"\")","v":""},{"$nulls":3},{"$f":"IF('入力シート(市総体)'!$H21=\"\",\"\",'入力シート(市総体)'!$H21)","v":""},{"$nulls":5},{"$f":"IF(AN27<>\"\",VLOOKUP(EN27,部員データ,3,FALSE)&\"  \"&VLOOKUP(EN27,部員データ,4,FALSE),\"\")","v":""},{"$nulls":17},{"$f":"IF(AN27<>\"\",VLOOKUP(EN27,部員データ,2,FALSE),\"\")","v":""},{"$nulls":6},"●2.3年",{"$nulls":9},{"$f":"IF('入力シート(市総体)'!$H74=\"\",\"\",'入力シート(市総体)'!$H74)","v":""},{"$nulls":5},{"$f":"IF(CC27<>\"\",VLOOKUP(EO27,部員データ,3,FALSE)&\"  \"&VLOOKUP(EO27,部員データ,4,FALSE),\"\")","v":""},{"$nulls":17},{"$f":"IF(CC27<>\"\",VLOOKUP(EO27,部員データ,2,FALSE),\"\")","v":""},{"$nulls":3},{"$f":"IF('入力シート(市総体)'!$H75=\"\",\"\",'入力シート(市総体)'!$H75)","v":""},{"$nulls":5},{"$f":"IF(DE27<>\"\",VLOOKUP(EP27,部員データ,3,FALSE)&\"  \"&VLOOKUP(EP27,部員データ,4,FALSE),\"\")","v":""},{"$nulls":17},{"$f":"IF(DE27<>\"\",VLOOKUP(EP27,部員データ,2,FALSE),\"\")","v":""},{"$nulls":9},{"$f":"\"男\"&DBCS(TEXT(L27,\"00\"))","v":"男"},{"$f":"\"男\"&DBCS(TEXT(AN27,\"00\"))","v":"男"},"女","女","","","",""]
[null,"棒高跳",{"$nulls":15},{"$f":"IF(L27=\"\",\"\",IF('入力シート(市総体)'!$K20=\"\",\"\",format_kiroku('入力シート(市総体)'!$K20,$B28)))","v":""},{"$nulls":27},{"$f":"IF(AN27=\"\",\"\",IF('入力シート(市総体)'!$K21=\"\",\"\",format_kiroku('入力シート(市総体)'!$K21,$B28)))","v":""},{"$nulls":24},"走幅跳",{"$nulls":15},{"$f":"IF(CC27=\"\",\"\",IF('入力シート(市総体)'!$K74=\"\",\"\",format_kiroku('入力シート(市総体)'!$K74,$BS28)))","v":""},{"$nulls":27},{"$f":"IF(DE27=\"\",\"\",IF('入力シート(市総体)'!$K75=\"\",\"\",format_kiroku('入力シート(市総体)'!$K75,$BS28)))","v":""},{"$nulls":31},"","","",""]
[null,"●2.3年",{"$nulls":9},{"$f":"IF('入力シート(市総体)'!$H22=\"\",\"\",'入力シート(市総体)'!$H22)","v":""},{"$nulls":5},{"$f":"IF(L29<>\"\",VLOOKUP(EM29,部員データ,3,FALSE)&\"  \"&VLOOKUP(EM29,部員データ,4,FALSE),\"\")","v":""},{"$nulls":17},{"$f":"IF(L29<>\"\",VLOOKUP(EM29,部員データ,2,FALSE),\"\")","v":""},{"$nulls":3},{"$f":"IF('入力シート(市総体)'!$H23=\"\",\"\",'入力シート(市総体)'!$H23)","v":""},{"$nulls":5},{"$f":"IF(AN29<>\"\",VLOOKUP(EN29,部員データ,3,FALSE)&\"  \"&VLOOKUP(EN29,部員データ,4,FALSE),\"\")","v":""},{"$nulls":17},{"$f":"IF(AN29<>\"\",VLOOKUP(EN29,部員データ,2,FALSE),\"\")","v":""},{"$nulls":6},"2.3年",{"$nulls":9},{"$f":"IF('入力シート(市総体)'!$H76=\"\",\"\",'入力シート(市総体)'!$H76)","v":""},{"$nulls":5},{"$f":"IF(CC29<>\"\",VLOOKUP(EO29,部員データ,3,FALSE)&\"  \"&VLOOKUP(EO29,部員データ,4,FALSE),\"\")","v":""},{"$nulls":17},{"$f":"IF(CC29<>\"\",VLOOKUP(EO29,部員データ,2,FALSE),\"\")","v":""},{"$nulls":3},{"$f":"IF('入力シート(市総体)'!$H77=\"\",\"\",'入力シート(市総体)'!$H77)","v":""},{"$nulls":5},{"$f":"IF(DE29<>\"\",VLOOKUP(EP29,部員データ,3,FALSE)&\"  \"&VLOOKUP(EP29,部員データ,4,FALSE),\"\")","v":""},{"$nulls":17},{"$f":"IF(DE29<>\"\",VLOOKUP(EP29,部員データ,2,FALSE),\"\")","v":""},{"$nulls":9},{"$f":"\"男\"&DBCS(TEXT(L29,\"00\"))","v":"男"},{"$f":"\"男\"&DBCS(TEXT(AN29,\"00\"))","v":"男"},"女","女","","","",""]
[null,"走幅跳",{"$nulls":15},{"$f":"IF(L29=\"\",\"\",IF('入力シート(市総体)'!$K22=\"\",\"\",format_kiroku('入力シート(市総体)'!$K22,$B30)))","v":""},{"$nulls":27},{"$f":"IF(AN29=\"\",\"\",IF('入力シート(市総体)'!$K23=\"\",\"\",format_kiroku('入力シート(市総体)'!$K23,$B30)))","v":""},{"$nulls":24},"砲丸投",{"$nulls":15},{"$f":"IF(CC29=\"\",\"\",IF('入力シート(市総体)'!$K76=\"\",\"\",format_kiroku('入力シート(市総体)'!$K76,$BS30)))","v":""},{"$nulls":27},{"$f":"IF(DE29=\"\",\"\",IF('入力シート(市総体)'!$K77=\"\",\"\",format_kiroku('入力シート(市総体)'!$K77,$BS30)))","v":""},{"$nulls":31},"","","",""]
[null,"2.3年",{"$nulls":9},{"$f":"IF('入力シート(市総体)'!$H24=\"\",\"\",'入力シート(市総体)'!$H24)","v":""},{"$nulls":5},{"$f":"IF(L31<>\"\",VLOOKUP(EM31,部員データ,3,FALSE)&\"  \"&VLOOKUP(EM31,部員データ,4,FALSE),\"\")","v":""},{"$nulls":17},{"$f":"IF(L31<>\"\",VLOOKUP(EM31,部員データ,2,FALSE),\"\")","v":""},{"$nulls":3},{"$f":"IF('入力シート(市総体)'!$H25=\"\",\"\",'入力シート(市総体)'!$H25)","v":""},{"$nulls":5},{"$f":"IF(AN31<>\"\",VLOOKUP(EN31,部員データ,3,FALSE)&\"  \"&VLOOKUP(EN31,部員データ,4,FALSE),\"\")","v":""},{"$nulls":17},{"$f":"IF(AN31<>\"\",VLOOKUP(EN31,部員データ,2,FALSE),\"\")","v":""},{"$nulls":6},"●共通",{"$nulls":9},{"$f":"IF('入力シート(市総体)'!$H78=\"\",\"\",'入力シート(市総体)'!$H78)","v":""},{"$nulls":5},{"$f":"IF(CC31<>\"\",VLOOKUP(EO31,部員データ,3,FALSE)&\"  \"&VLOOKUP(EO31,部員データ,4,FALSE),\"\")","v":""},{"$nulls":17},{"$f":"IF(CC31<>\"\",VLOOKUP(EO31,部員データ,2,FALSE),\"\")","v":""},{"$nulls":3},{"$f":"IF('入力シート(市総体)'!$H79=\"\",\"\",'入力シート(市総体)'!$H79)","v":""},{"$nulls":5},{"$f":"IF(DE31<>\"\",VLOOKUP(EP31,部員データ,3,FALSE)&\"  \"&VLOOKUP(EP31,部員データ,4,FALSE),\"\")","v":""},{"$nulls":17},{"$f":"IF(DE31<>\"\",VLOOKUP(EP31,部員データ,2,FALSE),\"\")","v":""},{"$nulls":9},{"$f":"\"男\"&DBCS(TEXT(L31,\"00\"))","v":"男"},{"$f":"\"男\"&DBCS(TEXT(AN31,\"00\"))","v":"男"},"女","女","","","",""]
[null,"三段跳",{"$nulls":15},{"$f":"IF(L31=\"\",\"\",IF('入力シート(市総体)'!$K24=\"\",\"\",format_kiroku('入力シート(市総体)'!$K24,$B32)))","v":""},{"$nulls":27},{"$f":"IF(AN31=\"\",\"\",IF('入力シート(市総体)'!$K25=\"\",\"\",format_kiroku('入力シート(市総体)'!$K25,$B32)))","v":""},{"$nulls":24},"200m",{"$nulls":15},{"$f":"IF(CC31=\"\",\"\",IF('入力シート(市総体)'!$K78=\"\",\"\",format_kiroku('入力シート(市総体)'!$K78,$BS32)))","v":""},{"$nulls":27},{"$f":"IF(DE31=\"\",\"\",IF('入力シート(市総体)'!$K79=\"\",\"\",format_kiroku('入力シート(市総体)'!$K79,$BS32)))","v":""},{"$nulls":31},"","","",""]
[null,"2.3年",{"$nulls":9},{"$f":"IF('入力シート(市総体)'!$H26=\"\",\"\",'入力シート(市総体)'!$H26)","v":""},{"$nulls":5},{"$f":"IF(L33<>\"\",VLOOKUP(EM33,部員データ,3,FALSE)&\"  \"&VLOOKUP(EM33,部員データ,4,FALSE),\"\")","v":""},{"$nulls":17},{"$f":"IF(L33<>\"\",VLOOKUP(EM33,部員データ,2,FALSE),\"\")","v":""},{"$nulls":3},{"$f":"IF('入力シート(市総体)'!$H27=\"\",\"\",'入力シート(市総体)'!$H27)","v":""},{"$nulls":5},{"$f":"IF(AN33<>\"\",VLOOKUP(EN33,部員データ,3,FALSE)&\"  \"&VLOOKUP(EN33,部員データ,4,FALSE),\"\")","v":""},{"$nulls":17},{"$f":"IF(AN33<>\"\",VLOOKUP(EN33,部員データ,2,FALSE),\"\")","v":""},{"$nulls":6},"共通",{"$nulls":9},{"$f":"IF('入力シート(市総体)'!$H80=\"\",\"\",'入力シート(市総体)'!$H80)","v":""},{"$nulls":5},{"$f":"IF(CC33<>\"\",VLOOKUP(EO33,部員データ,3,FALSE)&\"  \"&VLOOKUP(EO33,部員データ,4,FALSE),\"\")","v":""},{"$nulls":17},{"$f":"IF(CC33<>\"\",VLOOKUP(EO33,部員データ,2,FALSE),\"\")","v":""},{"$nulls":3},{"$f":"IF('入力シート(市総体)'!$H81=\"\",\"\",'入力シート(市総体)'!$H81)","v":""},{"$nulls":5},{"$f":"IF(DE33<>\"\",VLOOKUP(EP33,部員データ,3,FALSE)&\"  \"&VLOOKUP(EP33,部員データ,4,FALSE),\"\")","v":""},{"$nulls":17},{"$f":"IF(DE33<>\"\",VLOOKUP(EP33,部員データ,2,FALSE),\"\")","v":""},{"$nulls":9},{"$f":"\"男\"&DBCS(TEXT(L33,\"00\"))","v":"男"},{"$f":"\"男\"&DBCS(TEXT(AN33,\"00\"))","v":"男"},"女","女","","","",""]
[null,"砲丸投",{"$nulls":15},{"$f":"IF(L33=\"\",\"\",IF('入力シート(市総体)'!$K26=\"\",\"\",format_kiroku('入力シート(市総体)'!$K26,$B34)))","v":""},{"$nulls":27},{"$f":"IF(AN33=\"\",\"\",IF('入力シート(市総体)'!$K27=\"\",\"\",format_kiroku('入力シート(市総体)'!$K27,$B34)))","v":""},{"$nulls":24},"800m",{"$nulls":15},{"$f":"IF(CC33=\"\",\"\",IF('入力シート(市総体)'!$K80=\"\",\"\",format_kiroku('入力シート(市総体)'!$K80,$BS34)))","v":""},{"$nulls":27},{"$f":"IF(DE33=\"\",\"\",IF('入力シート(市総体)'!$K81=\"\",\"\",format_kiroku('入力シート(市総体)'!$K81,$BS34)))","v":""},{"$nulls":31},"","","",""]
[null,"共通",{"$nulls":9},{"$f":"IF('入力シート(市総体)'!$H28=\"\",\"\",'入力シート(市総体)'!$H28)","v":""},{"$nulls":5},{"$f":"IF(L35<>\"\",VLOOKUP(EM35,部員データ,3,FALSE)&\"  \"&VLOOKUP(EM35,部員データ,4,FALSE),\"\")","v":""},{"$nulls":17},{"$f":"IF(L35<>\"\",VLOOKUP(EM35,部員データ,2,FALSE),\"\")","v":""},{"$nulls":3},{"$f":"IF('入力シート(市総体)'!$H29=\"\",\"\",'入力シート(市総体)'!$H29)","v":""},{"$nulls":5},{"$f":"IF(AN35<>\"\",VLOOKUP(EN35,部員データ,3,FALSE)&\"  \"&VLOOKUP(EN35,部員データ,4,FALSE),\"\")","v":""},{"$nulls":17},{"$f":"IF(AN35<>\"\",VLOOKUP(EN35,部員データ,2,FALSE),\"\")","v":""},{"$nulls":6},"共通",{"$nulls":9},{"$f":"IF('入力シート(市総体)'!$H82=\"\",\"\",'入力シート(市総体)'!$H82)","v":""},{"$nulls":5},{"$f":"IF(CC35<>\"\",VLOOKUP(EO35,部員データ,3,FALSE)&\"  \"&VLOOKUP(EO35,部員データ,4,FALSE),\"\")","v":""},{"$nulls":17},{"$f":"IF(CC35<>\"\",VLOOKUP(EO35,部員データ,2,FALSE),\"\")","v":""},{"$nulls":3},{"$f":"IF('入力シート(市総体)'!$H83=\"\",\"\",'入力シート(市総体)'!$H83)","v":""},{"$nulls":5},{"$f":"IF(DE35<>\"\",VLOOKUP(EP35,部員データ,3,FALSE)&\"  \"&VLOOKUP(EP35,部員データ,4,FALSE),\"\")","v":""},{"$nulls":17},{"$f":"IF(DE35<>\"\",VLOOKUP(EP35,部員データ,2,FALSE),\"\")","v":""},{"$nulls":9},{"$f":"\"男\"&DBCS(TEXT(L35,\"00\"))","v":"男"},{"$f":"\"男\"&DBCS(TEXT(AN35,\"00\"))","v":"男"},"女","女","","","",""]
[null,"200m",{"$nulls":15},{"$f":"IF(L35=\"\",\"\",IF('入力シート(市総体)'!$K28=\"\",\"\",format_kiroku('入力シート(市総体)'!$K28,$B36)))","v":""},{"$nulls":27},{"$f":"IF(AN35=\"\",\"\",IF('入力シート(市総体)'!$K29=\"\",\"\",format_kiroku('入力シート(市総体)'!$K29,$B36)))","v":""},{"$nulls":24},"100mH",{"$nulls":15},{"$f":"IF(CC35=\"\",\"\",IF('入力シート(市総体)'!$K82=\"\",\"\",format_kiroku('入力シート(市総体)'!$K82,$BS36)))","v":""},{"$nulls":27},{"$f":"IF(DE35=\"\",\"\",IF('入力シート(市総体)'!$K83=\"\",\"\",format_kiroku('入力シート(市総体)'!$K83,$BS36)))","v":""},{"$nulls":31},"","","",""]
[null,"●共通",{"$nulls":9},{"$f":"IF('入力シート(市総体)'!$H30=\"\",\"\",'入力シート(市総体)'!$H30)","v":""},{"$nulls":5},{"$f":"IF(L37<>\"\",VLOOKUP(EM37,部員データ,3,FALSE)&\"  \"&VLOOKUP(EM37,部員データ,4,FALSE),\"\")","v":""},{"$nulls":17},{"$f":"IF(L37<>\"\",VLOOKUP(EM37,部員データ,2,FALSE),\"\")","v":""},{"$nulls":3},{"$f":"IF('入力シート(市総体)'!$H31=\"\",\"\",'入力シート(市総体)'!$H31)","v":""},{"$nulls":5},{"$f":"IF(AN37<>\"\",VLOOKUP(EN37,部員データ,3,FALSE)&\"  \"&VLOOKUP(EN37,部員データ,4,FALSE),\"\")","v":""},{"$nulls":17},{"$f":"IF(AN37<>\"\",VLOOKUP(EN37,部員データ,2,FALSE),\"\")","v":""},{"$nulls":6},"共通",{"$nulls":9},{"$f":"IF('入力シート(市総体)'!$H84=\"\",\"\",'入力シート(市総体)'!$H84)","v":""},{"$nulls":5},{"$f":"IF(CC37<>\"\",VLOOKUP(EO37,部員データ,3,FALSE)&\"  \"&VLOOKUP(EO37,部員データ,4,FALSE),\"\")","v":""},{"$nulls":17},{"$f":"IF(CC37<>\"\",VLOOKUP(EO37,部員データ,2,FALSE),\"\")","v":""},{"$nulls":3},{"$f":"IF('入力シート(市総体)'!$H85=\"\",\"\",'入力シート(市総体)'!$H85)","v":""},{"$nulls":5},{"$f":"IF(DE37<>\"\",VLOOKUP(EP37,部員データ,3,FALSE)&\"  \"&VLOOKUP(EP37,部員データ,4,FALSE),\"\")","v":""},{"$nulls":17},{"$f":"IF(DE37<>\"\",VLOOKUP(EP37,部員データ,2,FALSE),\"\")","v":""},{"$nulls":9},{"$f":"\"男\"&DBCS(TEXT(L37,\"00\"))","v":"男"},{"$f":"\"男\"&DBCS(TEXT(AN37,\"00\"))","v":"男"},"女","女","","","",""]
[null,"400m",{"$nulls":15},{"$f":"IF(L37=\"\",\"\",IF('入力シート(市総体)'!$K30=\"\",\"\",format_kiroku('入力シート(市総体)'!$K30,$B38)))","v":""},{"$nulls":27},{"$f":"IF(AN37=\"\",\"\",IF('入力シート(市総体)'!$K31=\"\",\"\",format_kiroku('入力シート(市総体)'!$K31,$B38)))","v":""},{"$nulls":24},"円盤投",{"$nulls":15},{"$f":"IF(CC37=\"\",\"\",IF('入力シート(市総体)'!$K84=\"\",\"\",format_kiroku('入力シート(市総体)'!$K84,$BS38)))","v":""},{"$nulls":27},{"$f":"IF(DE37=\"\",\"\",IF('入力シート(市総体)'!$K85=\"\",\"\",format_kiroku('入力シート(市総体)'!$K85,$BS38)))","v":""},{"$nulls":31},"","","",""]
[null,"共通",{"$nulls":9},{"$f":"IF('入力シート(市総体)'!$H32=\"\",\"\",'入力シート(市総体)'!$H32)","v":""},{"$nulls":5},{"$f":"IF(L39<>\"\",VLOOKUP(EM39,部員データ,3,FALSE)&\"  \"&VLOOKUP(EM39,部員データ,4,FALSE),\"\")","v":""},{"$nulls":17},{"$f":"IF(L39<>\"\",VLOOKUP(EM39,部員データ,2,FALSE),\"\")","v":""},{"$nulls":3},{"$f":"IF('入力シート(市総体)'!$H33=\"\",\"\",'入力シート(市総体)'!$H33)","v":""},{"$nulls":5},{"$f":"IF(AN39<>\"\",VLOOKUP(EN39,部員データ,3,FALSE)&\"  \"&VLOOKUP(EN39,部員データ,4,FALSE),\"\")","v":""},{"$nulls":17},{"$f":"IF(AN39<>\"\",VLOOKUP(EN39,部員データ,2,FALSE),\"\")","v":""},{"$nulls":6},"●共通",{"$nulls":9},{"$f":"IF('入力シート(市総体)'!$H92=\"\",\"\",'入力シート(市総体)'!$H92)","v":""},{"$nulls":5},{"$f":"IF(CC39<>\"\",VLOOKUP(EO39,部員データ,3,FALSE)&\"  \"&VLOOKUP(EO39,部員データ,4,FALSE),\"\")","v":""},{"$nulls":17},{"$f":"IF(CC39<>\"\",VLOOKUP(EO39,部員データ,2,FALSE),\"\")","v":""},{"$nulls":3},{"$f":"IF('入力シート(市総体)'!$H97=\"\",\"\",'入力シート(市総体)'!$H97)","v":""},{"$nulls":5},{"$f":"IF(DE39<>\"\",VLOOKUP(EP39,部員データ,3,FALSE)&\"  \"&VLOOKUP(EP39,部員データ,4,FALSE),\"\")","v":""},{"$nulls":17},{"$f":"IF(DE39<>\"\",VLOOKUP(EP39,部員データ,2,FALSE),\"\")","v":""},{"$nulls":9},{"$f":"\"男\"&DBCS(TEXT(L39,\"00\"))","v":"男"},{"$f":"\"男\"&DBCS(TEXT(AN39,\"00\"))","v":"男"},"女","女","","","",""]
[null,"800m",{"$nulls":15},{"$f":"IF(L39=\"\",\"\",IF('入力シート(市総体)'!$K32=\"\",\"\",format_kiroku('入力シート(市総体)'!$K32,$B40)))","v":""},{"$nulls":27},{"$f":"IF(AN39=\"\",\"\",IF('入力シート(市総体)'!$K33=\"\",\"\",format_kiroku('入力シート(市総体)'!$K33,$B40)))","v":""},{"$nulls":24},"四種競技",{"$nulls":15},{"$f":"IF(CC39=\"\",\"\",IF('入力シート(市総体)'!$K92=\"\",\"\",format_kiroku('入力シート(市総体)'!$K92,$BS40)))","v":""},{"$nulls":27},{"$f":"IF(DE39=\"\",\"\",IF('入力シート(市総体)'!$K97=\"\",\"\",format_kiroku('入力シート(市総体)'!$K97,$BS40)))","v":""},{"$nulls":31},"","","",""]
[null,"共通",{"$nulls":9},{"$f":"IF('入力シート(市総体)'!$H34=\"\",\"\",'入力シート(市総体)'!$H34)","v":""},{"$nulls":5},{"$f":"IF(L41<>\"\",VLOOKUP(EM41,部員データ,3,FALSE)&\"  \"&VLOOKUP(EM41,部員データ,4,FALSE),\"\")","v":""},{"$nulls":17},{"$f":"IF(L41<>\"\",VLOOKUP(EM41,部員データ,2,FALSE),\"\")","v":""},{"$nulls":3},{"$f":"IF('入力シート(市総体)'!$H35=\"\",\"\",'入力シート(市総体)'!$H35)","v":""},{"$nulls":5},{"$f":"IF(AN41<>\"\",VLOOKUP(EN41,部員データ,3,FALSE)&\"  \"&VLOOKUP(EN41,部員データ,4,FALSE),\"\")","v":""},{"$nulls":17},{"$f":"IF(AN41<>\"\",VLOOKUP(EN41,部員データ,2,FALSE),\"\")","v":""},{"$nulls":6},"共通\n4×100mR",{"$nulls":9},{"$f":"IF('入力シート(市総体)'!$H86=\"\",\"\",'入力シート(市総体)'!$H86)","v":""},{"$nulls":5},{"$f":"IF(CC41<>\"\",VLOOKUP(EO41,部員データ,3,FALSE)&\"  \"&VLOOKUP(EO41,部員データ,4,FALSE),\"\")","v":""},{"$nulls":17},{"$f":"IF(CC41<>\"\",VLOOKUP(EO41,部員データ,2,FALSE),\"\")","v":""},{"$nulls":3},{"$f":"IF('入力シート(市総体)'!$H87=\"\",\"\",'入力シート(市総体)'!$H87)","v":""},{"$nulls":5},{"$f":"IF(DE41<>\"\",VLOOKUP(EP41,部員データ,3,FALSE)&\"  \"&VLOOKUP(EP41,部員データ,4,FALSE),\"\")","v":""},{"$nulls":17},{"$f":"IF(DE41<>\"\",VLOOKUP(EP41,部員データ,2,FALSE),\"\")","v":""},{"$nulls":9},{"$f":"\"男\"&DBCS(TEXT(L41,\"00\"))","v":"男"},{"$f":"\"男\"&DBCS(TEXT(AN41,\"00\"))","v":"男"},"女","女","","","",""]
[null,"3000m",{"$nulls":15},{"$f":"IF(L41=\"\",\"\",IF('入力シート(市総体)'!$K34=\"\",\"\",format_kiroku('入力シート(市総体)'!$K34,$B42)))","v":""},{"$nulls":27},{"$f":"IF(AN41=\"\",\"\",IF('入力シート(市総体)'!$K35=\"\",\"\",format_kiroku('入力シート(市総体)'!$K35,$B42)))","v":""},{"$nulls":100},"","","",""]
[null,"共通",{"$nulls":9},{"$f":"IF('入力シート(市総体)'!$H36=\"\",\"\",'入力シート(市総体)'!$H36)","v":""},{"$nulls":5},{"$f":"IF(L43<>\"\",VLOOKUP(EM43,部員データ,3,FALSE)&\"  \"&VLOOKUP(EM43,部員データ,4,FALSE),\"\")","v":""},{"$nulls":17},{"$f":"IF(L43<>\"\",VLOOKUP(EM43,部員データ,2,FALSE),\"\")","v":""},{"$nulls":3},{"$f":"IF('入力シート(市総体)'!$H37=\"\",\"\",'入力シート(市総体)'!$H37)","v":""},{"$nulls":5},{"$f":"IF(AN43<>\"\",VLOOKUP(EN43,部員データ,3,FALSE)&\"  \"&VLOOKUP(EN43,部員データ,4,FALSE),\"\")","v":""},{"$nulls":17},{"$f":"IF(AN43<>\"\",VLOOKUP(EN43,部員データ,2,FALSE),\"\")","v":""},{"$nulls":16},{"$f":"IF('入力シート(市総体)'!$H88=\"\",\"\",'入力シート(市総体)'!$H88)","v":""},{"$nulls":5},{"$f":"IF(CC43<>\"\",VLOOKUP(EO43,部員データ,3,FALSE)&\"  \"&VLOOKUP(EO43,部員データ,4,FALSE),\"\")","v":""},{"$nulls":17},{"$f":"IF(CC43<>\"\",VLOOKUP(EO43,部員データ,2,FALSE),\"\")","v":""},{"$nulls":3},{"$f":"IF('入力シート(市総体)'!$H89=\"\",\"\",'入力シート(市総体)'!$H89)","v":""},{"$nulls":5},{"$f":"IF(DE43<>\"\",VLOOKUP(EP43,部員データ,3,FALSE)&\"  \"&VLOOKUP(EP43,部員データ,4,FALSE),\"\")","v":""},{"$nulls":17},{"$f":"IF(DE43<>\"\",VLOOKUP(EP43,部員データ,2,FALSE),\"\")","v":""},{"$nulls":5},{"$f":"COUNTA(L9:Q45,AN9:AS45)","v":38},{"$f":"COUNTA(CC9:CH30,DE9:DJ30)","v":22},null,null,{"$f":"\"男\"&DBCS(TEXT(L43,\"00\"))","v":"男"},{"$f":"\"男\"&DBCS(TEXT(AN43,\"00\"))","v":"男"},"女","女","","","",""]
[null,"110mH",{"$nulls":15},{"$f":"IF(L43=\"\",\"\",IF('入力シート(市総体)'!$K36=\"\",\"\",format_kiroku('入力シート(市総体)'!$K36,$B44)))","v":""},{"$nulls":27},{"$f":"IF(AN43=\"\",\"\",IF('入力シート(市総体)'!$K37=\"\",\"\",format_kiroku('入力シート(市総体)'!$K37,$B44)))","v":""},{"$nulls":100},"","","",""]
[null,"●共通",{"$nulls":9},{"$f":"IF('入力シート(市総体)'!$H38=\"\",\"\",'入力シート(市総体)'!$H38)","v":""},{"$nulls":5},{"$f":"IF(L45<>\"\",VLOOKUP(EM45,部員データ,3,FALSE)&\"  \"&VLOOKUP(EM45,部員データ,4,FALSE),\"\")","v":""},{"$nulls":17},{"$f":"IF(L45<>\"\",VLOOKUP(EM45,部員データ,2,FALSE),\"\")","v":""},{"$nulls":3},{"$f":"IF('入力シート(市総体)'!$H39=\"\",\"\",'入力シート(市総体)'!$H39)","v":""},{"$nulls":5},{"$f":"IF(AN45<>\"\",VLOOKUP(EN45,部員データ,3,FALSE)&\"  \"&VLOOKUP(EN45,部員データ,4,FALSE),\"\")","v":""},{"$nulls":17},{"$f":"IF(AN45<>\"\",VLOOKUP(EN45,部員データ,2,FALSE),\"\")","v":""},{"$nulls":16},{"$f":"IF('入力シート(市総体)'!$H90=\"\",\"\",'入力シート(市総体)'!$H90)","v":""},{"$nulls":5},{"$f":"IF(CC45<>\"\",VLOOKUP(EO45,部員データ,3,FALSE)&\"  \"&VLOOKUP(EO45,部員データ,4,FALSE),\"\")","v":""},{"$nulls":17},{"$f":"IF(CC45<>\"\",VLOOKUP(EO45,部員データ,2,FALSE),\"\")","v":""},{"$nulls":3},{"$f":"IF('入力シート(市総体)'!$H91=\"\",\"\",'入力シート(市総体)'!$H91)","v":""},{"$nulls":5},{"$f":"IF(DE45<>\"\",VLOOKUP(EP45,部員データ,3,FALSE)&\"  \"&VLOOKUP(EP45,部員データ,4,FALSE),\"\")","v":""},{"$nulls":17},{"$f":"IF(DE45<>\"\",VLOOKUP(EP45,部員データ,2,FALSE),\"\")","v":""},{"$nulls":5},{"$f":"COUNTA(L47,AN47)","v":2},{"$f":"COUNTA(CC39,DE39)","v":2},null,null,{"$f":"\"男\"&DBCS(TEXT(L45,\"00\"))","v":"男"},{"$f":"\"男\"&DBCS(TEXT(AN45,\"00\"))","v":"男"},"女","女","","","",""]
[null,"円盤投",{"$nulls":15},{"$f":"IF(L45=\"\",\"\",IF('入力シート(市総体)'!$K38=\"\",\"\",format_kiroku('入力シート(市総体)'!$K38,$B46)))","v":""},{"$nulls":27},{"$f":"IF(AN45=\"\",\"\",IF('入力シート(市総体)'!$K39=\"\",\"\",format_kiroku('入力シート(市総体)'!$K39,$B46)))","v":""},{"$nulls":24},{"$f":"IF(CC41=\"\",\"\",IF('入力シート(市総体)'!$K86=\"\",\"\",format_kiroku('入力シート(市総体)'!$K86,$BS41)))","v":""},{"$nulls":75},"","","",""]
[null,"●共通",{"$nulls":9},{"$f":"IF('入力シート(市総体)'!$H46=\"\",\"\",'入力シート(市総体)'!$H46)","v":""},{"$nulls":5},{"$f":"IF(L47<>\"\",VLOOKUP(EM47,部員データ,3,FALSE)&\"  \"&VLOOKUP(EM47,部員データ,4,FALSE),\"\")","v":""},{"$nulls":17},{"$f":"IF(L47<>\"\",VLOOKUP(EM47,部員データ,2,FALSE),\"\")","v":""},{"$nulls":3},{"$f":"IF('入力シート(市総体)'!$H51=\"\",\"\",'入力シート(市総体)'!$H51)","v":""},{"$nulls":5},{"$f":"IF(AN47<>\"\",VLOOKUP(EN47,部員データ,3,FALSE)&\"  \"&VLOOKUP(EN47,部員データ,4,FALSE),\"\")","v":""},{"$nulls":17},{"$f":"IF(AN47<>\"\",VLOOKUP(EN47,部員データ,2,FALSE),\"\")","v":""},{"$nulls":74},{"$f":"COUNTA(L49)","v":1},{"$f":"COUNTA(CC41)","v":1},null,null,{"$f":"\"男\"&DBCS(TEXT(L47,\"00\"))","v":"男"},{"$f":"\"男\"&DBCS(TEXT(AN47,\"00\"))","v":"男"},null,null,"","","",""]
[null,"四種競技",{"$nulls":15},{"$f":"IF(L47=\"\",\"\",IF('入力シート(市総体)'!$K46=\"\",\"\",format_kiroku('入力シート(市総体)'!$K46,$B48)))","v":""},{"$nulls":27},{"$f":"IF(AN47=\"\",\"\",IF('入力シート(市総体)'!$K51=\"\",\"\",format_kiroku('入力シート(市総体)'!$K51,$B48)))","v":""},{"$nulls":100},"",""]
[null,"共通\n4×100mR",{"$nulls":9},{"$f":"IF('入力シート(市総体)'!$H40=\"\",\"\",'入力シート(市総体)'!$H40)","v":""},{"$nulls":5},{"$f":"IF(L49<>\"\",VLOOKUP(EM49,部員データ,3,FALSE)&\"  \"&VLOOKUP(EM49,部員データ,4,FALSE),\"\")","v":""},{"$nulls":17},{"$f":"IF(L49<>\"\",VLOOKUP(EM49,部員データ,2,FALSE),\"\")","v":""},{"$nulls":3},{"$f":"IF('入力シート(市総体)'!$H41=\"\",\"\",'入力シート(市総体)'!$H41)","v":""},{"$nulls":5},{"$f":"IF(AN49<>\"\",VLOOKUP(EN49,部員データ,3,FALSE)&\"  \"&VLOOKUP(EN49,部員データ,4,FALSE),\"\")","v":""},{"$nulls":17},{"$f":"IF(AN49<>\"\",VLOOKUP(EN49,部員データ,2,FALSE),\"\")","v":""},{"$nulls":6},"実参加人数",{"$nulls":9},"１年",{"$nulls":10},"２年",{"$nulls":10},"３年",{"$nulls":10},"合計",{"$nulls":10},"総合計",{"$nulls":17},{"$f":"\"男\"&DBCS(TEXT(L49,\"00\"))","v":"男"},{"$f":"\"男\"&DBCS(TEXT(AN49,\"00\"))","v":"男"},null,null,"",""]
[]
[{"$nulls":11},{"$f":"IF('入力シート(市総体)'!$H42=\"\",\"\",'入力シート(市総体)'!$H42)","v":""},{"$nulls":5},{"$f":"IF(L51<>\"\",VLOOKUP(EM51,部員データ,3,FALSE)&\"  \"&VLOOKUP(EM51,部員データ,4,FALSE),\"\")","v":""},{"$nulls":17},{"$f":"IF(L51<>\"\",VLOOKUP(EM51,部員データ,2,FALSE),\"\")","v":""},{"$nulls":3},{"$f":"IF('入力シート(市総体)'!$H43=\"\",\"\",'入力シート(市総体)'!$H43)","v":""},{"$nulls":5},{"$f":"IF(AN51<>\"\",VLOOKUP(EN51,部員データ,3,FALSE)&\"  \"&VLOOKUP(EN51,部員データ,4,FALSE),\"\")","v":""},{"$nulls":17},{"$f":"IF(AN51<>\"\",VLOOKUP(EN51,部員データ,2,FALSE),\"\")","v":""},{"$nulls":6},"男子",{"$nulls":9},{"$f":"'入力シート(市総体)'!Z2","v":0},{"$nulls":10},{"$f":"'入力シート(市総体)'!AA2","v":0},{"$nulls":10},{"$f":"'入力シート(市総体)'!AB2","v":0},{"$nulls":10},{"$f":"SUM(CC51:DI52)","v":0},{"$nulls":10},{"$f":"SUM(DJ51:DT54)","v":0},{"$nulls":17},{"$f":"\"男\"&DBCS(TEXT(L51,\"00\"))","v":"男"},{"$f":"\"男\"&DBCS(TEXT(AN51,\"00\"))","v":"男"},null,null,{"$f":"COUNTIF($EQ$9:$ER$49,\">0\")","v":0},{"$f":"COUNTIF($EQ$9:$ER$49,\"2\")","v":0},{"$f":"COUNTIF($ES$9:$ET$47,\">0\")","v":0},{"$f":"COUNTIF($ES$9:$ET$47,\"2\")","v":0}]
[{"$nulls":147},{"$f":"COUNTIF($EQ$9:$ER$49,\"3\")","v":0},null,{"$f":"COUNTIF($ES$9:$ET$47,\"3\")","v":0}]
[{"$nulls":11},{"$f":"IF('入力シート(市総体)'!$H44=\"\",\"\",'入力シート(市総体)'!$H44)","v":""},{"$nulls":5},{"$f":"IF(L53<>\"\",VLOOKUP(EM53,部員データ,3,FALSE)&\"  \"&VLOOKUP(EM53,部員データ,4,FALSE),\"\")","v":""},{"$nulls":17},{"$f":"IF(L53<>\"\",VLOOKUP(EM53,部員データ,2,FALSE),\"\")","v":""},{"$nulls":3},{"$f":"IF('入力シート(市総体)'!$H45=\"\",\"\",'入力シート(市総体)'!$H45)","v":""},{"$nulls":5},{"$f":"IF(AN53<>\"\",VLOOKUP(EN53,部員データ,3,FALSE)&\"  \"&VLOOKUP(EN53,部員データ,4,FALSE),\"\")","v":""},{"$nulls":17},{"$f":"IF(AN53<>\"\",VLOOKUP(EN53,部員データ,2,FALSE),\"\")","v":""},{"$nulls":6},"女子",{"$nulls":9},{"$f":"'入力シート(市総体)'!Z3","v":0},{"$nulls":10},{"$f":"'入力シート(市総体)'!AA3","v":0},{"$nulls":10},{"$f":"'入力シート(市総体)'!AB3","v":0},{"$nulls":10},{"$f":"SUM(CC53:DI54)","v":0},{"$nulls":28},{"$f":"\"男\"&DBCS(TEXT(L53,\"00\"))","v":"男"},{"$f":"\"男\"&DBCS(TEXT(AN53,\"00\"))","v":"男"},{"$nulls":3},{"$f":"COUNTIF($EQ$9:$ER$49,\"4\")","v":0},null,{"$f":"COUNTIF($ES$9:$ET$47,\"4\")","v":0}]
[null,{"$f":"IF(L49=\"\",\"\",IF('入力シート(市総体)'!$K40=\"\",\"\",format_kiroku('入力シート(市総体)'!$K40,$B49)))","v":""},{"$nulls":144},{"$f":"EQ51-ER51/2","v":0},null,{"$f":"ES51-ET51/2-ET52/3-ET53/4","v":0}]
[]
[]
[{"$nulls":4},"上記の生徒を本校代表として、参加を認めます。また、本競技大会の参加申し込みに際し、大会要項記載内容を確認し、個人情報の取り扱いについて同意を得ています。"]
[]
[{"$nulls":4},"平成",{"$nulls":5},{"$f":"TEXT(TODAY(),\"e\")","v":"28"},{"$nulls":5},"年",{"$nulls":3},{"$f":"TEXT(TODAY(),\"m\")","v":"8"},{"$nulls":7},"月",{"$nulls":3},{"$f":"TEXT(TODAY(),\"d\")","v":"17"},{"$nulls":9},"日",{"$nulls":5},{"$f":"学校名","v":0},{"$nulls":20},"中学校",{"$nulls":11},"学校長",{"$nulls":12},{"$f":"学校長","v":"　"},{"$nulls":33},"印"]
[]
[null,null,"審判員",{"$nulls":8},"（",null,{"$f":"IF(基礎データ!$N21=TRUE,基礎データ!$N17,\"\")","v":""},{"$nulls":24},"）",{"$nulls":3},"（",null,{"$f":"IF(基礎データ!$N22=TRUE,基礎データ!$N18,\"\")","v":""},{"$nulls":24},"）",{"$nulls":3},"（",null,{"$f":"IF(基礎データ!$N23=TRUE,基礎データ!$N19,\"\")","v":""},{"$nulls":24},"）",{"$nulls":3},"（",null,{"$f":"IF(基礎データ!$N24=TRUE,基礎データ!$N20,\"\")","v":""},{"$nulls":24},"）"]
[]
[{"$nulls":3},"注　審判員が不足していますので、顧問全員の方に審判を依頼します。審判員の箇所には顧問全員の氏名を記入してください。"]

{"sheet":"送信データ(市総体)","index":22,"n_rows":132,"n_cols":71,"rows_kept":132,"hidden":true}
["大会コード","性別","学年","競技種目コード","学校コード","性別1","選手コード","組","レーン","エントリ記録","当日記録","順位","条件項目","計測区分","未記録区分","大会順位"]
[{"$f":"IF('入力シート(市総体)'!$H2=\"\",\"\",大会コード)","v":""},{"$f":"IF('入力シート(市総体)'!$H2=\"\",\"\",IF('入力シート(市総体)'!$B2=\"男\",0,1))","v":""},{"$f":"IF('入力シート(市総体)'!$H2=\"\",\"\",'入力シート(市総体)'!C2)","v":""},{"$f":"IF('入力シート(市総体)'!$H2=\"\",\"\",TEXT('入力シート(市総体)'!$E2,\"000\"))","v":""},{"$f":"IF('入力シート(市総体)'!$H2=\"\",\"\",学校番号)","v":""},{"$f":"IF('入力シート(市総体)'!$H2=\"\",\"\",B2)","v":""},{"$f":"IF('入力シート(市総体)'!$H2=\"\",\"\",TEXT('入力シート(市総体)'!$H2,\"00\"))","v":""},null,null,{"$f":"IF('入力シート(市総体)'!$H2=\"\",\"\",IF('入力シート(市総体)'!K2=\"\",\"\",'入力シート(市総体)'!K2))","v":""},{"$nulls":3},{"$f":"IF('入力シート(市総体)'!$H2=\"\",\"\",IF('入力シート(市総体)'!L2=\"\",\"\",IF('入力シート(市総体)'!L2=\"電気\",0,1)))","v":""}]
[{"$f":"IF('入力シート(市総体)'!$H3=\"\",\"\",大会コード)","v":""},{"$f":"IF('入力シート(市総体)'!$H3=\"\",\"\",IF('入力シート(市総体)'!$B3=\"男\",0,1))","v":""},{"$f":"IF('入力シート(市総体)'!$H3=\"\",\"\",'入力シート(市総体)'!C3)","v":""},{"$f":"IF('入力シート(市総体)'!$H3=\"\",\"\",TEXT('入力シート(市総体)'!$E3,\"000\"))","v":""},{"$f":"IF('入力シート(市総体)'!$H3=\"\",\"\",学校番号)","v":""},{"$f":"IF('入力シート(市総体)'!$H3=\"\",\"\",B3)","v":""},{"$f":"IF('入力シート(市総体)'!$H3=\"\",\"\",TEXT('入力シート(市総体)'!$H3,\"00\"))","v":""},null,null,{"$f":"IF('入力シート(市総体)'!$H3=\"\",\"\",IF('入力シート(市総体)'!K3=\"\",\"\",'入力シート(市総体)'!K3))","v":""},{"$nulls":3},{"$f":"IF('入力シート(市総体)'!$H3=\"\",\"\",IF('入力シート(市総体)'!L3=\"\",\"\",IF('入力シート(市総体)'!L3=\"電気\",0,1)))","v":""}]
[{"$f":"IF('入力シート(市総体)'!$H4=\"\",\"\",大会コード)","v":""},{"$f":"IF('入力シート(市総体)'!$H4=\"\",\"\",IF('入力シート(市総体)'!$B4=\"男\",0,1))","v":""},{"$f":"IF('入力シート(市総体)'!$H4=\"\",\"\",'入力シート(市総体)'!C4)","v":""},{"$f":"IF('入力シート(市総体)'!$H4=\"\",\"\",TEXT('入力シート(市総体)'!$E4,\"000\"))","v":""},{"$f":"IF('入力シート(市総体)'!$H4=\"\",\"\",学校番号)","v":""},{"$f":"IF('入力シート(市総体)'!$H4=\"\",\"\",B4)","v":""},{"$f":"IF('入力シート(市総体)'!$H4=\"\",\"\",TEXT('入力シート(市総体)'!$H4,\"00\"))","v":""},null,null,{"$f":"IF('入力シート(市総体)'!$H4=\"\",\"\",IF('入力シート(市総体)'!K4=\"\",\"\",'入力シート(市総体)'!K4))","v":""},{"$nulls":3},{"$f":"IF('入力シート(市総体)'!$H4=\"\",\"\",IF('入力シート(市総体)'!L4=\"\",\"\",IF('入力シート(市総体)'!L4=\"電気\",0,1)))","v":""}]
[{"$f":"IF('入力シート(市総体)'!$H5=\"\",\"\",大会コード)","v":""},{"$f":"IF('入力シート(市総体)'!$H5=\"\",\"\",IF('入力シート(市総体)'!$B5=\"男\",0,1))","v":""},{"$f":"IF('入力シート(市総体)'!$H5=\"\",\"\",'入力シート(市総体)'!C5)","v":""},{"$f":"IF('入力シート(市総体)'!$H5=\"\",\"\",TEXT('入力シート(市総体)'!$E5,\"000\"))","v":""},{"$f":"IF('入力シート(市総体)'!$H5=\"\",\"\",学校番号)","v":""},{"$f":"IF('入力シート(市総体)'!$H5=\"\",\"\",B5)","v":""},{"$f":"IF('入力シート(市総体)'!$H5=\"\",\"\",TEXT('入力シート(市総体)'!$H5,\"00\"))","v":""},null,null,{"$f":"IF('入力シート(市総体)'!$H5=\"\",\"\",IF('入力シート(市総体)'!K5=\"\",\"\",'入力シート(市総体)'!K5))","v":""},{"$nulls":3},{"$f":"IF('入力シート(市総体)'!$H5=\"\",\"\",IF('入力シート(市総体)'!L5=\"\",\"\",IF('入力シート(市総体)'!L5=\"電気\",0,1)))","v":""}]
[{"$f":"IF('入力シート(市総体)'!$H6=\"\",\"\",大会コード)","v":""},{"$f":"IF('入力シート(市総体)'!$H6=\"\",\"\",IF('入力シート(市総体)'!$B6=\"男\",0,1))","v":""},{"$f":"IF('入力シート(市総体)'!$H6=\"\",\"\",'入力シート(市総体)'!C6)","v":""},{"$f":"IF('入力シート(市総体)'!$H6=\"\",\"\",TEXT('入力シート(市総体)'!$E6,\"000\"))","v":""},{"$f":"IF('入力シート(市総体)'!$H6=\"\",\"\",学校番号)","v":""},{"$f":"IF('入力シート(市総体)'!$H6=\"\",\"\",B6)","v":""},{"$f":"IF('入力シート(市総体)'!$H6=\"\",\"\",TEXT('入力シート(市総体)'!$H6,\"00\"))","v":""},null,null,{"$f":"IF('入力シート(市総体)'!$H6=\"\",\"\",IF('入力シート(市総体)'!K6=\"\",\"\",'入力シート(市総体)'!K6))","v":""},{"$nulls":3},{"$f":"IF('入力シート(市総体)'!$H6=\"\",\"\",IF('入力シート(市総体)'!L6=\"\",\"\",IF('入力シート(市総体)'!L6=\"電気\",0,1)))","v":""}]
[{"$f":"IF('入力シート(市総体)'!$H7=\"\",\"\",大会コード)","v":""},{"$f":"IF('入力シート(市総体)'!$H7=\"\",\"\",IF('入力シート(市総体)'!$B7=\"男\",0,1))","v":""},{"$f":"IF('入力シート(市総体)'!$H7=\"\",\"\",'入力シート(市総体)'!C7)","v":""},{"$f":"IF('入力シート(市総体)'!$H7=\"\",\"\",TEXT('入力シート(市総体)'!$E7,\"000\"))","v":""},{"$f":"IF('入力シート(市総体)'!$H7=\"\",\"\",学校番号)","v":""},{"$f":"IF('入力シート(市総体)'!$H7=\"\",\"\",B7)","v":""},{"$f":"IF('入力シート(市総体)'!$H7=\"\",\"\",TEXT('入力シート(市総体)'!$H7,\"00\"))","v":""},null,null,{"$f":"IF('入力シート(市総体)'!$H7=\"\",\"\",IF('入力シート(市総体)'!K7=\"\",\"\",'入力シート(市総体)'!K7))","v":""},{"$nulls":3},{"$f":"IF('入力シート(市総体)'!$H7=\"\",\"\",IF('入力シート(市総体)'!L7=\"\",\"\",IF('入力シート(市総体)'!L7=\"電気\",0,1)))","v":""}]
[{"$f":"IF('入力シート(市総体)'!$H8=\"\",\"\",大会コード)","v":""},{"$f":"IF('入力シート(市総体)'!$H8=\"\",\"\",IF('入力シート(市総体)'!$B8=\"男\",0,1))","v":""},{"$f":"IF('入力シート(市総体)'!$H8=\"\",\"\",'入力シート(市総体)'!C8)","v":""},{"$f":"IF('入力シート(市総体)'!$H8=\"\",\"\",TEXT('入力シート(市総体)'!$E8,\"000\"))","v":""},{"$f":"IF('入力シート(市総体)'!$H8=\"\",\"\",学校番号)","v":""},{"$f":"IF('入力シート(市総体)'!$H8=\"\",\"\",B8)","v":""},{"$f":"IF('入力シート(市総体)'!$H8=\"\",\"\",TEXT('入力シート(市総体)'!$H8,\"00\"))","v":""},null,null,{"$f":"IF('入力シート(市総体)'!$H8=\"\",\"\",IF('入力シート(市総体)'!K8=\"\",\"\",'入力シート(市総体)'!K8))","v":""},{"$nulls":3},{"$f":"IF('入力シート(市総体)'!$H8=\"\",\"\",IF('入力シート(市総体)'!L8=\"\",\"\",IF('入力シート(市総体)'!L8=\"電気\",0,1)))","v":""}]
[{"$f":"IF('入力シート(市総体)'!$H9=\"\",\"\",大会コード)","v":""},{"$f":"IF('入力シート(市総体)'!$H9=\"\",\"\",IF('入力シート(市総体)'!$B9=\"男\",0,1))","v":""},{"$f":"IF('入力シート(市総体)'!$H9=\"\",\"\",'入力シート(市総体)'!C9)","v":""},{"$f":"IF('入力シート(市総体)'!$H9=\"\",\"\",TEXT('入力シート(市総体)'!$E9,\"000\"))","v":""},{"$f":"IF('入力シート(市総体)'!$H9=\"\",\"\",学校番号)","v":""},{"$f":"IF('入力シート(市総体)'!$H9=\"\",\"\",B9)","v":""},{"$f":"IF('入力シート(市総体)'!$H9=\"\",\"\",TEXT('入力シート(市総体)'!$H9,\"00\"))","v":""},null,null,{"$f":"IF('入力シート(市総体)'!$H9=\"\",\"\",IF('入力シート(市総体)'!K9=\"\",\"\",'入力シート(市総体)'!K9))","v":""},{"$nulls":3},{"$f":"IF('入力シート(市総体)'!$H9=\"\",\"\",IF('入力シート(市総体)'!L9=\"\",\"\",IF('入力シート(市総体)'!L9=\"電気\",0,1)))","v":""}]
[{"$f":"IF('入力シート(市総体)'!$H10=\"\",\"\",大会コード)","v":""},{"$f":"IF('入力シート(市総体)'!$H10=\"\",\"\",IF('入力シート(市総体)'!$B10=\"男\",0,1))","v":""},{"$f":"IF('入力シート(市総体)'!$H10=\"\",\"\",'入力シート(市総体)'!C10)","v":""},{"$f":"IF('入力シート(市総体)'!$H10=\"\",\"\",TEXT('入力シート(市総体)'!$E10,\"000\"))","v":""},{"$f":"IF('入力シート(市総体)'!$H10=\"\",\"\",学校番号)","v":""},{"$f":"IF('入力シート(市総体)'!$H10=\"\",\"\",B10)","v":""},{"$f":"IF('入力シート(市総体)'!$H10=\"\",\"\",TEXT('入力シート(市総体)'!$H10,\"00\"))","v":""},null,null,{"$f":"IF('入力シート(市総体)'!$H10=\"\",\"\",IF('入力シート(市総体)'!K10=\"\",\"\",'入力シート(市総体)'!K10))","v":""},{"$nulls":3},{"$f":"IF('入力シート(市総体)'!$H10=\"\",\"\",IF('入力シート(市総体)'!L10=\"\",\"\",IF('入力シート(市総体)'!L10=\"電気\",0,1)))","v":""}]
[{"$f":"IF('入力シート(市総体)'!$H11=\"\",\"\",大会コード)","v":""},{"$f":"IF('入力シート(市総体)'!$H11=\"\",\"\",IF('入力シート(市総体)'!$B11=\"男\",0,1))","v":""},{"$f":"IF('入力シート(市総体)'!$H11=\"\",\"\",'入力シート(市総体)'!C11)","v":""},{"$f":"IF('入力シート(市総体)'!$H11=\"\",\"\",TEXT('入力シート(市総体)'!$E11,\"000\"))","v":""},{"$f":"IF('入力シート(市総体)'!$H11=\"\",\"\",学校番号)","v":""},{"$f":"IF('入力シート(市総体)'!$H11=\"\",\"\",B11)","v":""},{"$f":"IF('入力シート(市総体)'!$H11=\"\",\"\",TEXT('入力シート(市総体)'!$H11,\"00\"))","v":""},null,null,{"$f":"IF('入力シート(市総体)'!$H11=\"\",\"\",IF('入力シート(市総体)'!K11=\"\",\"\",'入力シート(市総体)'!K11))","v":""},{"$nulls":3},{"$f":"IF('入力シート(市総体)'!$H11=\"\",\"\",IF('入力シート(市総体)'!L11=\"\",\"\",IF('入力シート(市総体)'!L11=\"電気\",0,1)))","v":""}]
[{"$f":"IF('入力シート(市総体)'!$H12=\"\",\"\",大会コード)","v":""},{"$f":"IF('入力シート(市総体)'!$H12=\"\",\"\",IF('入力シート(市総体)'!$B12=\"男\",0,1))","v":""},{"$f":"IF('入力シート(市総体)'!$H12=\"\",\"\",'入力シート(市総体)'!C12)","v":""},{"$f":"IF('入力シート(市総体)'!$H12=\"\",\"\",TEXT('入力シート(市総体)'!$E12,\"000\"))","v":""},{"$f":"IF('入力シート(市総体)'!$H12=\"\",\"\",学校番号)","v":""},{"$f":"IF('入力シート(市総体)'!$H12=\"\",\"\",B12)","v":""},{"$f":"IF('入力シート(市総体)'!$H12=\"\",\"\",TEXT('入力シート(市総体)'!$H12,\"00\"))","v":""},null,null,{"$f":"IF('入力シート(市総体)'!$H12=\"\",\"\",IF('入力シート(市総体)'!K12=\"\",\"\",'入力シート(市総体)'!K12))","v":""},{"$nulls":3},{"$f":"IF('入力シート(市総体)'!$H12=\"\",\"\",IF('入力シート(市総体)'!L12=\"\",\"\",IF('入力シート(市総体)'!L12=\"電気\",0,1)))","v":""}]
[{"$f":"IF('入力シート(市総体)'!$H13=\"\",\"\",大会コード)","v":""},{"$f":"IF('入力シート(市総体)'!$H13=\"\",\"\",IF('入力シート(市総体)'!$B13=\"男\",0,1))","v":""},{"$f":"IF('入力シート(市総体)'!$H13=\"\",\"\",'入力シート(市総体)'!C13)","v":""},{"$f":"IF('入力シート(市総体)'!$H13=\"\",\"\",TEXT('入力シート(市総体)'!$E13,\"000\"))","v":""},{"$f":"IF('入力シート(市総体)'!$H13=\"\",\"\",学校番号)","v":""},{"$f":"IF('入力シート(市総体)'!$H13=\"\",\"\",B13)","v":""},{"$f":"IF('入力シート(市総体)'!$H13=\"\",\"\",TEXT('入力シート(市総体)'!$H13,\"00\"))","v":""},null,null,{"$f":"IF('入力シート(市総体)'!$H13=\"\",\"\",IF('入力シート(市総体)'!K13=\"\",\"\",'入力シート(市総体)'!K13))","v":""},{"$nulls":3},{"$f":"IF('入力シート(市総体)'!$H13=\"\",\"\",IF('入力シート(市総体)'!L13=\"\",\"\",IF('入力シート(市総体)'!L13=\"電気\",0,1)))","v":""}]
[{"$f":"IF('入力シート(市総体)'!$H14=\"\",\"\",大会コード)","v":""},{"$f":"IF('入力シート(市総体)'!$H14=\"\",\"\",IF('入力シート(市総体)'!$B14=\"男\",0,1))","v":""},{"$f":"IF('入力シート(市総体)'!$H14=\"\",\"\",'入力シート(市総体)'!C14)","v":""},{"$f":"IF('入力シート(市総体)'!$H14=\"\",\"\",TEXT('入力シート(市総体)'!$E14,\"000\"))","v":""},{"$f":"IF('入力シート(市総体)'!$H14=\"\",\"\",学校番号)","v":""},{"$f":"IF('入力シート(市総体)'!$H14=\"\",\"\",B14)","v":""},{"$f":"IF('入力シート(市総体)'!$H14=\"\",\"\",TEXT('入力シート(市総体)'!$H14,\"00\"))","v":""},null,null,{"$f":"IF('入力シート(市総体)'!$H14=\"\",\"\",IF('入力シート(市総体)'!K14=\"\",\"\",'入力シート(市総体)'!K14))","v":""},{"$nulls":3},{"$f":"IF('入力シート(市総体)'!$H14=\"\",\"\",IF('入力シート(市総体)'!L14=\"\",\"\",IF('入力シート(市総体)'!L14=\"電気\",0,1)))","v":""}]
[{"$f":"IF('入力シート(市総体)'!$H15=\"\",\"\",大会コード)","v":""},{"$f":"IF('入力シート(市総体)'!$H15=\"\",\"\",IF('入力シート(市総体)'!$B15=\"男\",0,1))","v":""},{"$f":"IF('入力シート(市総体)'!$H15=\"\",\"\",'入力シート(市総体)'!C15)","v":""},{"$f":"IF('入力シート(市総体)'!$H15=\"\",\"\",TEXT('入力シート(市総体)'!$E15,\"000\"))","v":""},{"$f":"IF('入力シート(市総体)'!$H15=\"\",\"\",学校番号)","v":""},{"$f":"IF('入力シート(市総体)'!$H15=\"\",\"\",B15)","v":""},{"$f":"IF('入力シート(市総体)'!$H15=\"\",\"\",TEXT('入力シート(市総体)'!$H15,\"00\"))","v":""},null,null,{"$f":"IF('入力シート(市総体)'!$H15=\"\",\"\",IF('入力シート(市総体)'!K15=\"\",\"\",'入力シート(市総体)'!K15))","v":""},{"$nulls":3},{"$f":"IF('入力シート(市総体)'!$H15=\"\",\"\",IF('入力シート(市総体)'!L15=\"\",\"\",IF('入力シート(市総体)'!L15=\"電気\",0,1)))","v":""}]
[{"$f":"IF('入力シート(市総体)'!$H16=\"\",\"\",大会コード)","v":""},{"$f":"IF('入力シート(市総体)'!$H16=\"\",\"\",IF('入力シート(市総体)'!$B16=\"男\",0,1))","v":""},{"$f":"IF('入力シート(市総体)'!$H16=\"\",\"\",'入力シート(市総体)'!C16)","v":""},{"$f":"IF('入力シート(市総体)'!$H16=\"\",\"\",TEXT('入力シート(市総体)'!$E16,\"000\"))","v":""},{"$f":"IF('入力シート(市総体)'!$H16=\"\",\"\",学校番号)","v":""},{"$f":"IF('入力シート(市総体)'!$H16=\"\",\"\",B16)","v":""},{"$f":"IF('入力シート(市総体)'!$H16=\"\",\"\",TEXT('入力シート(市総体)'!$H16,\"00\"))","v":""},null,null,{"$f":"IF('入力シート(市総体)'!$H16=\"\",\"\",IF('入力シート(市総体)'!K16=\"\",\"\",'入力シート(市総体)'!K16))","v":""},{"$nulls":3},{"$f":"IF('入力シート(市総体)'!$H16=\"\",\"\",IF('入力シート(市総体)'!L16=\"\",\"\",IF('入力シート(市総体)'!L16=\"電気\",0,1)))","v":""}]
[{"$f":"IF('入力シート(市総体)'!$H17=\"\",\"\",大会コード)","v":""},{"$f":"IF('入力シート(市総体)'!$H17=\"\",\"\",IF('入力シート(市総体)'!$B17=\"男\",0,1))","v":""},{"$f":"IF('入力シート(市総体)'!$H17=\"\",\"\",'入力シート(市総体)'!C17)","v":""},{"$f":"IF('入力シート(市総体)'!$H17=\"\",\"\",TEXT('入力シート(市総体)'!$E17,\"000\"))","v":""},{"$f":"IF('入力シート(市総体)'!$H17=\"\",\"\",学校番号)","v":""},{"$f":"IF('入力シート(市総体)'!$H17=\"\",\"\",B17)","v":""},{"$f":"IF('入力シート(市総体)'!$H17=\"\",\"\",TEXT('入力シート(市総体)'!$H17,\"00\"))","v":""},null,null,{"$f":"IF('入力シート(市総体)'!$H17=\"\",\"\",IF('入力シート(市総体)'!K17=\"\",\"\",'入力シート(市総体)'!K17))","v":""},{"$nulls":3},{"$f":"IF('入力シート(市総体)'!$H17=\"\",\"\",IF('入力シート(市総体)'!L17=\"\",\"\",IF('入力シート(市総体)'!L17=\"電気\",0,1)))","v":""}]
[{"$f":"IF('入力シート(市総体)'!$H18=\"\",\"\",大会コード)","v":""},{"$f":"IF('入力シート(市総体)'!$H18=\"\",\"\",IF('入力シート(市総体)'!$B18=\"男\",0,1))","v":""},{"$f":"IF('入力シート(市総体)'!$H18=\"\",\"\",'入力シート(市総体)'!C18)","v":""},{"$f":"IF('入力シート(市総体)'!$H18=\"\",\"\",TEXT('入力シート(市総体)'!$E18,\"000\"))","v":""},{"$f":"IF('入力シート(市総体)'!$H18=\"\",\"\",学校番号)","v":""},{"$f":"IF('入力シート(市総体)'!$H18=\"\",\"\",B18)","v":""},{"$f":"IF('入力シート(市総体)'!$H18=\"\",\"\",TEXT('入力シート(市総体)'!$H18,\"00\"))","v":""},null,null,{"$f":"IF('入力シート(市総体)'!$H18=\"\",\"\",IF('入力シート(市総体)'!K18=\"\",\"\",'入力シート(市総体)'!K18))","v":""},{"$nulls":3},{"$f":"IF('入力シート(市総体)'!$H18=\"\",\"\",IF('入力シート(市総体)'!L18=\"\",\"\",IF('入力シート(市総体)'!L18=\"電気\",0,1)))","v":""}]
[{"$f":"IF('入力シート(市総体)'!$H19=\"\",\"\",大会コード)","v":""},{"$f":"IF('入力シート(市総体)'!$H19=\"\",\"\",IF('入力シート(市総体)'!$B19=\"男\",0,1))","v":""},{"$f":"IF('入力シート(市総体)'!$H19=\"\",\"\",'入力シート(市総体)'!C19)","v":""},{"$f":"IF('入力シート(市総体)'!$H19=\"\",\"\",TEXT('入力シート(市総体)'!$E19,\"000\"))","v":""},{"$f":"IF('入力シート(市総体)'!$H19=\"\",\"\",学校番号)","v":""},{"$f":"IF('入力シート(市総体)'!$H19=\"\",\"\",B19)","v":""},{"$f":"IF('入力シート(市総体)'!$H19=\"\",\"\",TEXT('入力シート(市総体)'!$H19,\"00\"))","v":""},null,null,{"$f":"IF('入力シート(市総体)'!$H19=\"\",\"\",IF('入力シート(市総体)'!K19=\"\",\"\",'入力シート(市総体)'!K19))","v":""},{"$nulls":3},{"$f":"IF('入力シート(市総体)'!$H19=\"\",\"\",IF('入力シート(市総体)'!L19=\"\",\"\",IF('入力シート(市総体)'!L19=\"電気\",0,1)))","v":""}]
[{"$f":"IF('入力シート(市総体)'!$H20=\"\",\"\",大会コード)","v":""},{"$f":"IF('入力シート(市総体)'!$H20=\"\",\"\",IF('入力シート(市総体)'!$B20=\"男\",0,1))","v":""},{"$f":"IF('入力シート(市総体)'!$H20=\"\",\"\",'入力シート(市総体)'!C20)","v":""},{"$f":"IF('入力シート(市総体)'!$H20=\"\",\"\",TEXT('入力シート(市総体)'!$E20,\"000\"))","v":""},{"$f":"IF('入力シート(市総体)'!$H20=\"\",\"\",学校番号)","v":""},{"$f":"IF('入力シート(市総体)'!$H20=\"\",\"\",B20)","v":""},{"$f":"IF('入力シート(市総体)'!$H20=\"\",\"\",TEXT('入力シート(市総体)'!$H20,\"00\"))","v":""},null,null,{"$f":"IF('入力シート(市総体)'!$H20=\"\",\"\",IF('入力シート(市総体)'!K20=\"\",\"\",'入力シート(市総体)'!K20))","v":""},{"$nulls":3},{"$f":"IF('入力シート(市総体)'!$H20=\"\",\"\",IF('入力シート(市総体)'!L20=\"\",\"\",IF('入力シート(市総体)'!L20=\"電気\",0,1)))","v":""}]
[{"$f":"IF('入力シート(市総体)'!$H21=\"\",\"\",大会コード)","v":""},{"$f":"IF('入力シート(市総体)'!$H21=\"\",\"\",IF('入力シート(市総体)'!$B21=\"男\",0,1))","v":""},{"$f":"IF('入力シート(市総体)'!$H21=\"\",\"\",'入力シート(市総体)'!C21)","v":""},{"$f":"IF('入力シート(市総体)'!$H21=\"\",\"\",TEXT('入力シート(市総体)'!$E21,\"000\"))","v":""},{"$f":"IF('入力シート(市総体)'!$H21=\"\",\"\",学校番号)","v":""},{"$f":"IF('入力シート(市総体)'!$H21=\"\",\"\",B21)","v":""},{"$f":"IF('入力シート(市総体)'!$H21=\"\",\"\",TEXT('入力シート(市総体)'!$H21,\"00\"))","v":""},null,null,{"$f":"IF('入力シート(市総体)'!$H21=\"\",\"\",IF('入力シート(市総体)'!K21=\"\",\"\",'入力シート(市総体)'!K21))","v":""},{"$nulls":3},{"$f":"IF('入力シート(市総体)'!$H21=\"\",\"\",IF('入力シート(市総体)'!L21=\"\",\"\",IF('入力シート(市総体)'!L21=\"電気\",0,1)))","v":""}]
[{"$f":"IF('入力シート(市総体)'!$H22=\"\",\"\",大会コード)","v":""},{"$f":"IF('入力シート(市総体)'!$H22=\"\",\"\",IF('入力シート(市総体)'!$B22=\"男\",0,1))","v":""},{"$f":"IF('入力シート(市総体)'!$H22=\"\",\"\",'入力シート(市総体)'!C22)","v":""},{"$f":"IF('入力シート(市総体)'!$H22=\"\",\"\",TEXT('入力シート(市総体)'!$E22,\"000\"))","v":""},{"$f":"IF('入力シート(市総体)'!$H22=\"\",\"\",学校番号)","v":""},{"$f":"IF('入力シート(市総体)'!$H22=\"\",\"\",B22)","v":""},{"$f":"IF('入力シート(市総体)'!$H22=\"\",\"\",TEXT('入力シート(市総体)'!$H22,\"00\"))","v":""},null,null,{"$f":"IF('入力シート(市総体)'!$H22=\"\",\"\",IF('入力シート(市総体)'!K22=\"\",\"\",'入力シート(市総体)'!K22))","v":""},{"$nulls":3},{"$f":"IF('入力シート(市総体)'!$H22=\"\",\"\",IF('入力シート(市総体)'!L22=\"\",\"\",IF('入力シート(市総体)'!L22=\"電気\",0,1)))","v":""}]
[{"$f":"IF('入力シート(市総体)'!$H23=\"\",\"\",大会コード)","v":""},{"$f":"IF('入力シート(市総体)'!$H23=\"\",\"\",IF('入力シート(市総体)'!$B23=\"男\",0,1))","v":""},{"$f":"IF('入力シート(市総体)'!$H23=\"\",\"\",'入力シート(市総体)'!C23)","v":""},{"$f":"IF('入力シート(市総体)'!$H23=\"\",\"\",TEXT('入力シート(市総体)'!$E23,\"000\"))","v":""},{"$f":"IF('入力シート(市総体)'!$H23=\"\",\"\",学校番号)","v":""},{"$f":"IF('入力シート(市総体)'!$H23=\"\",\"\",B23)","v":""},{"$f":"IF('入力シート(市総体)'!$H23=\"\",\"\",TEXT('入力シート(市総体)'!$H23,\"00\"))","v":""},null,null,{"$f":"IF('入力シート(市総体)'!$H23=\"\",\"\",IF('入力シート(市総体)'!K23=\"\",\"\",'入力シート(市総体)'!K23))","v":""},{"$nulls":3},{"$f":"IF('入力シート(市総体)'!$H23=\"\",\"\",IF('入力シート(市総体)'!L23=\"\",\"\",IF('入力シート(市総体)'!L23=\"電気\",0,1)))","v":""}]
[{"$f":"IF('入力シート(市総体)'!$H24=\"\",\"\",大会コード)","v":""},{"$f":"IF('入力シート(市総体)'!$H24=\"\",\"\",IF('入力シート(市総体)'!$B24=\"男\",0,1))","v":""},{"$f":"IF('入力シート(市総体)'!$H24=\"\",\"\",'入力シート(市総体)'!C24)","v":""},{"$f":"IF('入力シート(市総体)'!$H24=\"\",\"\",TEXT('入力シート(市総体)'!$E24,\"000\"))","v":""},{"$f":"IF('入力シート(市総体)'!$H24=\"\",\"\",学校番号)","v":""},{"$f":"IF('入力シート(市総体)'!$H24=\"\",\"\",B24)","v":""},{"$f":"IF('入力シート(市総体)'!$H24=\"\",\"\",TEXT('入力シート(市総体)'!$H24,\"00\"))","v":""},null,null,{"$f":"IF('入力シート(市総体)'!$H24=\"\",\"\",IF('入力シート(市総体)'!K24=\"\",\"\",'入力シート(市総体)'!K24))","v":""},{"$nulls":3},{"$f":"IF('入力シート(市総体)'!$H24=\"\",\"\",IF('入力シート(市総体)'!L24=\"\",\"\",IF('入力シート(市総体)'!L24=\"電気\",0,1)))","v":""}]
[{"$f":"IF('入力シート(市総体)'!$H25=\"\",\"\",大会コード)","v":""},{"$f":"IF('入力シート(市総体)'!$H25=\"\",\"\",IF('入力シート(市総体)'!$B25=\"男\",0,1))","v":""},{"$f":"IF('入力シート(市総体)'!$H25=\"\",\"\",'入力シート(市総体)'!C25)","v":""},{"$f":"IF('入力シート(市総体)'!$H25=\"\",\"\",TEXT('入力シート(市総体)'!$E25,\"000\"))","v":""},{"$f":"IF('入力シート(市総体)'!$H25=\"\",\"\",学校番号)","v":""},{"$f":"IF('入力シート(市総体)'!$H25=\"\",\"\",B25)","v":""},{"$f":"IF('入力シート(市総体)'!$H25=\"\",\"\",TEXT('入力シート(市総体)'!$H25,\"00\"))","v":""},null,null,{"$f":"IF('入力シート(市総体)'!$H25=\"\",\"\",IF('入力シート(市総体)'!K25=\"\",\"\",'入力シート(市総体)'!K25))","v":""},{"$nulls":3},{"$f":"IF('入力シート(市総体)'!$H25=\"\",\"\",IF('入力シート(市総体)'!L25=\"\",\"\",IF('入力シート(市総体)'!L25=\"電気\",0,1)))","v":""}]
[{"$f":"IF('入力シート(市総体)'!$H26=\"\",\"\",大会コード)","v":""},{"$f":"IF('入力シート(市総体)'!$H26=\"\",\"\",IF('入力シート(市総体)'!$B26=\"男\",0,1))","v":""},{"$f":"IF('入力シート(市総体)'!$H26=\"\",\"\",'入力シート(市総体)'!C26)","v":""},{"$f":"IF('入力シート(市総体)'!$H26=\"\",\"\",TEXT('入力シート(市総体)'!$E26,\"000\"))","v":""},{"$f":"IF('入力シート(市総体)'!$H26=\"\",\"\",学校番号)","v":""},{"$f":"IF('入力シート(市総体)'!$H26=\"\",\"\",B26)","v":""},{"$f":"IF('入力シート(市総体)'!$H26=\"\",\"\",TEXT('入力シート(市総体)'!$H26,\"00\"))","v":""},null,null,{"$f":"IF('入力シート(市総体)'!$H26=\"\",\"\",IF('入力シート(市総体)'!K26=\"\",\"\",'入力シート(市総体)'!K26))","v":""},{"$nulls":3},{"$f":"IF('入力シート(市総体)'!$H26=\"\",\"\",IF('入力シート(市総体)'!L26=\"\",\"\",IF('入力シート(市総体)'!L26=\"電気\",0,1)))","v":""}]
[{"$f":"IF('入力シート(市総体)'!$H27=\"\",\"\",大会コード)","v":""},{"$f":"IF('入力シート(市総体)'!$H27=\"\",\"\",IF('入力シート(市総体)'!$B27=\"男\",0,1))","v":""},{"$f":"IF('入力シート(市総体)'!$H27=\"\",\"\",'入力シート(市総体)'!C27)","v":""},{"$f":"IF('入力シート(市総体)'!$H27=\"\",\"\",TEXT('入力シート(市総体)'!$E27,\"000\"))","v":""},{"$f":"IF('入力シート(市総体)'!$H27=\"\",\"\",学校番号)","v":""},{"$f":"IF('入力シート(市総体)'!$H27=\"\",\"\",B27)","v":""},{"$f":"IF('入力シート(市総体)'!$H27=\"\",\"\",TEXT('入力シート(市総体)'!$H27,\"00\"))","v":""},null,null,{"$f":"IF('入力シート(市総体)'!$H27=\"\",\"\",IF('入力シート(市総体)'!K27=\"\",\"\",'入力シート(市総体)'!K27))","v":""},{"$nulls":3},{"$f":"IF('入力シート(市総体)'!$H27=\"\",\"\",IF('入力シート(市総体)'!L27=\"\",\"\",IF('入力シート(市総体)'!L27=\"電気\",0,1)))","v":""}]
[{"$f":"IF('入力シート(市総体)'!$H28=\"\",\"\",大会コード)","v":""},{"$f":"IF('入力シート(市総体)'!$H28=\"\",\"\",IF('入力シート(市総体)'!$B28=\"男\",0,1))","v":""},{"$f":"IF('入力シート(市総体)'!$H28=\"\",\"\",'入力シート(市総体)'!C28)","v":""},{"$f":"IF('入力シート(市総体)'!$H28=\"\",\"\",TEXT('入力シート(市総体)'!$E28,\"000\"))","v":""},{"$f":"IF('入力シート(市総体)'!$H28=\"\",\"\",学校番号)","v":""},{"$f":"IF('入力シート(市総体)'!$H28=\"\",\"\",B28)","v":""},{"$f":"IF('入力シート(市総体)'!$H28=\"\",\"\",TEXT('入力シート(市総体)'!$H28,\"00\"))","v":""},null,null,{"$f":"IF('入力シート(市総体)'!$H28=\"\",\"\",IF('入力シート(市総体)'!K28=\"\",\"\",'入力シート(市総体)'!K28))","v":""},{"$nulls":3},{"$f":"IF('入力シート(市総体)'!$H28=\"\",\"\",IF('入力シート(市総体)'!L28=\"\",\"\",IF('入力シート(市総体)'!L28=\"電気\",0,1)))","v":""}]
[{"$f":"IF('入力シート(市総体)'!$H29=\"\",\"\",大会コード)","v":""},{"$f":"IF('入力シート(市総体)'!$H29=\"\",\"\",IF('入力シート(市総体)'!$B29=\"男\",0,1))","v":""},{"$f":"IF('入力シート(市総体)'!$H29=\"\",\"\",'入力シート(市総体)'!C29)","v":""},{"$f":"IF('入力シート(市総体)'!$H29=\"\",\"\",TEXT('入力シート(市総体)'!$E29,\"000\"))","v":""},{"$f":"IF('入力シート(市総体)'!$H29=\"\",\"\",学校番号)","v":""},{"$f":"IF('入力シート(市総体)'!$H29=\"\",\"\",B29)","v":""},{"$f":"IF('入力シート(市総体)'!$H29=\"\",\"\",TEXT('入力シート(市総体)'!$H29,\"00\"))","v":""},null,null,{"$f":"IF('入力シート(市総体)'!$H29=\"\",\"\",IF('入力シート(市総体)'!K29=\"\",\"\",'入力シート(市総体)'!K29))","v":""},{"$nulls":3},{"$f":"IF('入力シート(市総体)'!$H29=\"\",\"\",IF('入力シート(市総体)'!L29=\"\",\"\",IF('入力シート(市総体)'!L29=\"電気\",0,1)))","v":""}]
[{"$f":"IF('入力シート(市総体)'!$H30=\"\",\"\",大会コード)","v":""},{"$f":"IF('入力シート(市総体)'!$H30=\"\",\"\",IF('入力シート(市総体)'!$B30=\"男\",0,1))","v":""},{"$f":"IF('入力シート(市総体)'!$H30=\"\",\"\",'入力シート(市総体)'!C30)","v":""},{"$f":"IF('入力シート(市総体)'!$H30=\"\",\"\",TEXT('入力シート(市総体)'!$E30,\"000\"))","v":""},{"$f":"IF('入力シート(市総体)'!$H30=\"\",\"\",学校番号)","v":""},{"$f":"IF('入力シート(市総体)'!$H30=\"\",\"\",B30)","v":""},{"$f":"IF('入力シート(市総体)'!$H30=\"\",\"\",TEXT('入力シート(市総体)'!$H30,\"00\"))","v":""},null,null,{"$f":"IF('入力シート(市総体)'!$H30=\"\",\"\",IF('入力シート(市総体)'!K30=\"\",\"\",'入力シート(市総体)'!K30))","v":""},{"$nulls":3},{"$f":"IF('入力シート(市総体)'!$H30=\"\",\"\",IF('入力シート(市総体)'!L30=\"\",\"\",IF('入力シート(市総体)'!L30=\"電気\",0,1)))","v":""}]
[{"$f":"IF('入力シート(市総体)'!$H31=\"\",\"\",大会コード)","v":""},{"$f":"IF('入力シート(市総体)'!$H31=\"\",\"\",IF('入力シート(市総体)'!$B31=\"男\",0,1))","v":""},{"$f":"IF('入力シート(市総体)'!$H31=\"\",\"\",'入力シート(市総体)'!C31)","v":""},{"$f":"IF('入力シート(市総体)'!$H31=\"\",\"\",TEXT('入力シート(市総体)'!$E31,\"000\"))","v":""},{"$f":"IF('入力シート(市総体)'!$H31=\"\",\"\",学校番号)","v":""},{"$f":"IF('入力シート(市総体)'!$H31=\"\",\"\",B31)","v":""},{"$f":"IF('入力シート(市総体)'!$H31=\"\",\"\",TEXT('入力シート(市総体)'!$H31,\"00\"))","v":""},null,null,{"$f":"IF('入力シート(市総体)'!$H31=\"\",\"\",IF('入力シート(市総体)'!K31=\"\",\"\",'入力シート(市総体)'!K31))","v":""},{"$nulls":3},{"$f":"IF('入力シート(市総体)'!$H31=\"\",\"\",IF('入力シート(市総体)'!L31=\"\",\"\",IF('入力シート(市総体)'!L31=\"電気\",0,1)))","v":""}]
[{"$f":"IF('入力シート(市総体)'!$H32=\"\",\"\",大会コード)","v":""},{"$f":"IF('入力シート(市総体)'!$H32=\"\",\"\",IF('入力シート(市総体)'!$B32=\"男\",0,1))","v":""},{"$f":"IF('入力シート(市総体)'!$H32=\"\",\"\",'入力シート(市総体)'!C32)","v":""},{"$f":"IF('入力シート(市総体)'!$H32=\"\",\"\",TEXT('入力シート(市総体)'!$E32,\"000\"))","v":""},{"$f":"IF('入力シート(市総体)'!$H32=\"\",\"\",学校番号)","v":""},{"$f":"IF('入力シート(市総体)'!$H32=\"\",\"\",B32)","v":""},{"$f":"IF('入力シート(市総体)'!$H32=\"\",\"\",TEXT('入力シート(市総体)'!$H32,\"00\"))","v":""},null,null,{"$f":"IF('入力シート(市総体)'!$H32=\"\",\"\",IF('入力シート(市総体)'!K32=\"\",\"\",'入力シート(市総体)'!K32))","v":""},{"$nulls":3},{"$f":"IF('入力シート(市総体)'!$H32=\"\",\"\",IF('入力シート(市総体)'!L32=\"\",\"\",IF('入力シート(市総体)'!L32=\"電気\",0,1)))","v":""}]
[{"$f":"IF('入力シート(市総体)'!$H33=\"\",\"\",大会コード)","v":""},{"$f":"IF('入力シート(市総体)'!$H33=\"\",\"\",IF('入力シート(市総体)'!$B33=\"男\",0,1))","v":""},{"$f":"IF('入力シート(市総体)'!$H33=\"\",\"\",'入力シート(市総体)'!C33)","v":""},{"$f":"IF('入力シート(市総体)'!$H33=\"\",\"\",TEXT('入力シート(市総体)'!$E33,\"000\"))","v":""},{"$f":"IF('入力シート(市総体)'!$H33=\"\",\"\",学校番号)","v":""},{"$f":"IF('入力シート(市総体)'!$H33=\"\",\"\",B33)","v":""},{"$f":"IF('入力シート(市総体)'!$H33=\"\",\"\",TEXT('入力シート(市総体)'!$H33,\"00\"))","v":""},null,null,{"$f":"IF('入力シート(市総体)'!$H33=\"\",\"\",IF('入力シート(市総体)'!K33=\"\",\"\",'入力シート(市総体)'!K33))","v":""},{"$nulls":3},{"$f":"IF('入力シート(市総体)'!$H33=\"\",\"\",IF('入力シート(市総体)'!L33=\"\",\"\",IF('入力シート(市総体)'!L33=\"電気\",0,1)))","v":""}]
[{"$f":"IF('入力シート(市総体)'!$H34=\"\",\"\",大会コード)","v":""},{"$f":"IF('入力シート(市総体)'!$H34=\"\",\"\",IF('入力シート(市総体)'!$B34=\"男\",0,1))","v":""},{"$f":"IF('入力シート(市総体)'!$H34=\"\",\"\",'入力シート(市総体)'!C34)","v":""},{"$f":"IF('入力シート(市総体)'!$H34=\"\",\"\",TEXT('入力シート(市総体)'!$E34,\"000\"))","v":""},{"$f":"IF('入力シート(市総体)'!$H34=\"\",\"\",学校番号)","v":""},{"$f":"IF('入力シート(市総体)'!$H34=\"\",\"\",B34)","v":""},{"$f":"IF('入力シート(市総体)'!$H34=\"\",\"\",TEXT('入力シート(市総体)'!$H34,\"00\"))","v":""},null,null,{"$f":"IF('入力シート(市総体)'!$H34=\"\",\"\",IF('入力シート(市総体)'!K34=\"\",\"\",'入力シート(市総体)'!K34))","v":""},{"$nulls":3},{"$f":"IF('入力シート(市総体)'!$H34=\"\",\"\",IF('入力シート(市総体)'!L34=\"\",\"\",IF('入力シート(市総体)'!L34=\"電気\",0,1)))","v":""}]
[{"$f":"IF('入力シート(市総体)'!$H35=\"\",\"\",大会コード)","v":""},{"$f":"IF('入力シート(市総体)'!$H35=\"\",\"\",IF('入力シート(市総体)'!$B35=\"男\",0,1))","v":""},{"$f":"IF('入力シート(市総体)'!$H35=\"\",\"\",'入力シート(市総体)'!C35)","v":""},{"$f":"IF('入力シート(市総体)'!$H35=\"\",\"\",TEXT('入力シート(市総体)'!$E35,\"000\"))","v":""},{"$f":"IF('入力シート(市総体)'!$H35=\"\",\"\",学校番号)","v":""},{"$f":"IF('入力シート(市総体)'!$H35=\"\",\"\",B35)","v":""},{"$f":"IF('入力シート(市総体)'!$H35=\"\",\"\",TEXT('入力シート(市総体)'!$H35,\"00\"))","v":""},null,null,{"$f":"IF('入力シート(市総体)'!$H35=\"\",\"\",IF('入力シート(市総体)'!K35=\"\",\"\",'入力シート(市総体)'!K35))","v":""},{"$nulls":3},{"$f":"IF('入力シート(市総体)'!$H35=\"\",\"\",IF('入力シート(市総体)'!L35=\"\",\"\",IF('入力シート(市総体)'!L35=\"電気\",0,1)))","v":""}]
[{"$f":"IF('入力シート(市総体)'!$H36=\"\",\"\",大会コード)","v":""},{"$f":"IF('入力シート(市総体)'!$H36=\"\",\"\",IF('入力シート(市総体)'!$B36=\"男\",0,1))","v":""},{"$f":"IF('入力シート(市総体)'!$H36=\"\",\"\",'入力シート(市総体)'!C36)","v":""},{"$f":"IF('入力シート(市総体)'!$H36=\"\",\"\",TEXT('入力シート(市総体)'!$E36,\"000\"))","v":""},{"$f":"IF('入力シート(市総体)'!$H36=\"\",\"\",学校番号)","v":""},{"$f":"IF('入力シート(市総体)'!$H36=\"\",\"\",B36)","v":""},{"$f":"IF('入力シート(市総体)'!$H36=\"\",\"\",TEXT('入力シート(市総体)'!$H36,\"00\"))","v":""},null,null,{"$f":"IF('入力シート(市総体)'!$H36=\"\",\"\",IF('入力シート(市総体)'!K36=\"\",\"\",'入力シート(市総体)'!K36))","v":""},{"$nulls":3},{"$f":"IF('入力シート(市総体)'!$H36=\"\",\"\",IF('入力シート(市総体)'!L36=\"\",\"\",IF('入力シート(市総体)'!L36=\"電気\",0,1)))","v":""}]
[{"$f":"IF('入力シート(市総体)'!$H37=\"\",\"\",大会コード)","v":""},{"$f":"IF('入力シート(市総体)'!$H37=\"\",\"\",IF('入力シート(市総体)'!$B37=\"男\",0,1))","v":""},{"$f":"IF('入力シート(市総体)'!$H37=\"\",\"\",'入力シート(市総体)'!C37)","v":""},{"$f":"IF('入力シート(市総体)'!$H37=\"\",\"\",TEXT('入力シート(市総体)'!$E37,\"000\"))","v":""},{"$f":"IF('入力シート(市総体)'!$H37=\"\",\"\",学校番号)","v":""},{"$f":"IF('入力シート(市総体)'!$H37=\"\",\"\",B37)","v":""},{"$f":"IF('入力シート(市総体)'!$H37=\"\",\"\",TEXT('入力シート(市総体)'!$H37,\"00\"))","v":""},null,null,{"$f":"IF('入力シート(市総体)'!$H37=\"\",\"\",IF('入力シート(市総体)'!K37=\"\",\"\",'入力シート(市総体)'!K37))","v":""},{"$nulls":3},{"$f":"IF('入力シート(市総体)'!$H37=\"\",\"\",IF('入力シート(市総体)'!L37=\"\",\"\",IF('入力シート(市総体)'!L37=\"電気\",0,1)))","v":""}]
[{"$f":"IF('入力シート(市総体)'!$H38=\"\",\"\",大会コード)","v":""},{"$f":"IF('入力シート(市総体)'!$H38=\"\",\"\",IF('入力シート(市総体)'!$B38=\"男\",0,1))","v":""},{"$f":"IF('入力シート(市総体)'!$H38=\"\",\"\",'入力シート(市総体)'!C38)","v":""},{"$f":"IF('入力シート(市総体)'!$H38=\"\",\"\",TEXT('入力シート(市総体)'!$E38,\"000\"))","v":""},{"$f":"IF('入力シート(市総体)'!$H38=\"\",\"\",学校番号)","v":""},{"$f":"IF('入力シート(市総体)'!$H38=\"\",\"\",B38)","v":""},{"$f":"IF('入力シート(市総体)'!$H38=\"\",\"\",TEXT('入力シート(市総体)'!$H38,\"00\"))","v":""},null,null,{"$f":"IF('入力シート(市総体)'!$H38=\"\",\"\",IF('入力シート(市総体)'!K38=\"\",\"\",'入力シート(市総体)'!K38))","v":""},{"$nulls":3},{"$f":"IF('入力シート(市総体)'!$H38=\"\",\"\",IF('入力シート(市総体)'!L38=\"\",\"\",IF('入力シート(市総体)'!L38=\"電気\",0,1)))","v":""}]
[{"$f":"IF('入力シート(市総体)'!$H39=\"\",\"\",大会コード)","v":""},{"$f":"IF('入力シート(市総体)'!$H39=\"\",\"\",IF('入力シート(市総体)'!$B39=\"男\",0,1))","v":""},{"$f":"IF('入力シート(市総体)'!$H39=\"\",\"\",'入力シート(市総体)'!C39)","v":""},{"$f":"IF('入力シート(市総体)'!$H39=\"\",\"\",TEXT('入力シート(市総体)'!$E39,\"000\"))","v":""},{"$f":"IF('入力シート(市総体)'!$H39=\"\",\"\",学校番号)","v":""},{"$f":"IF('入力シート(市総体)'!$H39=\"\",\"\",B39)","v":""},{"$f":"IF('入力シート(市総体)'!$H39=\"\",\"\",TEXT('入力シート(市総体)'!$H39,\"00\"))","v":""},null,null,{"$f":"IF('入力シート(市総体)'!$H39=\"\",\"\",IF('入力シート(市総体)'!K39=\"\",\"\",'入力シート(市総体)'!K39))","v":""},{"$nulls":3},{"$f":"IF('入力シート(市総体)'!$H39=\"\",\"\",IF('入力シート(市総体)'!L39=\"\",\"\",IF('入力シート(市総体)'!L39=\"電気\",0,1)))","v":""}]
[{"$f":"IF('入力シート(市総体)'!$H56=\"\",\"\",大会コード)","v":""},{"$f":"IF('入力シート(市総体)'!$H56=\"\",\"\",IF('入力シート(市総体)'!$B56=\"男\",0,1))","v":""},{"$f":"IF('入力シート(市総体)'!$H56=\"\",\"\",'入力シート(市総体)'!C56)","v":""},{"$f":"IF('入力シート(市総体)'!$H56=\"\",\"\",TEXT('入力シート(市総体)'!$E56,\"000\"))","v":""},{"$f":"IF('入力シート(市総体)'!$H56=\"\",\"\",学校番号)","v":""},{"$f":"IF('入力シート(市総体)'!$H56=\"\",\"\",B40)","v":""},{"$f":"IF('入力シート(市総体)'!$H56=\"\",\"\",TEXT('入力シート(市総体)'!$H56,\"00\"))","v":""},null,null,{"$f":"IF('入力シート(市総体)'!$H56=\"\",\"\",IF('入力シート(市総体)'!K56=\"\",\"\",'入力シート(市総体)'!K56))","v":""},{"$nulls":3},{"$f":"IF('入力シート(市総体)'!$H56=\"\",\"\",IF('入力シート(市総体)'!L56=\"\",\"\",IF('入力シート(市総体)'!L56=\"電気\",0,1)))","v":""}]
[{"$f":"IF('入力シート(市総体)'!$H57=\"\",\"\",大会コード)","v":""},{"$f":"IF('入力シート(市総体)'!$H57=\"\",\"\",IF('入力シート(市総体)'!$B57=\"男\",0,1))","v":""},{"$f":"IF('入力シート(市総体)'!$H57=\"\",\"\",'入力シート(市総体)'!C57)","v":""},{"$f":"IF('入力シート(市総体)'!$H57=\"\",\"\",TEXT('入力シート(市総体)'!$E57,\"000\"))","v":""},{"$f":"IF('入力シート(市総体)'!$H57=\"\",\"\",学校番号)","v":""},{"$f":"IF('入力シート(市総体)'!$H57=\"\",\"\",B41)","v":""},{"$f":"IF('入力シート(市総体)'!$H57=\"\",\"\",TEXT('入力シート(市総体)'!$H57,\"00\"))","v":""},null,null,{"$f":"IF('入力シート(市総体)'!$H57=\"\",\"\",IF('入力シート(市総体)'!K57=\"\",\"\",'入力シート(市総体)'!K57))","v":""},{"$nulls":3},{"$f":"IF('入力シート(市総体)'!$H57=\"\",\"\",IF('入力シート(市総体)'!L57=\"\",\"\",IF('入力シート(市総体)'!L57=\"電気\",0,1)))","v":""}]
[{"$f":"IF('入力シート(市総体)'!$H58=\"\",\"\",大会コード)","v":""},{"$f":"IF('入力シート(市総体)'!$H58=\"\",\"\",IF('入力シート(市総体)'!$B58=\"男\",0,1))","v":""},{"$f":"IF('入力シート(市総体)'!$H58=\"\",\"\",'入力シート(市総体)'!C58)","v":""},{"$f":"IF('入力シート(市総体)'!$H58=\"\",\"\",TEXT('入力シート(市総体)'!$E58,\"000\"))","v":""},{"$f":"IF('入力シート(市総体)'!$H58=\"\",\"\",学校番号)","v":""},{"$f":"IF('入力シート(市総体)'!$H58=\"\",\"\",B42)","v":""},{"$f":"IF('入力シート(市総体)'!$H58=\"\",\"\",TEXT('入力シート(市総体)'!$H58,\"00\"))","v":""},null,null,{"$f":"IF('入力シート(市総体)'!$H58=\"\",\"\",IF('入力シート(市総体)'!K58=\"\",\"\",'入力シート(市総体)'!K58))","v":""},{"$nulls":3},{"$f":"IF('入力シート(市総体)'!$H58=\"\",\"\",IF('入力シート(市総体)'!L58=\"\",\"\",IF('入力シート(市総体)'!L58=\"電気\",0,1)))","v":""}]
[{"$f":"IF('入力シート(市総体)'!$H59=\"\",\"\",大会コード)","v":""},{"$f":"IF('入力シート(市総体)'!$H59=\"\",\"\",IF('入力シート(市総体)'!$B59=\"男\",0,1))","v":""},{"$f":"IF('入力シート(市総体)'!$H59=\"\",\"\",'入力シート(市総体)'!C59)","v":""},{"$f":"IF('入力シート(市総体)'!$H59=\"\",\"\",TEXT('入力シート(市総体)'!$E59,\"000\"))","v":""},{"$f":"IF('入力シート(市総体)'!$H59=\"\",\"\",学校番号)","v":""},{"$f":"IF('入力シート(市総体)'!$H59=\"\",\"\",B43)","v":""},{"$f":"IF('入力シート(市総体)'!$H59=\"\",\"\",TEXT('入力シート(市総体)'!$H59,\"00\"))","v":""},null,null,{"$f":"IF('入力シート(市総体)'!$H59=\"\",\"\",IF('入力シート(市総体)'!K59=\"\",\"\",'入力シート(市総体)'!K59))","v":""},{"$nulls":3},{"$f":"IF('入力シート(市総体)'!$H59=\"\",\"\",IF('入力シート(市総体)'!L59=\"\",\"\",IF('入力シート(市総体)'!L59=\"電気\",0,1)))","v":""}]
[{"$f":"IF('入力シート(市総体)'!$H60=\"\",\"\",大会コード)","v":""},{"$f":"IF('入力シート(市総体)'!$H60=\"\",\"\",IF('入力シート(市総体)'!$B60=\"男\",0,1))","v":""},{"$f":"IF('入力シート(市総体)'!$H60=\"\",\"\",'入力シート(市総体)'!C60)","v":""},{"$f":"IF('入力シート(市総体)'!$H60=\"\",\"\",TEXT('入力シート(市総体)'!$E60,\"000\"))","v":""},{"$f":"IF('入力シート(市総体)'!$H60=\"\",\"\",学校番号)","v":""},{"$f":"IF('入力シート(市総体)'!$H60=\"\",\"\",B44)","v":""},{"$f":"IF('入力シート(市総体)'!$H60=\"\",\"\",TEXT('入力シート(市総体)'!$H60,\"00\"))","v":""},null,null,{"$f":"IF('入力シート(市総体)'!$H60=\"\",\"\",IF('入力シート(市総体)'!K60=\"\",\"\",'入力シート(市総体)'!K60))","v":""},{"$nulls":3},{"$f":"IF('入力シート(市総体)'!$H60=\"\",\"\",IF('入力シート(市総体)'!L60=\"\",\"\",IF('入力シート(市総体)'!L60=\"電気\",0,1)))","v":""}]
[{"$f":"IF('入力シート(市総体)'!$H61=\"\",\"\",大会コード)","v":""},{"$f":"IF('入力シート(市総体)'!$H61=\"\",\"\",IF('入力シート(市総体)'!$B61=\"男\",0,1))","v":""},{"$f":"IF('入力シート(市総体)'!$H61=\"\",\"\",'入力シート(市総体)'!C61)","v":""},{"$f":"IF('入力シート(市総体)'!$H61=\"\",\"\",TEXT('入力シート(市総体)'!$E61,\"000\"))","v":""},{"$f":"IF('入力シート(市総体)'!$H61=\"\",\"\",学校番号)","v":""},{"$f":"IF('入力シート(市総体)'!$H61=\"\",\"\",B45)","v":""},{"$f":"IF('入力シート(市総体)'!$H61=\"\",\"\",TEXT('入力シート(市総体)'!$H61,\"00\"))","v":""},null,null,{"$f":"IF('入力シート(市総体)'!$H61=\"\",\"\",IF('入力シート(市総体)'!K61=\"\",\"\",'入力シート(市総体)'!K61))","v":""},{"$nulls":3},{"$f":"IF('入力シート(市総体)'!$H61=\"\",\"\",IF('入力シート(市総体)'!L61=\"\",\"\",IF('入力シート(市総体)'!L61=\"電気\",0,1)))","v":""}]
[{"$f":"IF('入力シート(市総体)'!$H62=\"\",\"\",大会コード)","v":""},{"$f":"IF('入力シート(市総体)'!$H62=\"\",\"\",IF('入力シート(市総体)'!$B62=\"男\",0,1))","v":""},{"$f":"IF('入力シート(市総体)'!$H62=\"\",\"\",'入力シート(市総体)'!C62)","v":""},{"$f":"IF('入力シート(市総体)'!$H62=\"\",\"\",TEXT('入力シート(市総体)'!$E62,\"000\"))","v":""},{"$f":"IF('入力シート(市総体)'!$H62=\"\",\"\",学校番号)","v":""},{"$f":"IF('入力シート(市総体)'!$H62=\"\",\"\",B46)","v":""},{"$f":"IF('入力シート(市総体)'!$H62=\"\",\"\",TEXT('入力シート(市総体)'!$H62,\"00\"))","v":""},null,null,{"$f":"IF('入力シート(市総体)'!$H62=\"\",\"\",IF('入力シート(市総体)'!K62=\"\",\"\",'入力シート(市総体)'!K62))","v":""},{"$nulls":3},{"$f":"IF('入力シート(市総体)'!$H62=\"\",\"\",IF('入力シート(市総体)'!L62=\"\",\"\",IF('入力シート(市総体)'!L62=\"電気\",0,1)))","v":""}]
[{"$f":"IF('入力シート(市総体)'!$H63=\"\",\"\",大会コード)","v":""},{"$f":"IF('入力シート(市総体)'!$H63=\"\",\"\",IF('入力シート(市総体)'!$B63=\"男\",0,1))","v":""},{"$f":"IF('入力シート(市総体)'!$H63=\"\",\"\",'入力シート(市総体)'!C63)","v":""},{"$f":"IF('入力シート(市総体)'!$H63=\"\",\"\",TEXT('入力シート(市総体)'!$E63,\"000\"))","v":""},{"$f":"IF('入力シート(市総体)'!$H63=\"\",\"\",学校番号)","v":""},{"$f":"IF('入力シート(市総体)'!$H63=\"\",\"\",B47)","v":""},{"$f":"IF('入力シート(市総体)'!$H63=\"\",\"\",TEXT('入力シート(市総体)'!$H63,\"00\"))","v":""},null,null,{"$f":"IF('入力シート(市総体)'!$H63=\"\",\"\",IF('入力シート(市総体)'!K63=\"\",\"\",'入力シート(市総体)'!K63))","v":""},{"$nulls":3},{"$f":"IF('入力シート(市総体)'!$H63=\"\",\"\",IF('入力シート(市総体)'!L63=\"\",\"\",IF('入力シート(市総体)'!L63=\"電気\",0,1)))","v":""}]
[{"$f":"IF('入力シート(市総体)'!$H64=\"\",\"\",大会コード)","v":""},{"$f":"IF('入力シート(市総体)'!$H64=\"\",\"\",IF('入力シート(市総体)'!$B64=\"男\",0,1))","v":""},{"$f":"IF('入力シート(市総体)'!$H64=\"\",\"\",'入力シート(市総体)'!C64)","v":""},{"$f":"IF('入力シート(市総体)'!$H64=\"\",\"\",TEXT('入力シート(市総体)'!$E64,\"000\"))","v":""},{"$f":"IF('入力シート(市総体)'!$H64=\"\",\"\",学校番号)","v":""},{"$f":"IF('入力シート(市総体)'!$H64=\"\",\"\",B48)","v":""},{"$f":"IF('入力シート(市総体)'!$H64=\"\",\"\",TEXT('入力シート(市総体)'!$H64,\"00\"))","v":""},null,null,{"$f":"IF('入力シート(市総体)'!$H64=\"\",\"\",IF('入力シート(市総体)'!K64=\"\",\"\",'入力シート(市総体)'!K64))","v":""},{"$nulls":3},{"$f":"IF('入力シート(市総体)'!$H64=\"\",\"\",IF('入力シート(市総体)'!L64=\"\",\"\",IF('入力シート(市総体)'!L64=\"電気\",0,1)))","v":""}]
[{"$f":"IF('入力シート(市総体)'!$H65=\"\",\"\",大会コード)","v":""},{"$f":"IF('入力シート(市総体)'!$H65=\"\",\"\",IF('入力シート(市総体)'!$B65=\"男\",0,1))","v":""},{"$f":"IF('入力シート(市総体)'!$H65=\"\",\"\",'入力シート(市総体)'!C65)","v":""},{"$f":"IF('入力シート(市総体)'!$H65=\"\",\"\",TEXT('入力シート(市総体)'!$E65,\"000\"))","v":""},{"$f":"IF('入力シート(市総体)'!$H65=\"\",\"\",学校番号)","v":""},{"$f":"IF('入力シート(市総体)'!$H65=\"\",\"\",B49)","v":""},{"$f":"IF('入力シート(市総体)'!$H65=\"\",\"\",TEXT('入力シート(市総体)'!$H65,\"00\"))","v":""},null,null,{"$f":"IF('入力シート(市総体)'!$H65=\"\",\"\",IF('入力シート(市総体)'!K65=\"\",\"\",'入力シート(市総体)'!K65))","v":""},{"$nulls":3},{"$f":"IF('入力シート(市総体)'!$H65=\"\",\"\",IF('入力シート(市総体)'!L65=\"\",\"\",IF('入力シート(市総体)'!L65=\"電気\",0,1)))","v":""}]
[{"$f":"IF('入力シート(市総体)'!$H66=\"\",\"\",大会コード)","v":""},{"$f":"IF('入力シート(市総体)'!$H66=\"\",\"\",IF('入力シート(市総体)'!$B66=\"男\",0,1))","v":""},{"$f":"IF('入力シート(市総体)'!$H66=\"\",\"\",'入力シート(市総体)'!C66)","v":""},{"$f":"IF('入力シート(市総体)'!$H66=\"\",\"\",TEXT('入力シート(市総体)'!$E66,\"000\"))","v":""},{"$f":"IF('入力シート(市総体)'!$H66=\"\",\"\",学校番号)","v":""},{"$f":"IF('入力シート(市総体)'!$H66=\"\",\"\",B50)","v":""},{"$f":"IF('入力シート(市総体)'!$H66=\"\",\"\",TEXT('入力シート(市総体)'!$H66,\"00\"))","v":""},null,null,{"$f":"IF('入力シート(市総体)'!$H66=\"\",\"\",IF('入力シート(市総体)'!K66=\"\",\"\",'入力シート(市総体)'!K66))","v":""},{"$nulls":3},{"$f":"IF('入力シート(市総体)'!$H66=\"\",\"\",IF('入力シート(市総体)'!L66=\"\",\"\",IF('入力シート(市総体)'!L66=\"電気\",0,1)))","v":""}]
[{"$f":"IF('入力シート(市総体)'!$H67=\"\",\"\",大会コード)","v":""},{"$f":"IF('入力シート(市総体)'!$H67=\"\",\"\",IF('入力シート(市総体)'!$B67=\"男\",0,1))","v":""},{"$f":"IF('入力シート(市総体)'!$H67=\"\",\"\",'入力シート(市総体)'!C67)","v":""},{"$f":"IF('入力シート(市総体)'!$H67=\"\",\"\",TEXT('入力シート(市総体)'!$E67,\"000\"))","v":""},{"$f":"IF('入力シート(市総体)'!$H67=\"\",\"\",学校番号)","v":""},{"$f":"IF('入力シート(市総体)'!$H67=\"\",\"\",B51)","v":""},{"$f":"IF('入力シート(市総体)'!$H67=\"\",\"\",TEXT('入力シート(市総体)'!$H67,\"00\"))","v":""},null,null,{"$f":"IF('入力シート(市総体)'!$H67=\"\",\"\",IF('入力シート(市総体)'!K67=\"\",\"\",'入力シート(市総体)'!K67))","v":""},{"$nulls":3},{"$f":"IF('入力シート(市総体)'!$H67=\"\",\"\",IF('入力シート(市総体)'!L67=\"\",\"\",IF('入力シート(市総体)'!L67=\"電気\",0,1)))","v":""}]
[{"$f":"IF('入力シート(市総体)'!$H68=\"\",\"\",大会コード)","v":""},{"$f":"IF('入力シート(市総体)'!$H68=\"\",\"\",IF('入力シート(市総体)'!$B68=\"男\",0,1))","v":""},{"$f":"IF('入力シート(市総体)'!$H68=\"\",\"\",'入力シート(市総体)'!C68)","v":""},{"$f":"IF('入力シート(市総体)'!$H68=\"\",\"\",TEXT('入力シート(市総体)'!$E68,\"000\"))","v":""},{"$f":"IF('入力シート(市総体)'!$H68=\"\",\"\",学校番号)","v":""},{"$f":"IF('入力シート(市総体)'!$H68=\"\",\"\",B52)","v":""},{"$f":"IF('入力シート(市総体)'!$H68=\"\",\"\",TEXT('入力シート(市総体)'!$H68,\"00\"))","v":""},null,null,{"$f":"IF('入力シート(市総体)'!$H68=\"\",\"\",IF('入力シート(市総体)'!K68=\"\",\"\",'入力シート(市総体)'!K68))","v":""},{"$nulls":3},{"$f":"IF('入力シート(市総体)'!$H68=\"\",\"\",IF('入力シート(市総体)'!L68=\"\",\"\",IF('入力シート(市総体)'!L68=\"電気\",0,1)))","v":""}]
[{"$f":"IF('入力シート(市総体)'!$H69=\"\",\"\",大会コード)","v":""},{"$f":"IF('入力シート(市総体)'!$H69=\"\",\"\",IF('入力シート(市総体)'!$B69=\"男\",0,1))","v":""},{"$f":"IF('入力シート(市総体)'!$H69=\"\",\"\",'入力シート(市総体)'!C69)","v":""},{"$f":"IF('入力シート(市総体)'!$H69=\"\",\"\",TEXT('入力シート(市総体)'!$E69,\"000\"))","v":""},{"$f":"IF('入力シート(市総体)'!$H69=\"\",\"\",学校番号)","v":""},{"$f":"IF('入力シート(市総体)'!$H69=\"\",\"\",B53)","v":""},{"$f":"IF('入力シート(市総体)'!$H69=\"\",\"\",TEXT('入力シート(市総体)'!$H69,\"00\"))","v":""},null,null,{"$f":"IF('入力シート(市総体)'!$H69=\"\",\"\",IF('入力シート(市総体)'!K69=\"\",\"\",'入力シート(市総体)'!K69))","v":""},{"$nulls":3},{"$f":"IF('入力シート(市総体)'!$H69=\"\",\"\",IF('入力シート(市総体)'!L69=\"\",\"\",IF('入力シート(市総体)'!L69=\"電気\",0,1)))","v":""}]
[{"$f":"IF('入力シート(市総体)'!$H70=\"\",\"\",大会コード)","v":""},{"$f":"IF('入力シート(市総体)'!$H70=\"\",\"\",IF('入力シート(市総体)'!$B70=\"男\",0,1))","v":""},{"$f":"IF('入力シート(市総体)'!$H70=\"\",\"\",'入力シート(市総体)'!C70)","v":""},{"$f":"IF('入力シート(市総体)'!$H70=\"\",\"\",TEXT('入力シート(市総体)'!$E70,\"000\"))","v":""},{"$f":"IF('入力シート(市総体)'!$H70=\"\",\"\",学校番号)","v":""},{"$f":"IF('入力シート(市総体)'!$H70=\"\",\"\",B54)","v":""},{"$f":"IF('入力シート(市総体)'!$H70=\"\",\"\",TEXT('入力シート(市総体)'!$H70,\"00\"))","v":""},null,null,{"$f":"IF('入力シート(市総体)'!$H70=\"\",\"\",IF('入力シート(市総体)'!K70=\"\",\"\",'入力シート(市総体)'!K70))","v":""},{"$nulls":3},{"$f":"IF('入力シート(市総体)'!$H70=\"\",\"\",IF('入力シート(市総体)'!L70=\"\",\"\",IF('入力シート(市総体)'!L70=\"電気\",0,1)))","v":""}]
[{"$f":"IF('入力シート(市総体)'!$H71=\"\",\"\",大会コード)","v":""},{"$f":"IF('入力シート(市総体)'!$H71=\"\",\"\",IF('入力シート(市総体)'!$B71=\"男\",0,1))","v":""},{"$f":"IF('入力シート(市総体)'!$H71=\"\",\"\",'入力シート(市総体)'!C71)","v":""},{"$f":"IF('入力シート(市総体)'!$H71=\"\",\"\",TEXT('入力シート(市総体)'!$E71,\"000\"))","v":""},{"$f":"IF('入力シート(市総体)'!$H71=\"\",\"\",学校番号)","v":""},{"$f":"IF('入力シート(市総体)'!$H71=\"\",\"\",B55)","v":""},{"$f":"IF('入力シート(市総体)'!$H71=\"\",\"\",TEXT('入力シート(市総体)'!$H71,\"00\"))","v":""},null,null,{"$f":"IF('入力シート(市総体)'!$H71=\"\",\"\",IF('入力シート(市総体)'!K71=\"\",\"\",'入力シート(市総体)'!K71))","v":""},{"$nulls":3},{"$f":"IF('入力シート(市総体)'!$H71=\"\",\"\",IF('入力シート(市総体)'!L71=\"\",\"\",IF('入力シート(市総体)'!L71=\"電気\",0,1)))","v":""}]
[{"$f":"IF('入力シート(市総体)'!$H72=\"\",\"\",大会コード)","v":""},{"$f":"IF('入力シート(市総体)'!$H72=\"\",\"\",IF('入力シート(市総体)'!$B72=\"男\",0,1))","v":""},{"$f":"IF('入力シート(市総体)'!$H72=\"\",\"\",'入力シート(市総体)'!C72)","v":""},{"$f":"IF('入力シート(市総体)'!$H72=\"\",\"\",TEXT('入力シート(市総体)'!$E72,\"000\"))","v":""},{"$f":"IF('入力シート(市総体)'!$H72=\"\",\"\",学校番号)","v":""},{"$f":"IF('入力シート(市総体)'!$H72=\"\",\"\",B56)","v":""},{"$f":"IF('入力シート(市総体)'!$H72=\"\",\"\",TEXT('入力シート(市総体)'!$H72,\"00\"))","v":""},null,null,{"$f":"IF('入力シート(市総体)'!$H72=\"\",\"\",IF('入力シート(市総体)'!K72=\"\",\"\",'入力シート(市総体)'!K72))","v":""},{"$nulls":3},{"$f":"IF('入力シート(市総体)'!$H72=\"\",\"\",IF('入力シート(市総体)'!L72=\"\",\"\",IF('入力シート(市総体)'!L72=\"電気\",0,1)))","v":""}]
[{"$f":"IF('入力シート(市総体)'!$H73=\"\",\"\",大会コード)","v":""},{"$f":"IF('入力シート(市総体)'!$H73=\"\",\"\",IF('入力シート(市総体)'!$B73=\"男\",0,1))","v":""},{"$f":"IF('入力シート(市総体)'!$H73=\"\",\"\",'入力シート(市総体)'!C73)","v":""},{"$f":"IF('入力シート(市総体)'!$H73=\"\",\"\",TEXT('入力シート(市総体)'!$E73,\"000\"))","v":""},{"$f":"IF('入力シート(市総体)'!$H73=\"\",\"\",学校番号)","v":""},{"$f":"IF('入力シート(市総体)'!$H73=\"\",\"\",B57)","v":""},{"$f":"IF('入力シート(市総体)'!$H73=\"\",\"\",TEXT('入力シート(市総体)'!$H73,\"00\"))","v":""},null,null,{"$f":"IF('入力シート(市総体)'!$H73=\"\",\"\",IF('入力シート(市総体)'!K73=\"\",\"\",'入力シート(市総体)'!K73))","v":""},{"$nulls":3},{"$f":"IF('入力シート(市総体)'!$H73=\"\",\"\",IF('入力シート(市総体)'!L73=\"\",\"\",IF('入力シート(市総体)'!L73=\"電気\",0,1)))","v":""}]
[{"$f":"IF('入力シート(市総体)'!$H74=\"\",\"\",大会コード)","v":""},{"$f":"IF('入力シート(市総体)'!$H74=\"\",\"\",IF('入力シート(市総体)'!$B74=\"男\",0,1))","v":""},{"$f":"IF('入力シート(市総体)'!$H74=\"\",\"\",'入力シート(市総体)'!C74)","v":""},{"$f":"IF('入力シート(市総体)'!$H74=\"\",\"\",TEXT('入力シート(市総体)'!$E74,\"000\"))","v":""},{"$f":"IF('入力シート(市総体)'!$H74=\"\",\"\",学校番号)","v":""},{"$f":"IF('入力シート(市総体)'!$H74=\"\",\"\",B58)","v":""},{"$f":"IF('入力シート(市総体)'!$H74=\"\",\"\",TEXT('入力シート(市総体)'!$H74,\"00\"))","v":""},null,null,{"$f":"IF('入力シート(市総体)'!$H74=\"\",\"\",IF('入力シート(市総体)'!K74=\"\",\"\",'入力シート(市総体)'!K74))","v":""},{"$nulls":3},{"$f":"IF('入力シート(市総体)'!$H74=\"\",\"\",IF('入力シート(市総体)'!L74=\"\",\"\",IF('入力シート(市総体)'!L74=\"電気\",0,1)))","v":""}]
[{"$f":"IF('入力シート(市総体)'!$H75=\"\",\"\",大会コード)","v":""},{"$f":"IF('入力シート(市総体)'!$H75=\"\",\"\",IF('入力シート(市総体)'!$B75=\"男\",0,1))","v":""},{"$f":"IF('入力シート(市総体)'!$H75=\"\",\"\",'入力シート(市総体)'!C75)","v":""},{"$f":"IF('入力シート(市総体)'!$H75=\"\",\"\",TEXT('入力シート(市総体)'!$E75,\"000\"))","v":""},{"$f":"IF('入力シート(市総体)'!$H75=\"\",\"\",学校番号)","v":""},{"$f":"IF('入力シート(市総体)'!$H75=\"\",\"\",B59)","v":""},{"$f":"IF('入力シート(市総体)'!$H75=\"\",\"\",TEXT('入力シート(市総体)'!$H75,\"00\"))","v":""},null,null,{"$f":"IF('入力シート(市総体)'!$H75=\"\",\"\",IF('入力シート(市総体)'!K75=\"\",\"\",'入力シート(市総体)'!K75))","v":""},{"$nulls":3},{"$f":"IF('入力シート(市総体)'!$H75=\"\",\"\",IF('入力シート(市総体)'!L75=\"\",\"\",IF('入力シート(市総体)'!L75=\"電気\",0,1)))","v":""}]
[{"$f":"IF('入力シート(市総体)'!$H76=\"\",\"\",大会コード)","v":""},{"$f":"IF('入力シート(市総体)'!$H76=\"\",\"\",IF('入力シート(市総体)'!$B76=\"男\",0,1))","v":""},{"$f":"IF('入力シート(市総体)'!$H76=\"\",\"\",'入力シート(市総体)'!C76)","v":""},{"$f":"IF('入力シート(市総体)'!$H76=\"\",\"\",TEXT('入力シート(市総体)'!$E76,\"000\"))","v":""},{"$f":"IF('入力シート(市総体)'!$H76=\"\",\"\",学校番号)","v":""},{"$f":"IF('入力シート(市総体)'!$H76=\"\",\"\",B60)","v":""},{"$f":"IF('入力シート(市総体)'!$H76=\"\",\"\",TEXT('入力シート(市総体)'!$H76,\"00\"))","v":""},null,null,{"$f":"IF('入力シート(市総体)'!$H76=\"\",\"\",IF('入力シート(市総体)'!K76=\"\",\"\",'入力シート(市総体)'!K76))","v":""},{"$nulls":3},{"$f":"IF('入力シート(市総体)'!$H76=\"\",\"\",IF('入力シート(市総体)'!L76=\"\",\"\",IF('入力シート(市総体)'!L76=\"電気\",0,1)))","v":""}]
[{"$f":"IF('入力シート(市総体)'!$H77=\"\",\"\",大会コード)","v":""},{"$f":"IF('入力シート(市総体)'!$H77=\"\",\"\",IF('入力シート(市総体)'!$B77=\"男\",0,1))","v":""},{"$f":"IF('入力シート(市総体)'!$H77=\"\",\"\",'入力シート(市総体)'!C77)","v":""},{"$f":"IF('入力シート(市総体)'!$H77=\"\",\"\",TEXT('入力シート(市総体)'!$E77,\"000\"))","v":""},{"$f":"IF('入力シート(市総体)'!$H77=\"\",\"\",学校番号)","v":""},{"$f":"IF('入力シート(市総体)'!$H77=\"\",\"\",B61)","v":""},{"$f":"IF('入力シート(市総体)'!$H77=\"\",\"\",TEXT('入力シート(市総体)'!$H77,\"00\"))","v":""},null,null,{"$f":"IF('入力シート(市総体)'!$H77=\"\",\"\",IF('入力シート(市総体)'!K77=\"\",\"\",'入力シート(市総体)'!K77))","v":""},{"$nulls":3},{"$f":"IF('入力シート(市総体)'!$H77=\"\",\"\",IF('入力シート(市総体)'!L77=\"\",\"\",IF('入力シート(市総体)'!L77=\"電気\",0,1)))","v":""}]
[{"$f":"IF('入力シート(市総体)'!$H78=\"\",\"\",大会コード)","v":""},{"$f":"IF('入力シート(市総体)'!$H78=\"\",\"\",IF('入力シート(市総体)'!$B78=\"男\",0,1))","v":""},{"$f":"IF('入力シート(市総体)'!$H78=\"\",\"\",'入力シート(市総体)'!C78)","v":""},{"$f":"IF('入力シート(市総体)'!$H78=\"\",\"\",TEXT('入力シート(市総体)'!$E78,\"000\"))","v":""},{"$f":"IF('入力シート(市総体)'!$H78=\"\",\"\",学校番号)","v":""},{"$f":"IF('入力シート(市総体)'!$H78=\"\",\"\",B62)","v":""},{"$f":"IF('入力シート(市総体)'!$H78=\"\",\"\",TEXT('入力シート(市総体)'!$H78,\"00\"))","v":""},null,null,{"$f":"IF('入力シート(市総体)'!$H78=\"\",\"\",IF('入力シート(市総体)'!K78=\"\",\"\",'入力シート(市総体)'!K78))","v":""},{"$nulls":3},{"$f":"IF('入力シート(市総体)'!$H78=\"\",\"\",IF('入力シート(市総体)'!L78=\"\",\"\",IF('入力シート(市総体)'!L78=\"電気\",0,1)))","v":""}]
[{"$f":"IF('入力シート(市総体)'!$H79=\"\",\"\",大会コード)","v":""},{"$f":"IF('入力シート(市総体)'!$H79=\"\",\"\",IF('入力シート(市総体)'!$B79=\"男\",0,1))","v":""},{"$f":"IF('入力シート(市総体)'!$H79=\"\",\"\",'入力シート(市総体)'!C79)","v":""},{"$f":"IF('入力シート(市総体)'!$H79=\"\",\"\",TEXT('入力シート(市総体)'!$E79,\"000\"))","v":""},{"$f":"IF('入力シート(市総体)'!$H79=\"\",\"\",学校番号)","v":""},{"$f":"IF('入力シート(市総体)'!$H79=\"\",\"\",B63)","v":""},{"$f":"IF('入力シート(市総体)'!$H79=\"\",\"\",TEXT('入力シート(市総体)'!$H79,\"00\"))","v":""},null,null,{"$f":"IF('入力シート(市総体)'!$H79=\"\",\"\",IF('入力シート(市総体)'!K79=\"\",\"\",'入力シート(市総体)'!K79))","v":""},{"$nulls":3},{"$f":"IF('入力シート(市総体)'!$H79=\"\",\"\",IF('入力シート(市総体)'!L79=\"\",\"\",IF('入力シート(市総体)'!L79=\"電気\",0,1)))","v":""}]
[{"$f":"IF('入力シート(市総体)'!$H80=\"\",\"\",大会コード)","v":""},{"$f":"IF('入力シート(市総体)'!$H80=\"\",\"\",IF('入力シート(市総体)'!$B80=\"男\",0,1))","v":""},{"$f":"IF('入力シート(市総体)'!$H80=\"\",\"\",'入力シート(市総体)'!C80)","v":""},{"$f":"IF('入力シート(市総体)'!$H80=\"\",\"\",TEXT('入力シート(市総体)'!$E80,\"000\"))","v":""},{"$f":"IF('入力シート(市総体)'!$H80=\"\",\"\",学校番号)","v":""},{"$f":"IF('入力シート(市総体)'!$H80=\"\",\"\",B64)","v":""},{"$f":"IF('入力シート(市総体)'!$H80=\"\",\"\",TEXT('入力シート(市総体)'!$H80,\"00\"))","v":""},null,null,{"$f":"IF('入力シート(市総体)'!$H80=\"\",\"\",IF('入力シート(市総体)'!K80=\"\",\"\",'入力シート(市総体)'!K80))","v":""},{"$nulls":3},{"$f":"IF('入力シート(市総体)'!$H80=\"\",\"\",IF('入力シート(市総体)'!L80=\"\",\"\",IF('入力シート(市総体)'!L80=\"電気\",0,1)))","v":""}]
[{"$f":"IF('入力シート(市総体)'!$H81=\"\",\"\",大会コード)","v":""},{"$f":"IF('入力シート(市総体)'!$H81=\"\",\"\",IF('入力シート(市総体)'!$B81=\"男\",0,1))","v":""},{"$f":"IF('入力シート(市総体)'!$H81=\"\",\"\",'入力シート(市総体)'!C81)","v":""},{"$f":"IF('入力シート(市総体)'!$H81=\"\",\"\",TEXT('入力シート(市総体)'!$E81,\"000\"))","v":""},{"$f":"IF('入力シート(市総体)'!$H81=\"\",\"\",学校番号)","v":""},{"$f":"IF('入力シート(市総体)'!$H81=\"\",\"\",B65)","v":""},{"$f":"IF('入力シート(市総体)'!$H81=\"\",\"\",TEXT('入力シート(市総体)'!$H81,\"00\"))","v":""},null,null,{"$f":"IF('入力シート(市総体)'!$H81=\"\",\"\",IF('入力シート(市総体)'!K81=\"\",\"\",'入力シート(市総体)'!K81))","v":""},{"$nulls":3},{"$f":"IF('入力シート(市総体)'!$H81=\"\",\"\",IF('入力シート(市総体)'!L81=\"\",\"\",IF('入力シート(市総体)'!L81=\"電気\",0,1)))","v":""}]
[{"$f":"IF('入力シート(市総体)'!$H82=\"\",\"\",大会コード)","v":""},{"$f":"IF('入力シート(市総体)'!$H82=\"\",\"\",IF('入力シート(市総体)'!$B82=\"男\",0,1))","v":""},{"$f":"IF('入力シート(市総体)'!$H82=\"\",\"\",'入力シート(市総体)'!C82)","v":""},{"$f":"IF('入力シート(市総体)'!$H82=\"\",\"\",TEXT('入力シート(市総体)'!$E82,\"000\"))","v":""},{"$f":"IF('入力シート(市総体)'!$H82=\"\",\"\",学校番号)","v":""},{"$f":"IF('入力シート(市総体)'!$H82=\"\",\"\",B66)","v":""},{"$f":"IF('入力シート(市総体)'!$H82=\"\",\"\",TEXT('入力シート(市総体)'!$H82,\"00\"))","v":""},null,null,{"$f":"IF('入力シート(市総体)'!$H82=\"\",\"\",IF('入力シート(市総体)'!K82=\"\",\"\",'入力シート(市総体)'!K82))","v":""},{"$nulls":3},{"$f":"IF('入力シート(市総体)'!$H82=\"\",\"\",IF('入力シート(市総体)'!L82=\"\",\"\",IF('入力シート(市総体)'!L82=\"電気\",0,1)))","v":""}]
[{"$f":"IF('入力シート(市総体)'!$H83=\"\",\"\",大会コード)","v":""},{"$f":"IF('入力シート(市総体)'!$H83=\"\",\"\",IF('入力シート(市総体)'!$B83=\"男\",0,1))","v":""},{"$f":"IF('入力シート(市総体)'!$H83=\"\",\"\",'入力シート(市総体)'!C83)","v":""},{"$f":"IF('入力シート(市総体)'!$H83=\"\",\"\",TEXT('入力シート(市総体)'!$E83,\"000\"))","v":""},{"$f":"IF('入力シート(市総体)'!$H83=\"\",\"\",学校番号)","v":""},{"$f":"IF('入力シート(市総体)'!$H83=\"\",\"\",B67)","v":""},{"$f":"IF('入力シート(市総体)'!$H83=\"\",\"\",TEXT('入力シート(市総体)'!$H83,\"00\"))","v":""},null,null,{"$f":"IF('入力シート(市総体)'!$H83=\"\",\"\",IF('入力シート(市総体)'!K83=\"\",\"\",'入力シート(市総体)'!K83))","v":""},{"$nulls":3},{"$f":"IF('入力シート(市総体)'!$H83=\"\",\"\",IF('入力シート(市総体)'!L83=\"\",\"\",IF('入力シート(市総体)'!L83=\"電気\",0,1)))","v":""}]
[{"$f":"IF('入力シート(市総体)'!$H84=\"\",\"\",大会コード)","v":""},{"$f":"IF('入力シート(市総体)'!$H84=\"\",\"\",IF('入力シート(市総体)'!$B84=\"男\",0,1))","v":""},{"$f":"IF('入力シート(市総体)'!$H84=\"\",\"\",'入力シート(市総体)'!C84)","v":""},{"$f":"IF('入力シート(市総体)'!$H84=\"\",\"\",TEXT('入力シート(市総体)'!$E84,\"000\"))","v":""},{"$f":"IF('入力シート(市総体)'!$H84=\"\",\"\",学校番号)","v":""},{"$f":"IF('入力シート(市総体)'!$H84=\"\",\"\",B68)","v":""},{"$f":"IF('入力シート(市総体)'!$H84=\"\",\"\",TEXT('入力シート(市総体)'!$H84,\"00\"))","v":""},null,null,{"$f":"IF('入力シート(市総体)'!$H84=\"\",\"\",IF('入力シート(市総体)'!K84=\"\",\"\",'入力シート(市総体)'!K84))","v":""},{"$nulls":3},{"$f":"IF('入力シート(市総体)'!$H84=\"\",\"\",IF('入力シート(市総体)'!L84=\"\",\"\",IF('入力シート(市総体)'!L84=\"電気\",0,1)))","v":""}]
[{"$f":"IF('入力シート(市総体)'!$H85=\"\",\"\",大会コード)","v":""},{"$f":"IF('入力シート(市総体)'!$H85=\"\",\"\",IF('入力シート(市総体)'!$B85=\"男\",0,1))","v":""},{"$f":"IF('入力シート(市総体)'!$H85=\"\",\"\",'入力シート(市総体)'!C85)","v":""},{"$f":"IF('入力シート(市総体)'!$H85=\"\",\"\",TEXT('入力シート(市総体)'!$E85,\"000\"))","v":""},{"$f":"IF('入力シート(市総体)'!$H85=\"\",\"\",学校番号)","v":""},{"$f":"IF('入力シート(市総体)'!$H85=\"\",\"\",B69)","v":""},{"$f":"IF('入力シート(市総体)'!$H85=\"\",\"\",TEXT('入力シート(市総体)'!$H85,\"00\"))","v":""},null,null,{"$f":"IF('入力シート(市総体)'!$H85=\"\",\"\",IF('入力シート(市総体)'!K85=\"\",\"\",'入力シート(市総体)'!K85))","v":""},{"$nulls":3},{"$f":"IF('入力シート(市総体)'!$H85=\"\",\"\",IF('入力シート(市総体)'!L85=\"\",\"\",IF('入力シート(市総体)'!L85=\"電気\",0,1)))","v":""}]
{"$rows_empty":30}
["大会コード","性別","学年","競技種目コード","学校コード","性別1","選手コード","エントリ記録","当日記録","順位","順番","条件項目","競技－１記録","競技－１得点","競技－１試技順番","競技－１組","競技－１条件項目","計測区分1","未記録区分１","最高記録１","公認最高記録１","三種最高記録１","最高条件項目１","公認最高条件項目１","三種最高条件項目１","競技－２記録","競技－２得点","競技－２試技順番","競技－２組","競技－２条件項目","計測区分２","未記録区分２","最高記録２","公認最高記録２","三種最高記録２","最高条件項目２","公認最高条件項目２","三種最高条件項目２","競技－３記録","競技－３得点","競技－３試技順番","競技－３組","競技－３条件項目","計測区分３","未記録区分３","最高記録３","公認最高記録３","三種最高記録３","最高条件項目３","公認最高条件項目３","三種最高条件項目３","競技－４記録","競技－４得点","競技－４試技順番","競技－４組","競技－４条件項目","計測区分４","未記録区分４","最高記録４","公認最高記録４","三種最高記録４","最高条件項目４","公認最高条件項目４","三種最高条件項目４","競技－５記録","競技－５得点","競技－５試技順番","競技－５組","競技－５条件項目","大会順位","公認記録"]
[{"$f":"IF('入力シート(市総体)'!$H46=\"\",\"\",大会コード)","v":""},{"$f":"IF('入力シート(市総体)'!$H46=\"\",\"\",IF('入力シート(市総体)'!$B46=\"男\",0,1))","v":""},{"$f":"IF('入力シート(市総体)'!$H46=\"\",\"\",'入力シート(市総体)'!C46)","v":""},{"$f":"IF('入力シート(市総体)'!$H46=\"\",\"\",TEXT('入力シート(市総体)'!$E46,\"000\"))","v":""},{"$f":"IF('入力シート(市総体)'!$H46=\"\",\"\",学校番号)","v":""},{"$f":"IF('入力シート(市総体)'!$H46=\"\",\"\",B101)","v":""},{"$f":"IF('入力シート(市総体)'!$H46=\"\",\"\",TEXT('入力シート(市総体)'!$H46,\"00\"))","v":""},{"$f":"IF('入力シート(市総体)'!$H46=\"\",\"\",IF('入力シート(市総体)'!$K46=\"\",\"\",'入力シート(市総体)'!$K46))","v":""},{"$nulls":4},{"$f":"IF('入力シート(市総体)'!$H46=\"\",\"\",IF('入力シート(市総体)'!$K47=\"\",\"\",'入力シート(市総体)'!$K47))","v":""},{"$nulls":12},{"$f":"IF('入力シート(市総体)'!$H46=\"\",\"\",IF('入力シート(市総体)'!$K48=\"\",\"\",'入力シート(市総体)'!$K48))","v":""},{"$nulls":12},{"$f":"IF('入力シート(市総体)'!$H46=\"\",\"\",IF('入力シート(市総体)'!$K49=\"\",\"\",'入力シート(市総体)'!$K49))","v":""},{"$nulls":12},{"$f":"IF('入力シート(市総体)'!$H46=\"\",\"\",IF('入力シート(市総体)'!$K50=\"\",\"\",'入力シート(市総体)'!$K50))","v":""}]
[{"$f":"IF('入力シート(市総体)'!$H51=\"\",\"\",大会コード)","v":""},{"$f":"IF('入力シート(市総体)'!$H51=\"\",\"\",IF('入力シート(市総体)'!$B51=\"男\",0,1))","v":""},{"$f":"IF('入力シート(市総体)'!$H51=\"\",\"\",'入力シート(市総体)'!C51)","v":""},{"$f":"IF('入力シート(市総体)'!$H51=\"\",\"\",TEXT('入力シート(市総体)'!$E51,\"000\"))","v":""},{"$f":"IF('入力シート(市総体)'!$H51=\"\",\"\",学校番号)","v":""},{"$f":"IF('入力シート(市総体)'!$H51=\"\",\"\",B102)","v":""},{"$f":"IF('入力シート(市総体)'!$H51=\"\",\"\",TEXT('入力シート(市総体)'!$H51,\"00\"))","v":""},{"$f":"IF('入力シート(市総体)'!$H51=\"\",\"\",IF('入力シート(市総体)'!$K51=\"\",\"\",'入力シート(市総体)'!$K51))","v":""},{"$nulls":4},{"$f":"IF('入力シート(市総体)'!$H51=\"\",\"\",IF('入力シート(市総体)'!$K52=\"\",\"\",'入力シート(市総体)'!$K52))","v":""},{"$nulls":12},{"$f":"IF('入力シート(市総体)'!$H51=\"\",\"\",IF('入力シート(市総体)'!$K53=\"\",\"\",'入力シート(市総体)'!$K53))","v":""},{"$nulls":12},{"$f":"IF('入力シート(市総体)'!$H51=\"\",\"\",IF('入力シート(市総体)'!$K54=\"\",\"\",'入力シート(市総体)'!$K54))","v":""},{"$nulls":12},{"$f":"IF('入力シート(市総体)'!$H51=\"\",\"\",IF('入力シート(市総体)'!$K55=\"\",\"\",'入力シート(市総体)'!$K55))","v":""}]
[{"$f":"IF('入力シート(市総体)'!$H92=\"\",\"\",大会コード)","v":""},{"$f":"IF('入力シート(市総体)'!$H92=\"\",\"\",IF('入力シート(市総体)'!$B92=\"男\",0,1))","v":""},{"$f":"IF('入力シート(市総体)'!$H92=\"\",\"\",'入力シート(市総体)'!C92)","v":""},{"$f":"IF('入力シート(市総体)'!$H92=\"\",\"\",TEXT('入力シート(市総体)'!$E92,\"000\"))","v":""},{"$f":"IF('入力シート(市総体)'!$H92=\"\",\"\",学校番号)","v":""},{"$f":"IF('入力シート(市総体)'!$H92=\"\",\"\",B103)","v":""},{"$f":"IF('入力シート(市総体)'!$H92=\"\",\"\",TEXT('入力シート(市総体)'!$H92,\"00\"))","v":""},{"$f":"IF('入力シート(市総体)'!$H92=\"\",\"\",IF('入力シート(市総体)'!$K92=\"\",\"\",'入力シート(市総体)'!$K92))","v":""},{"$nulls":4},{"$f":"IF('入力シート(市総体)'!$H92=\"\",\"\",IF('入力シート(市総体)'!$K93=\"\",\"\",'入力シート(市総体)'!$K93))","v":""},{"$nulls":12},{"$f":"IF('入力シート(市総体)'!$H92=\"\",\"\",IF('入力シート(市総体)'!$K94=\"\",\"\",'入力シート(市総体)'!$K94))","v":""},{"$nulls":12},{"$f":"IF('入力シート(市総体)'!$H92=\"\",\"\",IF('入力シート(市総体)'!$K95=\"\",\"\",'入力シート(市総体)'!$K95))","v":""},{"$nulls":12},{"$f":"IF('入力シート(市総体)'!$H92=\"\",\"\",IF('入力シート(市総体)'!$K96=\"\",\"\",'入力シート(市総体)'!$K96))","v":""}]
[{"$f":"IF('入力シート(市総体)'!$H97=\"\",\"\",大会コード)","v":""},{"$f":"IF('入力シート(市総体)'!$H97=\"\",\"\",IF('入力シート(市総体)'!$B97=\"男\",0,1))","v":""},{"$f":"IF('入力シート(市総体)'!$H97=\"\",\"\",'入力シート(市総体)'!C97)","v":""},{"$f":"IF('入力シート(市総体)'!$H97=\"\",\"\",TEXT('入力シート(市総体)'!$E97,\"000\"))","v":""},{"$f":"IF('入力シート(市総体)'!$H97=\"\",\"\",学校番号)","v":""},{"$f":"IF('入力シート(市総体)'!$H97=\"\",\"\",B104)","v":""},{"$f":"IF('入力シート(市総体)'!$H97=\"\",\"\",TEXT('入力シート(市総体)'!$H97,\"00\"))","v":""},{"$f":"IF('入力シート(市総体)'!$H97=\"\",\"\",IF('入力シート(市総体)'!$K97=\"\",\"\",'入力シート(市総体)'!$K97))","v":""},{"$nulls":4},{"$f":"IF('入力シート(市総体)'!$H97=\"\",\"\",IF('入力シート(市総体)'!$K98=\"\",\"\",'入力シート(市総体)'!$K98))","v":""},{"$nulls":12},{"$f":"IF('入力シート(市総体)'!$H97=\"\",\"\",IF('入力シート(市総体)'!$K99=\"\",\"\",'入力シート(市総体)'!$K99))","v":""},{"$nulls":12},{"$f":"IF('入力シート(市総体)'!$H97=\"\",\"\",IF('入力シート(市総体)'!$K100=\"\",\"\",'入力シート(市総体)'!$K100))","v":""},{"$nulls":12},{"$f":"IF('入力シート(市総体)'!$H97=\"\",\"\",IF('入力シート(市総体)'!$K101=\"\",\"\",'入力シート(市総体)'!$K101))","v":""}]
{"$rows_empty":25}
["大会コード","性別","学年","競技種目コード","組","レーン","学校コード","エントリ記録","当日記録","順位","条件項目","選手コード１","出場区分１","選手コード２","出場区分２","選手コード３","出場区分３","選手コード４","出場区分４","選手コード５","出場区分５","選手コード６","出場区分６","計測区分","未記録区分","大会順位"]
[{"$f":"IF('入力シート(市総体)'!$H40=\"\",\"\",大会コード)","v":""},{"$f":"IF('入力シート(市総体)'!$H40=\"\",\"\",IF('入力シート(市総体)'!$B40=\"男\",0,1))","v":""},{"$f":"IF('入力シート(市総体)'!$H40=\"\",\"\",'入力シート(市総体)'!C40)","v":""},{"$f":"IF('入力シート(市総体)'!$H40=\"\",\"\",TEXT('入力シート(市総体)'!$E40,\"000\"))","v":""},null,null,{"$f":"IF('入力シート(市総体)'!$H40=\"\",\"\",学校番号)","v":""},{"$f":"IF('入力シート(市総体)'!$H40=\"\",\"\",'入力シート(市総体)'!$K40)","v":""},{"$nulls":3},{"$f":"IF('入力シート(市総体)'!$H40=\"\",\"\",TEXT('入力シート(市総体)'!$H40,\"00\"))","v":""},null,{"$f":"IF('入力シート(市総体)'!$H41=\"\",\"\",TEXT('入力シート(市総体)'!$H41,\"00\"))","v":""},null,{"$f":"IF('入力シート(市総体)'!$H42=\"\",\"\",TEXT('入力シート(市総体)'!$H42,\"00\"))","v":""},null,{"$f":"IF('入力シート(市総体)'!$H43=\"\",\"\",TEXT('入力シート(市総体)'!$H43,\"00\"))","v":""},null,{"$f":"IF('入力シート(市総体)'!$H44=\"\",\"\",TEXT('入力シート(市総体)'!$H44,\"00\"))","v":""},null,{"$f":"IF('入力シート(市総体)'!$H45=\"\",\"\",TEXT('入力シート(市総体)'!$H45,\"00\"))","v":""}]
[{"$f":"IF('入力シート(市総体)'!$H86=\"\",\"\",大会コード)","v":""},{"$f":"IF('入力シート(市総体)'!$H86=\"\",\"\",IF('入力シート(市総体)'!$B86=\"男\",0,1))","v":""},{"$f":"IF('入力シート(市総体)'!$H86=\"\",\"\",'入力シート(市総体)'!C86)","v":""},{"$f":"IF('入力シート(市総体)'!$H86=\"\",\"\",TEXT('入力シート(市総体)'!$E86,\"000\"))","v":""},null,null,{"$f":"IF('入力シート(市総体)'!$H86=\"\",\"\",学校番号)","v":""},{"$f":"IF('入力シート(市総体)'!$H86=\"\",\"\",'入力シート(市総体)'!$K86)","v":""},{"$nulls":3},{"$f":"IF('入力シート(市総体)'!$H86=\"\",\"\",TEXT('入力シート(市総体)'!$H86,\"00\"))","v":""},null,{"$f":"IF('入力シート(市総体)'!$H87=\"\",\"\",TEXT('入力シート(市総体)'!$H87,\"00\"))","v":""},null,{"$f":"IF('入力シート(市総体)'!$H88=\"\",\"\",TEXT('入力シート(市総体)'!$H88,\"00\"))","v":""},null,{"$f":"IF('入力シート(市総体)'!$H89=\"\",\"\",TEXT('入力シート(市総体)'!$H89,\"00\"))","v":""},null,{"$f":"IF('入力シート(市総体)'!$H90=\"\",\"\",TEXT('入力シート(市総体)'!$H90,\"00\"))","v":""},null,{"$f":"IF('入力シート(市総体)'!$H91=\"\",\"\",TEXT('入力シート(市総体)'!$H91,\"00\"))","v":""}]

{"sheet":"入力シート(スポーツ祭)","index":23,"n_rows":21,"n_cols":9,"rows_kept":21,"hidden":true,"merged":[[3,4,3,5],[3,6,3,7],[4,4,4,5],[4,6,4,7],[5,4,5,5],[5,6,5,7],[6,4,6,5],[6,6,6,7],[7,4,7,5],[7,6,7,7],[8,4,8,5],[8,6,8,7],[9,4,9,5],[9,6,9,7],[14,4,14,5],[14,6,14,7],[15,4,15,5],[15,6,15,7],[16,4,16,5],[16,6,16,7],[17,4,17,5],[17,6,17,7],[18,4,18,5],[18,6,18,7],[19,4,19,5],[19,6,19,7],[20,4,20,5],[20,6,20,7]]}
[{"$nulls":5},"分","秒","1/100"]
[null,"男子リレー",null,null,"タイム"]
[null,null,3,4,5,null,6,null,2]
[null,"個人番号","姓","名","カナ(姓)",null,"カナ(名)",null,"学年"]
[{"$f":"\"男\"&DBCS(TEXT(B5,\"００\"))","v":"男００"},null,{"$f":"IF($B5=\"\",\"\",VLOOKUP($A5,部員データ,C$3,FALSE))","v":""},"","",null,{"$f":"IF($B5=\"\",\"\",VLOOKUP($A5,部員データ,G$3,FALSE))","v":""},null,{"$f":"IF($B5=\"\",\"\",VLOOKUP($A5,部員データ,I$3,FALSE))","v":""}]
["男００",null,"","","",null,"",null,""]
["男００",null,"","","",null,"",null,""]
["男００",null,"","","",null,"",null,""]
["男００",null,"","","",null,"",null,""]
["男００",null,"","","",null,"",null,""]
[]
[{"$nulls":5},"分","秒","1/100"]
[null,"女子リレー",null,null,"タイム"]
[]
[null,"個人番号","姓","名","カナ(姓)",null,"カナ(名)",null,"学年"]
[{"$f":"\"女\"&DBCS(TEXT(B16,\"００\"))","v":"女００"},null,{"$f":"IF($B16=\"\",\"\",VLOOKUP($A16,部員データ,C$3,FALSE))","v":""},"","",null,{"$f":"IF($B16=\"\",\"\",VLOOKUP($A16,部員データ,G$3,FALSE))","v":""},null,{"$f":"IF($B16=\"\",\"\",VLOOKUP($A16,部員データ,I$3,FALSE))","v":""}]
["女００",null,"","","",null,"",null,""]
["女００",null,"","","",null,"",null,""]
["女００",null,"","","",null,"",null,""]
["女００",null,"","","",null,"",null,""]
["女００",null,"","","",null,"",null,""]

{"sheet":"スポーツ祭","index":24,"n_rows":30,"n_cols":12,"rows_kept":30,"hidden":true,"merged":[[1,1,1,11],[2,2,2,3],[2,4,2,5],[2,8,2,9],[2,10,2,11],[3,1,4,1],[3,2,4,2],[3,5,4,5],[3,7,4,7],[3,8,4,8],[3,11,4,11],[5,1,6,1],[5,2,6,2],[5,5,6,5],[5,7,6,7],[5,8,6,8],[5,11,6,11],[7,1,8,1],[7,2,8,2],[7,5,8,5],[7,7,8,7],[7,8,8,8],[7,11,8,11],[9,1,10,1],[9,2,10,2],[9,5,10,5],[9,7,10,7],[9,8,10,8],[9,11,10,11],[11,1,12,1],[11,2,12,2],[11,5,12,5],[11,7,12,7],[11,8,12,8],[11,11,12,11],[13,1,14,1],[13,2,14,2],[13,5,14,5],[13,7,14,7],[13,8,14,8],[13,11,14,11],[15,1,16,1],[15,2,16,2],[15,5,16,5],[15,7,16,7],[15,8,16,8],[15,11,16,11],[17,1,17,2],[17,3,17,5],[17,7,17,8],[17,9,17,11],[23,1,23,3],[23,4,23,6],[23,9,23,10]]}
[null,null,false,{"$nulls":5},false]
[null,"第５１回　姫路市スポーツ祭（陸上競技の部）　リレー申し込み書　　中学校用"]
[null,"男子",{"$f":"IF($C$1,学校番号,\"\")","v":""},null,{"$f":"IF(C1,略称,\"\")","v":""},null,null,"女子",{"$f":"IF($I$1,学校番号,\"\")","v":""},null,{"$f":"IF($I$1,略称,\"\")","v":""}]
[null,"Ｏｒｄ．","個人番号","カナ（姓）","カナ（名）","学年",null,"Ｏｒｄ．","個人番号","カナ（姓）","カナ（名）","学年"]
[{"$nulls":3},"姓","名",{"$nulls":4},"姓","名"]
["　","(　　　)",{"$f":"IF($C$1,'入力シート(スポーツ祭)'!B5,\"\")","v":""},{"$f":"IF($C$1,'入力シート(スポーツ祭)'!E5,\"\")","v":""},{"$f":"IF($C$1,'入力シート(スポーツ祭)'!G5,\"\")","v":""},{"$f":"IF($C$1,'入力シート(スポーツ祭)'!I5,\"\")","v":""},null,"(　　　)",{"$f":"IF($I$1,'入力シート(スポーツ祭)'!B16,\"\")","v":""},{"$f":"IF($I$1,'入力シート(スポーツ祭)'!E16,\"\")","v":""},{"$f":"IF($I$1,'入力シート(スポーツ祭)'!G16,\"\")","v":""},{"$f":"IF($I$1,'入力シート(スポーツ祭)'!I16,\"\")","v":""}]
[{"$nulls":3},{"$f":"IF($C$1,'入力シート(スポーツ祭)'!C5,\"\")","v":""},{"$f":"IF($C$1,'入力シート(スポーツ祭)'!D5,\"\")","v":""},{"$nulls":4},{"$f":"IF($I$1,'入力シート(スポーツ祭)'!C16,\"\")","v":""},{"$f":"IF($I$1,'入力シート(スポーツ祭)'!D16,\"\")","v":""}]
[null,"(　　　)",{"$f":"IF($C$1,'入力シート(スポーツ祭)'!B6,\"\")","v":""},{"$f":"IF($C$1,'入力シート(スポーツ祭)'!E6,\"\")","v":""},{"$f":"IF($C$1,'入力シート(スポーツ祭)'!G6,\"\")","v":""},{"$f":"IF($C$1,'入力シート(スポーツ祭)'!I6,\"\")","v":""},null,"(　　　)",{"$f":"IF($I$1,'入力シート(スポーツ祭)'!B17,\"\")","v":""},{"$f":"IF($I$1,'入力シート(スポーツ祭)'!E17,\"\")","v":""},{"$f":"IF($I$1,'入力シート(スポーツ祭)'!G17,\"\")","v":""},{"$f":"IF($I$1,'入力シート(スポーツ祭)'!I17,\"\")","v":""}]
[{"$nulls":3},{"$f":"IF($C$1,'入力シート(スポーツ祭)'!C6,\"\")","v":""},{"$f":"IF($C$1,'入力シート(スポーツ祭)'!D6,\"\")","v":""},{"$nulls":4},{"$f":"IF($I$1,'入力シート(スポーツ祭)'!C17,\"\")","v":""},{"$f":"IF($I$1,'入力シート(スポーツ祭)'!D17,\"\")","v":""}]
[null,"(　　　)",{"$f":"IF($C$1,'入力シート(スポーツ祭)'!B7,\"\")","v":""},{"$f":"IF($C$1,'入力シート(スポーツ祭)'!E7,\"\")","v":""},{"$f":"IF($C$1,'入力シート(スポーツ祭)'!G7,\"\")","v":""},{"$f":"IF($C$1,'入力シート(スポーツ祭)'!I7,\"\")","v":""},null,"(　　　)",{"$f":"IF($I$1,'入力シート(スポーツ祭)'!B18,\"\")","v":""},{"$f":"IF($I$1,'入力シート(スポーツ祭)'!E18,\"\")","v":""},{"$f":"IF($I$1,'入力シート(スポーツ祭)'!G18,\"\")","v":""},{"$f":"IF($I$1,'入力シート(スポーツ祭)'!I18,\"\")","v":""}]
[{"$nulls":3},{"$f":"IF($C$1,'入力シート(スポーツ祭)'!C7,\"\")","v":""},{"$f":"IF($C$1,'入力シート(スポーツ祭)'!D7,\"\")","v":""},{"$nulls":4},{"$f":"IF($I$1,'入力シート(スポーツ祭)'!C18,\"\")","v":""},{"$f":"IF($I$1,'入力シート(スポーツ祭)'!D18,\"\")","v":""}]
[null,"(　　　)",{"$f":"IF($C$1,'入力シート(スポーツ祭)'!B8,\"\")","v":""},{"$f":"IF($C$1,'入力シート(スポーツ祭)'!E8,\"\")","v":""},{"$f":"IF($C$1,'入力シート(スポーツ祭)'!G8,\"\")","v":""},{"$f":"IF($C$1,'入力シート(スポーツ祭)'!I8,\"\")","v":""},null,"(　　　)",{"$f":"IF($I$1,'入力シート(スポーツ祭)'!B19,\"\")","v":""},{"$f":"IF($I$1,'入力シート(スポーツ祭)'!E19,\"\")","v":""},{"$f":"IF($I$1,'入力シート(スポーツ祭)'!G19,\"\")","v":""},{"$f":"IF($I$1,'入力シート(スポーツ祭)'!I19,\"\")","v":""}]
[{"$nulls":3},{"$f":"IF($C$1,'入力シート(スポーツ祭)'!C8,\"\")","v":""},{"$f":"IF($C$1,'入力シート(スポーツ祭)'!D8,\"\")","v":""},{"$nulls":4},{"$f":"IF($I$1,'入力シート(スポーツ祭)'!C19,\"\")","v":""},{"$f":"IF($I$1,'入力シート(スポーツ祭)'!D19,\"\")","v":""}]
[null,"(　　　)",{"$f":"IF($C$1,'入力シート(スポーツ祭)'!B9,\"\")","v":""},{"$f":"IF($C$1,'入力シート(スポーツ祭)'!E9,\"\")","v":""},{"$f":"IF($C$1,'入力シート(スポーツ祭)'!G9,\"\")","v":""},{"$f":"IF($C$1,'入力シート(スポーツ祭)'!I9,\"\")","v":""},null,"(　　　)",{"$f":"IF($I$1,'入力シート(スポーツ祭)'!B20,\"\")","v":""},{"$f":"IF($I$1,'入力シート(スポーツ祭)'!E20,\"\")","v":""},{"$f":"IF($I$1,'入力シート(スポーツ祭)'!G20,\"\")","v":""},{"$f":"IF($I$1,'入力シート(スポーツ祭)'!I20,\"\")","v":""}]
[{"$nulls":3},{"$f":"IF($C$1,'入力シート(スポーツ祭)'!C9,\"\")","v":""},{"$f":"IF($C$1,'入力シート(スポーツ祭)'!D9,\"\")","v":""},{"$nulls":4},{"$f":"IF($I$1,'入力シート(スポーツ祭)'!C20,\"\")","v":""},{"$f":"IF($I$1,'入力シート(スポーツ祭)'!D20,\"\")","v":""}]
[null,"(　　　)",{"$f":"IF($C$1,'入力シート(スポーツ祭)'!B10,\"\")","v":""},{"$f":"IF($C$1,'入力シート(スポーツ祭)'!E10,\"\")","v":""},{"$f":"IF($C$1,'入力シート(スポーツ祭)'!G10,\"\")","v":""},{"$f":"IF($C$1,'入力シート(スポーツ祭)'!I10,\"\")","v":""},null,"(　　　)",{"$f":"IF($I$1,'入力シート(スポーツ祭)'!B21,\"\")","v":""},{"$f":"IF($I$1,'入力シート(スポーツ祭)'!E21,\"\")","v":""},{"$f":"IF($I$1,'入力シート(スポーツ祭)'!G21,\"\")","v":""},{"$f":"IF($I$1,'入力シート(スポーツ祭)'!I21,\"\")","v":""}]
[{"$nulls":3},{"$f":"IF($C$1,'入力シート(スポーツ祭)'!C10,\"\")","v":""},{"$f":"IF($C$1,'入力シート(スポーツ祭)'!D10,\"\")","v":""},{"$nulls":4},{"$f":"IF($I$1,'入力シート(スポーツ祭)'!C21,\"\")","v":""},{"$f":"IF($I$1,'入力シート(スポーツ祭)'!D21,\"\")","v":""}]
[null,"記録",null,{"$f":"format_kiroku('入力シート(スポーツ祭)'!F2&TEXT('入力シート(スポーツ祭)'!G2,\"00\")&\".\"&TEXT('入力シート(スポーツ祭)'!H2,\"00\"),\"100m\")","v":"″00"},{"$nulls":3},"記録",null,{"$f":"format_kiroku('入力シート(スポーツ祭)'!F13&TEXT('入力シート(スポーツ祭)'!G13,\"00\")&\".\"&TEXT('入力シート(スポーツ祭)'!H13,\"00\"),\"100m\")","v":"″00"}]
[]
[]
[null,"上記の生徒は、健康であることを認め、申し込みます。"]
[]
[]
[null,{"$f":"TODAY()","v":"2016-08-17"},null,null,{"$f":"学校名","v":0},null,null,"中学校長",null,{"$f":"学校長","v":"　"},null,"印"]
[]
[]
[]
[]
[null,"※","３部印刷し、２部は佐谷先生へ送付してください。"]
[null,null,"１部は、当日のオーダー用紙として各校で保存し、当日オーダーを記入して提出してください。"]

{"sheet":"送信データ(スポーツ祭)","index":25,"n_rows":27,"n_cols":11,"rows_kept":27,"hidden":true}
[null,"DB","N1","N2","SX","KC","MC","ZK","S1","S2"]
[null,{"$f":"IF('入力シート(スポーツ祭)'!B5=\"\",\"\",128500000+学校番号*100+'入力シート(スポーツ祭)'!B5)","v":""},{"$f":"IF('入力シート(スポーツ祭)'!B5=\"\",\"\",Mat_Name('入力シート(スポーツ祭)'!C5,'入力シート(スポーツ祭)'!D5,'入力シート(スポーツ祭)'!I5))","v":""},{"$f":"IF(AND('入力シート(スポーツ祭)'!E5=\"\",'入力シート(スポーツ祭)'!G5=\"\"),\"\",ASC('入力シート(スポーツ祭)'!E5)&\" \"&ASC('入力シート(スポーツ祭)'!G5))","v":""},{"$f":"IF('入力シート(スポーツ祭)'!B5=\"\",\"\",VALUE(LEFT(B2,1)))","v":""},{"$f":"IF('入力シート(スポーツ祭)'!B5=\"\",\"\",28)","v":""},{"$f":"IF(C2=\"\",\"\",285000+学校番号)","v":""},{"$f":"IF(C2=\"\",\"\",学校番号)","v":""}]
[null,{"$f":"IF('入力シート(スポーツ祭)'!B6=\"\",\"\",128500000+学校番号*100+'入力シート(スポーツ祭)'!B6)","v":""},{"$f":"IF('入力シート(スポーツ祭)'!B6=\"\",\"\",Mat_Name('入力シート(スポーツ祭)'!C6,'入力シート(スポーツ祭)'!D6,'入力シート(スポーツ祭)'!I6))","v":""},{"$f":"IF(AND('入力シート(スポーツ祭)'!E6=\"\",'入力シート(スポーツ祭)'!G6=\"\"),\"\",ASC('入力シート(スポーツ祭)'!E6)&\" \"&ASC('入力シート(スポーツ祭)'!G6))","v":""},{"$f":"IF('入力シート(スポーツ祭)'!B6=\"\",\"\",VALUE(LEFT(B3,1)))","v":""},{"$f":"IF('入力シート(スポーツ祭)'!B6=\"\",\"\",28)","v":""},"",""]
[null,{"$f":"IF('入力シート(スポーツ祭)'!B7=\"\",\"\",128500000+学校番号*100+'入力シート(スポーツ祭)'!B7)","v":""},{"$f":"IF('入力シート(スポーツ祭)'!B7=\"\",\"\",Mat_Name('入力シート(スポーツ祭)'!C7,'入力シート(スポーツ祭)'!D7,'入力シート(スポーツ祭)'!I7))","v":""},{"$f":"IF(AND('入力シート(スポーツ祭)'!E7=\"\",'入力シート(スポーツ祭)'!G7=\"\"),\"\",ASC('入力シート(スポーツ祭)'!E7)&\" \"&ASC('入力シート(スポーツ祭)'!G7))","v":""},{"$f":"IF('入力シート(スポーツ祭)'!B7=\"\",\"\",VALUE(LEFT(B4,1)))","v":""},{"$f":"IF('入力シート(スポーツ祭)'!B7=\"\",\"\",28)","v":""},"",""]
[null,{"$f":"IF('入力シート(スポーツ祭)'!B8=\"\",\"\",128500000+学校番号*100+'入力シート(スポーツ祭)'!B8)","v":""},{"$f":"IF('入力シート(スポーツ祭)'!B8=\"\",\"\",Mat_Name('入力シート(スポーツ祭)'!C8,'入力シート(スポーツ祭)'!D8,'入力シート(スポーツ祭)'!I8))","v":""},{"$f":"IF(AND('入力シート(スポーツ祭)'!E8=\"\",'入力シート(スポーツ祭)'!G8=\"\"),\"\",ASC('入力シート(スポーツ祭)'!E8)&\" \"&ASC('入力シート(スポーツ祭)'!G8))","v":""},{"$f":"IF('入力シート(スポーツ祭)'!B8=\"\",\"\",VALUE(LEFT(B5,1)))","v":""},{"$f":"IF('入力シート(スポーツ祭)'!B8=\"\",\"\",28)","v":""},"",""]
[null,{"$f":"IF('入力シート(スポーツ祭)'!B9=\"\",\"\",128500000+学校番号*100+'入力シート(スポーツ祭)'!B9)","v":""},{"$f":"IF('入力シート(スポーツ祭)'!B9=\"\",\"\",Mat_Name('入力シート(スポーツ祭)'!C9,'入力シート(スポーツ祭)'!D9,'入力シート(スポーツ祭)'!I9))","v":""},{"$f":"IF(AND('入力シート(スポーツ祭)'!E9=\"\",'入力シート(スポーツ祭)'!G9=\"\"),\"\",ASC('入力シート(スポーツ祭)'!E9)&\" \"&ASC('入力シート(スポーツ祭)'!G9))","v":""},{"$f":"IF('入力シート(スポーツ祭)'!B9=\"\",\"\",VALUE(LEFT(B6,1)))","v":""},{"$f":"IF('入力シート(スポーツ祭)'!B9=\"\",\"\",28)","v":""},"",""]
[null,{"$f":"IF('入力シート(スポーツ祭)'!B10=\"\",\"\",128500000+学校番号*100+'入力シート(スポーツ祭)'!B10)","v":""},{"$f":"IF('入力シート(スポーツ祭)'!B10=\"\",\"\",Mat_Name('入力シート(スポーツ祭)'!C10,'入力シート(スポーツ祭)'!D10,'入力シート(スポーツ祭)'!I10))","v":""},{"$f":"IF(AND('入力シート(スポーツ祭)'!E10=\"\",'入力シート(スポーツ祭)'!G10=\"\"),\"\",ASC('入力シート(スポーツ祭)'!E10)&\" \"&ASC('入力シート(スポーツ祭)'!G10))","v":""},{"$f":"IF('入力シート(スポーツ祭)'!B10=\"\",\"\",VALUE(LEFT(B7,1)))","v":""},{"$f":"IF('入力シート(スポーツ祭)'!B10=\"\",\"\",28)","v":""},"",""]
[]
[]
[]
[]
[null,"DB","N1","N2","SX","KC","MC","ZK","S1","S2"]
[null,{"$f":"IF('入力シート(スポーツ祭)'!B16=\"\",\"\",228500000+学校番号*100+'入力シート(スポーツ祭)'!B16)","v":""},{"$f":"IF('入力シート(スポーツ祭)'!B16=\"\",\"\",Mat_Name('入力シート(スポーツ祭)'!C16,'入力シート(スポーツ祭)'!D16,'入力シート(スポーツ祭)'!I16))","v":""},{"$f":"IF(AND('入力シート(スポーツ祭)'!E16=\"\",'入力シート(スポーツ祭)'!G16=\"\"),\"\",ASC('入力シート(スポーツ祭)'!E16)&\" \"&ASC('入力シート(スポーツ祭)'!G16))","v":""},{"$f":"IF('入力シート(スポーツ祭)'!B16=\"\",\"\",VALUE(LEFT(B13,1)))","v":""},{"$f":"IF('入力シート(スポーツ祭)'!B16=\"\",\"\",28)","v":""},{"$f":"IF(C13=\"\",\"\",285000+学校番号)","v":""},{"$f":"IF(C13=\"\",\"\",学校番号)","v":""}]
[null,{"$f":"IF('入力シート(スポーツ祭)'!B17=\"\",\"\",228500000+学校番号*100+'入力シート(スポーツ祭)'!B17)","v":""},{"$f":"IF('入力シート(スポーツ祭)'!B17=\"\",\"\",Mat_Name('入力シート(スポーツ祭)'!C17,'入力シート(スポーツ祭)'!D17,'入力シート(スポーツ祭)'!I17))","v":""},{"$f":"IF(AND('入力シート(スポーツ祭)'!E17=\"\",'入力シート(スポーツ祭)'!G17=\"\"),\"\",ASC('入力シート(スポーツ祭)'!E17)&\" \"&ASC('入力シート(スポーツ祭)'!G17))","v":""},{"$f":"IF('入力シート(スポーツ祭)'!B17=\"\",\"\",VALUE(LEFT(B14,1)))","v":""},{"$f":"IF('入力シート(スポーツ祭)'!B17=\"\",\"\",28)","v":""},"",""]
[null,{"$f":"IF('入力シート(スポーツ祭)'!B18=\"\",\"\",228500000+学校番号*100+'入力シート(スポーツ祭)'!B18)","v":""},{"$f":"IF('入力シート(スポーツ祭)'!B18=\"\",\"\",Mat_Name('入力シート(スポーツ祭)'!C18,'入力シート(スポーツ祭)'!D18,'入力シート(スポーツ祭)'!I18))","v":""},{"$f":"IF(AND('入力シート(スポーツ祭)'!E18=\"\",'入力シート(スポーツ祭)'!G18=\"\"),\"\",ASC('入力シート(スポーツ祭)'!E18)&\" \"&ASC('入力シート(スポーツ祭)'!G18))","v":""},{"$f":"IF('入力シート(スポーツ祭)'!B18=\"\",\"\",VALUE(LEFT(B15,1)))","v":""},{"$f":"IF('入力シート(スポーツ祭)'!B18=\"\",\"\",28)","v":""},"",""]
[null,{"$f":"IF('入力シート(スポーツ祭)'!B19=\"\",\"\",228500000+学校番号*100+'入力シート(スポーツ祭)'!B19)","v":""},{"$f":"IF('入力シート(スポーツ祭)'!B19=\"\",\"\",Mat_Name('入力シート(スポーツ祭)'!C19,'入力シート(スポーツ祭)'!D19,'入力シート(スポーツ祭)'!I19))","v":""},{"$f":"IF(AND('入力シート(スポーツ祭)'!E19=\"\",'入力シート(スポーツ祭)'!G19=\"\"),\"\",ASC('入力シート(スポーツ祭)'!E19)&\" \"&ASC('入力シート(スポーツ祭)'!G19))","v":""},{"$f":"IF('入力シート(スポーツ祭)'!B19=\"\",\"\",VALUE(LEFT(B16,1)))","v":""},{"$f":"IF('入力シート(スポーツ祭)'!B19=\"\",\"\",28)","v":""},"",""]
[null,{"$f":"IF('入力シート(スポーツ祭)'!B20=\"\",\"\",228500000+学校番号*100+'入力シート(スポーツ祭)'!B20)","v":""},{"$f":"IF('入力シート(スポーツ祭)'!B20=\"\",\"\",Mat_Name('入力シート(スポーツ祭)'!C20,'入力シート(スポーツ祭)'!D20,'入力シート(スポーツ祭)'!I20))","v":""},{"$f":"IF(AND('入力シート(スポーツ祭)'!E20=\"\",'入力シート(スポーツ祭)'!G20=\"\"),\"\",ASC('入力シート(スポーツ祭)'!E20)&\" \"&ASC('入力シート(スポーツ祭)'!G20))","v":""},{"$f":"IF('入力シート(スポーツ祭)'!B20=\"\",\"\",VALUE(LEFT(B17,1)))","v":""},{"$f":"IF('入力シート(スポーツ祭)'!B20=\"\",\"\",28)","v":""},"",""]
[null,{"$f":"IF('入力シート(スポーツ祭)'!B21=\"\",\"\",228500000+学校番号*100+'入力シート(スポーツ祭)'!B21)","v":""},{"$f":"IF('入力シート(スポーツ祭)'!B21=\"\",\"\",Mat_Name('入力シート(スポーツ祭)'!C21,'入力シート(スポーツ祭)'!D21,'入力シート(スポーツ祭)'!I21))","v":""},{"$f":"IF(AND('入力シート(スポーツ祭)'!E21=\"\",'入力シート(スポーツ祭)'!G21=\"\"),\"\",ASC('入力シート(スポーツ祭)'!E21)&\" \"&ASC('入力シート(スポーツ祭)'!G21))","v":""},{"$f":"IF('入力シート(スポーツ祭)'!B21=\"\",\"\",VALUE(LEFT(B18,1)))","v":""},{"$f":"IF('入力シート(スポーツ祭)'!B21=\"\",\"\",28)","v":""},"",""]
[]
[]
[]
[]
[]
[]
[null,"DB","N1","N2","TM","S1","S2","S3","S4","S5","S6"]
["男子",{"$f":"IF(スポーツ祭!C1,285000+学校番号,\"\")","v":""},{"$f":"IF(スポーツ祭!C1,略称,\"\")","v":""},{"$f":"IF(スポーツ祭!C1,ASC(フリガナ),\"\")","v":""},{"$f":"RIGHT(FIXED(('入力シート(スポーツ祭)'!F2*10000+'入力シート(スポーツ祭)'!G2*100+'入力シート(スポーツ祭)'!H2)/100000,5),5)","v":"00000"},{"$f":"IF(B2=\"\",\"\",B2)","v":""},{"$f":"IF(B3=\"\",\"\",B3)","v":""},{"$f":"IF(B4=\"\",\"\",B4)","v":""},{"$f":"IF(B5=\"\",\"\",B5)","v":""},{"$f":"IF(B6=\"\",\"\",B6)","v":""},{"$f":"IF(B7=\"\",\"\",B7)","v":""}]
["女子",{"$f":"IF(スポーツ祭!I1,285000+学校番号,\"\")","v":""},{"$f":"IF(スポーツ祭!I1,略称,\"\")","v":""},{"$f":"IF(スポーツ祭!I1,ASC(フリガナ),\"\")","v":""},{"$f":"RIGHT(FIXED(('入力シート(スポーツ祭)'!F13*10000+'入力シート(スポーツ祭)'!G13*100+'入力シート(スポーツ祭)'!H13)/100000,5),5)","v":"00000"},{"$f":"IF(B13=\"\",\"\",B13)","v":""},{"$f":"IF(B14=\"\",\"\",B14)","v":""},{"$f":"IF(B15=\"\",\"\",B15)","v":""},{"$f":"IF(B16=\"\",\"\",B16)","v":""},{"$f":"IF(B17=\"\",\"\",B17)","v":""},{"$f":"IF(B18=\"\",\"\",B18)","v":""}]